{"text_format":"1","workbook":"xlsx","n_sheets":10,"sheets":["Option 1","Rent lookup by Agency","Rent lookup by Building","Other Facility Related Costs","RSF List","RSF","Dollars","Instructions","Agency List","CC Allocations"],"not_rendered":{"charts":0,"images":2,"macros":1,"external_links":2,"defined_names":25,"comments":2,"pivot_tables":0},"unopened":[],"bounds":{"document_bytes":16777216,"sheet_cells":100000,"rows_first":2000,"rows_last":500,"rows_between":2000,"halvings":0,"cell_chars":16384,"cell_head_chars":4096},"cells_cut":0,"cells_raw":0,"read":"whole","date_system":"1900"}

{"sheet":"Option 1","index":0,"n_rows":34,"n_cols":21,"rows_kept":34,"cut":false,"hidden":true,"merged":[[1,10,1,11]]}
[]
[null,null,null,null,"Annual rates based on 21-23 CSM - $ per sqft per year - State Agency tenants only",null,null,null,null,null,"\"Add-on\" CSM charges",null,null,null,"Biennial Revenue For Building"]
[null,null,"By Building",null,"Rent","Debt","Campus Contracts","Total \"Rent and Related\"","Current Lease Rates",null,"Security on Campus","Parking - Goes to 045",null,"RSF","Rent","Debt","Security","Campus Contracts","Total",null,"Parking - Goes to 045"]
[null,null,"F6121","Cherberg",{"$f":"HLOOKUP(C4,#REF!,111,FALSE)","v":{"$error":"#REF!"}},{"$f":"HLOOKUP(C4,#REF!,111,FALSE)","v":{"$error":"#REF!"}},{"$f":"HLOOKUP(C4,#REF!,111,FALSE)","v":{"$error":"#REF!"}},{"$f":"SUM(E4:G4)","v":{"$error":"#REF!"}},"N/A",null,{"$f":"HLOOKUP(C4,#REF!,111,FALSE)","v":{"$error":"#REF!"}},{"$f":"HLOOKUP(C4,#REF!,111,FALSE)","v":{"$error":"#REF!"}},null,{"$f":"HLOOKUP(C4,#REF!,109,FALSE)","v":{"$error":"#REF!"}},{"$f":"$N4*E4*2","v":{"$error":"#REF!"}},{"$f":"$N4*F4*2","v":{"$error":"#REF!"}},{"$f":"$N4*K4*2","v":{"$error":"#REF!"}},{"$f":"$N4*G4*2","v":{"$error":"#REF!"}},{"$f":"SUM(O4:R4)","v":{"$error":"#REF!"}},null,{"$f":"$N4*L4*2","v":{"$error":"#REF!"}}]
[null,null,"F6122","O'Brien",{"$f":"HLOOKUP(C5,#REF!,111,FALSE)","v":{"$error":"#REF!"}},{"$f":"HLOOKUP(C5,#REF!,111,FALSE)","v":{"$error":"#REF!"}},{"$f":"HLOOKUP(C5,#REF!,111,FALSE)","v":{"$error":"#REF!"}},{"$f":"SUM(E5:G5)","v":{"$error":"#REF!"}},"N/A",null,{"$f":"HLOOKUP(C5,#REF!,111,FALSE)","v":{"$error":"#REF!"}},{"$f":"HLOOKUP(C5,#REF!,111,FALSE)","v":{"$error":"#REF!"}},null,{"$f":"HLOOKUP(C5,#REF!,109,FALSE)","v":{"$error":"#REF!"}},{"$error":"#REF!"},{"$error":"#REF!"},{"$error":"#REF!"},{"$error":"#REF!"},{"$f":"SUM(O5:R5)","v":{"$error":"#REF!"}},null,{"$f":"$N5*L5*2","v":{"$error":"#REF!"}}]
[null,null,"F6123","Legislative",{"$f":"HLOOKUP(C6,#REF!,111,FALSE)","v":{"$error":"#REF!"}},{"$f":"HLOOKUP(C6,#REF!,111,FALSE)","v":{"$error":"#REF!"}},{"$f":"HLOOKUP(C6,#REF!,111,FALSE)","v":{"$error":"#REF!"}},{"$error":"#REF!"},"N/A",null,{"$f":"HLOOKUP(C6,#REF!,111,FALSE)","v":{"$error":"#REF!"}},{"$f":"HLOOKUP(C6,#REF!,111,FALSE)","v":{"$error":"#REF!"}},null,{"$f":"HLOOKUP(C6,#REF!,109,FALSE)","v":{"$error":"#REF!"}},{"$error":"#REF!"},{"$error":"#REF!"},{"$error":"#REF!"},{"$error":"#REF!"},{"$error":"#REF!"},null,{"$error":"#REF!"}]
[null,null,"F6124","Pritchard",{"$f":"HLOOKUP(C7,#REF!,111,FALSE)","v":{"$error":"#REF!"}},{"$f":"HLOOKUP(C7,#REF!,111,FALSE)","v":{"$error":"#REF!"}},{"$f":"HLOOKUP(C7,#REF!,111,FALSE)","v":{"$error":"#REF!"}},{"$error":"#REF!"},"N/A",null,{"$f":"HLOOKUP(C7,#REF!,111,FALSE)","v":{"$error":"#REF!"}},{"$f":"HLOOKUP(C7,#REF!,111,FALSE)","v":{"$error":"#REF!"}},null,{"$f":"HLOOKUP(C7,#REF!,109,FALSE)","v":{"$error":"#REF!"}},{"$error":"#REF!"},{"$error":"#REF!"},{"$error":"#REF!"},{"$error":"#REF!"},{"$error":"#REF!"},null,{"$error":"#REF!"}]
[null,null,"F6125","HLB",{"$f":"HLOOKUP(C8,#REF!,111,FALSE)","v":{"$error":"#REF!"}},{"$f":"HLOOKUP(C8,#REF!,111,FALSE)","v":{"$error":"#REF!"}},{"$f":"HLOOKUP(C8,#REF!,111,FALSE)","v":{"$error":"#REF!"}},{"$error":"#REF!"},"N/A",null,{"$f":"HLOOKUP(C8,#REF!,111,FALSE)","v":{"$error":"#REF!"}},{"$f":"HLOOKUP(C8,#REF!,111,FALSE)","v":{"$error":"#REF!"}},null,{"$f":"HLOOKUP(C8,#REF!,109,FALSE)","v":{"$error":"#REF!"}},{"$error":"#REF!"},{"$error":"#REF!"},{"$error":"#REF!"},{"$error":"#REF!"},{"$error":"#REF!"},null,{"$error":"#REF!"}]
[null,null,"F6126","OB2",{"$f":"HLOOKUP(C9,#REF!,111,FALSE)","v":{"$error":"#REF!"}},{"$f":"HLOOKUP(C9,#REF!,111,FALSE)","v":{"$error":"#REF!"}},{"$f":"HLOOKUP(C9,#REF!,111,FALSE)","v":{"$error":"#REF!"}},{"$error":"#REF!"},"N/A",null,{"$f":"HLOOKUP(C9,#REF!,111,FALSE)","v":{"$error":"#REF!"}},{"$f":"HLOOKUP(C9,#REF!,111,FALSE)","v":{"$error":"#REF!"}},null,{"$f":"HLOOKUP(C9,#REF!,109,FALSE)","v":{"$error":"#REF!"}},{"$error":"#REF!"},{"$error":"#REF!"},{"$error":"#REF!"},{"$error":"#REF!"},{"$error":"#REF!"},null,{"$error":"#REF!"}]
[null,null,"F6127","Archives",{"$f":"HLOOKUP(C10,#REF!,111,FALSE)","v":{"$error":"#REF!"}},{"$f":"HLOOKUP(C10,#REF!,111,FALSE)","v":{"$error":"#REF!"}},{"$f":"HLOOKUP(C10,#REF!,111,FALSE)","v":{"$error":"#REF!"}},{"$error":"#REF!"},"N/A",null,{"$f":"HLOOKUP(C10,#REF!,111,FALSE)","v":{"$error":"#REF!"}},{"$f":"HLOOKUP(C10,#REF!,111,FALSE)","v":{"$error":"#REF!"}},null,{"$f":"HLOOKUP(C10,#REF!,109,FALSE)","v":{"$error":"#REF!"}},{"$error":"#REF!"},{"$error":"#REF!"},{"$error":"#REF!"},{"$error":"#REF!"},{"$error":"#REF!"},null,{"$error":"#REF!"}]
[null,null,"F6129","NRB",{"$f":"HLOOKUP(C11,#REF!,111,FALSE)","v":{"$error":"#REF!"}},{"$f":"HLOOKUP(C11,#REF!,111,FALSE)","v":{"$error":"#REF!"}},{"$f":"HLOOKUP(C11,#REF!,111,FALSE)","v":{"$error":"#REF!"}},{"$error":"#REF!"},"N/A",null,{"$f":"HLOOKUP(C11,#REF!,111,FALSE)","v":{"$error":"#REF!"}},{"$f":"HLOOKUP(C11,#REF!,111,FALSE)","v":{"$error":"#REF!"}},null,{"$f":"HLOOKUP(C11,#REF!,109,FALSE)","v":{"$error":"#REF!"}},{"$error":"#REF!"},{"$error":"#REF!"},{"$error":"#REF!"},{"$error":"#REF!"},{"$error":"#REF!"},null,{"$error":"#REF!"}]
[null,null,"F612A","Emp Sec",{"$f":"HLOOKUP(C12,#REF!,111,FALSE)","v":{"$error":"#REF!"}},{"$f":"HLOOKUP(C12,#REF!,111,FALSE)","v":{"$error":"#REF!"}},{"$f":"HLOOKUP(C12,#REF!,111,FALSE)","v":{"$error":"#REF!"}},{"$error":"#REF!"},"N/A",null,{"$f":"HLOOKUP(C12,#REF!,111,FALSE)","v":{"$error":"#REF!"}},{"$f":"HLOOKUP(C12,#REF!,111,FALSE)","v":{"$error":"#REF!"}},null,{"$f":"HLOOKUP(C12,#REF!,109,FALSE)","v":{"$error":"#REF!"}},{"$error":"#REF!"},{"$error":"#REF!"},{"$error":"#REF!"},{"$error":"#REF!"},{"$error":"#REF!"},null,{"$error":"#REF!"}]
[null,null,"F612C","Transportation",{"$f":"HLOOKUP(C13,#REF!,111,FALSE)","v":{"$error":"#REF!"}},{"$f":"HLOOKUP(C13,#REF!,111,FALSE)","v":{"$error":"#REF!"}},{"$f":"HLOOKUP(C13,#REF!,111,FALSE)","v":{"$error":"#REF!"}},{"$error":"#REF!"},"N/A",null,{"$f":"HLOOKUP(C13,#REF!,111,FALSE)","v":{"$error":"#REF!"}},{"$f":"HLOOKUP(C13,#REF!,111,FALSE)","v":{"$error":"#REF!"}},null,{"$f":"HLOOKUP(C13,#REF!,109,FALSE)","v":{"$error":"#REF!"}},{"$error":"#REF!"},{"$error":"#REF!"},{"$error":"#REF!"},{"$error":"#REF!"},{"$error":"#REF!"},null,{"$error":"#REF!"}]
[null,null,"F612E","Insurance",{"$f":"HLOOKUP(C14,#REF!,111,FALSE)","v":{"$error":"#REF!"}},{"$f":"HLOOKUP(C14,#REF!,111,FALSE)","v":{"$error":"#REF!"}},{"$f":"HLOOKUP(C14,#REF!,111,FALSE)","v":{"$error":"#REF!"}},{"$error":"#REF!"},"N/A",null,{"$f":"HLOOKUP(C14,#REF!,111,FALSE)","v":{"$error":"#REF!"}},{"$f":"HLOOKUP(C14,#REF!,111,FALSE)","v":{"$error":"#REF!"}},null,{"$f":"HLOOKUP(C14,#REF!,109,FALSE)","v":{"$error":"#REF!"}},{"$error":"#REF!"},{"$error":"#REF!"},{"$error":"#REF!"},{"$error":"#REF!"},{"$error":"#REF!"},null,{"$error":"#REF!"}]
[null,null,"F612H","Old Cap",{"$f":"HLOOKUP(C15,#REF!,111,FALSE)","v":{"$error":"#REF!"}},{"$f":"HLOOKUP(C15,#REF!,111,FALSE)","v":{"$error":"#REF!"}},{"$f":"HLOOKUP(C15,#REF!,111,FALSE)","v":{"$error":"#REF!"}},{"$error":"#REF!"},"N/A",null,{"$f":"HLOOKUP(C15,#REF!,111,FALSE)","v":{"$error":"#REF!"}},{"$f":"HLOOKUP(C15,#REF!,111,FALSE)","v":{"$error":"#REF!"}},null,{"$f":"HLOOKUP(C15,#REF!,109,FALSE)","v":{"$error":"#REF!"}},{"$error":"#REF!"},{"$error":"#REF!"},{"$error":"#REF!"},{"$error":"#REF!"},{"$error":"#REF!"},null,{"$error":"#REF!"}]
[null,null,"F612J","TOJ",{"$f":"HLOOKUP(C16,#REF!,111,FALSE)","v":{"$error":"#REF!"}},{"$f":"HLOOKUP(C16,#REF!,111,FALSE)","v":{"$error":"#REF!"}},{"$f":"HLOOKUP(C16,#REF!,111,FALSE)","v":{"$error":"#REF!"}},{"$error":"#REF!"},"N/A",null,{"$f":"HLOOKUP(C16,#REF!,111,FALSE)","v":{"$error":"#REF!"}},{"$f":"HLOOKUP(C16,#REF!,111,FALSE)","v":{"$error":"#REF!"}},null,{"$f":"HLOOKUP(C16,#REF!,109,FALSE)","v":{"$error":"#REF!"}},{"$error":"#REF!"},{"$error":"#REF!"},{"$error":"#REF!"},{"$error":"#REF!"},{"$error":"#REF!"},null,{"$error":"#REF!"}]
[null,null,"F612K","Newhouse",{"$f":"HLOOKUP(C17,#REF!,111,FALSE)","v":{"$error":"#REF!"}},{"$f":"HLOOKUP(C17,#REF!,111,FALSE)","v":{"$error":"#REF!"}},{"$f":"HLOOKUP(C17,#REF!,111,FALSE)","v":{"$error":"#REF!"}},{"$error":"#REF!"},"N/A",null,{"$f":"HLOOKUP(C17,#REF!,111,FALSE)","v":{"$error":"#REF!"}},{"$f":"HLOOKUP(C17,#REF!,111,FALSE)","v":{"$error":"#REF!"}},null,{"$f":"HLOOKUP(C17,#REF!,109,FALSE)","v":{"$error":"#REF!"}},{"$error":"#REF!"},{"$error":"#REF!"},{"$error":"#REF!"},{"$error":"#REF!"},{"$error":"#REF!"},null,{"$error":"#REF!"}]
[null,null,"F6131","Modular Bldg",{"$f":"HLOOKUP(C18,#REF!,111,FALSE)","v":{"$error":"#REF!"}},{"$f":"HLOOKUP(C18,#REF!,111,FALSE)","v":{"$error":"#REF!"}},{"$f":"HLOOKUP(C18,#REF!,111,FALSE)","v":{"$error":"#REF!"}},{"$error":"#REF!"},{"$f":"VLOOKUP(C18,'[2]Building Compare'!$C$20:$G$30,5,FALSE)","v":5.4665883882330739},null,{"$f":"HLOOKUP(C18,#REF!,111,FALSE)","v":{"$error":"#REF!"}},{"$f":"HLOOKUP(C18,#REF!,111,FALSE)","v":{"$error":"#REF!"}},null,{"$f":"HLOOKUP(C18,#REF!,109,FALSE)","v":{"$error":"#REF!"}},{"$error":"#REF!"},{"$error":"#REF!"},{"$error":"#REF!"},{"$error":"#REF!"},{"$error":"#REF!"},null,{"$error":"#REF!"}]
[null,null,"F6132","Isabella Bush",{"$f":"HLOOKUP(C19,#REF!,111,FALSE)","v":{"$error":"#REF!"}},{"$f":"HLOOKUP(C19,#REF!,111,FALSE)","v":{"$error":"#REF!"}},{"$f":"HLOOKUP(C19,#REF!,111,FALSE)","v":{"$error":"#REF!"}},{"$error":"#REF!"},{"$f":"VLOOKUP(C19,'[2]Building Compare'!$C$20:$G$30,5,FALSE)","v":9.3170338983050858},null,{"$f":"HLOOKUP(C19,#REF!,111,FALSE)","v":{"$error":"#REF!"}},{"$f":"HLOOKUP(C19,#REF!,111,FALSE)","v":{"$error":"#REF!"}},null,{"$f":"HLOOKUP(C19,#REF!,109,FALSE)","v":{"$error":"#REF!"}},{"$error":"#REF!"},{"$error":"#REF!"},{"$error":"#REF!"},{"$error":"#REF!"},{"$error":"#REF!"},null,{"$error":"#REF!"}]
[null,null,"F6133","1007 Washington",{"$f":"HLOOKUP(C20,#REF!,111,FALSE)","v":{"$error":"#REF!"}},{"$f":"HLOOKUP(C20,#REF!,111,FALSE)","v":{"$error":"#REF!"}},{"$f":"HLOOKUP(C20,#REF!,111,FALSE)","v":{"$error":"#REF!"}},{"$error":"#REF!"},{"$f":"VLOOKUP(C20,'[2]Building Compare'!$C$20:$G$30,5,FALSE)","v":6},null,{"$f":"HLOOKUP(C20,#REF!,111,FALSE)","v":{"$error":"#REF!"}},{"$f":"HLOOKUP(C20,#REF!,111,FALSE)","v":{"$error":"#REF!"}},null,{"$f":"HLOOKUP(C20,#REF!,109,FALSE)","v":{"$error":"#REF!"}},{"$error":"#REF!"},{"$error":"#REF!"},{"$error":"#REF!"},{"$error":"#REF!"},{"$error":"#REF!"},null,{"$error":"#REF!"}]
[null,null,"F6134","120 E Union Avenue",{"$f":"HLOOKUP(C21,#REF!,111,FALSE)","v":{"$error":"#REF!"}},{"$f":"HLOOKUP(C21,#REF!,111,FALSE)","v":{"$error":"#REF!"}},{"$f":"HLOOKUP(C21,#REF!,111,FALSE)","v":{"$error":"#REF!"}},{"$error":"#REF!"},"N/A",null,{"$f":"HLOOKUP(C21,#REF!,111,FALSE)","v":{"$error":"#REF!"}},{"$f":"HLOOKUP(C21,#REF!,111,FALSE)","v":{"$error":"#REF!"}},null,{"$f":"HLOOKUP(C21,#REF!,109,FALSE)","v":{"$error":"#REF!"}},{"$error":"#REF!"},{"$error":"#REF!"},{"$error":"#REF!"},{"$error":"#REF!"},{"$error":"#REF!"},null,{"$error":"#REF!"}]
[null,null,"F613D","Capital Court",{"$f":"HLOOKUP(C22,#REF!,111,FALSE)","v":{"$error":"#REF!"}},{"$f":"HLOOKUP(C22,#REF!,111,FALSE)","v":{"$error":"#REF!"}},{"$f":"HLOOKUP(C22,#REF!,111,FALSE)","v":{"$error":"#REF!"}},{"$error":"#REF!"},{"$f":"VLOOKUP(C22,'[2]Building Compare'!$C$20:$G$30,5,FALSE)","v":28.437849108633074},null,{"$f":"HLOOKUP(C22,#REF!,111,FALSE)","v":{"$error":"#REF!"}},{"$f":"HLOOKUP(C22,#REF!,111,FALSE)","v":{"$error":"#REF!"}},null,{"$f":"HLOOKUP(C22,#REF!,109,FALSE)","v":{"$error":"#REF!"}},{"$error":"#REF!"},{"$error":"#REF!"},{"$error":"#REF!"},{"$error":"#REF!"},{"$error":"#REF!"},null,{"$error":"#REF!"}]
[null,null,"F613E","James Dolliver Building",{"$f":"HLOOKUP(C23,#REF!,111,FALSE)","v":{"$error":"#REF!"}},{"$f":"HLOOKUP(C23,#REF!,111,FALSE)","v":{"$error":"#REF!"}},{"$f":"HLOOKUP(C23,#REF!,111,FALSE)","v":{"$error":"#REF!"}},{"$error":"#REF!"},{"$f":"VLOOKUP(C23,'[2]Building Compare'!$C$20:$G$30,5,FALSE)","v":25.665882352941178},null,{"$f":"HLOOKUP(C23,#REF!,111,FALSE)","v":{"$error":"#REF!"}},{"$f":"HLOOKUP(C23,#REF!,111,FALSE)","v":{"$error":"#REF!"}},null,{"$f":"HLOOKUP(C23,#REF!,109,FALSE)","v":{"$error":"#REF!"}},{"$error":"#REF!"},{"$error":"#REF!"},{"$error":"#REF!"},{"$error":"#REF!"},{"$error":"#REF!"},null,{"$error":"#REF!"}]
[null,null,"F613G","1068 WA Street SE (ST Farm)",{"$f":"HLOOKUP(C24,#REF!,111,FALSE)","v":{"$error":"#REF!"}},{"$f":"HLOOKUP(C24,#REF!,111,FALSE)","v":{"$error":"#REF!"}},{"$f":"HLOOKUP(C24,#REF!,111,FALSE)","v":{"$error":"#REF!"}},{"$error":"#REF!"},{"$f":"VLOOKUP(C24,'[2]Building Compare'!$C$20:$G$30,5,FALSE)","v":16.280701754385966},null,{"$f":"HLOOKUP(C24,#REF!,111,FALSE)","v":{"$error":"#REF!"}},{"$f":"HLOOKUP(C24,#REF!,111,FALSE)","v":{"$error":"#REF!"}},null,{"$f":"HLOOKUP(C24,#REF!,109,FALSE)","v":{"$error":"#REF!"}},{"$error":"#REF!"},{"$error":"#REF!"},{"$error":"#REF!"},{"$error":"#REF!"},{"$error":"#REF!"},null,{"$error":"#REF!"}]
[null,null,"F613H","232 Perry Street",{"$f":"HLOOKUP(C25,#REF!,111,FALSE)","v":{"$error":"#REF!"}},{"$f":"HLOOKUP(C25,#REF!,111,FALSE)","v":{"$error":"#REF!"}},{"$f":"HLOOKUP(C25,#REF!,111,FALSE)","v":{"$error":"#REF!"}},{"$error":"#REF!"},"N/A",null,{"$f":"HLOOKUP(C25,#REF!,111,FALSE)","v":{"$error":"#REF!"}},{"$f":"HLOOKUP(C25,#REF!,111,FALSE)","v":{"$error":"#REF!"}},null,{"$f":"HLOOKUP(C25,#REF!,109,FALSE)","v":{"$error":"#REF!"}},{"$error":"#REF!"},{"$error":"#REF!"},{"$error":"#REF!"},{"$error":"#REF!"},{"$error":"#REF!"},null,{"$error":"#REF!"}]
[null,null,"F613i","208 11th Avenue SE (Pro Arts)",{"$f":"HLOOKUP(C26,#REF!,111,FALSE)","v":{"$error":"#REF!"}},{"$f":"HLOOKUP(C26,#REF!,111,FALSE)","v":{"$error":"#REF!"}},{"$f":"HLOOKUP(C26,#REF!,111,FALSE)","v":{"$error":"#REF!"}},{"$error":"#REF!"},"N/A",null,{"$f":"HLOOKUP(C26,#REF!,111,FALSE)","v":{"$error":"#REF!"}},{"$f":"HLOOKUP(C26,#REF!,111,FALSE)","v":{"$error":"#REF!"}},null,{"$f":"HLOOKUP(C26,#REF!,109,FALSE)","v":{"$error":"#REF!"}},{"$error":"#REF!"},{"$error":"#REF!"},{"$error":"#REF!"},{"$error":"#REF!"},{"$error":"#REF!"},null,{"$error":"#REF!"}]
[null,null,"F613K","Press Houses Ayer(White); Carlyon(Blue)",{"$f":"HLOOKUP(C27,#REF!,111,FALSE)","v":{"$error":"#REF!"}},{"$f":"HLOOKUP(C27,#REF!,111,FALSE)","v":{"$error":"#REF!"}},{"$f":"HLOOKUP(C27,#REF!,111,FALSE)","v":{"$error":"#REF!"}},{"$error":"#REF!"},"N/A",null,{"$f":"HLOOKUP(C27,#REF!,111,FALSE)","v":{"$error":"#REF!"}},{"$f":"HLOOKUP(C27,#REF!,111,FALSE)","v":{"$error":"#REF!"}},null,{"$f":"HLOOKUP(C27,#REF!,109,FALSE)","v":{"$error":"#REF!"}},{"$error":"#REF!"},{"$error":"#REF!"},{"$error":"#REF!"},{"$error":"#REF!"},{"$error":"#REF!"},null,{"$error":"#REF!"}]
[null,null,"F613L","Visitor Center",{"$f":"HLOOKUP(C28,#REF!,111,FALSE)","v":{"$error":"#REF!"}},{"$f":"HLOOKUP(C28,#REF!,111,FALSE)","v":{"$error":"#REF!"}},{"$f":"HLOOKUP(C28,#REF!,111,FALSE)","v":{"$error":"#REF!"}},{"$error":"#REF!"},"N/A",null,{"$f":"HLOOKUP(C28,#REF!,111,FALSE)","v":{"$error":"#REF!"}},{"$f":"HLOOKUP(C28,#REF!,111,FALSE)","v":{"$error":"#REF!"}},null,{"$f":"HLOOKUP(C28,#REF!,109,FALSE)","v":{"$error":"#REF!"}},{"$error":"#REF!"},{"$error":"#REF!"},{"$error":"#REF!"},{"$error":"#REF!"},{"$error":"#REF!"},null,{"$error":"#REF!"}]
[null,null,"F613M","Helen Sommers",{"$f":"HLOOKUP(C29,#REF!,111,FALSE)","v":{"$error":"#REF!"}},{"$f":"HLOOKUP(C29,#REF!,111,FALSE)","v":{"$error":"#REF!"}},{"$f":"HLOOKUP(C29,#REF!,111,FALSE)","v":{"$error":"#REF!"}},{"$error":"#REF!"},{"$f":"VLOOKUP(C29,'[2]Building Compare'!$C$20:$G$30,5,FALSE)","v":32.036851500246676},null,{"$f":"HLOOKUP(C29,#REF!,111,FALSE)","v":{"$error":"#REF!"}},{"$f":"HLOOKUP(C29,#REF!,111,FALSE)","v":{"$error":"#REF!"}},null,{"$f":"HLOOKUP(C29,#REF!,109,FALSE)","v":{"$error":"#REF!"}},{"$error":"#REF!"},{"$error":"#REF!"},{"$error":"#REF!"},{"$error":"#REF!"},{"$error":"#REF!"},null,{"$error":"#REF!"}]
[null,null,"F6141","Kelso Building",{"$f":"HLOOKUP(C30,#REF!,111,FALSE)","v":{"$error":"#REF!"}},{"$f":"HLOOKUP(C30,#REF!,111,FALSE)","v":{"$error":"#REF!"}},{"$f":"HLOOKUP(C30,#REF!,111,FALSE)","v":{"$error":"#REF!"}},{"$error":"#REF!"},{"$f":"VLOOKUP(C30,'[2]Building Compare'!$C$20:$G$30,5,FALSE)","v":19.77534276423301},null,{"$f":"HLOOKUP(C30,#REF!,111,FALSE)","v":{"$error":"#REF!"}},{"$f":"HLOOKUP(C30,#REF!,111,FALSE)","v":{"$error":"#REF!"}},null,{"$f":"HLOOKUP(C30,#REF!,109,FALSE)","v":{"$error":"#REF!"}},{"$error":"#REF!"},{"$error":"#REF!"},{"$error":"#REF!"},{"$error":"#REF!"},{"$error":"#REF!"},null,{"$error":"#REF!"}]
[null,null,"F6142","Yakima Building",{"$f":"HLOOKUP(C31,#REF!,111,FALSE)","v":{"$error":"#REF!"}},{"$f":"HLOOKUP(C31,#REF!,111,FALSE)","v":{"$error":"#REF!"}},{"$f":"HLOOKUP(C31,#REF!,111,FALSE)","v":{"$error":"#REF!"}},{"$error":"#REF!"},{"$f":"VLOOKUP(C31,'[2]Building Compare'!$C$20:$G$30,5,FALSE)","v":19},null,{"$f":"HLOOKUP(C31,#REF!,111,FALSE)","v":{"$error":"#REF!"}},{"$f":"HLOOKUP(C31,#REF!,111,FALSE)","v":{"$error":"#REF!"}},null,{"$f":"HLOOKUP(C31,#REF!,109,FALSE)","v":{"$error":"#REF!"}},{"$error":"#REF!"},{"$error":"#REF!"},{"$error":"#REF!"},{"$error":"#REF!"},{"$error":"#REF!"},null,{"$error":"#REF!"}]
[null,null,"F6143","Alaska Street",{"$f":"HLOOKUP(C32,#REF!,111,FALSE)","v":{"$error":"#REF!"}},{"$f":"HLOOKUP(C32,#REF!,111,FALSE)","v":{"$error":"#REF!"}},{"$f":"HLOOKUP(C32,#REF!,111,FALSE)","v":{"$error":"#REF!"}},{"$error":"#REF!"},{"$f":"VLOOKUP(C32,'[2]Building Compare'!$C$20:$G$30,5,FALSE)","v":5.1025671238168826},null,{"$f":"HLOOKUP(C32,#REF!,111,FALSE)","v":{"$error":"#REF!"}},{"$f":"HLOOKUP(C32,#REF!,111,FALSE)","v":{"$error":"#REF!"}},null,{"$f":"HLOOKUP(C32,#REF!,109,FALSE)","v":{"$error":"#REF!"}},{"$error":"#REF!"},{"$error":"#REF!"},{"$error":"#REF!"},{"$error":"#REF!"},{"$error":"#REF!"},null,{"$error":"#REF!"}]
[null,null,"F6144","Tacoma Rhodes",{"$f":"HLOOKUP(C33,#REF!,111,FALSE)","v":{"$error":"#REF!"}},{"$f":"HLOOKUP(C33,#REF!,111,FALSE)","v":{"$error":"#REF!"}},{"$f":"HLOOKUP(C33,#REF!,111,FALSE)","v":{"$error":"#REF!"}},{"$error":"#REF!"},{"$f":"VLOOKUP(C33,'[2]Building Compare'!$C$20:$G$30,5,FALSE)","v":21.9281471576741},null,{"$f":"HLOOKUP(C33,#REF!,111,FALSE)","v":{"$error":"#REF!"}},{"$f":"HLOOKUP(C33,#REF!,111,FALSE)","v":{"$error":"#REF!"}},null,{"$f":"HLOOKUP(C33,#REF!,109,FALSE)","v":{"$error":"#REF!"}},{"$error":"#REF!"},{"$error":"#REF!"},{"$error":"#REF!"},{"$error":"#REF!"},{"$error":"#REF!"},null,{"$error":"#REF!"}]
[null,null,null,null,null,null,null,null,null,null,null,null,null,null,{"$f":"SUM(O4:O33)","v":{"$error":"#REF!"}},{"$f":"SUM(P4:P33)","v":{"$error":"#REF!"}},{"$error":"#REF!"},{"$error":"#REF!"},{"$error":"#REF!"},null,{"$error":"#REF!"}]

{"sheet":"Rent lookup by Agency","index":1,"n_rows":284,"n_cols":18,"rows_kept":284,"cut":false,"hidden":false,"merged":[[4,12,4,17],[4,4,4,10],[3,2,3,3]]}
["VIEW",null,{"$f":"LEFT(C4,3)","v":"011"}]
["VIEW",null,"Rent Related Costs in the Central Service Model",null,null,null,null,null,null,null,null,null,null,null,null,null,null,"Department of Enterprise Services"]
["VIEW",null,"Agency"]
["VIEW",null,"011 - House of Representatives",null,null,"ç Select Agency Here"]
["VIEW",null,null,null,"Fiscal Year 24",null,null,null,null,null,null,null,"Fiscal Year 25"]
["VIEW",null,"Building","occupied RSF",null,"Rent CSM","Fin Cost Recovery CSM","Campus Contracts CSM (bldg)","TOTAL RENT\nAnnual Cost","Monthly Charge","Rent Rate/RSF",null,"Rent CSM","Fin Cost Recovery CSM","Campus Contracts CSM (bldg)","TOTAL RENT\nAnnual Cost","Monthly Charge","Rent Rate/RSF"]
[{"$f":"IF(D7=0,\"HIDE\",\"VIEW\")","v":"HIDE"},null,"Cherberg",{"$f":"VLOOKUP($C$1,RSF!$A$3:$AJ$108,MATCH($C7,RSF!$A$3:$AK$3,0),FALSE)","v":0},null,{"$f":"SUMIFS(Dollars!$F:$F,Dollars!$E:$E,'Rent lookup by Agency'!F$6,Dollars!$C:$C,'Rent lookup by Agency'!$C7,Dollars!$A:$A,'Rent lookup by Agency'!$C$1)","v":0},{"$f":"SUMIFS(Dollars!$F:$F,Dollars!$E:$E,'Rent lookup by Agency'!G$6,Dollars!$C:$C,'Rent lookup by Agency'!$C7,Dollars!$A:$A,'Rent lookup by Agency'!$C$1)","v":0},{"$f":"SUMIFS(Dollars!$F:$F,Dollars!$E:$E,'Rent lookup by Agency'!H$6,Dollars!$C:$C,'Rent lookup by Agency'!$C7,Dollars!$A:$A,'Rent lookup by Agency'!$C$1)","v":0},{"$f":"SUM(F7:H7)","v":0},{"$f":"I7/12","v":0},{"$f":"IFERROR(I7/D7,0)","v":0},null,{"$f":"SUMIFS(Dollars!$G:$G,Dollars!$E:$E,'Rent lookup by Agency'!M$6,Dollars!$C:$C,'Rent lookup by Agency'!$C7,Dollars!$A:$A,'Rent lookup by Agency'!$C$1)","v":0},{"$f":"SUMIFS(Dollars!$G:$G,Dollars!$E:$E,'Rent lookup by Agency'!N$6,Dollars!$C:$C,'Rent lookup by Agency'!$C7,Dollars!$A:$A,'Rent lookup by Agency'!$C$1)","v":0},{"$f":"SUMIFS(Dollars!$G:$G,Dollars!$E:$E,'Rent lookup by Agency'!O$6,Dollars!$C:$C,'Rent lookup by Agency'!$C7,Dollars!$A:$A,'Rent lookup by Agency'!$C$1)","v":0},{"$f":"SUM(M7:O7)","v":0},{"$f":"P7/12","v":0},{"$f":"IFERROR(P7/D7,0)","v":0}]
[{"$f":"IF(D8=0,\"HIDE\",\"VIEW\")","v":"VIEW"},null,"O'Brien",{"$f":"VLOOKUP($C$1,RSF!$A$3:$AJ$108,MATCH($C8,RSF!$A$3:$AK$3,0),FALSE)","v":78594},null,{"$f":"SUMIFS(Dollars!$F:$F,Dollars!$E:$E,'Rent lookup by Agency'!F$6,Dollars!$C:$C,'Rent lookup by Agency'!$C8,Dollars!$A:$A,'Rent lookup by Agency'!$C$1)","v":506196.56204927218},{"$f":"SUMIFS(Dollars!$F:$F,Dollars!$E:$E,'Rent lookup by Agency'!G$6,Dollars!$C:$C,'Rent lookup by Agency'!$C8,Dollars!$A:$A,'Rent lookup by Agency'!$C$1)","v":0},{"$f":"SUMIFS(Dollars!$F:$F,Dollars!$E:$E,'Rent lookup by Agency'!H$6,Dollars!$C:$C,'Rent lookup by Agency'!$C8,Dollars!$A:$A,'Rent lookup by Agency'!$C$1)","v":28493.645909436684},{"$f":"SUM(F8:H8)","v":534690.20795870887},{"$f":"I8/12","v":44557.517329892406},6.8031937292758844,null,{"$f":"SUMIFS(Dollars!$G:$G,Dollars!$E:$E,'Rent lookup by Agency'!M$6,Dollars!$C:$C,'Rent lookup by Agency'!$C8,Dollars!$A:$A,'Rent lookup by Agency'!$C$1)","v":512676.80449810525},{"$f":"SUMIFS(Dollars!$G:$G,Dollars!$E:$E,'Rent lookup by Agency'!N$6,Dollars!$C:$C,'Rent lookup by Agency'!$C8,Dollars!$A:$A,'Rent lookup by Agency'!$C$1)","v":0},{"$f":"SUMIFS(Dollars!$G:$G,Dollars!$E:$E,'Rent lookup by Agency'!O$6,Dollars!$C:$C,'Rent lookup by Agency'!$C8,Dollars!$A:$A,'Rent lookup by Agency'!$C$1)","v":28493.645909436684},{"$f":"SUM(M8:O8)","v":541170.45040754194},{"$f":"P8/12","v":45097.537533961826},6.8856458560137153]
["VIEW",null,"Legislative",{"$f":"VLOOKUP($C$1,RSF!$A$3:$AJ$108,MATCH($C9,RSF!$A$3:$AK$3,0),FALSE)","v":45304},null,{"$f":"SUMIFS(Dollars!$F:$F,Dollars!$E:$E,'Rent lookup by Agency'!F$6,Dollars!$C:$C,'Rent lookup by Agency'!$C9,Dollars!$A:$A,'Rent lookup by Agency'!$C$1)","v":976839.26721058274},{"$f":"SUMIFS(Dollars!$F:$F,Dollars!$E:$E,'Rent lookup by Agency'!G$6,Dollars!$C:$C,'Rent lookup by Agency'!$C9,Dollars!$A:$A,'Rent lookup by Agency'!$C$1)","v":0},{"$f":"SUMIFS(Dollars!$F:$F,Dollars!$E:$E,'Rent lookup by Agency'!H$6,Dollars!$C:$C,'Rent lookup by Agency'!$C9,Dollars!$A:$A,'Rent lookup by Agency'!$C$1)","v":30563.330525489451},1007402.5977360721,83950.216478006012,22.23650445294173,null,{"$f":"SUMIFS(Dollars!$G:$G,Dollars!$E:$E,'Rent lookup by Agency'!M$6,Dollars!$C:$C,'Rent lookup by Agency'!$C9,Dollars!$A:$A,'Rent lookup by Agency'!$C$1)","v":989344.59766845498},{"$f":"SUMIFS(Dollars!$G:$G,Dollars!$E:$E,'Rent lookup by Agency'!N$6,Dollars!$C:$C,'Rent lookup by Agency'!$C9,Dollars!$A:$A,'Rent lookup by Agency'!$C$1)","v":0},{"$f":"SUMIFS(Dollars!$G:$G,Dollars!$E:$E,'Rent lookup by Agency'!O$6,Dollars!$C:$C,'Rent lookup by Agency'!$C9,Dollars!$A:$A,'Rent lookup by Agency'!$C$1)","v":30563.330525489451},1019907.9281939444,84992.327349495361,22.512535939297731]
["HIDE",null,"Pritchard",{"$f":"VLOOKUP($C$1,RSF!$A$3:$AJ$108,MATCH($C10,RSF!$A$3:$AK$3,0),FALSE)","v":0},null,{"$f":"SUMIFS(Dollars!$F:$F,Dollars!$E:$E,'Rent lookup by Agency'!F$6,Dollars!$C:$C,'Rent lookup by Agency'!$C10,Dollars!$A:$A,'Rent lookup by Agency'!$C$1)","v":0},{"$f":"SUMIFS(Dollars!$F:$F,Dollars!$E:$E,'Rent lookup by Agency'!G$6,Dollars!$C:$C,'Rent lookup by Agency'!$C10,Dollars!$A:$A,'Rent lookup by Agency'!$C$1)","v":0},{"$f":"SUMIFS(Dollars!$F:$F,Dollars!$E:$E,'Rent lookup by Agency'!H$6,Dollars!$C:$C,'Rent lookup by Agency'!$C10,Dollars!$A:$A,'Rent lookup by Agency'!$C$1)","v":0},0,0,0,null,{"$f":"SUMIFS(Dollars!$G:$G,Dollars!$E:$E,'Rent lookup by Agency'!M$6,Dollars!$C:$C,'Rent lookup by Agency'!$C10,Dollars!$A:$A,'Rent lookup by Agency'!$C$1)","v":0},{"$f":"SUMIFS(Dollars!$G:$G,Dollars!$E:$E,'Rent lookup by Agency'!N$6,Dollars!$C:$C,'Rent lookup by Agency'!$C10,Dollars!$A:$A,'Rent lookup by Agency'!$C$1)","v":0},{"$f":"SUMIFS(Dollars!$G:$G,Dollars!$E:$E,'Rent lookup by Agency'!O$6,Dollars!$C:$C,'Rent lookup by Agency'!$C10,Dollars!$A:$A,'Rent lookup by Agency'!$C$1)","v":0},0,0,0]
["HIDE",null,"HLB",{"$f":"VLOOKUP($C$1,RSF!$A$3:$AJ$108,MATCH($C11,RSF!$A$3:$AK$3,0),FALSE)","v":0},null,{"$f":"SUMIFS(Dollars!$F:$F,Dollars!$E:$E,'Rent lookup by Agency'!F$6,Dollars!$C:$C,'Rent lookup by Agency'!$C11,Dollars!$A:$A,'Rent lookup by Agency'!$C$1)","v":0},{"$f":"SUMIFS(Dollars!$F:$F,Dollars!$E:$E,'Rent lookup by Agency'!G$6,Dollars!$C:$C,'Rent lookup by Agency'!$C11,Dollars!$A:$A,'Rent lookup by Agency'!$C$1)","v":0},{"$f":"SUMIFS(Dollars!$F:$F,Dollars!$E:$E,'Rent lookup by Agency'!H$6,Dollars!$C:$C,'Rent lookup by Agency'!$C11,Dollars!$A:$A,'Rent lookup by Agency'!$C$1)","v":0},0,0,0,null,{"$f":"SUMIFS(Dollars!$G:$G,Dollars!$E:$E,'Rent lookup by Agency'!M$6,Dollars!$C:$C,'Rent lookup by Agency'!$C11,Dollars!$A:$A,'Rent lookup by Agency'!$C$1)","v":0},{"$f":"SUMIFS(Dollars!$G:$G,Dollars!$E:$E,'Rent lookup by Agency'!N$6,Dollars!$C:$C,'Rent lookup by Agency'!$C11,Dollars!$A:$A,'Rent lookup by Agency'!$C$1)","v":0},{"$f":"SUMIFS(Dollars!$G:$G,Dollars!$E:$E,'Rent lookup by Agency'!O$6,Dollars!$C:$C,'Rent lookup by Agency'!$C11,Dollars!$A:$A,'Rent lookup by Agency'!$C$1)","v":0},0,0,0]
["HIDE",null,"OB2",{"$f":"VLOOKUP($C$1,RSF!$A$3:$AJ$108,MATCH($C12,RSF!$A$3:$AK$3,0),FALSE)","v":0},null,{"$f":"SUMIFS(Dollars!$F:$F,Dollars!$E:$E,'Rent lookup by Agency'!F$6,Dollars!$C:$C,'Rent lookup by Agency'!$C12,Dollars!$A:$A,'Rent lookup by Agency'!$C$1)","v":0},{"$f":"SUMIFS(Dollars!$F:$F,Dollars!$E:$E,'Rent lookup by Agency'!G$6,Dollars!$C:$C,'Rent lookup by Agency'!$C12,Dollars!$A:$A,'Rent lookup by Agency'!$C$1)","v":0},{"$f":"SUMIFS(Dollars!$F:$F,Dollars!$E:$E,'Rent lookup by Agency'!H$6,Dollars!$C:$C,'Rent lookup by Agency'!$C12,Dollars!$A:$A,'Rent lookup by Agency'!$C$1)","v":0},0,0,0,null,{"$f":"SUMIFS(Dollars!$G:$G,Dollars!$E:$E,'Rent lookup by Agency'!M$6,Dollars!$C:$C,'Rent lookup by Agency'!$C12,Dollars!$A:$A,'Rent lookup by Agency'!$C$1)","v":0},{"$f":"SUMIFS(Dollars!$G:$G,Dollars!$E:$E,'Rent lookup by Agency'!N$6,Dollars!$C:$C,'Rent lookup by Agency'!$C12,Dollars!$A:$A,'Rent lookup by Agency'!$C$1)","v":0},{"$f":"SUMIFS(Dollars!$G:$G,Dollars!$E:$E,'Rent lookup by Agency'!O$6,Dollars!$C:$C,'Rent lookup by Agency'!$C12,Dollars!$A:$A,'Rent lookup by Agency'!$C$1)","v":0},0,0,0]
["HIDE",null,"Archives",{"$f":"VLOOKUP($C$1,RSF!$A$3:$AJ$108,MATCH($C13,RSF!$A$3:$AK$3,0),FALSE)","v":0},null,{"$f":"SUMIFS(Dollars!$F:$F,Dollars!$E:$E,'Rent lookup by Agency'!F$6,Dollars!$C:$C,'Rent lookup by Agency'!$C13,Dollars!$A:$A,'Rent lookup by Agency'!$C$1)","v":0},{"$f":"SUMIFS(Dollars!$F:$F,Dollars!$E:$E,'Rent lookup by Agency'!G$6,Dollars!$C:$C,'Rent lookup by Agency'!$C13,Dollars!$A:$A,'Rent lookup by Agency'!$C$1)","v":0},{"$f":"SUMIFS(Dollars!$F:$F,Dollars!$E:$E,'Rent lookup by Agency'!H$6,Dollars!$C:$C,'Rent lookup by Agency'!$C13,Dollars!$A:$A,'Rent lookup by Agency'!$C$1)","v":0},0,0,0,null,{"$f":"SUMIFS(Dollars!$G:$G,Dollars!$E:$E,'Rent lookup by Agency'!M$6,Dollars!$C:$C,'Rent lookup by Agency'!$C13,Dollars!$A:$A,'Rent lookup by Agency'!$C$1)","v":0},{"$f":"SUMIFS(Dollars!$G:$G,Dollars!$E:$E,'Rent lookup by Agency'!N$6,Dollars!$C:$C,'Rent lookup by Agency'!$C13,Dollars!$A:$A,'Rent lookup by Agency'!$C$1)","v":0},{"$f":"SUMIFS(Dollars!$G:$G,Dollars!$E:$E,'Rent lookup by Agency'!O$6,Dollars!$C:$C,'Rent lookup by Agency'!$C13,Dollars!$A:$A,'Rent lookup by Agency'!$C$1)","v":0},0,0,0]
["HIDE",null,"NRB",{"$f":"VLOOKUP($C$1,RSF!$A$3:$AJ$108,MATCH($C14,RSF!$A$3:$AK$3,0),FALSE)","v":0},null,{"$f":"SUMIFS(Dollars!$F:$F,Dollars!$E:$E,'Rent lookup by Agency'!F$6,Dollars!$C:$C,'Rent lookup by Agency'!$C14,Dollars!$A:$A,'Rent lookup by Agency'!$C$1)","v":0},{"$f":"SUMIFS(Dollars!$F:$F,Dollars!$E:$E,'Rent lookup by Agency'!G$6,Dollars!$C:$C,'Rent lookup by Agency'!$C14,Dollars!$A:$A,'Rent lookup by Agency'!$C$1)","v":0},{"$f":"SUMIFS(Dollars!$F:$F,Dollars!$E:$E,'Rent lookup by Agency'!H$6,Dollars!$C:$C,'Rent lookup by Agency'!$C14,Dollars!$A:$A,'Rent lookup by Agency'!$C$1)","v":0},0,0,0,null,{"$f":"SUMIFS(Dollars!$G:$G,Dollars!$E:$E,'Rent lookup by Agency'!M$6,Dollars!$C:$C,'Rent lookup by Agency'!$C14,Dollars!$A:$A,'Rent lookup by Agency'!$C$1)","v":0},{"$f":"SUMIFS(Dollars!$G:$G,Dollars!$E:$E,'Rent lookup by Agency'!N$6,Dollars!$C:$C,'Rent lookup by Agency'!$C14,Dollars!$A:$A,'Rent lookup by Agency'!$C$1)","v":0},{"$f":"SUMIFS(Dollars!$G:$G,Dollars!$E:$E,'Rent lookup by Agency'!O$6,Dollars!$C:$C,'Rent lookup by Agency'!$C14,Dollars!$A:$A,'Rent lookup by Agency'!$C$1)","v":0},0,0,0]
["HIDE",null,"Emp Sec",{"$f":"VLOOKUP($C$1,RSF!$A$3:$AJ$108,MATCH($C15,RSF!$A$3:$AK$3,0),FALSE)","v":0},null,{"$f":"SUMIFS(Dollars!$F:$F,Dollars!$E:$E,'Rent lookup by Agency'!F$6,Dollars!$C:$C,'Rent lookup by Agency'!$C15,Dollars!$A:$A,'Rent lookup by Agency'!$C$1)","v":0},{"$f":"SUMIFS(Dollars!$F:$F,Dollars!$E:$E,'Rent lookup by Agency'!G$6,Dollars!$C:$C,'Rent lookup by Agency'!$C15,Dollars!$A:$A,'Rent lookup by Agency'!$C$1)","v":0},{"$f":"SUMIFS(Dollars!$F:$F,Dollars!$E:$E,'Rent lookup by Agency'!H$6,Dollars!$C:$C,'Rent lookup by Agency'!$C15,Dollars!$A:$A,'Rent lookup by Agency'!$C$1)","v":0},0,0,0,null,{"$f":"SUMIFS(Dollars!$G:$G,Dollars!$E:$E,'Rent lookup by Agency'!M$6,Dollars!$C:$C,'Rent lookup by Agency'!$C15,Dollars!$A:$A,'Rent lookup by Agency'!$C$1)","v":0},{"$f":"SUMIFS(Dollars!$G:$G,Dollars!$E:$E,'Rent lookup by Agency'!N$6,Dollars!$C:$C,'Rent lookup by Agency'!$C15,Dollars!$A:$A,'Rent lookup by Agency'!$C$1)","v":0},{"$f":"SUMIFS(Dollars!$G:$G,Dollars!$E:$E,'Rent lookup by Agency'!O$6,Dollars!$C:$C,'Rent lookup by Agency'!$C15,Dollars!$A:$A,'Rent lookup by Agency'!$C$1)","v":0},0,0,0]
["HIDE",null,"Transportation",{"$f":"VLOOKUP($C$1,RSF!$A$3:$AJ$108,MATCH($C16,RSF!$A$3:$AK$3,0),FALSE)","v":0},null,{"$f":"SUMIFS(Dollars!$F:$F,Dollars!$E:$E,'Rent lookup by Agency'!F$6,Dollars!$C:$C,'Rent lookup by Agency'!$C16,Dollars!$A:$A,'Rent lookup by Agency'!$C$1)","v":0},{"$f":"SUMIFS(Dollars!$F:$F,Dollars!$E:$E,'Rent lookup by Agency'!G$6,Dollars!$C:$C,'Rent lookup by Agency'!$C16,Dollars!$A:$A,'Rent lookup by Agency'!$C$1)","v":0},{"$f":"SUMIFS(Dollars!$F:$F,Dollars!$E:$E,'Rent lookup by Agency'!H$6,Dollars!$C:$C,'Rent lookup by Agency'!$C16,Dollars!$A:$A,'Rent lookup by Agency'!$C$1)","v":0},0,0,0,null,{"$f":"SUMIFS(Dollars!$G:$G,Dollars!$E:$E,'Rent lookup by Agency'!M$6,Dollars!$C:$C,'Rent lookup by Agency'!$C16,Dollars!$A:$A,'Rent lookup by Agency'!$C$1)","v":0},{"$f":"SUMIFS(Dollars!$G:$G,Dollars!$E:$E,'Rent lookup by Agency'!N$6,Dollars!$C:$C,'Rent lookup by Agency'!$C16,Dollars!$A:$A,'Rent lookup by Agency'!$C$1)","v":0},{"$f":"SUMIFS(Dollars!$G:$G,Dollars!$E:$E,'Rent lookup by Agency'!O$6,Dollars!$C:$C,'Rent lookup by Agency'!$C16,Dollars!$A:$A,'Rent lookup by Agency'!$C$1)","v":0},0,0,0]
["HIDE",null,"Insurance",{"$f":"VLOOKUP($C$1,RSF!$A$3:$AJ$108,MATCH($C17,RSF!$A$3:$AK$3,0),FALSE)","v":0},null,{"$f":"SUMIFS(Dollars!$F:$F,Dollars!$E:$E,'Rent lookup by Agency'!F$6,Dollars!$C:$C,'Rent lookup by Agency'!$C17,Dollars!$A:$A,'Rent lookup by Agency'!$C$1)","v":0},{"$f":"SUMIFS(Dollars!$F:$F,Dollars!$E:$E,'Rent lookup by Agency'!G$6,Dollars!$C:$C,'Rent lookup by Agency'!$C17,Dollars!$A:$A,'Rent lookup by Agency'!$C$1)","v":0},{"$f":"SUMIFS(Dollars!$F:$F,Dollars!$E:$E,'Rent lookup by Agency'!H$6,Dollars!$C:$C,'Rent lookup by Agency'!$C17,Dollars!$A:$A,'Rent lookup by Agency'!$C$1)","v":0},0,0,0,null,{"$f":"SUMIFS(Dollars!$G:$G,Dollars!$E:$E,'Rent lookup by Agency'!M$6,Dollars!$C:$C,'Rent lookup by Agency'!$C17,Dollars!$A:$A,'Rent lookup by Agency'!$C$1)","v":0},{"$f":"SUMIFS(Dollars!$G:$G,Dollars!$E:$E,'Rent lookup by Agency'!N$6,Dollars!$C:$C,'Rent lookup by Agency'!$C17,Dollars!$A:$A,'Rent lookup by Agency'!$C$1)","v":0},{"$f":"SUMIFS(Dollars!$G:$G,Dollars!$E:$E,'Rent lookup by Agency'!O$6,Dollars!$C:$C,'Rent lookup by Agency'!$C17,Dollars!$A:$A,'Rent lookup by Agency'!$C$1)","v":0},0,0,0]
["HIDE",null,"Old Cap",{"$f":"VLOOKUP($C$1,RSF!$A$3:$AJ$108,MATCH($C18,RSF!$A$3:$AK$3,0),FALSE)","v":0},null,{"$f":"SUMIFS(Dollars!$F:$F,Dollars!$E:$E,'Rent lookup by Agency'!F$6,Dollars!$C:$C,'Rent lookup by Agency'!$C18,Dollars!$A:$A,'Rent lookup by Agency'!$C$1)","v":0},{"$f":"SUMIFS(Dollars!$F:$F,Dollars!$E:$E,'Rent lookup by Agency'!G$6,Dollars!$C:$C,'Rent lookup by Agency'!$C18,Dollars!$A:$A,'Rent lookup by Agency'!$C$1)","v":0},{"$f":"SUMIFS(Dollars!$F:$F,Dollars!$E:$E,'Rent lookup by Agency'!H$6,Dollars!$C:$C,'Rent lookup by Agency'!$C18,Dollars!$A:$A,'Rent lookup by Agency'!$C$1)","v":0},0,0,0,null,{"$f":"SUMIFS(Dollars!$G:$G,Dollars!$E:$E,'Rent lookup by Agency'!M$6,Dollars!$C:$C,'Rent lookup by Agency'!$C18,Dollars!$A:$A,'Rent lookup by Agency'!$C$1)","v":0},{"$f":"SUMIFS(Dollars!$G:$G,Dollars!$E:$E,'Rent lookup by Agency'!N$6,Dollars!$C:$C,'Rent lookup by Agency'!$C18,Dollars!$A:$A,'Rent lookup by Agency'!$C$1)","v":0},{"$f":"SUMIFS(Dollars!$G:$G,Dollars!$E:$E,'Rent lookup by Agency'!O$6,Dollars!$C:$C,'Rent lookup by Agency'!$C18,Dollars!$A:$A,'Rent lookup by Agency'!$C$1)","v":0},0,0,0]
["HIDE",null,"TOJ",{"$f":"VLOOKUP($C$1,RSF!$A$3:$AJ$108,MATCH($C19,RSF!$A$3:$AK$3,0),FALSE)","v":0},null,{"$f":"SUMIFS(Dollars!$F:$F,Dollars!$E:$E,'Rent lookup by Agency'!F$6,Dollars!$C:$C,'Rent lookup by Agency'!$C19,Dollars!$A:$A,'Rent lookup by Agency'!$C$1)","v":0},{"$f":"SUMIFS(Dollars!$F:$F,Dollars!$E:$E,'Rent lookup by Agency'!G$6,Dollars!$C:$C,'Rent lookup by Agency'!$C19,Dollars!$A:$A,'Rent lookup by Agency'!$C$1)","v":0},{"$f":"SUMIFS(Dollars!$F:$F,Dollars!$E:$E,'Rent lookup by Agency'!H$6,Dollars!$C:$C,'Rent lookup by Agency'!$C19,Dollars!$A:$A,'Rent lookup by Agency'!$C$1)","v":0},0,0,0,null,{"$f":"SUMIFS(Dollars!$G:$G,Dollars!$E:$E,'Rent lookup by Agency'!M$6,Dollars!$C:$C,'Rent lookup by Agency'!$C19,Dollars!$A:$A,'Rent lookup by Agency'!$C$1)","v":0},{"$f":"SUMIFS(Dollars!$G:$G,Dollars!$E:$E,'Rent lookup by Agency'!N$6,Dollars!$C:$C,'Rent lookup by Agency'!$C19,Dollars!$A:$A,'Rent lookup by Agency'!$C$1)","v":0},{"$f":"SUMIFS(Dollars!$G:$G,Dollars!$E:$E,'Rent lookup by Agency'!O$6,Dollars!$C:$C,'Rent lookup by Agency'!$C19,Dollars!$A:$A,'Rent lookup by Agency'!$C$1)","v":0},0,0,0]
["HIDE",null,"Newhouse",{"$f":"VLOOKUP($C$1,RSF!$A$3:$AJ$108,MATCH($C20,RSF!$A$3:$AK$3,0),FALSE)","v":0},null,{"$f":"SUMIFS(Dollars!$F:$F,Dollars!$E:$E,'Rent lookup by Agency'!F$6,Dollars!$C:$C,'Rent lookup by Agency'!$C20,Dollars!$A:$A,'Rent lookup by Agency'!$C$1)","v":0},{"$f":"SUMIFS(Dollars!$F:$F,Dollars!$E:$E,'Rent lookup by Agency'!G$6,Dollars!$C:$C,'Rent lookup by Agency'!$C20,Dollars!$A:$A,'Rent lookup by Agency'!$C$1)","v":0},{"$f":"SUMIFS(Dollars!$F:$F,Dollars!$E:$E,'Rent lookup by Agency'!H$6,Dollars!$C:$C,'Rent lookup by Agency'!$C20,Dollars!$A:$A,'Rent lookup by Agency'!$C$1)","v":0},0,0,0,null,{"$f":"SUMIFS(Dollars!$G:$G,Dollars!$E:$E,'Rent lookup by Agency'!M$6,Dollars!$C:$C,'Rent lookup by Agency'!$C20,Dollars!$A:$A,'Rent lookup by Agency'!$C$1)","v":0},{"$f":"SUMIFS(Dollars!$G:$G,Dollars!$E:$E,'Rent lookup by Agency'!N$6,Dollars!$C:$C,'Rent lookup by Agency'!$C20,Dollars!$A:$A,'Rent lookup by Agency'!$C$1)","v":0},{"$f":"SUMIFS(Dollars!$G:$G,Dollars!$E:$E,'Rent lookup by Agency'!O$6,Dollars!$C:$C,'Rent lookup by Agency'!$C20,Dollars!$A:$A,'Rent lookup by Agency'!$C$1)","v":0},0,0,0]
["HIDE",null,"Modular Bldg",{"$f":"VLOOKUP($C$1,RSF!$A$3:$AJ$108,MATCH($C21,RSF!$A$3:$AK$3,0),FALSE)","v":0},null,{"$f":"SUMIFS(Dollars!$F:$F,Dollars!$E:$E,'Rent lookup by Agency'!F$6,Dollars!$C:$C,'Rent lookup by Agency'!$C21,Dollars!$A:$A,'Rent lookup by Agency'!$C$1)","v":0},{"$f":"SUMIFS(Dollars!$F:$F,Dollars!$E:$E,'Rent lookup by Agency'!G$6,Dollars!$C:$C,'Rent lookup by Agency'!$C21,Dollars!$A:$A,'Rent lookup by Agency'!$C$1)","v":0},{"$f":"SUMIFS(Dollars!$F:$F,Dollars!$E:$E,'Rent lookup by Agency'!H$6,Dollars!$C:$C,'Rent lookup by Agency'!$C21,Dollars!$A:$A,'Rent lookup by Agency'!$C$1)","v":0},0,0,0,null,{"$f":"SUMIFS(Dollars!$G:$G,Dollars!$E:$E,'Rent lookup by Agency'!M$6,Dollars!$C:$C,'Rent lookup by Agency'!$C21,Dollars!$A:$A,'Rent lookup by Agency'!$C$1)","v":0},{"$f":"SUMIFS(Dollars!$G:$G,Dollars!$E:$E,'Rent lookup by Agency'!N$6,Dollars!$C:$C,'Rent lookup by Agency'!$C21,Dollars!$A:$A,'Rent lookup by Agency'!$C$1)","v":0},{"$f":"SUMIFS(Dollars!$G:$G,Dollars!$E:$E,'Rent lookup by Agency'!O$6,Dollars!$C:$C,'Rent lookup by Agency'!$C21,Dollars!$A:$A,'Rent lookup by Agency'!$C$1)","v":0},0,0,0]
["HIDE",null,"Isabella Bush",{"$f":"VLOOKUP($C$1,RSF!$A$3:$AJ$108,MATCH($C22,RSF!$A$3:$AK$3,0),FALSE)","v":0},null,{"$f":"SUMIFS(Dollars!$F:$F,Dollars!$E:$E,'Rent lookup by Agency'!F$6,Dollars!$C:$C,'Rent lookup by Agency'!$C22,Dollars!$A:$A,'Rent lookup by Agency'!$C$1)","v":0},{"$f":"SUMIFS(Dollars!$F:$F,Dollars!$E:$E,'Rent lookup by Agency'!G$6,Dollars!$C:$C,'Rent lookup by Agency'!$C22,Dollars!$A:$A,'Rent lookup by Agency'!$C$1)","v":0},{"$f":"SUMIFS(Dollars!$F:$F,Dollars!$E:$E,'Rent lookup by Agency'!H$6,Dollars!$C:$C,'Rent lookup by Agency'!$C22,Dollars!$A:$A,'Rent lookup by Agency'!$C$1)","v":0},0,0,0,null,{"$f":"SUMIFS(Dollars!$G:$G,Dollars!$E:$E,'Rent lookup by Agency'!M$6,Dollars!$C:$C,'Rent lookup by Agency'!$C22,Dollars!$A:$A,'Rent lookup by Agency'!$C$1)","v":0},{"$f":"SUMIFS(Dollars!$G:$G,Dollars!$E:$E,'Rent lookup by Agency'!N$6,Dollars!$C:$C,'Rent lookup by Agency'!$C22,Dollars!$A:$A,'Rent lookup by Agency'!$C$1)","v":0},{"$f":"SUMIFS(Dollars!$G:$G,Dollars!$E:$E,'Rent lookup by Agency'!O$6,Dollars!$C:$C,'Rent lookup by Agency'!$C22,Dollars!$A:$A,'Rent lookup by Agency'!$C$1)","v":0},0,0,0]
["HIDE",null,"1007 Washington",{"$f":"VLOOKUP($C$1,RSF!$A$3:$AJ$108,MATCH($C23,RSF!$A$3:$AK$3,0),FALSE)","v":0},null,{"$f":"SUMIFS(Dollars!$F:$F,Dollars!$E:$E,'Rent lookup by Agency'!F$6,Dollars!$C:$C,'Rent lookup by Agency'!$C23,Dollars!$A:$A,'Rent lookup by Agency'!$C$1)","v":0},{"$f":"SUMIFS(Dollars!$F:$F,Dollars!$E:$E,'Rent lookup by Agency'!G$6,Dollars!$C:$C,'Rent lookup by Agency'!$C23,Dollars!$A:$A,'Rent lookup by Agency'!$C$1)","v":0},{"$f":"SUMIFS(Dollars!$F:$F,Dollars!$E:$E,'Rent lookup by Agency'!H$6,Dollars!$C:$C,'Rent lookup by Agency'!$C23,Dollars!$A:$A,'Rent lookup by Agency'!$C$1)","v":0},0,0,0,null,{"$f":"SUMIFS(Dollars!$G:$G,Dollars!$E:$E,'Rent lookup by Agency'!M$6,Dollars!$C:$C,'Rent lookup by Agency'!$C23,Dollars!$A:$A,'Rent lookup by Agency'!$C$1)","v":0},{"$f":"SUMIFS(Dollars!$G:$G,Dollars!$E:$E,'Rent lookup by Agency'!N$6,Dollars!$C:$C,'Rent lookup by Agency'!$C23,Dollars!$A:$A,'Rent lookup by Agency'!$C$1)","v":0},{"$f":"SUMIFS(Dollars!$G:$G,Dollars!$E:$E,'Rent lookup by Agency'!O$6,Dollars!$C:$C,'Rent lookup by Agency'!$C23,Dollars!$A:$A,'Rent lookup by Agency'!$C$1)","v":0},0,0,0]
["HIDE",null,"120 E Union Avenue",{"$f":"VLOOKUP($C$1,RSF!$A$3:$AJ$108,MATCH($C24,RSF!$A$3:$AK$3,0),FALSE)","v":0},null,{"$f":"SUMIFS(Dollars!$F:$F,Dollars!$E:$E,'Rent lookup by Agency'!F$6,Dollars!$C:$C,'Rent lookup by Agency'!$C24,Dollars!$A:$A,'Rent lookup by Agency'!$C$1)","v":0},{"$f":"SUMIFS(Dollars!$F:$F,Dollars!$E:$E,'Rent lookup by Agency'!G$6,Dollars!$C:$C,'Rent lookup by Agency'!$C24,Dollars!$A:$A,'Rent lookup by Agency'!$C$1)","v":0},{"$f":"SUMIFS(Dollars!$F:$F,Dollars!$E:$E,'Rent lookup by Agency'!H$6,Dollars!$C:$C,'Rent lookup by Agency'!$C24,Dollars!$A:$A,'Rent lookup by Agency'!$C$1)","v":0},0,0,0,null,{"$f":"SUMIFS(Dollars!$G:$G,Dollars!$E:$E,'Rent lookup by Agency'!M$6,Dollars!$C:$C,'Rent lookup by Agency'!$C24,Dollars!$A:$A,'Rent lookup by Agency'!$C$1)","v":0},{"$f":"SUMIFS(Dollars!$G:$G,Dollars!$E:$E,'Rent lookup by Agency'!N$6,Dollars!$C:$C,'Rent lookup by Agency'!$C24,Dollars!$A:$A,'Rent lookup by Agency'!$C$1)","v":0},{"$f":"SUMIFS(Dollars!$G:$G,Dollars!$E:$E,'Rent lookup by Agency'!O$6,Dollars!$C:$C,'Rent lookup by Agency'!$C24,Dollars!$A:$A,'Rent lookup by Agency'!$C$1)","v":0},0,0,0]
["HIDE",null,"Capital Court",{"$f":"VLOOKUP($C$1,RSF!$A$3:$AJ$108,MATCH($C25,RSF!$A$3:$AK$3,0),FALSE)","v":0},null,{"$f":"SUMIFS(Dollars!$F:$F,Dollars!$E:$E,'Rent lookup by Agency'!F$6,Dollars!$C:$C,'Rent lookup by Agency'!$C25,Dollars!$A:$A,'Rent lookup by Agency'!$C$1)","v":0},{"$f":"SUMIFS(Dollars!$F:$F,Dollars!$E:$E,'Rent lookup by Agency'!G$6,Dollars!$C:$C,'Rent lookup by Agency'!$C25,Dollars!$A:$A,'Rent lookup by Agency'!$C$1)","v":0},{"$f":"SUMIFS(Dollars!$F:$F,Dollars!$E:$E,'Rent lookup by Agency'!H$6,Dollars!$C:$C,'Rent lookup by Agency'!$C25,Dollars!$A:$A,'Rent lookup by Agency'!$C$1)","v":0},0,0,0,null,{"$f":"SUMIFS(Dollars!$G:$G,Dollars!$E:$E,'Rent lookup by Agency'!M$6,Dollars!$C:$C,'Rent lookup by Agency'!$C25,Dollars!$A:$A,'Rent lookup by Agency'!$C$1)","v":0},{"$f":"SUMIFS(Dollars!$G:$G,Dollars!$E:$E,'Rent lookup by Agency'!N$6,Dollars!$C:$C,'Rent lookup by Agency'!$C25,Dollars!$A:$A,'Rent lookup by Agency'!$C$1)","v":0},{"$f":"SUMIFS(Dollars!$G:$G,Dollars!$E:$E,'Rent lookup by Agency'!O$6,Dollars!$C:$C,'Rent lookup by Agency'!$C25,Dollars!$A:$A,'Rent lookup by Agency'!$C$1)","v":0},0,0,0]
["HIDE",null,"James Dolliver Building",{"$f":"VLOOKUP($C$1,RSF!$A$3:$AJ$108,MATCH($C26,RSF!$A$3:$AK$3,0),FALSE)","v":0},null,{"$f":"SUMIFS(Dollars!$F:$F,Dollars!$E:$E,'Rent lookup by Agency'!F$6,Dollars!$C:$C,'Rent lookup by Agency'!$C26,Dollars!$A:$A,'Rent lookup by Agency'!$C$1)","v":0},{"$f":"SUMIFS(Dollars!$F:$F,Dollars!$E:$E,'Rent lookup by Agency'!G$6,Dollars!$C:$C,'Rent lookup by Agency'!$C26,Dollars!$A:$A,'Rent lookup by Agency'!$C$1)","v":0},{"$f":"SUMIFS(Dollars!$F:$F,Dollars!$E:$E,'Rent lookup by Agency'!H$6,Dollars!$C:$C,'Rent lookup by Agency'!$C26,Dollars!$A:$A,'Rent lookup by Agency'!$C$1)","v":0},0,0,0,null,{"$f":"SUMIFS(Dollars!$G:$G,Dollars!$E:$E,'Rent lookup by Agency'!M$6,Dollars!$C:$C,'Rent lookup by Agency'!$C26,Dollars!$A:$A,'Rent lookup by Agency'!$C$1)","v":0},{"$f":"SUMIFS(Dollars!$G:$G,Dollars!$E:$E,'Rent lookup by Agency'!N$6,Dollars!$C:$C,'Rent lookup by Agency'!$C26,Dollars!$A:$A,'Rent lookup by Agency'!$C$1)","v":0},{"$f":"SUMIFS(Dollars!$G:$G,Dollars!$E:$E,'Rent lookup by Agency'!O$6,Dollars!$C:$C,'Rent lookup by Agency'!$C26,Dollars!$A:$A,'Rent lookup by Agency'!$C$1)","v":0},0,0,0]
["HIDE",null,"Undeveloped Properties",{"$f":"VLOOKUP($C$1,RSF!$A$3:$AJ$108,MATCH($C27,RSF!$A$3:$AK$3,0),FALSE)","v":0},null,{"$f":"SUMIFS(Dollars!$F:$F,Dollars!$E:$E,'Rent lookup by Agency'!F$6,Dollars!$C:$C,'Rent lookup by Agency'!$C27,Dollars!$A:$A,'Rent lookup by Agency'!$C$1)","v":0},{"$f":"SUMIFS(Dollars!$F:$F,Dollars!$E:$E,'Rent lookup by Agency'!G$6,Dollars!$C:$C,'Rent lookup by Agency'!$C27,Dollars!$A:$A,'Rent lookup by Agency'!$C$1)","v":0},{"$f":"SUMIFS(Dollars!$F:$F,Dollars!$E:$E,'Rent lookup by Agency'!H$6,Dollars!$C:$C,'Rent lookup by Agency'!$C27,Dollars!$A:$A,'Rent lookup by Agency'!$C$1)","v":0},0,0,0,null,{"$f":"SUMIFS(Dollars!$G:$G,Dollars!$E:$E,'Rent lookup by Agency'!M$6,Dollars!$C:$C,'Rent lookup by Agency'!$C27,Dollars!$A:$A,'Rent lookup by Agency'!$C$1)","v":0},{"$f":"SUMIFS(Dollars!$G:$G,Dollars!$E:$E,'Rent lookup by Agency'!N$6,Dollars!$C:$C,'Rent lookup by Agency'!$C27,Dollars!$A:$A,'Rent lookup by Agency'!$C$1)","v":0},{"$f":"SUMIFS(Dollars!$G:$G,Dollars!$E:$E,'Rent lookup by Agency'!O$6,Dollars!$C:$C,'Rent lookup by Agency'!$C27,Dollars!$A:$A,'Rent lookup by Agency'!$C$1)","v":0},0,0,0]
["HIDE",null,"1068 WA Street SE (ST Farm)",{"$f":"VLOOKUP($C$1,RSF!$A$3:$AJ$108,MATCH($C28,RSF!$A$3:$AK$3,0),FALSE)","v":0},null,{"$f":"SUMIFS(Dollars!$F:$F,Dollars!$E:$E,'Rent lookup by Agency'!F$6,Dollars!$C:$C,'Rent lookup by Agency'!$C28,Dollars!$A:$A,'Rent lookup by Agency'!$C$1)","v":0},{"$f":"SUMIFS(Dollars!$F:$F,Dollars!$E:$E,'Rent lookup by Agency'!G$6,Dollars!$C:$C,'Rent lookup by Agency'!$C28,Dollars!$A:$A,'Rent lookup by Agency'!$C$1)","v":0},{"$f":"SUMIFS(Dollars!$F:$F,Dollars!$E:$E,'Rent lookup by Agency'!H$6,Dollars!$C:$C,'Rent lookup by Agency'!$C28,Dollars!$A:$A,'Rent lookup by Agency'!$C$1)","v":0},0,0,0,null,{"$f":"SUMIFS(Dollars!$G:$G,Dollars!$E:$E,'Rent lookup by Agency'!M$6,Dollars!$C:$C,'Rent lookup by Agency'!$C28,Dollars!$A:$A,'Rent lookup by Agency'!$C$1)","v":0},{"$f":"SUMIFS(Dollars!$G:$G,Dollars!$E:$E,'Rent lookup by Agency'!N$6,Dollars!$C:$C,'Rent lookup by Agency'!$C28,Dollars!$A:$A,'Rent lookup by Agency'!$C$1)","v":0},{"$f":"SUMIFS(Dollars!$G:$G,Dollars!$E:$E,'Rent lookup by Agency'!O$6,Dollars!$C:$C,'Rent lookup by Agency'!$C28,Dollars!$A:$A,'Rent lookup by Agency'!$C$1)","v":0},0,0,0]
["HIDE",null,"232 Perry Street",{"$f":"VLOOKUP($C$1,RSF!$A$3:$AJ$108,MATCH($C29,RSF!$A$3:$AK$3,0),FALSE)","v":0},null,{"$f":"SUMIFS(Dollars!$F:$F,Dollars!$E:$E,'Rent lookup by Agency'!F$6,Dollars!$C:$C,'Rent lookup by Agency'!$C29,Dollars!$A:$A,'Rent lookup by Agency'!$C$1)","v":0},{"$f":"SUMIFS(Dollars!$F:$F,Dollars!$E:$E,'Rent lookup by Agency'!G$6,Dollars!$C:$C,'Rent lookup by Agency'!$C29,Dollars!$A:$A,'Rent lookup by Agency'!$C$1)","v":0},{"$f":"SUMIFS(Dollars!$F:$F,Dollars!$E:$E,'Rent lookup by Agency'!H$6,Dollars!$C:$C,'Rent lookup by Agency'!$C29,Dollars!$A:$A,'Rent lookup by Agency'!$C$1)","v":0},0,0,0,null,{"$f":"SUMIFS(Dollars!$G:$G,Dollars!$E:$E,'Rent lookup by Agency'!M$6,Dollars!$C:$C,'Rent lookup by Agency'!$C29,Dollars!$A:$A,'Rent lookup by Agency'!$C$1)","v":0},{"$f":"SUMIFS(Dollars!$G:$G,Dollars!$E:$E,'Rent lookup by Agency'!N$6,Dollars!$C:$C,'Rent lookup by Agency'!$C29,Dollars!$A:$A,'Rent lookup by Agency'!$C$1)","v":0},{"$f":"SUMIFS(Dollars!$G:$G,Dollars!$E:$E,'Rent lookup by Agency'!O$6,Dollars!$C:$C,'Rent lookup by Agency'!$C29,Dollars!$A:$A,'Rent lookup by Agency'!$C$1)","v":0},0,0,0]
["HIDE",null,"208 11th Avenue SE (Pro Arts)",{"$f":"VLOOKUP($C$1,RSF!$A$3:$AJ$108,MATCH($C30,RSF!$A$3:$AK$3,0),FALSE)","v":0},null,{"$f":"SUMIFS(Dollars!$F:$F,Dollars!$E:$E,'Rent lookup by Agency'!F$6,Dollars!$C:$C,'Rent lookup by Agency'!$C30,Dollars!$A:$A,'Rent lookup by Agency'!$C$1)","v":0},{"$f":"SUMIFS(Dollars!$F:$F,Dollars!$E:$E,'Rent lookup by Agency'!G$6,Dollars!$C:$C,'Rent lookup by Agency'!$C30,Dollars!$A:$A,'Rent lookup by Agency'!$C$1)","v":0},{"$f":"SUMIFS(Dollars!$F:$F,Dollars!$E:$E,'Rent lookup by Agency'!H$6,Dollars!$C:$C,'Rent lookup by Agency'!$C30,Dollars!$A:$A,'Rent lookup by Agency'!$C$1)","v":0},0,0,0,null,{"$f":"SUMIFS(Dollars!$G:$G,Dollars!$E:$E,'Rent lookup by Agency'!M$6,Dollars!$C:$C,'Rent lookup by Agency'!$C30,Dollars!$A:$A,'Rent lookup by Agency'!$C$1)","v":0},{"$f":"SUMIFS(Dollars!$G:$G,Dollars!$E:$E,'Rent lookup by Agency'!N$6,Dollars!$C:$C,'Rent lookup by Agency'!$C30,Dollars!$A:$A,'Rent lookup by Agency'!$C$1)","v":0},{"$f":"SUMIFS(Dollars!$G:$G,Dollars!$E:$E,'Rent lookup by Agency'!O$6,Dollars!$C:$C,'Rent lookup by Agency'!$C30,Dollars!$A:$A,'Rent lookup by Agency'!$C$1)","v":0},0,0,0]
["HIDE",null,"Press Houses Ayer(White); Carlyon(Blue)",{"$f":"VLOOKUP($C$1,RSF!$A$3:$AJ$108,MATCH($C31,RSF!$A$3:$AK$3,0),FALSE)","v":0},null,{"$f":"SUMIFS(Dollars!$F:$F,Dollars!$E:$E,'Rent lookup by Agency'!F$6,Dollars!$C:$C,'Rent lookup by Agency'!$C31,Dollars!$A:$A,'Rent lookup by Agency'!$C$1)","v":0},{"$f":"SUMIFS(Dollars!$F:$F,Dollars!$E:$E,'Rent lookup by Agency'!G$6,Dollars!$C:$C,'Rent lookup by Agency'!$C31,Dollars!$A:$A,'Rent lookup by Agency'!$C$1)","v":0},{"$f":"SUMIFS(Dollars!$F:$F,Dollars!$E:$E,'Rent lookup by Agency'!H$6,Dollars!$C:$C,'Rent lookup by Agency'!$C31,Dollars!$A:$A,'Rent lookup by Agency'!$C$1)","v":0},0,0,0,null,{"$f":"SUMIFS(Dollars!$G:$G,Dollars!$E:$E,'Rent lookup by Agency'!M$6,Dollars!$C:$C,'Rent lookup by Agency'!$C31,Dollars!$A:$A,'Rent lookup by Agency'!$C$1)","v":0},{"$f":"SUMIFS(Dollars!$G:$G,Dollars!$E:$E,'Rent lookup by Agency'!N$6,Dollars!$C:$C,'Rent lookup by Agency'!$C31,Dollars!$A:$A,'Rent lookup by Agency'!$C$1)","v":0},{"$f":"SUMIFS(Dollars!$G:$G,Dollars!$E:$E,'Rent lookup by Agency'!O$6,Dollars!$C:$C,'Rent lookup by Agency'!$C31,Dollars!$A:$A,'Rent lookup by Agency'!$C$1)","v":0},0,0,0]
["HIDE",null,"Visitor Center",{"$f":"VLOOKUP($C$1,RSF!$A$3:$AJ$108,MATCH($C32,RSF!$A$3:$AK$3,0),FALSE)","v":0},null,{"$f":"SUMIFS(Dollars!$F:$F,Dollars!$E:$E,'Rent lookup by Agency'!F$6,Dollars!$C:$C,'Rent lookup by Agency'!$C32,Dollars!$A:$A,'Rent lookup by Agency'!$C$1)","v":0},{"$f":"SUMIFS(Dollars!$F:$F,Dollars!$E:$E,'Rent lookup by Agency'!G$6,Dollars!$C:$C,'Rent lookup by Agency'!$C32,Dollars!$A:$A,'Rent lookup by Agency'!$C$1)","v":0},{"$f":"SUMIFS(Dollars!$F:$F,Dollars!$E:$E,'Rent lookup by Agency'!H$6,Dollars!$C:$C,'Rent lookup by Agency'!$C32,Dollars!$A:$A,'Rent lookup by Agency'!$C$1)","v":0},0,0,0,null,{"$f":"SUMIFS(Dollars!$G:$G,Dollars!$E:$E,'Rent lookup by Agency'!M$6,Dollars!$C:$C,'Rent lookup by Agency'!$C32,Dollars!$A:$A,'Rent lookup by Agency'!$C$1)","v":0},{"$f":"SUMIFS(Dollars!$G:$G,Dollars!$E:$E,'Rent lookup by Agency'!N$6,Dollars!$C:$C,'Rent lookup by Agency'!$C32,Dollars!$A:$A,'Rent lookup by Agency'!$C$1)","v":0},{"$f":"SUMIFS(Dollars!$G:$G,Dollars!$E:$E,'Rent lookup by Agency'!O$6,Dollars!$C:$C,'Rent lookup by Agency'!$C32,Dollars!$A:$A,'Rent lookup by Agency'!$C$1)","v":0},0,0,0]
["HIDE",null,"Helen Sommers",{"$f":"VLOOKUP($C$1,RSF!$A$3:$AJ$108,MATCH($C33,RSF!$A$3:$AK$3,0),FALSE)","v":0},null,{"$f":"SUMIFS(Dollars!$F:$F,Dollars!$E:$E,'Rent lookup by Agency'!F$6,Dollars!$C:$C,'Rent lookup by Agency'!$C33,Dollars!$A:$A,'Rent lookup by Agency'!$C$1)","v":0},{"$f":"SUMIFS(Dollars!$F:$F,Dollars!$E:$E,'Rent lookup by Agency'!G$6,Dollars!$C:$C,'Rent lookup by Agency'!$C33,Dollars!$A:$A,'Rent lookup by Agency'!$C$1)","v":0},{"$f":"SUMIFS(Dollars!$F:$F,Dollars!$E:$E,'Rent lookup by Agency'!H$6,Dollars!$C:$C,'Rent lookup by Agency'!$C33,Dollars!$A:$A,'Rent lookup by Agency'!$C$1)","v":0},0,0,0,null,{"$f":"SUMIFS(Dollars!$G:$G,Dollars!$E:$E,'Rent lookup by Agency'!M$6,Dollars!$C:$C,'Rent lookup by Agency'!$C33,Dollars!$A:$A,'Rent lookup by Agency'!$C$1)","v":0},{"$f":"SUMIFS(Dollars!$G:$G,Dollars!$E:$E,'Rent lookup by Agency'!N$6,Dollars!$C:$C,'Rent lookup by Agency'!$C33,Dollars!$A:$A,'Rent lookup by Agency'!$C$1)","v":0},{"$f":"SUMIFS(Dollars!$G:$G,Dollars!$E:$E,'Rent lookup by Agency'!O$6,Dollars!$C:$C,'Rent lookup by Agency'!$C33,Dollars!$A:$A,'Rent lookup by Agency'!$C$1)","v":0},0,0,0]
["HIDE",null,"Kelso Building",{"$f":"VLOOKUP($C$1,RSF!$A$3:$AJ$108,MATCH($C34,RSF!$A$3:$AK$3,0),FALSE)","v":0},null,{"$f":"SUMIFS(Dollars!$F:$F,Dollars!$E:$E,'Rent lookup by Agency'!F$6,Dollars!$C:$C,'Rent lookup by Agency'!$C34,Dollars!$A:$A,'Rent lookup by Agency'!$C$1)","v":0},{"$f":"SUMIFS(Dollars!$F:$F,Dollars!$E:$E,'Rent lookup by Agency'!G$6,Dollars!$C:$C,'Rent lookup by Agency'!$C34,Dollars!$A:$A,'Rent lookup by Agency'!$C$1)","v":0},{"$f":"SUMIFS(Dollars!$F:$F,Dollars!$E:$E,'Rent lookup by Agency'!H$6,Dollars!$C:$C,'Rent lookup by Agency'!$C34,Dollars!$A:$A,'Rent lookup by Agency'!$C$1)","v":0},0,0,0,null,{"$f":"SUMIFS(Dollars!$G:$G,Dollars!$E:$E,'Rent lookup by Agency'!M$6,Dollars!$C:$C,'Rent lookup by Agency'!$C34,Dollars!$A:$A,'Rent lookup by Agency'!$C$1)","v":0},{"$f":"SUMIFS(Dollars!$G:$G,Dollars!$E:$E,'Rent lookup by Agency'!N$6,Dollars!$C:$C,'Rent lookup by Agency'!$C34,Dollars!$A:$A,'Rent lookup by Agency'!$C$1)","v":0},{"$f":"SUMIFS(Dollars!$G:$G,Dollars!$E:$E,'Rent lookup by Agency'!O$6,Dollars!$C:$C,'Rent lookup by Agency'!$C34,Dollars!$A:$A,'Rent lookup by Agency'!$C$1)","v":0},0,0,0]
["HIDE",null,"Yakima Building",{"$f":"VLOOKUP($C$1,RSF!$A$3:$AJ$108,MATCH($C35,RSF!$A$3:$AK$3,0),FALSE)","v":0},null,{"$f":"SUMIFS(Dollars!$F:$F,Dollars!$E:$E,'Rent lookup by Agency'!F$6,Dollars!$C:$C,'Rent lookup by Agency'!$C35,Dollars!$A:$A,'Rent lookup by Agency'!$C$1)","v":0},{"$f":"SUMIFS(Dollars!$F:$F,Dollars!$E:$E,'Rent lookup by Agency'!G$6,Dollars!$C:$C,'Rent lookup by Agency'!$C35,Dollars!$A:$A,'Rent lookup by Agency'!$C$1)","v":0},{"$f":"SUMIFS(Dollars!$F:$F,Dollars!$E:$E,'Rent lookup by Agency'!H$6,Dollars!$C:$C,'Rent lookup by Agency'!$C35,Dollars!$A:$A,'Rent lookup by Agency'!$C$1)","v":0},0,0,0,null,{"$f":"SUMIFS(Dollars!$G:$G,Dollars!$E:$E,'Rent lookup by Agency'!M$6,Dollars!$C:$C,'Rent lookup by Agency'!$C35,Dollars!$A:$A,'Rent lookup by Agency'!$C$1)","v":0},{"$f":"SUMIFS(Dollars!$G:$G,Dollars!$E:$E,'Rent lookup by Agency'!N$6,Dollars!$C:$C,'Rent lookup by Agency'!$C35,Dollars!$A:$A,'Rent lookup by Agency'!$C$1)","v":0},{"$f":"SUMIFS(Dollars!$G:$G,Dollars!$E:$E,'Rent lookup by Agency'!O$6,Dollars!$C:$C,'Rent lookup by Agency'!$C35,Dollars!$A:$A,'Rent lookup by Agency'!$C$1)","v":0},0,0,0]
["HIDE",null,"Alaska Street",{"$f":"VLOOKUP($C$1,RSF!$A$3:$AJ$108,MATCH($C36,RSF!$A$3:$AK$3,0),FALSE)","v":0},null,{"$f":"SUMIFS(Dollars!$F:$F,Dollars!$E:$E,'Rent lookup by Agency'!F$6,Dollars!$C:$C,'Rent lookup by Agency'!$C36,Dollars!$A:$A,'Rent lookup by Agency'!$C$1)","v":0},{"$f":"SUMIFS(Dollars!$F:$F,Dollars!$E:$E,'Rent lookup by Agency'!G$6,Dollars!$C:$C,'Rent lookup by Agency'!$C36,Dollars!$A:$A,'Rent lookup by Agency'!$C$1)","v":0},{"$f":"SUMIFS(Dollars!$F:$F,Dollars!$E:$E,'Rent lookup by Agency'!H$6,Dollars!$C:$C,'Rent lookup by Agency'!$C36,Dollars!$A:$A,'Rent lookup by Agency'!$C$1)","v":0},0,0,0,null,{"$f":"SUMIFS(Dollars!$G:$G,Dollars!$E:$E,'Rent lookup by Agency'!M$6,Dollars!$C:$C,'Rent lookup by Agency'!$C36,Dollars!$A:$A,'Rent lookup by Agency'!$C$1)","v":0},{"$f":"SUMIFS(Dollars!$G:$G,Dollars!$E:$E,'Rent lookup by Agency'!N$6,Dollars!$C:$C,'Rent lookup by Agency'!$C36,Dollars!$A:$A,'Rent lookup by Agency'!$C$1)","v":0},{"$f":"SUMIFS(Dollars!$G:$G,Dollars!$E:$E,'Rent lookup by Agency'!O$6,Dollars!$C:$C,'Rent lookup by Agency'!$C36,Dollars!$A:$A,'Rent lookup by Agency'!$C$1)","v":0},0,0,0]
["HIDE",null,"Tacoma Rhodes",{"$f":"VLOOKUP($C$1,RSF!$A$3:$AJ$108,MATCH($C37,RSF!$A$3:$AK$3,0),FALSE)","v":0},null,{"$f":"SUMIFS(Dollars!$F:$F,Dollars!$E:$E,'Rent lookup by Agency'!F$6,Dollars!$C:$C,'Rent lookup by Agency'!$C37,Dollars!$A:$A,'Rent lookup by Agency'!$C$1)","v":0},{"$f":"SUMIFS(Dollars!$F:$F,Dollars!$E:$E,'Rent lookup by Agency'!G$6,Dollars!$C:$C,'Rent lookup by Agency'!$C37,Dollars!$A:$A,'Rent lookup by Agency'!$C$1)","v":0},{"$f":"SUMIFS(Dollars!$F:$F,Dollars!$E:$E,'Rent lookup by Agency'!H$6,Dollars!$C:$C,'Rent lookup by Agency'!$C37,Dollars!$A:$A,'Rent lookup by Agency'!$C$1)","v":0},0,0,0,null,{"$f":"SUMIFS(Dollars!$G:$G,Dollars!$E:$E,'Rent lookup by Agency'!M$6,Dollars!$C:$C,'Rent lookup by Agency'!$C37,Dollars!$A:$A,'Rent lookup by Agency'!$C$1)","v":0},{"$f":"SUMIFS(Dollars!$G:$G,Dollars!$E:$E,'Rent lookup by Agency'!N$6,Dollars!$C:$C,'Rent lookup by Agency'!$C37,Dollars!$A:$A,'Rent lookup by Agency'!$C$1)","v":0},{"$f":"SUMIFS(Dollars!$G:$G,Dollars!$E:$E,'Rent lookup by Agency'!O$6,Dollars!$C:$C,'Rent lookup by Agency'!$C37,Dollars!$A:$A,'Rent lookup by Agency'!$C$1)","v":0},0,0,0]
["VIEW",null,"TOTAL",{"$f":"SUM(D7:D37)","v":123898},{"$f":"SUM(E7:E37)","v":0},1483035.829259855,0,59056.976434926139,1542092.805694781,128507.73380789842,{"$f":"I38/D38","v":12.446470529748511},null,{"$f":"SUM(M7:M37)","v":1502021.4021665603},{"$f":"SUM(N7:N37)","v":0},{"$f":"SUM(O7:O37)","v":59056.976434926139},{"$f":"SUM(P7:P37)","v":1561078.3786014863},{"$f":"SUM(Q7:Q37)","v":130089.86488345719},{"$f":"P38/D38","v":12.599706037236164}]
["VIEW"]
["VIEW",null,"Notes:"]
[{"$f":"IF(D37=0,\"HIDE\",\"VIEW\")","v":"HIDE"},null,"o  Tacoma Rhodes:   This building was recently sold to private ownership.  DES will work with OFM to have this building removed from the CSM in the Supplemental 22 Budget."]
["VIEW",null,"o  Campus Contracts (CC) is invoiced in three parts:  "]
["VIEW",null,"1) CC Bldg pays for CC services within the buildings (see rent tab)"]
["VIEW",null,"2) CC Parking pays for CC services within parking garages and lots (see Other Facility Related Costs tab)"]
["VIEW",null,"3) CC PHF pays for CC services in public & historic spaces (see Other Facility Related Costs tab)  Note*  Public and Historic Facilities may not be eligible for Federal Funding or Reimbursement"]
["VIEW",null,"o  Facilities and Services charges for the House (011), Senate (012), LSS (037), LSC (038) and Statute Law (040) for traditionally \"on-campus\" buildings are funded by an appropriation to DES and will not be invoiced. "]
["VIEW",null,"o  Rent Abatement was provided for DSB (Agency 315) Deli spaces , and will not be invoiced."]
["VIEW"]
["VIEW",null,null,null,null,null,null,null,"Prepared by DES Budget, Finance Division.  For question relating to CSM charges from DES, please contact DesBudget@des.wa.gov"]
["VIEW"]
["VIEW"]
["VIEW"]
["VIEW"]
["VIEW"]
["VIEW"]
["VIEW"]
["VIEW"]
["VIEW"]
["VIEW"]
["VIEW"]
["VIEW"]
["VIEW"]
["VIEW"]
["VIEW"]
["VIEW"]
["VIEW"]
["VIEW"]
["VIEW"]
["VIEW"]
["VIEW"]
["VIEW"]
["VIEW"]
["VIEW"]
["VIEW"]
["VIEW"]
["VIEW"]
["VIEW"]
["VIEW"]
["VIEW"]
["VIEW"]
["VIEW"]
["VIEW"]
["VIEW"]
["VIEW"]
["VIEW"]
["VIEW"]
["VIEW"]
["VIEW"]
["VIEW"]
["VIEW"]
["VIEW"]
["VIEW"]
["VIEW"]
["VIEW"]
["VIEW"]
["VIEW"]
["VIEW"]
["VIEW"]
["VIEW"]
["VIEW"]
["VIEW"]
["VIEW"]
["VIEW"]
["VIEW"]
["VIEW"]
["VIEW"]
["VIEW"]
["VIEW"]
["VIEW"]
["VIEW"]
["VIEW"]
["VIEW"]
["VIEW"]
["VIEW"]
["VIEW"]
["VIEW"]
["VIEW"]
["VIEW"]
["VIEW"]
["VIEW"]
["VIEW"]
["VIEW"]
["VIEW"]
["VIEW"]
["VIEW"]
["VIEW"]
["VIEW"]
["VIEW"]
["VIEW"]
["VIEW"]
["VIEW"]
["VIEW"]
["VIEW"]
["VIEW"]
["VIEW"]
["VIEW"]
["VIEW"]
["VIEW"]
["VIEW"]
["VIEW"]
["VIEW"]
["VIEW"]
["VIEW"]
["VIEW"]
["VIEW"]
["VIEW"]
["VIEW"]
["VIEW"]
["VIEW"]
["VIEW"]
["VIEW"]
["VIEW"]
["VIEW"]
["VIEW"]
["VIEW"]
["VIEW"]
["VIEW"]
["VIEW"]
["VIEW"]
["VIEW"]
["VIEW"]
["VIEW"]
["VIEW"]
["VIEW"]
["VIEW"]
["VIEW"]
["VIEW"]
["VIEW"]
["VIEW"]
["VIEW"]
["VIEW"]
["VIEW"]
["VIEW"]
["VIEW"]
["VIEW"]
["VIEW"]
["VIEW"]
["VIEW"]
["VIEW"]
["VIEW"]
["VIEW"]
["VIEW"]
["VIEW"]
["VIEW"]
["VIEW"]
["VIEW"]
["VIEW"]
["VIEW"]
["VIEW"]
["VIEW"]
["VIEW"]
["VIEW"]
["VIEW"]
["VIEW"]
["VIEW"]
["VIEW"]
["VIEW"]
["VIEW"]
["VIEW"]
["VIEW"]
["VIEW"]
["VIEW"]
["VIEW"]
["VIEW"]
["VIEW"]
["VIEW"]
["VIEW"]
["VIEW"]
["VIEW"]
["VIEW"]
["VIEW"]
["VIEW"]
["VIEW"]
["VIEW"]
["VIEW"]
["VIEW"]
["VIEW"]
["VIEW"]
["VIEW"]
["VIEW"]
["VIEW"]
["VIEW"]
["VIEW"]
["VIEW"]
["VIEW"]
["VIEW"]
["VIEW"]
["VIEW"]
["VIEW"]
["VIEW"]
["VIEW"]
["VIEW"]
["VIEW"]
["VIEW"]
["VIEW"]
["VIEW"]
["VIEW"]
["VIEW"]
["VIEW"]
["VIEW"]
["VIEW"]
["VIEW"]
["VIEW"]
["VIEW"]
["VIEW"]
["VIEW"]
["VIEW"]
["VIEW"]
["VIEW"]
["VIEW"]
["VIEW"]
["VIEW"]
["VIEW"]
["VIEW"]
["VIEW"]
["VIEW"]
["VIEW"]
["VIEW"]
["VIEW"]
["VIEW"]
["VIEW"]
["VIEW"]
["VIEW"]
["VIEW"]
["VIEW"]
["VIEW"]
["VIEW"]
["VIEW"]
["VIEW"]
["VIEW"]
["VIEW"]
["VIEW"]
["VIEW"]
["VIEW"]
["VIEW"]
["VIEW"]
["VIEW"]
["VIEW"]
["VIEW"]
["VIEW"]
["VIEW"]
["VIEW"]
["VIEW"]
["VIEW"]

{"sheet":"Rent lookup by Building","index":2,"n_rows":145,"n_cols":18,"rows_kept":145,"cut":false,"hidden":false,"merged":[[3,2,3,3],[4,4,4,10],[4,12,4,17]]}
["VIEW"]
["VIEW",null,"Occupancy by Building in the Central Service Model",null,null,null,null,null,null,null,null,null,null,null,null,null,null,"Department of Enterprise Services"]
["VIEW",null,"Building"]
["VIEW",null,"Cherberg",null,null,"ç Select Building Here"]
["VIEW",null,null,null,"Fiscal Year 24",null,null,null,null,null,null,null,"Fiscal Year 25"]
["VIEW",null,"Agency","occupied RSF",null,"Rent CSM","Fin Cost Recovery CSM","Campus Contracts CSM (bldg)","TOTAL RENT\nAnnual Cost","Monthly Charge","Rent Rate/RSF",null,"Rent CSM","Fin Cost Recovery CSM","Campus Contracts CSM (bldg)","TOTAL RENT\nAnnual Cost","Monthly Charge","Rent Rate/RSF"]
[{"$f":"IF(D7=0,\"HIDE\",\"VIEW\")","v":"HIDE"},{"$f":"LEFT(C7,3)","v":"011"},"011 - House of Representatives",{"$f":"SUMIFS('RSF List'!C:C,'RSF List'!B:B,'Rent lookup by Building'!$C$4,'RSF List'!A:A,LEFT('Rent lookup by Building'!C7,3))","v":0},null,{"$f":"SUMIFS(Dollars!$F$2:$F$1188,Dollars!$A$2:$A$1188,'Rent lookup by Building'!$B7,Dollars!$E$2:$E$1188,'Rent lookup by Building'!F$6,Dollars!$C$2:$C$1188,'Rent lookup by Building'!$C$4)","v":0},{"$f":"SUMIFS(Dollars!$F$2:$F$1188,Dollars!$A$2:$A$1188,'Rent lookup by Building'!$B7,Dollars!$E$2:$E$1188,'Rent lookup by Building'!G$6,Dollars!$C$2:$C$1188,'Rent lookup by Building'!$C$4)","v":0},{"$f":"SUMIFS(Dollars!$F$2:$F$1188,Dollars!$A$2:$A$1188,'Rent lookup by Building'!$B7,Dollars!$E$2:$E$1188,'Rent lookup by Building'!H$6,Dollars!$C$2:$C$1188,'Rent lookup by Building'!$C$4)","v":0},{"$f":"SUM(F7:H7)","v":0},{"$f":"I7/12","v":0},{"$f":"IFERROR(I7/D7,0)","v":0},null,{"$f":"SUMIFS(Dollars!$G$2:$G$1188,Dollars!$A$2:$A$1188,'Rent lookup by Building'!$B7,Dollars!$E$2:$E$1188,'Rent lookup by Building'!M$6,Dollars!$C$2:$C$1188,'Rent lookup by Building'!$C$4)","v":0},{"$f":"SUMIFS(Dollars!$G$2:$G$1188,Dollars!$A$2:$A$1188,'Rent lookup by Building'!$B7,Dollars!$E$2:$E$1188,'Rent lookup by Building'!N$6,Dollars!$C$2:$C$1188,'Rent lookup by Building'!$C$4)","v":0},{"$f":"SUMIFS(Dollars!$G$2:$G$1188,Dollars!$A$2:$A$1188,'Rent lookup by Building'!$B7,Dollars!$E$2:$E$1188,'Rent lookup by Building'!O$6,Dollars!$C$2:$C$1188,'Rent lookup by Building'!$C$4)","v":0},{"$f":"SUM(M7:O7)","v":0},{"$f":"P7/12","v":0},{"$f":"IFERROR(P7/D7,0)","v":0}]
[{"$f":"IF(D8=0,\"HIDE\",\"VIEW\")","v":"VIEW"},{"$f":"LEFT(C8,3)","v":"012"},"012 - Senate",{"$f":"SUMIFS('RSF List'!C:C,'RSF List'!B:B,'Rent lookup by Building'!$C$4,'RSF List'!A:A,LEFT('Rent lookup by Building'!C8,3))","v":77281},null,{"$f":"SUMIFS(Dollars!$F$2:$F$1188,Dollars!$A$2:$A$1188,'Rent lookup by Building'!$B8,Dollars!$E$2:$E$1188,'Rent lookup by Building'!F$6,Dollars!$C$2:$C$1188,'Rent lookup by Building'!$C$4)","v":1157203.2753575314},{"$f":"SUMIFS(Dollars!$F$2:$F$1188,Dollars!$A$2:$A$1188,'Rent lookup by Building'!$B8,Dollars!$E$2:$E$1188,'Rent lookup by Building'!G$6,Dollars!$C$2:$C$1188,'Rent lookup by Building'!$C$4)","v":0},{"$f":"SUMIFS(Dollars!$F$2:$F$1188,Dollars!$A$2:$A$1188,'Rent lookup by Building'!$B8,Dollars!$E$2:$E$1188,'Rent lookup by Building'!H$6,Dollars!$C$2:$C$1188,'Rent lookup by Building'!$C$4)","v":35396.868062251677},{"$f":"SUM(F8:H8)","v":1192600.1434197831},{"$f":"I8/12","v":99383.34528498193},{"$f":"IFERROR(I8/D8,0)","v":15.431996783423909},null,{"$f":"SUMIFS(Dollars!$G$2:$G$1188,Dollars!$A$2:$A$1188,'Rent lookup by Building'!$B8,Dollars!$E$2:$E$1188,'Rent lookup by Building'!M$6,Dollars!$C$2:$C$1188,'Rent lookup by Building'!$C$4)","v":1172017.5952267577},{"$f":"SUMIFS(Dollars!$G$2:$G$1188,Dollars!$A$2:$A$1188,'Rent lookup by Building'!$B8,Dollars!$E$2:$E$1188,'Rent lookup by Building'!N$6,Dollars!$C$2:$C$1188,'Rent lookup by Building'!$C$4)","v":0},{"$f":"SUMIFS(Dollars!$G$2:$G$1188,Dollars!$A$2:$A$1188,'Rent lookup by Building'!$B8,Dollars!$E$2:$E$1188,'Rent lookup by Building'!O$6,Dollars!$C$2:$C$1188,'Rent lookup by Building'!$C$4)","v":35396.868062251677},{"$f":"SUM(M8:O8)","v":1207414.4632890094},{"$f":"P8/12","v":100617.87194075079},{"$f":"IFERROR(P8/D8,0)","v":15.623690988587226}]
["HIDE","013","013 - Joint Transportation Committee",{"$f":"SUMIFS('RSF List'!C:C,'RSF List'!B:B,'Rent lookup by Building'!$C$4,'RSF List'!A:A,LEFT('Rent lookup by Building'!C9,3))","v":0},null,{"$f":"SUMIFS(Dollars!$F$2:$F$1188,Dollars!$A$2:$A$1188,'Rent lookup by Building'!$B9,Dollars!$E$2:$E$1188,'Rent lookup by Building'!F$6,Dollars!$C$2:$C$1188,'Rent lookup by Building'!$C$4)","v":0},{"$f":"SUMIFS(Dollars!$F$2:$F$1188,Dollars!$A$2:$A$1188,'Rent lookup by Building'!$B9,Dollars!$E$2:$E$1188,'Rent lookup by Building'!G$6,Dollars!$C$2:$C$1188,'Rent lookup by Building'!$C$4)","v":0},{"$f":"SUMIFS(Dollars!$F$2:$F$1188,Dollars!$A$2:$A$1188,'Rent lookup by Building'!$B9,Dollars!$E$2:$E$1188,'Rent lookup by Building'!H$6,Dollars!$C$2:$C$1188,'Rent lookup by Building'!$C$4)","v":0},0,0,0,null,{"$f":"SUMIFS(Dollars!$G$2:$G$1188,Dollars!$A$2:$A$1188,'Rent lookup by Building'!$B9,Dollars!$E$2:$E$1188,'Rent lookup by Building'!M$6,Dollars!$C$2:$C$1188,'Rent lookup by Building'!$C$4)","v":0},{"$f":"SUMIFS(Dollars!$G$2:$G$1188,Dollars!$A$2:$A$1188,'Rent lookup by Building'!$B9,Dollars!$E$2:$E$1188,'Rent lookup by Building'!N$6,Dollars!$C$2:$C$1188,'Rent lookup by Building'!$C$4)","v":0},{"$f":"SUMIFS(Dollars!$G$2:$G$1188,Dollars!$A$2:$A$1188,'Rent lookup by Building'!$B9,Dollars!$E$2:$E$1188,'Rent lookup by Building'!O$6,Dollars!$C$2:$C$1188,'Rent lookup by Building'!$C$4)","v":0},0,0,0]
["HIDE","014","014 - Joint Legislative Audit and Review Committee",{"$f":"SUMIFS('RSF List'!C:C,'RSF List'!B:B,'Rent lookup by Building'!$C$4,'RSF List'!A:A,LEFT('Rent lookup by Building'!C10,3))","v":0},null,{"$f":"SUMIFS(Dollars!$F$2:$F$1188,Dollars!$A$2:$A$1188,'Rent lookup by Building'!$B10,Dollars!$E$2:$E$1188,'Rent lookup by Building'!F$6,Dollars!$C$2:$C$1188,'Rent lookup by Building'!$C$4)","v":0},{"$f":"SUMIFS(Dollars!$F$2:$F$1188,Dollars!$A$2:$A$1188,'Rent lookup by Building'!$B10,Dollars!$E$2:$E$1188,'Rent lookup by Building'!G$6,Dollars!$C$2:$C$1188,'Rent lookup by Building'!$C$4)","v":0},{"$f":"SUMIFS(Dollars!$F$2:$F$1188,Dollars!$A$2:$A$1188,'Rent lookup by Building'!$B10,Dollars!$E$2:$E$1188,'Rent lookup by Building'!H$6,Dollars!$C$2:$C$1188,'Rent lookup by Building'!$C$4)","v":0},0,0,0,null,{"$f":"SUMIFS(Dollars!$G$2:$G$1188,Dollars!$A$2:$A$1188,'Rent lookup by Building'!$B10,Dollars!$E$2:$E$1188,'Rent lookup by Building'!M$6,Dollars!$C$2:$C$1188,'Rent lookup by Building'!$C$4)","v":0},{"$f":"SUMIFS(Dollars!$G$2:$G$1188,Dollars!$A$2:$A$1188,'Rent lookup by Building'!$B10,Dollars!$E$2:$E$1188,'Rent lookup by Building'!N$6,Dollars!$C$2:$C$1188,'Rent lookup by Building'!$C$4)","v":0},{"$f":"SUMIFS(Dollars!$G$2:$G$1188,Dollars!$A$2:$A$1188,'Rent lookup by Building'!$B10,Dollars!$E$2:$E$1188,'Rent lookup by Building'!O$6,Dollars!$C$2:$C$1188,'Rent lookup by Building'!$C$4)","v":0},0,0,0]
["HIDE","020","020 - Legislative Evaluation and Accountability Program Committee",{"$f":"SUMIFS('RSF List'!C:C,'RSF List'!B:B,'Rent lookup by Building'!$C$4,'RSF List'!A:A,LEFT('Rent lookup by Building'!C11,3))","v":0},null,{"$f":"SUMIFS(Dollars!$F$2:$F$1188,Dollars!$A$2:$A$1188,'Rent lookup by Building'!$B11,Dollars!$E$2:$E$1188,'Rent lookup by Building'!F$6,Dollars!$C$2:$C$1188,'Rent lookup by Building'!$C$4)","v":0},{"$f":"SUMIFS(Dollars!$F$2:$F$1188,Dollars!$A$2:$A$1188,'Rent lookup by Building'!$B11,Dollars!$E$2:$E$1188,'Rent lookup by Building'!G$6,Dollars!$C$2:$C$1188,'Rent lookup by Building'!$C$4)","v":0},{"$f":"SUMIFS(Dollars!$F$2:$F$1188,Dollars!$A$2:$A$1188,'Rent lookup by Building'!$B11,Dollars!$E$2:$E$1188,'Rent lookup by Building'!H$6,Dollars!$C$2:$C$1188,'Rent lookup by Building'!$C$4)","v":0},0,0,0,null,{"$f":"SUMIFS(Dollars!$G$2:$G$1188,Dollars!$A$2:$A$1188,'Rent lookup by Building'!$B11,Dollars!$E$2:$E$1188,'Rent lookup by Building'!M$6,Dollars!$C$2:$C$1188,'Rent lookup by Building'!$C$4)","v":0},{"$f":"SUMIFS(Dollars!$G$2:$G$1188,Dollars!$A$2:$A$1188,'Rent lookup by Building'!$B11,Dollars!$E$2:$E$1188,'Rent lookup by Building'!N$6,Dollars!$C$2:$C$1188,'Rent lookup by Building'!$C$4)","v":0},{"$f":"SUMIFS(Dollars!$G$2:$G$1188,Dollars!$A$2:$A$1188,'Rent lookup by Building'!$B11,Dollars!$E$2:$E$1188,'Rent lookup by Building'!O$6,Dollars!$C$2:$C$1188,'Rent lookup by Building'!$C$4)","v":0},0,0,0]
["HIDE","035","035 - Office of the State Actuary",{"$f":"SUMIFS('RSF List'!C:C,'RSF List'!B:B,'Rent lookup by Building'!$C$4,'RSF List'!A:A,LEFT('Rent lookup by Building'!C12,3))","v":0},null,{"$f":"SUMIFS(Dollars!$F$2:$F$1188,Dollars!$A$2:$A$1188,'Rent lookup by Building'!$B12,Dollars!$E$2:$E$1188,'Rent lookup by Building'!F$6,Dollars!$C$2:$C$1188,'Rent lookup by Building'!$C$4)","v":0},{"$f":"SUMIFS(Dollars!$F$2:$F$1188,Dollars!$A$2:$A$1188,'Rent lookup by Building'!$B12,Dollars!$E$2:$E$1188,'Rent lookup by Building'!G$6,Dollars!$C$2:$C$1188,'Rent lookup by Building'!$C$4)","v":0},{"$f":"SUMIFS(Dollars!$F$2:$F$1188,Dollars!$A$2:$A$1188,'Rent lookup by Building'!$B12,Dollars!$E$2:$E$1188,'Rent lookup by Building'!H$6,Dollars!$C$2:$C$1188,'Rent lookup by Building'!$C$4)","v":0},0,0,0,null,{"$f":"SUMIFS(Dollars!$G$2:$G$1188,Dollars!$A$2:$A$1188,'Rent lookup by Building'!$B12,Dollars!$E$2:$E$1188,'Rent lookup by Building'!M$6,Dollars!$C$2:$C$1188,'Rent lookup by Building'!$C$4)","v":0},{"$f":"SUMIFS(Dollars!$G$2:$G$1188,Dollars!$A$2:$A$1188,'Rent lookup by Building'!$B12,Dollars!$E$2:$E$1188,'Rent lookup by Building'!N$6,Dollars!$C$2:$C$1188,'Rent lookup by Building'!$C$4)","v":0},{"$f":"SUMIFS(Dollars!$G$2:$G$1188,Dollars!$A$2:$A$1188,'Rent lookup by Building'!$B12,Dollars!$E$2:$E$1188,'Rent lookup by Building'!O$6,Dollars!$C$2:$C$1188,'Rent lookup by Building'!$C$4)","v":0},0,0,0]
["HIDE","037","037 - Office of Legislative Support Services",{"$f":"SUMIFS('RSF List'!C:C,'RSF List'!B:B,'Rent lookup by Building'!$C$4,'RSF List'!A:A,LEFT('Rent lookup by Building'!C13,3))","v":0},null,{"$f":"SUMIFS(Dollars!$F$2:$F$1188,Dollars!$A$2:$A$1188,'Rent lookup by Building'!$B13,Dollars!$E$2:$E$1188,'Rent lookup by Building'!F$6,Dollars!$C$2:$C$1188,'Rent lookup by Building'!$C$4)","v":0},{"$f":"SUMIFS(Dollars!$F$2:$F$1188,Dollars!$A$2:$A$1188,'Rent lookup by Building'!$B13,Dollars!$E$2:$E$1188,'Rent lookup by Building'!G$6,Dollars!$C$2:$C$1188,'Rent lookup by Building'!$C$4)","v":0},{"$f":"SUMIFS(Dollars!$F$2:$F$1188,Dollars!$A$2:$A$1188,'Rent lookup by Building'!$B13,Dollars!$E$2:$E$1188,'Rent lookup by Building'!H$6,Dollars!$C$2:$C$1188,'Rent lookup by Building'!$C$4)","v":0},0,0,0,null,{"$f":"SUMIFS(Dollars!$G$2:$G$1188,Dollars!$A$2:$A$1188,'Rent lookup by Building'!$B13,Dollars!$E$2:$E$1188,'Rent lookup by Building'!M$6,Dollars!$C$2:$C$1188,'Rent lookup by Building'!$C$4)","v":0},{"$f":"SUMIFS(Dollars!$G$2:$G$1188,Dollars!$A$2:$A$1188,'Rent lookup by Building'!$B13,Dollars!$E$2:$E$1188,'Rent lookup by Building'!N$6,Dollars!$C$2:$C$1188,'Rent lookup by Building'!$C$4)","v":0},{"$f":"SUMIFS(Dollars!$G$2:$G$1188,Dollars!$A$2:$A$1188,'Rent lookup by Building'!$B13,Dollars!$E$2:$E$1188,'Rent lookup by Building'!O$6,Dollars!$C$2:$C$1188,'Rent lookup by Building'!$C$4)","v":0},0,0,0]
["HIDE","038","038 - Joint Legislative Systems Committee",{"$f":"SUMIFS('RSF List'!C:C,'RSF List'!B:B,'Rent lookup by Building'!$C$4,'RSF List'!A:A,LEFT('Rent lookup by Building'!C14,3))","v":0},null,{"$f":"SUMIFS(Dollars!$F$2:$F$1188,Dollars!$A$2:$A$1188,'Rent lookup by Building'!$B14,Dollars!$E$2:$E$1188,'Rent lookup by Building'!F$6,Dollars!$C$2:$C$1188,'Rent lookup by Building'!$C$4)","v":0},{"$f":"SUMIFS(Dollars!$F$2:$F$1188,Dollars!$A$2:$A$1188,'Rent lookup by Building'!$B14,Dollars!$E$2:$E$1188,'Rent lookup by Building'!G$6,Dollars!$C$2:$C$1188,'Rent lookup by Building'!$C$4)","v":0},{"$f":"SUMIFS(Dollars!$F$2:$F$1188,Dollars!$A$2:$A$1188,'Rent lookup by Building'!$B14,Dollars!$E$2:$E$1188,'Rent lookup by Building'!H$6,Dollars!$C$2:$C$1188,'Rent lookup by Building'!$C$4)","v":0},0,0,0,null,{"$f":"SUMIFS(Dollars!$G$2:$G$1188,Dollars!$A$2:$A$1188,'Rent lookup by Building'!$B14,Dollars!$E$2:$E$1188,'Rent lookup by Building'!M$6,Dollars!$C$2:$C$1188,'Rent lookup by Building'!$C$4)","v":0},{"$f":"SUMIFS(Dollars!$G$2:$G$1188,Dollars!$A$2:$A$1188,'Rent lookup by Building'!$B14,Dollars!$E$2:$E$1188,'Rent lookup by Building'!N$6,Dollars!$C$2:$C$1188,'Rent lookup by Building'!$C$4)","v":0},{"$f":"SUMIFS(Dollars!$G$2:$G$1188,Dollars!$A$2:$A$1188,'Rent lookup by Building'!$B14,Dollars!$E$2:$E$1188,'Rent lookup by Building'!O$6,Dollars!$C$2:$C$1188,'Rent lookup by Building'!$C$4)","v":0},0,0,0]
["HIDE","040","040 - Statute Law Committee (Code Revisor)",{"$f":"SUMIFS('RSF List'!C:C,'RSF List'!B:B,'Rent lookup by Building'!$C$4,'RSF List'!A:A,LEFT('Rent lookup by Building'!C15,3))","v":0},null,{"$f":"SUMIFS(Dollars!$F$2:$F$1188,Dollars!$A$2:$A$1188,'Rent lookup by Building'!$B15,Dollars!$E$2:$E$1188,'Rent lookup by Building'!F$6,Dollars!$C$2:$C$1188,'Rent lookup by Building'!$C$4)","v":0},{"$f":"SUMIFS(Dollars!$F$2:$F$1188,Dollars!$A$2:$A$1188,'Rent lookup by Building'!$B15,Dollars!$E$2:$E$1188,'Rent lookup by Building'!G$6,Dollars!$C$2:$C$1188,'Rent lookup by Building'!$C$4)","v":0},{"$f":"SUMIFS(Dollars!$F$2:$F$1188,Dollars!$A$2:$A$1188,'Rent lookup by Building'!$B15,Dollars!$E$2:$E$1188,'Rent lookup by Building'!H$6,Dollars!$C$2:$C$1188,'Rent lookup by Building'!$C$4)","v":0},0,0,0,null,{"$f":"SUMIFS(Dollars!$G$2:$G$1188,Dollars!$A$2:$A$1188,'Rent lookup by Building'!$B15,Dollars!$E$2:$E$1188,'Rent lookup by Building'!M$6,Dollars!$C$2:$C$1188,'Rent lookup by Building'!$C$4)","v":0},{"$f":"SUMIFS(Dollars!$G$2:$G$1188,Dollars!$A$2:$A$1188,'Rent lookup by Building'!$B15,Dollars!$E$2:$E$1188,'Rent lookup by Building'!N$6,Dollars!$C$2:$C$1188,'Rent lookup by Building'!$C$4)","v":0},{"$f":"SUMIFS(Dollars!$G$2:$G$1188,Dollars!$A$2:$A$1188,'Rent lookup by Building'!$B15,Dollars!$E$2:$E$1188,'Rent lookup by Building'!O$6,Dollars!$C$2:$C$1188,'Rent lookup by Building'!$C$4)","v":0},0,0,0]
["HIDE","045","045 - Supreme Court",{"$f":"SUMIFS('RSF List'!C:C,'RSF List'!B:B,'Rent lookup by Building'!$C$4,'RSF List'!A:A,LEFT('Rent lookup by Building'!C16,3))","v":0},null,{"$f":"SUMIFS(Dollars!$F$2:$F$1188,Dollars!$A$2:$A$1188,'Rent lookup by Building'!$B16,Dollars!$E$2:$E$1188,'Rent lookup by Building'!F$6,Dollars!$C$2:$C$1188,'Rent lookup by Building'!$C$4)","v":0},{"$f":"SUMIFS(Dollars!$F$2:$F$1188,Dollars!$A$2:$A$1188,'Rent lookup by Building'!$B16,Dollars!$E$2:$E$1188,'Rent lookup by Building'!G$6,Dollars!$C$2:$C$1188,'Rent lookup by Building'!$C$4)","v":0},{"$f":"SUMIFS(Dollars!$F$2:$F$1188,Dollars!$A$2:$A$1188,'Rent lookup by Building'!$B16,Dollars!$E$2:$E$1188,'Rent lookup by Building'!H$6,Dollars!$C$2:$C$1188,'Rent lookup by Building'!$C$4)","v":0},0,0,0,null,{"$f":"SUMIFS(Dollars!$G$2:$G$1188,Dollars!$A$2:$A$1188,'Rent lookup by Building'!$B16,Dollars!$E$2:$E$1188,'Rent lookup by Building'!M$6,Dollars!$C$2:$C$1188,'Rent lookup by Building'!$C$4)","v":0},{"$f":"SUMIFS(Dollars!$G$2:$G$1188,Dollars!$A$2:$A$1188,'Rent lookup by Building'!$B16,Dollars!$E$2:$E$1188,'Rent lookup by Building'!N$6,Dollars!$C$2:$C$1188,'Rent lookup by Building'!$C$4)","v":0},{"$f":"SUMIFS(Dollars!$G$2:$G$1188,Dollars!$A$2:$A$1188,'Rent lookup by Building'!$B16,Dollars!$E$2:$E$1188,'Rent lookup by Building'!O$6,Dollars!$C$2:$C$1188,'Rent lookup by Building'!$C$4)","v":0},0,0,0]
["HIDE","046","046 - Law Library",{"$f":"SUMIFS('RSF List'!C:C,'RSF List'!B:B,'Rent lookup by Building'!$C$4,'RSF List'!A:A,LEFT('Rent lookup by Building'!C17,3))","v":0},null,{"$f":"SUMIFS(Dollars!$F$2:$F$1188,Dollars!$A$2:$A$1188,'Rent lookup by Building'!$B17,Dollars!$E$2:$E$1188,'Rent lookup by Building'!F$6,Dollars!$C$2:$C$1188,'Rent lookup by Building'!$C$4)","v":0},{"$f":"SUMIFS(Dollars!$F$2:$F$1188,Dollars!$A$2:$A$1188,'Rent lookup by Building'!$B17,Dollars!$E$2:$E$1188,'Rent lookup by Building'!G$6,Dollars!$C$2:$C$1188,'Rent lookup by Building'!$C$4)","v":0},{"$f":"SUMIFS(Dollars!$F$2:$F$1188,Dollars!$A$2:$A$1188,'Rent lookup by Building'!$B17,Dollars!$E$2:$E$1188,'Rent lookup by Building'!H$6,Dollars!$C$2:$C$1188,'Rent lookup by Building'!$C$4)","v":0},0,0,0,null,{"$f":"SUMIFS(Dollars!$G$2:$G$1188,Dollars!$A$2:$A$1188,'Rent lookup by Building'!$B17,Dollars!$E$2:$E$1188,'Rent lookup by Building'!M$6,Dollars!$C$2:$C$1188,'Rent lookup by Building'!$C$4)","v":0},{"$f":"SUMIFS(Dollars!$G$2:$G$1188,Dollars!$A$2:$A$1188,'Rent lookup by Building'!$B17,Dollars!$E$2:$E$1188,'Rent lookup by Building'!N$6,Dollars!$C$2:$C$1188,'Rent lookup by Building'!$C$4)","v":0},{"$f":"SUMIFS(Dollars!$G$2:$G$1188,Dollars!$A$2:$A$1188,'Rent lookup by Building'!$B17,Dollars!$E$2:$E$1188,'Rent lookup by Building'!O$6,Dollars!$C$2:$C$1188,'Rent lookup by Building'!$C$4)","v":0},0,0,0]
["HIDE","048","048 - Court of Appeals",{"$f":"SUMIFS('RSF List'!C:C,'RSF List'!B:B,'Rent lookup by Building'!$C$4,'RSF List'!A:A,LEFT('Rent lookup by Building'!C18,3))","v":0},null,{"$f":"SUMIFS(Dollars!$F$2:$F$1188,Dollars!$A$2:$A$1188,'Rent lookup by Building'!$B18,Dollars!$E$2:$E$1188,'Rent lookup by Building'!F$6,Dollars!$C$2:$C$1188,'Rent lookup by Building'!$C$4)","v":0},{"$f":"SUMIFS(Dollars!$F$2:$F$1188,Dollars!$A$2:$A$1188,'Rent lookup by Building'!$B18,Dollars!$E$2:$E$1188,'Rent lookup by Building'!G$6,Dollars!$C$2:$C$1188,'Rent lookup by Building'!$C$4)","v":0},{"$f":"SUMIFS(Dollars!$F$2:$F$1188,Dollars!$A$2:$A$1188,'Rent lookup by Building'!$B18,Dollars!$E$2:$E$1188,'Rent lookup by Building'!H$6,Dollars!$C$2:$C$1188,'Rent lookup by Building'!$C$4)","v":0},0,0,0,null,{"$f":"SUMIFS(Dollars!$G$2:$G$1188,Dollars!$A$2:$A$1188,'Rent lookup by Building'!$B18,Dollars!$E$2:$E$1188,'Rent lookup by Building'!M$6,Dollars!$C$2:$C$1188,'Rent lookup by Building'!$C$4)","v":0},{"$f":"SUMIFS(Dollars!$G$2:$G$1188,Dollars!$A$2:$A$1188,'Rent lookup by Building'!$B18,Dollars!$E$2:$E$1188,'Rent lookup by Building'!N$6,Dollars!$C$2:$C$1188,'Rent lookup by Building'!$C$4)","v":0},{"$f":"SUMIFS(Dollars!$G$2:$G$1188,Dollars!$A$2:$A$1188,'Rent lookup by Building'!$B18,Dollars!$E$2:$E$1188,'Rent lookup by Building'!O$6,Dollars!$C$2:$C$1188,'Rent lookup by Building'!$C$4)","v":0},0,0,0]
["HIDE","050","050 - Commission on Judicial Conduct",{"$f":"SUMIFS('RSF List'!C:C,'RSF List'!B:B,'Rent lookup by Building'!$C$4,'RSF List'!A:A,LEFT('Rent lookup by Building'!C19,3))","v":0},null,{"$f":"SUMIFS(Dollars!$F$2:$F$1188,Dollars!$A$2:$A$1188,'Rent lookup by Building'!$B19,Dollars!$E$2:$E$1188,'Rent lookup by Building'!F$6,Dollars!$C$2:$C$1188,'Rent lookup by Building'!$C$4)","v":0},{"$f":"SUMIFS(Dollars!$F$2:$F$1188,Dollars!$A$2:$A$1188,'Rent lookup by Building'!$B19,Dollars!$E$2:$E$1188,'Rent lookup by Building'!G$6,Dollars!$C$2:$C$1188,'Rent lookup by Building'!$C$4)","v":0},{"$f":"SUMIFS(Dollars!$F$2:$F$1188,Dollars!$A$2:$A$1188,'Rent lookup by Building'!$B19,Dollars!$E$2:$E$1188,'Rent lookup by Building'!H$6,Dollars!$C$2:$C$1188,'Rent lookup by Building'!$C$4)","v":0},0,0,0,null,{"$f":"SUMIFS(Dollars!$G$2:$G$1188,Dollars!$A$2:$A$1188,'Rent lookup by Building'!$B19,Dollars!$E$2:$E$1188,'Rent lookup by Building'!M$6,Dollars!$C$2:$C$1188,'Rent lookup by Building'!$C$4)","v":0},{"$f":"SUMIFS(Dollars!$G$2:$G$1188,Dollars!$A$2:$A$1188,'Rent lookup by Building'!$B19,Dollars!$E$2:$E$1188,'Rent lookup by Building'!N$6,Dollars!$C$2:$C$1188,'Rent lookup by Building'!$C$4)","v":0},{"$f":"SUMIFS(Dollars!$G$2:$G$1188,Dollars!$A$2:$A$1188,'Rent lookup by Building'!$B19,Dollars!$E$2:$E$1188,'Rent lookup by Building'!O$6,Dollars!$C$2:$C$1188,'Rent lookup by Building'!$C$4)","v":0},0,0,0]
["HIDE","055","055 - Administrative Office of the Courts",{"$f":"SUMIFS('RSF List'!C:C,'RSF List'!B:B,'Rent lookup by Building'!$C$4,'RSF List'!A:A,LEFT('Rent lookup by Building'!C20,3))","v":0},null,{"$f":"SUMIFS(Dollars!$F$2:$F$1188,Dollars!$A$2:$A$1188,'Rent lookup by Building'!$B20,Dollars!$E$2:$E$1188,'Rent lookup by Building'!F$6,Dollars!$C$2:$C$1188,'Rent lookup by Building'!$C$4)","v":0},{"$f":"SUMIFS(Dollars!$F$2:$F$1188,Dollars!$A$2:$A$1188,'Rent lookup by Building'!$B20,Dollars!$E$2:$E$1188,'Rent lookup by Building'!G$6,Dollars!$C$2:$C$1188,'Rent lookup by Building'!$C$4)","v":0},{"$f":"SUMIFS(Dollars!$F$2:$F$1188,Dollars!$A$2:$A$1188,'Rent lookup by Building'!$B20,Dollars!$E$2:$E$1188,'Rent lookup by Building'!H$6,Dollars!$C$2:$C$1188,'Rent lookup by Building'!$C$4)","v":0},0,0,0,null,{"$f":"SUMIFS(Dollars!$G$2:$G$1188,Dollars!$A$2:$A$1188,'Rent lookup by Building'!$B20,Dollars!$E$2:$E$1188,'Rent lookup by Building'!M$6,Dollars!$C$2:$C$1188,'Rent lookup by Building'!$C$4)","v":0},{"$f":"SUMIFS(Dollars!$G$2:$G$1188,Dollars!$A$2:$A$1188,'Rent lookup by Building'!$B20,Dollars!$E$2:$E$1188,'Rent lookup by Building'!N$6,Dollars!$C$2:$C$1188,'Rent lookup by Building'!$C$4)","v":0},{"$f":"SUMIFS(Dollars!$G$2:$G$1188,Dollars!$A$2:$A$1188,'Rent lookup by Building'!$B20,Dollars!$E$2:$E$1188,'Rent lookup by Building'!O$6,Dollars!$C$2:$C$1188,'Rent lookup by Building'!$C$4)","v":0},0,0,0]
["HIDE","056","056 - Office of Public Defense",{"$f":"SUMIFS('RSF List'!C:C,'RSF List'!B:B,'Rent lookup by Building'!$C$4,'RSF List'!A:A,LEFT('Rent lookup by Building'!C21,3))","v":0},null,{"$f":"SUMIFS(Dollars!$F$2:$F$1188,Dollars!$A$2:$A$1188,'Rent lookup by Building'!$B21,Dollars!$E$2:$E$1188,'Rent lookup by Building'!F$6,Dollars!$C$2:$C$1188,'Rent lookup by Building'!$C$4)","v":0},{"$f":"SUMIFS(Dollars!$F$2:$F$1188,Dollars!$A$2:$A$1188,'Rent lookup by Building'!$B21,Dollars!$E$2:$E$1188,'Rent lookup by Building'!G$6,Dollars!$C$2:$C$1188,'Rent lookup by Building'!$C$4)","v":0},{"$f":"SUMIFS(Dollars!$F$2:$F$1188,Dollars!$A$2:$A$1188,'Rent lookup by Building'!$B21,Dollars!$E$2:$E$1188,'Rent lookup by Building'!H$6,Dollars!$C$2:$C$1188,'Rent lookup by Building'!$C$4)","v":0},0,0,0,null,{"$f":"SUMIFS(Dollars!$G$2:$G$1188,Dollars!$A$2:$A$1188,'Rent lookup by Building'!$B21,Dollars!$E$2:$E$1188,'Rent lookup by Building'!M$6,Dollars!$C$2:$C$1188,'Rent lookup by Building'!$C$4)","v":0},{"$f":"SUMIFS(Dollars!$G$2:$G$1188,Dollars!$A$2:$A$1188,'Rent lookup by Building'!$B21,Dollars!$E$2:$E$1188,'Rent lookup by Building'!N$6,Dollars!$C$2:$C$1188,'Rent lookup by Building'!$C$4)","v":0},{"$f":"SUMIFS(Dollars!$G$2:$G$1188,Dollars!$A$2:$A$1188,'Rent lookup by Building'!$B21,Dollars!$E$2:$E$1188,'Rent lookup by Building'!O$6,Dollars!$C$2:$C$1188,'Rent lookup by Building'!$C$4)","v":0},0,0,0]
["HIDE","057","057 - Office of Civil Legal Aid",{"$f":"SUMIFS('RSF List'!C:C,'RSF List'!B:B,'Rent lookup by Building'!$C$4,'RSF List'!A:A,LEFT('Rent lookup by Building'!C22,3))","v":0},null,{"$f":"SUMIFS(Dollars!$F$2:$F$1188,Dollars!$A$2:$A$1188,'Rent lookup by Building'!$B22,Dollars!$E$2:$E$1188,'Rent lookup by Building'!F$6,Dollars!$C$2:$C$1188,'Rent lookup by Building'!$C$4)","v":0},{"$f":"SUMIFS(Dollars!$F$2:$F$1188,Dollars!$A$2:$A$1188,'Rent lookup by Building'!$B22,Dollars!$E$2:$E$1188,'Rent lookup by Building'!G$6,Dollars!$C$2:$C$1188,'Rent lookup by Building'!$C$4)","v":0},{"$f":"SUMIFS(Dollars!$F$2:$F$1188,Dollars!$A$2:$A$1188,'Rent lookup by Building'!$B22,Dollars!$E$2:$E$1188,'Rent lookup by Building'!H$6,Dollars!$C$2:$C$1188,'Rent lookup by Building'!$C$4)","v":0},0,0,0,null,{"$f":"SUMIFS(Dollars!$G$2:$G$1188,Dollars!$A$2:$A$1188,'Rent lookup by Building'!$B22,Dollars!$E$2:$E$1188,'Rent lookup by Building'!M$6,Dollars!$C$2:$C$1188,'Rent lookup by Building'!$C$4)","v":0},{"$f":"SUMIFS(Dollars!$G$2:$G$1188,Dollars!$A$2:$A$1188,'Rent lookup by Building'!$B22,Dollars!$E$2:$E$1188,'Rent lookup by Building'!N$6,Dollars!$C$2:$C$1188,'Rent lookup by Building'!$C$4)","v":0},{"$f":"SUMIFS(Dollars!$G$2:$G$1188,Dollars!$A$2:$A$1188,'Rent lookup by Building'!$B22,Dollars!$E$2:$E$1188,'Rent lookup by Building'!O$6,Dollars!$C$2:$C$1188,'Rent lookup by Building'!$C$4)","v":0},0,0,0]
["HIDE","075","075 - Office of the Governor",{"$f":"SUMIFS('RSF List'!C:C,'RSF List'!B:B,'Rent lookup by Building'!$C$4,'RSF List'!A:A,LEFT('Rent lookup by Building'!C23,3))","v":0},null,{"$f":"SUMIFS(Dollars!$F$2:$F$1188,Dollars!$A$2:$A$1188,'Rent lookup by Building'!$B23,Dollars!$E$2:$E$1188,'Rent lookup by Building'!F$6,Dollars!$C$2:$C$1188,'Rent lookup by Building'!$C$4)","v":0},{"$f":"SUMIFS(Dollars!$F$2:$F$1188,Dollars!$A$2:$A$1188,'Rent lookup by Building'!$B23,Dollars!$E$2:$E$1188,'Rent lookup by Building'!G$6,Dollars!$C$2:$C$1188,'Rent lookup by Building'!$C$4)","v":0},{"$f":"SUMIFS(Dollars!$F$2:$F$1188,Dollars!$A$2:$A$1188,'Rent lookup by Building'!$B23,Dollars!$E$2:$E$1188,'Rent lookup by Building'!H$6,Dollars!$C$2:$C$1188,'Rent lookup by Building'!$C$4)","v":0},0,0,0,null,{"$f":"SUMIFS(Dollars!$G$2:$G$1188,Dollars!$A$2:$A$1188,'Rent lookup by Building'!$B23,Dollars!$E$2:$E$1188,'Rent lookup by Building'!M$6,Dollars!$C$2:$C$1188,'Rent lookup by Building'!$C$4)","v":0},{"$f":"SUMIFS(Dollars!$G$2:$G$1188,Dollars!$A$2:$A$1188,'Rent lookup by Building'!$B23,Dollars!$E$2:$E$1188,'Rent lookup by Building'!N$6,Dollars!$C$2:$C$1188,'Rent lookup by Building'!$C$4)","v":0},{"$f":"SUMIFS(Dollars!$G$2:$G$1188,Dollars!$A$2:$A$1188,'Rent lookup by Building'!$B23,Dollars!$E$2:$E$1188,'Rent lookup by Building'!O$6,Dollars!$C$2:$C$1188,'Rent lookup by Building'!$C$4)","v":0},0,0,0]
["HIDE","080","080 - Office of Lieutenant Governor",{"$f":"SUMIFS('RSF List'!C:C,'RSF List'!B:B,'Rent lookup by Building'!$C$4,'RSF List'!A:A,LEFT('Rent lookup by Building'!C24,3))","v":0},null,{"$f":"SUMIFS(Dollars!$F$2:$F$1188,Dollars!$A$2:$A$1188,'Rent lookup by Building'!$B24,Dollars!$E$2:$E$1188,'Rent lookup by Building'!F$6,Dollars!$C$2:$C$1188,'Rent lookup by Building'!$C$4)","v":0},{"$f":"SUMIFS(Dollars!$F$2:$F$1188,Dollars!$A$2:$A$1188,'Rent lookup by Building'!$B24,Dollars!$E$2:$E$1188,'Rent lookup by Building'!G$6,Dollars!$C$2:$C$1188,'Rent lookup by Building'!$C$4)","v":0},{"$f":"SUMIFS(Dollars!$F$2:$F$1188,Dollars!$A$2:$A$1188,'Rent lookup by Building'!$B24,Dollars!$E$2:$E$1188,'Rent lookup by Building'!H$6,Dollars!$C$2:$C$1188,'Rent lookup by Building'!$C$4)","v":0},0,0,0,null,{"$f":"SUMIFS(Dollars!$G$2:$G$1188,Dollars!$A$2:$A$1188,'Rent lookup by Building'!$B24,Dollars!$E$2:$E$1188,'Rent lookup by Building'!M$6,Dollars!$C$2:$C$1188,'Rent lookup by Building'!$C$4)","v":0},{"$f":"SUMIFS(Dollars!$G$2:$G$1188,Dollars!$A$2:$A$1188,'Rent lookup by Building'!$B24,Dollars!$E$2:$E$1188,'Rent lookup by Building'!N$6,Dollars!$C$2:$C$1188,'Rent lookup by Building'!$C$4)","v":0},{"$f":"SUMIFS(Dollars!$G$2:$G$1188,Dollars!$A$2:$A$1188,'Rent lookup by Building'!$B24,Dollars!$E$2:$E$1188,'Rent lookup by Building'!O$6,Dollars!$C$2:$C$1188,'Rent lookup by Building'!$C$4)","v":0},0,0,0]
["HIDE","082","082 - Public Disclosure Commission",{"$f":"SUMIFS('RSF List'!C:C,'RSF List'!B:B,'Rent lookup by Building'!$C$4,'RSF List'!A:A,LEFT('Rent lookup by Building'!C25,3))","v":0},null,{"$f":"SUMIFS(Dollars!$F$2:$F$1188,Dollars!$A$2:$A$1188,'Rent lookup by Building'!$B25,Dollars!$E$2:$E$1188,'Rent lookup by Building'!F$6,Dollars!$C$2:$C$1188,'Rent lookup by Building'!$C$4)","v":0},{"$f":"SUMIFS(Dollars!$F$2:$F$1188,Dollars!$A$2:$A$1188,'Rent lookup by Building'!$B25,Dollars!$E$2:$E$1188,'Rent lookup by Building'!G$6,Dollars!$C$2:$C$1188,'Rent lookup by Building'!$C$4)","v":0},{"$f":"SUMIFS(Dollars!$F$2:$F$1188,Dollars!$A$2:$A$1188,'Rent lookup by Building'!$B25,Dollars!$E$2:$E$1188,'Rent lookup by Building'!H$6,Dollars!$C$2:$C$1188,'Rent lookup by Building'!$C$4)","v":0},0,0,0,null,{"$f":"SUMIFS(Dollars!$G$2:$G$1188,Dollars!$A$2:$A$1188,'Rent lookup by Building'!$B25,Dollars!$E$2:$E$1188,'Rent lookup by Building'!M$6,Dollars!$C$2:$C$1188,'Rent lookup by Building'!$C$4)","v":0},{"$f":"SUMIFS(Dollars!$G$2:$G$1188,Dollars!$A$2:$A$1188,'Rent lookup by Building'!$B25,Dollars!$E$2:$E$1188,'Rent lookup by Building'!N$6,Dollars!$C$2:$C$1188,'Rent lookup by Building'!$C$4)","v":0},{"$f":"SUMIFS(Dollars!$G$2:$G$1188,Dollars!$A$2:$A$1188,'Rent lookup by Building'!$B25,Dollars!$E$2:$E$1188,'Rent lookup by Building'!O$6,Dollars!$C$2:$C$1188,'Rent lookup by Building'!$C$4)","v":0},0,0,0]
["HIDE","085","085 - Office of the Secretary of State",{"$f":"SUMIFS('RSF List'!C:C,'RSF List'!B:B,'Rent lookup by Building'!$C$4,'RSF List'!A:A,LEFT('Rent lookup by Building'!C26,3))","v":0},null,{"$f":"SUMIFS(Dollars!$F$2:$F$1188,Dollars!$A$2:$A$1188,'Rent lookup by Building'!$B26,Dollars!$E$2:$E$1188,'Rent lookup by Building'!F$6,Dollars!$C$2:$C$1188,'Rent lookup by Building'!$C$4)","v":0},{"$f":"SUMIFS(Dollars!$F$2:$F$1188,Dollars!$A$2:$A$1188,'Rent lookup by Building'!$B26,Dollars!$E$2:$E$1188,'Rent lookup by Building'!G$6,Dollars!$C$2:$C$1188,'Rent lookup by Building'!$C$4)","v":0},{"$f":"SUMIFS(Dollars!$F$2:$F$1188,Dollars!$A$2:$A$1188,'Rent lookup by Building'!$B26,Dollars!$E$2:$E$1188,'Rent lookup by Building'!H$6,Dollars!$C$2:$C$1188,'Rent lookup by Building'!$C$4)","v":0},0,0,0,null,{"$f":"SUMIFS(Dollars!$G$2:$G$1188,Dollars!$A$2:$A$1188,'Rent lookup by Building'!$B26,Dollars!$E$2:$E$1188,'Rent lookup by Building'!M$6,Dollars!$C$2:$C$1188,'Rent lookup by Building'!$C$4)","v":0},{"$f":"SUMIFS(Dollars!$G$2:$G$1188,Dollars!$A$2:$A$1188,'Rent lookup by Building'!$B26,Dollars!$E$2:$E$1188,'Rent lookup by Building'!N$6,Dollars!$C$2:$C$1188,'Rent lookup by Building'!$C$4)","v":0},{"$f":"SUMIFS(Dollars!$G$2:$G$1188,Dollars!$A$2:$A$1188,'Rent lookup by Building'!$B26,Dollars!$E$2:$E$1188,'Rent lookup by Building'!O$6,Dollars!$C$2:$C$1188,'Rent lookup by Building'!$C$4)","v":0},0,0,0]
["HIDE","086","086 - Governor's Office of Indian Affairs",{"$f":"SUMIFS('RSF List'!C:C,'RSF List'!B:B,'Rent lookup by Building'!$C$4,'RSF List'!A:A,LEFT('Rent lookup by Building'!C27,3))","v":0},null,{"$f":"SUMIFS(Dollars!$F$2:$F$1188,Dollars!$A$2:$A$1188,'Rent lookup by Building'!$B27,Dollars!$E$2:$E$1188,'Rent lookup by Building'!F$6,Dollars!$C$2:$C$1188,'Rent lookup by Building'!$C$4)","v":0},{"$f":"SUMIFS(Dollars!$F$2:$F$1188,Dollars!$A$2:$A$1188,'Rent lookup by Building'!$B27,Dollars!$E$2:$E$1188,'Rent lookup by Building'!G$6,Dollars!$C$2:$C$1188,'Rent lookup by Building'!$C$4)","v":0},{"$f":"SUMIFS(Dollars!$F$2:$F$1188,Dollars!$A$2:$A$1188,'Rent lookup by Building'!$B27,Dollars!$E$2:$E$1188,'Rent lookup by Building'!H$6,Dollars!$C$2:$C$1188,'Rent lookup by Building'!$C$4)","v":0},0,0,0,null,{"$f":"SUMIFS(Dollars!$G$2:$G$1188,Dollars!$A$2:$A$1188,'Rent lookup by Building'!$B27,Dollars!$E$2:$E$1188,'Rent lookup by Building'!M$6,Dollars!$C$2:$C$1188,'Rent lookup by Building'!$C$4)","v":0},{"$f":"SUMIFS(Dollars!$G$2:$G$1188,Dollars!$A$2:$A$1188,'Rent lookup by Building'!$B27,Dollars!$E$2:$E$1188,'Rent lookup by Building'!N$6,Dollars!$C$2:$C$1188,'Rent lookup by Building'!$C$4)","v":0},{"$f":"SUMIFS(Dollars!$G$2:$G$1188,Dollars!$A$2:$A$1188,'Rent lookup by Building'!$B27,Dollars!$E$2:$E$1188,'Rent lookup by Building'!O$6,Dollars!$C$2:$C$1188,'Rent lookup by Building'!$C$4)","v":0},{"$f":"SUM(M27:O27)","v":0},0,{"$f":"IFERROR(P27/D27,0)","v":0}]
["HIDE","087","087 - Commission on Asian Pacific American Affairs",{"$f":"SUMIFS('RSF List'!C:C,'RSF List'!B:B,'Rent lookup by Building'!$C$4,'RSF List'!A:A,LEFT('Rent lookup by Building'!C28,3))","v":0},null,{"$f":"SUMIFS(Dollars!$F$2:$F$1188,Dollars!$A$2:$A$1188,'Rent lookup by Building'!$B28,Dollars!$E$2:$E$1188,'Rent lookup by Building'!F$6,Dollars!$C$2:$C$1188,'Rent lookup by Building'!$C$4)","v":0},{"$f":"SUMIFS(Dollars!$F$2:$F$1188,Dollars!$A$2:$A$1188,'Rent lookup by Building'!$B28,Dollars!$E$2:$E$1188,'Rent lookup by Building'!G$6,Dollars!$C$2:$C$1188,'Rent lookup by Building'!$C$4)","v":0},{"$f":"SUMIFS(Dollars!$F$2:$F$1188,Dollars!$A$2:$A$1188,'Rent lookup by Building'!$B28,Dollars!$E$2:$E$1188,'Rent lookup by Building'!H$6,Dollars!$C$2:$C$1188,'Rent lookup by Building'!$C$4)","v":0},0,0,0,null,{"$f":"SUMIFS(Dollars!$G$2:$G$1188,Dollars!$A$2:$A$1188,'Rent lookup by Building'!$B28,Dollars!$E$2:$E$1188,'Rent lookup by Building'!M$6,Dollars!$C$2:$C$1188,'Rent lookup by Building'!$C$4)","v":0},{"$f":"SUMIFS(Dollars!$G$2:$G$1188,Dollars!$A$2:$A$1188,'Rent lookup by Building'!$B28,Dollars!$E$2:$E$1188,'Rent lookup by Building'!N$6,Dollars!$C$2:$C$1188,'Rent lookup by Building'!$C$4)","v":0},{"$f":"SUMIFS(Dollars!$G$2:$G$1188,Dollars!$A$2:$A$1188,'Rent lookup by Building'!$B28,Dollars!$E$2:$E$1188,'Rent lookup by Building'!O$6,Dollars!$C$2:$C$1188,'Rent lookup by Building'!$C$4)","v":0},0,0,0]
["HIDE","090","090 - Office of State Treasurer",{"$f":"SUMIFS('RSF List'!C:C,'RSF List'!B:B,'Rent lookup by Building'!$C$4,'RSF List'!A:A,LEFT('Rent lookup by Building'!C29,3))","v":0},null,{"$f":"SUMIFS(Dollars!$F$2:$F$1188,Dollars!$A$2:$A$1188,'Rent lookup by Building'!$B29,Dollars!$E$2:$E$1188,'Rent lookup by Building'!F$6,Dollars!$C$2:$C$1188,'Rent lookup by Building'!$C$4)","v":0},{"$f":"SUMIFS(Dollars!$F$2:$F$1188,Dollars!$A$2:$A$1188,'Rent lookup by Building'!$B29,Dollars!$E$2:$E$1188,'Rent lookup by Building'!G$6,Dollars!$C$2:$C$1188,'Rent lookup by Building'!$C$4)","v":0},{"$f":"SUMIFS(Dollars!$F$2:$F$1188,Dollars!$A$2:$A$1188,'Rent lookup by Building'!$B29,Dollars!$E$2:$E$1188,'Rent lookup by Building'!H$6,Dollars!$C$2:$C$1188,'Rent lookup by Building'!$C$4)","v":0},0,0,0,null,{"$f":"SUMIFS(Dollars!$G$2:$G$1188,Dollars!$A$2:$A$1188,'Rent lookup by Building'!$B29,Dollars!$E$2:$E$1188,'Rent lookup by Building'!M$6,Dollars!$C$2:$C$1188,'Rent lookup by Building'!$C$4)","v":0},{"$f":"SUMIFS(Dollars!$G$2:$G$1188,Dollars!$A$2:$A$1188,'Rent lookup by Building'!$B29,Dollars!$E$2:$E$1188,'Rent lookup by Building'!N$6,Dollars!$C$2:$C$1188,'Rent lookup by Building'!$C$4)","v":0},{"$f":"SUMIFS(Dollars!$G$2:$G$1188,Dollars!$A$2:$A$1188,'Rent lookup by Building'!$B29,Dollars!$E$2:$E$1188,'Rent lookup by Building'!O$6,Dollars!$C$2:$C$1188,'Rent lookup by Building'!$C$4)","v":0},0,0,0]
["HIDE","095","095 - Office of State Auditor",{"$f":"SUMIFS('RSF List'!C:C,'RSF List'!B:B,'Rent lookup by Building'!$C$4,'RSF List'!A:A,LEFT('Rent lookup by Building'!C30,3))","v":0},null,{"$f":"SUMIFS(Dollars!$F$2:$F$1188,Dollars!$A$2:$A$1188,'Rent lookup by Building'!$B30,Dollars!$E$2:$E$1188,'Rent lookup by Building'!F$6,Dollars!$C$2:$C$1188,'Rent lookup by Building'!$C$4)","v":0},{"$f":"SUMIFS(Dollars!$F$2:$F$1188,Dollars!$A$2:$A$1188,'Rent lookup by Building'!$B30,Dollars!$E$2:$E$1188,'Rent lookup by Building'!G$6,Dollars!$C$2:$C$1188,'Rent lookup by Building'!$C$4)","v":0},{"$f":"SUMIFS(Dollars!$F$2:$F$1188,Dollars!$A$2:$A$1188,'Rent lookup by Building'!$B30,Dollars!$E$2:$E$1188,'Rent lookup by Building'!H$6,Dollars!$C$2:$C$1188,'Rent lookup by Building'!$C$4)","v":0},0,0,0,null,{"$f":"SUMIFS(Dollars!$G$2:$G$1188,Dollars!$A$2:$A$1188,'Rent lookup by Building'!$B30,Dollars!$E$2:$E$1188,'Rent lookup by Building'!M$6,Dollars!$C$2:$C$1188,'Rent lookup by Building'!$C$4)","v":0},{"$f":"SUMIFS(Dollars!$G$2:$G$1188,Dollars!$A$2:$A$1188,'Rent lookup by Building'!$B30,Dollars!$E$2:$E$1188,'Rent lookup by Building'!N$6,Dollars!$C$2:$C$1188,'Rent lookup by Building'!$C$4)","v":0},{"$f":"SUMIFS(Dollars!$G$2:$G$1188,Dollars!$A$2:$A$1188,'Rent lookup by Building'!$B30,Dollars!$E$2:$E$1188,'Rent lookup by Building'!O$6,Dollars!$C$2:$C$1188,'Rent lookup by Building'!$C$4)","v":0},0,0,0]
["HIDE","099","099 - Citizens' Commission on Salaries for Elected Officials",{"$f":"SUMIFS('RSF List'!C:C,'RSF List'!B:B,'Rent lookup by Building'!$C$4,'RSF List'!A:A,LEFT('Rent lookup by Building'!C31,3))","v":0},null,{"$f":"SUMIFS(Dollars!$F$2:$F$1188,Dollars!$A$2:$A$1188,'Rent lookup by Building'!$B31,Dollars!$E$2:$E$1188,'Rent lookup by Building'!F$6,Dollars!$C$2:$C$1188,'Rent lookup by Building'!$C$4)","v":0},{"$f":"SUMIFS(Dollars!$F$2:$F$1188,Dollars!$A$2:$A$1188,'Rent lookup by Building'!$B31,Dollars!$E$2:$E$1188,'Rent lookup by Building'!G$6,Dollars!$C$2:$C$1188,'Rent lookup by Building'!$C$4)","v":0},{"$f":"SUMIFS(Dollars!$F$2:$F$1188,Dollars!$A$2:$A$1188,'Rent lookup by Building'!$B31,Dollars!$E$2:$E$1188,'Rent lookup by Building'!H$6,Dollars!$C$2:$C$1188,'Rent lookup by Building'!$C$4)","v":0},0,0,0,null,{"$f":"SUMIFS(Dollars!$G$2:$G$1188,Dollars!$A$2:$A$1188,'Rent lookup by Building'!$B31,Dollars!$E$2:$E$1188,'Rent lookup by Building'!M$6,Dollars!$C$2:$C$1188,'Rent lookup by Building'!$C$4)","v":0},{"$f":"SUMIFS(Dollars!$G$2:$G$1188,Dollars!$A$2:$A$1188,'Rent lookup by Building'!$B31,Dollars!$E$2:$E$1188,'Rent lookup by Building'!N$6,Dollars!$C$2:$C$1188,'Rent lookup by Building'!$C$4)","v":0},{"$f":"SUMIFS(Dollars!$G$2:$G$1188,Dollars!$A$2:$A$1188,'Rent lookup by Building'!$B31,Dollars!$E$2:$E$1188,'Rent lookup by Building'!O$6,Dollars!$C$2:$C$1188,'Rent lookup by Building'!$C$4)","v":0},0,0,0]
["HIDE","100","100 - Office of Attorney General",{"$f":"SUMIFS('RSF List'!C:C,'RSF List'!B:B,'Rent lookup by Building'!$C$4,'RSF List'!A:A,LEFT('Rent lookup by Building'!C32,3))","v":0},null,{"$f":"SUMIFS(Dollars!$F$2:$F$1188,Dollars!$A$2:$A$1188,'Rent lookup by Building'!$B32,Dollars!$E$2:$E$1188,'Rent lookup by Building'!F$6,Dollars!$C$2:$C$1188,'Rent lookup by Building'!$C$4)","v":0},{"$f":"SUMIFS(Dollars!$F$2:$F$1188,Dollars!$A$2:$A$1188,'Rent lookup by Building'!$B32,Dollars!$E$2:$E$1188,'Rent lookup by Building'!G$6,Dollars!$C$2:$C$1188,'Rent lookup by Building'!$C$4)","v":0},{"$f":"SUMIFS(Dollars!$F$2:$F$1188,Dollars!$A$2:$A$1188,'Rent lookup by Building'!$B32,Dollars!$E$2:$E$1188,'Rent lookup by Building'!H$6,Dollars!$C$2:$C$1188,'Rent lookup by Building'!$C$4)","v":0},0,0,0,null,{"$f":"SUMIFS(Dollars!$G$2:$G$1188,Dollars!$A$2:$A$1188,'Rent lookup by Building'!$B32,Dollars!$E$2:$E$1188,'Rent lookup by Building'!M$6,Dollars!$C$2:$C$1188,'Rent lookup by Building'!$C$4)","v":0},{"$f":"SUMIFS(Dollars!$G$2:$G$1188,Dollars!$A$2:$A$1188,'Rent lookup by Building'!$B32,Dollars!$E$2:$E$1188,'Rent lookup by Building'!N$6,Dollars!$C$2:$C$1188,'Rent lookup by Building'!$C$4)","v":0},{"$f":"SUMIFS(Dollars!$G$2:$G$1188,Dollars!$A$2:$A$1188,'Rent lookup by Building'!$B32,Dollars!$E$2:$E$1188,'Rent lookup by Building'!O$6,Dollars!$C$2:$C$1188,'Rent lookup by Building'!$C$4)","v":0},0,0,0]
["HIDE","101","101 - Caseload Forecast Council",{"$f":"SUMIFS('RSF List'!C:C,'RSF List'!B:B,'Rent lookup by Building'!$C$4,'RSF List'!A:A,LEFT('Rent lookup by Building'!C33,3))","v":0},null,{"$f":"SUMIFS(Dollars!$F$2:$F$1188,Dollars!$A$2:$A$1188,'Rent lookup by Building'!$B33,Dollars!$E$2:$E$1188,'Rent lookup by Building'!F$6,Dollars!$C$2:$C$1188,'Rent lookup by Building'!$C$4)","v":0},{"$f":"SUMIFS(Dollars!$F$2:$F$1188,Dollars!$A$2:$A$1188,'Rent lookup by Building'!$B33,Dollars!$E$2:$E$1188,'Rent lookup by Building'!G$6,Dollars!$C$2:$C$1188,'Rent lookup by Building'!$C$4)","v":0},{"$f":"SUMIFS(Dollars!$F$2:$F$1188,Dollars!$A$2:$A$1188,'Rent lookup by Building'!$B33,Dollars!$E$2:$E$1188,'Rent lookup by Building'!H$6,Dollars!$C$2:$C$1188,'Rent lookup by Building'!$C$4)","v":0},0,0,0,null,{"$f":"SUMIFS(Dollars!$G$2:$G$1188,Dollars!$A$2:$A$1188,'Rent lookup by Building'!$B33,Dollars!$E$2:$E$1188,'Rent lookup by Building'!M$6,Dollars!$C$2:$C$1188,'Rent lookup by Building'!$C$4)","v":0},{"$f":"SUMIFS(Dollars!$G$2:$G$1188,Dollars!$A$2:$A$1188,'Rent lookup by Building'!$B33,Dollars!$E$2:$E$1188,'Rent lookup by Building'!N$6,Dollars!$C$2:$C$1188,'Rent lookup by Building'!$C$4)","v":0},{"$f":"SUMIFS(Dollars!$G$2:$G$1188,Dollars!$A$2:$A$1188,'Rent lookup by Building'!$B33,Dollars!$E$2:$E$1188,'Rent lookup by Building'!O$6,Dollars!$C$2:$C$1188,'Rent lookup by Building'!$C$4)","v":0},0,0,0]
["HIDE","102","102 - Department of Financial Institutions",{"$f":"SUMIFS('RSF List'!C:C,'RSF List'!B:B,'Rent lookup by Building'!$C$4,'RSF List'!A:A,LEFT('Rent lookup by Building'!C34,3))","v":0},null,{"$f":"SUMIFS(Dollars!$F$2:$F$1188,Dollars!$A$2:$A$1188,'Rent lookup by Building'!$B34,Dollars!$E$2:$E$1188,'Rent lookup by Building'!F$6,Dollars!$C$2:$C$1188,'Rent lookup by Building'!$C$4)","v":0},{"$f":"SUMIFS(Dollars!$F$2:$F$1188,Dollars!$A$2:$A$1188,'Rent lookup by Building'!$B34,Dollars!$E$2:$E$1188,'Rent lookup by Building'!G$6,Dollars!$C$2:$C$1188,'Rent lookup by Building'!$C$4)","v":0},{"$f":"SUMIFS(Dollars!$F$2:$F$1188,Dollars!$A$2:$A$1188,'Rent lookup by Building'!$B34,Dollars!$E$2:$E$1188,'Rent lookup by Building'!H$6,Dollars!$C$2:$C$1188,'Rent lookup by Building'!$C$4)","v":0},0,0,0,null,{"$f":"SUMIFS(Dollars!$G$2:$G$1188,Dollars!$A$2:$A$1188,'Rent lookup by Building'!$B34,Dollars!$E$2:$E$1188,'Rent lookup by Building'!M$6,Dollars!$C$2:$C$1188,'Rent lookup by Building'!$C$4)","v":0},{"$f":"SUMIFS(Dollars!$G$2:$G$1188,Dollars!$A$2:$A$1188,'Rent lookup by Building'!$B34,Dollars!$E$2:$E$1188,'Rent lookup by Building'!N$6,Dollars!$C$2:$C$1188,'Rent lookup by Building'!$C$4)","v":0},{"$f":"SUMIFS(Dollars!$G$2:$G$1188,Dollars!$A$2:$A$1188,'Rent lookup by Building'!$B34,Dollars!$E$2:$E$1188,'Rent lookup by Building'!O$6,Dollars!$C$2:$C$1188,'Rent lookup by Building'!$C$4)","v":0},0,0,0]
["HIDE","103","103 - Department of Commerce",{"$f":"SUMIFS('RSF List'!C:C,'RSF List'!B:B,'Rent lookup by Building'!$C$4,'RSF List'!A:A,LEFT('Rent lookup by Building'!C35,3))","v":0},null,{"$f":"SUMIFS(Dollars!$F$2:$F$1188,Dollars!$A$2:$A$1188,'Rent lookup by Building'!$B35,Dollars!$E$2:$E$1188,'Rent lookup by Building'!F$6,Dollars!$C$2:$C$1188,'Rent lookup by Building'!$C$4)","v":0},{"$f":"SUMIFS(Dollars!$F$2:$F$1188,Dollars!$A$2:$A$1188,'Rent lookup by Building'!$B35,Dollars!$E$2:$E$1188,'Rent lookup by Building'!G$6,Dollars!$C$2:$C$1188,'Rent lookup by Building'!$C$4)","v":0},{"$f":"SUMIFS(Dollars!$F$2:$F$1188,Dollars!$A$2:$A$1188,'Rent lookup by Building'!$B35,Dollars!$E$2:$E$1188,'Rent lookup by Building'!H$6,Dollars!$C$2:$C$1188,'Rent lookup by Building'!$C$4)","v":0},0,0,0,null,{"$f":"SUMIFS(Dollars!$G$2:$G$1188,Dollars!$A$2:$A$1188,'Rent lookup by Building'!$B35,Dollars!$E$2:$E$1188,'Rent lookup by Building'!M$6,Dollars!$C$2:$C$1188,'Rent lookup by Building'!$C$4)","v":0},{"$f":"SUMIFS(Dollars!$G$2:$G$1188,Dollars!$A$2:$A$1188,'Rent lookup by Building'!$B35,Dollars!$E$2:$E$1188,'Rent lookup by Building'!N$6,Dollars!$C$2:$C$1188,'Rent lookup by Building'!$C$4)","v":0},{"$f":"SUMIFS(Dollars!$G$2:$G$1188,Dollars!$A$2:$A$1188,'Rent lookup by Building'!$B35,Dollars!$E$2:$E$1188,'Rent lookup by Building'!O$6,Dollars!$C$2:$C$1188,'Rent lookup by Building'!$C$4)","v":0},0,0,0]
["HIDE","104","104 - Economic and Revenue Forecast Council",{"$f":"SUMIFS('RSF List'!C:C,'RSF List'!B:B,'Rent lookup by Building'!$C$4,'RSF List'!A:A,LEFT('Rent lookup by Building'!C36,3))","v":0},null,{"$f":"SUMIFS(Dollars!$F$2:$F$1188,Dollars!$A$2:$A$1188,'Rent lookup by Building'!$B36,Dollars!$E$2:$E$1188,'Rent lookup by Building'!F$6,Dollars!$C$2:$C$1188,'Rent lookup by Building'!$C$4)","v":0},{"$f":"SUMIFS(Dollars!$F$2:$F$1188,Dollars!$A$2:$A$1188,'Rent lookup by Building'!$B36,Dollars!$E$2:$E$1188,'Rent lookup by Building'!G$6,Dollars!$C$2:$C$1188,'Rent lookup by Building'!$C$4)","v":0},{"$f":"SUMIFS(Dollars!$F$2:$F$1188,Dollars!$A$2:$A$1188,'Rent lookup by Building'!$B36,Dollars!$E$2:$E$1188,'Rent lookup by Building'!H$6,Dollars!$C$2:$C$1188,'Rent lookup by Building'!$C$4)","v":0},0,0,0,null,{"$f":"SUMIFS(Dollars!$G$2:$G$1188,Dollars!$A$2:$A$1188,'Rent lookup by Building'!$B36,Dollars!$E$2:$E$1188,'Rent lookup by Building'!M$6,Dollars!$C$2:$C$1188,'Rent lookup by Building'!$C$4)","v":0},{"$f":"SUMIFS(Dollars!$G$2:$G$1188,Dollars!$A$2:$A$1188,'Rent lookup by Building'!$B36,Dollars!$E$2:$E$1188,'Rent lookup by Building'!N$6,Dollars!$C$2:$C$1188,'Rent lookup by Building'!$C$4)","v":0},{"$f":"SUMIFS(Dollars!$G$2:$G$1188,Dollars!$A$2:$A$1188,'Rent lookup by Building'!$B36,Dollars!$E$2:$E$1188,'Rent lookup by Building'!O$6,Dollars!$C$2:$C$1188,'Rent lookup by Building'!$C$4)","v":0},0,0,0]
["HIDE","105","105 - Office of Financial Management",{"$f":"SUMIFS('RSF List'!C:C,'RSF List'!B:B,'Rent lookup by Building'!$C$4,'RSF List'!A:A,LEFT('Rent lookup by Building'!C37,3))","v":0},null,{"$f":"SUMIFS(Dollars!$F$2:$F$1188,Dollars!$A$2:$A$1188,'Rent lookup by Building'!$B37,Dollars!$E$2:$E$1188,'Rent lookup by Building'!F$6,Dollars!$C$2:$C$1188,'Rent lookup by Building'!$C$4)","v":0},{"$f":"SUMIFS(Dollars!$F$2:$F$1188,Dollars!$A$2:$A$1188,'Rent lookup by Building'!$B37,Dollars!$E$2:$E$1188,'Rent lookup by Building'!G$6,Dollars!$C$2:$C$1188,'Rent lookup by Building'!$C$4)","v":0},{"$f":"SUMIFS(Dollars!$F$2:$F$1188,Dollars!$A$2:$A$1188,'Rent lookup by Building'!$B37,Dollars!$E$2:$E$1188,'Rent lookup by Building'!H$6,Dollars!$C$2:$C$1188,'Rent lookup by Building'!$C$4)","v":0},0,0,0,null,{"$f":"SUMIFS(Dollars!$G$2:$G$1188,Dollars!$A$2:$A$1188,'Rent lookup by Building'!$B37,Dollars!$E$2:$E$1188,'Rent lookup by Building'!M$6,Dollars!$C$2:$C$1188,'Rent lookup by Building'!$C$4)","v":0},{"$f":"SUMIFS(Dollars!$G$2:$G$1188,Dollars!$A$2:$A$1188,'Rent lookup by Building'!$B37,Dollars!$E$2:$E$1188,'Rent lookup by Building'!N$6,Dollars!$C$2:$C$1188,'Rent lookup by Building'!$C$4)","v":0},{"$f":"SUMIFS(Dollars!$G$2:$G$1188,Dollars!$A$2:$A$1188,'Rent lookup by Building'!$B37,Dollars!$E$2:$E$1188,'Rent lookup by Building'!O$6,Dollars!$C$2:$C$1188,'Rent lookup by Building'!$C$4)","v":0},0,0,0]
["HIDE","107","107 - Washington State Health Care Authority",{"$f":"SUMIFS('RSF List'!C:C,'RSF List'!B:B,'Rent lookup by Building'!$C$4,'RSF List'!A:A,LEFT('Rent lookup by Building'!C38,3))","v":0},{"$f":"SUM(E7:E37)","v":0},{"$f":"SUMIFS(Dollars!$F$2:$F$1188,Dollars!$A$2:$A$1188,'Rent lookup by Building'!$B38,Dollars!$E$2:$E$1188,'Rent lookup by Building'!F$6,Dollars!$C$2:$C$1188,'Rent lookup by Building'!$C$4)","v":0},{"$f":"SUMIFS(Dollars!$F$2:$F$1188,Dollars!$A$2:$A$1188,'Rent lookup by Building'!$B38,Dollars!$E$2:$E$1188,'Rent lookup by Building'!G$6,Dollars!$C$2:$C$1188,'Rent lookup by Building'!$C$4)","v":0},{"$f":"SUMIFS(Dollars!$F$2:$F$1188,Dollars!$A$2:$A$1188,'Rent lookup by Building'!$B38,Dollars!$E$2:$E$1188,'Rent lookup by Building'!H$6,Dollars!$C$2:$C$1188,'Rent lookup by Building'!$C$4)","v":0},{"$f":"SUM(F38:H38)","v":0},0,{"$f":"IFERROR(I38/D38,0)","v":0},null,{"$f":"SUMIFS(Dollars!$G$2:$G$1188,Dollars!$A$2:$A$1188,'Rent lookup by Building'!$B38,Dollars!$E$2:$E$1188,'Rent lookup by Building'!M$6,Dollars!$C$2:$C$1188,'Rent lookup by Building'!$C$4)","v":0},{"$f":"SUMIFS(Dollars!$G$2:$G$1188,Dollars!$A$2:$A$1188,'Rent lookup by Building'!$B38,Dollars!$E$2:$E$1188,'Rent lookup by Building'!N$6,Dollars!$C$2:$C$1188,'Rent lookup by Building'!$C$4)","v":0},{"$f":"SUMIFS(Dollars!$G$2:$G$1188,Dollars!$A$2:$A$1188,'Rent lookup by Building'!$B38,Dollars!$E$2:$E$1188,'Rent lookup by Building'!O$6,Dollars!$C$2:$C$1188,'Rent lookup by Building'!$C$4)","v":0},0,0,0]
["HIDE","110","110 - Office of Administrative Hearings",{"$f":"SUMIFS('RSF List'!C:C,'RSF List'!B:B,'Rent lookup by Building'!$C$4,'RSF List'!A:A,LEFT('Rent lookup by Building'!C39,3))","v":0},null,{"$f":"SUMIFS(Dollars!$F$2:$F$1188,Dollars!$A$2:$A$1188,'Rent lookup by Building'!$B39,Dollars!$E$2:$E$1188,'Rent lookup by Building'!F$6,Dollars!$C$2:$C$1188,'Rent lookup by Building'!$C$4)","v":0},{"$f":"SUMIFS(Dollars!$F$2:$F$1188,Dollars!$A$2:$A$1188,'Rent lookup by Building'!$B39,Dollars!$E$2:$E$1188,'Rent lookup by Building'!G$6,Dollars!$C$2:$C$1188,'Rent lookup by Building'!$C$4)","v":0},{"$f":"SUMIFS(Dollars!$F$2:$F$1188,Dollars!$A$2:$A$1188,'Rent lookup by Building'!$B39,Dollars!$E$2:$E$1188,'Rent lookup by Building'!H$6,Dollars!$C$2:$C$1188,'Rent lookup by Building'!$C$4)","v":0},{"$f":"SUM(F39:H39)","v":0},0,{"$f":"IFERROR(I39/D39,0)","v":0},null,{"$f":"SUMIFS(Dollars!$G$2:$G$1188,Dollars!$A$2:$A$1188,'Rent lookup by Building'!$B39,Dollars!$E$2:$E$1188,'Rent lookup by Building'!M$6,Dollars!$C$2:$C$1188,'Rent lookup by Building'!$C$4)","v":0},{"$f":"SUMIFS(Dollars!$G$2:$G$1188,Dollars!$A$2:$A$1188,'Rent lookup by Building'!$B39,Dollars!$E$2:$E$1188,'Rent lookup by Building'!N$6,Dollars!$C$2:$C$1188,'Rent lookup by Building'!$C$4)","v":0},{"$f":"SUMIFS(Dollars!$G$2:$G$1188,Dollars!$A$2:$A$1188,'Rent lookup by Building'!$B39,Dollars!$E$2:$E$1188,'Rent lookup by Building'!O$6,Dollars!$C$2:$C$1188,'Rent lookup by Building'!$C$4)","v":0},{"$f":"SUM(M39:O39)","v":0},0,{"$f":"IFERROR(P39/D39,0)","v":0}]
["HIDE","116","116 - State Lottery",{"$f":"SUMIFS('RSF List'!C:C,'RSF List'!B:B,'Rent lookup by Building'!$C$4,'RSF List'!A:A,LEFT('Rent lookup by Building'!C40,3))","v":0},null,{"$f":"SUMIFS(Dollars!$F$2:$F$1188,Dollars!$A$2:$A$1188,'Rent lookup by Building'!$B40,Dollars!$E$2:$E$1188,'Rent lookup by Building'!F$6,Dollars!$C$2:$C$1188,'Rent lookup by Building'!$C$4)","v":0},{"$f":"SUMIFS(Dollars!$F$2:$F$1188,Dollars!$A$2:$A$1188,'Rent lookup by Building'!$B40,Dollars!$E$2:$E$1188,'Rent lookup by Building'!G$6,Dollars!$C$2:$C$1188,'Rent lookup by Building'!$C$4)","v":0},{"$f":"SUMIFS(Dollars!$F$2:$F$1188,Dollars!$A$2:$A$1188,'Rent lookup by Building'!$B40,Dollars!$E$2:$E$1188,'Rent lookup by Building'!H$6,Dollars!$C$2:$C$1188,'Rent lookup by Building'!$C$4)","v":0},0,0,0,null,{"$f":"SUMIFS(Dollars!$G$2:$G$1188,Dollars!$A$2:$A$1188,'Rent lookup by Building'!$B40,Dollars!$E$2:$E$1188,'Rent lookup by Building'!M$6,Dollars!$C$2:$C$1188,'Rent lookup by Building'!$C$4)","v":0},{"$f":"SUMIFS(Dollars!$G$2:$G$1188,Dollars!$A$2:$A$1188,'Rent lookup by Building'!$B40,Dollars!$E$2:$E$1188,'Rent lookup by Building'!N$6,Dollars!$C$2:$C$1188,'Rent lookup by Building'!$C$4)","v":0},{"$f":"SUMIFS(Dollars!$G$2:$G$1188,Dollars!$A$2:$A$1188,'Rent lookup by Building'!$B40,Dollars!$E$2:$E$1188,'Rent lookup by Building'!O$6,Dollars!$C$2:$C$1188,'Rent lookup by Building'!$C$4)","v":0},0,0,0]
["HIDE","117","117 - Washington State Gambling Commission",{"$f":"SUMIFS('RSF List'!C:C,'RSF List'!B:B,'Rent lookup by Building'!$C$4,'RSF List'!A:A,LEFT('Rent lookup by Building'!C41,3))","v":0},null,{"$f":"SUMIFS(Dollars!$F$2:$F$1188,Dollars!$A$2:$A$1188,'Rent lookup by Building'!$B41,Dollars!$E$2:$E$1188,'Rent lookup by Building'!F$6,Dollars!$C$2:$C$1188,'Rent lookup by Building'!$C$4)","v":0},{"$f":"SUMIFS(Dollars!$F$2:$F$1188,Dollars!$A$2:$A$1188,'Rent lookup by Building'!$B41,Dollars!$E$2:$E$1188,'Rent lookup by Building'!G$6,Dollars!$C$2:$C$1188,'Rent lookup by Building'!$C$4)","v":0},{"$f":"SUMIFS(Dollars!$F$2:$F$1188,Dollars!$A$2:$A$1188,'Rent lookup by Building'!$B41,Dollars!$E$2:$E$1188,'Rent lookup by Building'!H$6,Dollars!$C$2:$C$1188,'Rent lookup by Building'!$C$4)","v":0},0,0,0,null,{"$f":"SUMIFS(Dollars!$G$2:$G$1188,Dollars!$A$2:$A$1188,'Rent lookup by Building'!$B41,Dollars!$E$2:$E$1188,'Rent lookup by Building'!M$6,Dollars!$C$2:$C$1188,'Rent lookup by Building'!$C$4)","v":0},{"$f":"SUMIFS(Dollars!$G$2:$G$1188,Dollars!$A$2:$A$1188,'Rent lookup by Building'!$B41,Dollars!$E$2:$E$1188,'Rent lookup by Building'!N$6,Dollars!$C$2:$C$1188,'Rent lookup by Building'!$C$4)","v":0},{"$f":"SUMIFS(Dollars!$G$2:$G$1188,Dollars!$A$2:$A$1188,'Rent lookup by Building'!$B41,Dollars!$E$2:$E$1188,'Rent lookup by Building'!O$6,Dollars!$C$2:$C$1188,'Rent lookup by Building'!$C$4)","v":0},0,0,0]
["HIDE","118","118 - Commission on Hispanic Affairs",{"$f":"SUMIFS('RSF List'!C:C,'RSF List'!B:B,'Rent lookup by Building'!$C$4,'RSF List'!A:A,LEFT('Rent lookup by Building'!C42,3))","v":0},null,{"$f":"SUMIFS(Dollars!$F$2:$F$1188,Dollars!$A$2:$A$1188,'Rent lookup by Building'!$B42,Dollars!$E$2:$E$1188,'Rent lookup by Building'!F$6,Dollars!$C$2:$C$1188,'Rent lookup by Building'!$C$4)","v":0},{"$f":"SUMIFS(Dollars!$F$2:$F$1188,Dollars!$A$2:$A$1188,'Rent lookup by Building'!$B42,Dollars!$E$2:$E$1188,'Rent lookup by Building'!G$6,Dollars!$C$2:$C$1188,'Rent lookup by Building'!$C$4)","v":0},{"$f":"SUMIFS(Dollars!$F$2:$F$1188,Dollars!$A$2:$A$1188,'Rent lookup by Building'!$B42,Dollars!$E$2:$E$1188,'Rent lookup by Building'!H$6,Dollars!$C$2:$C$1188,'Rent lookup by Building'!$C$4)","v":0},0,0,0,null,{"$f":"SUMIFS(Dollars!$G$2:$G$1188,Dollars!$A$2:$A$1188,'Rent lookup by Building'!$B42,Dollars!$E$2:$E$1188,'Rent lookup by Building'!M$6,Dollars!$C$2:$C$1188,'Rent lookup by Building'!$C$4)","v":0},{"$f":"SUMIFS(Dollars!$G$2:$G$1188,Dollars!$A$2:$A$1188,'Rent lookup by Building'!$B42,Dollars!$E$2:$E$1188,'Rent lookup by Building'!N$6,Dollars!$C$2:$C$1188,'Rent lookup by Building'!$C$4)","v":0},{"$f":"SUMIFS(Dollars!$G$2:$G$1188,Dollars!$A$2:$A$1188,'Rent lookup by Building'!$B42,Dollars!$E$2:$E$1188,'Rent lookup by Building'!O$6,Dollars!$C$2:$C$1188,'Rent lookup by Building'!$C$4)","v":0},0,0,0]
["HIDE","119","119 - Commission on African-American Affairs",{"$f":"SUMIFS('RSF List'!C:C,'RSF List'!B:B,'Rent lookup by Building'!$C$4,'RSF List'!A:A,LEFT('Rent lookup by Building'!C43,3))","v":0},null,{"$f":"SUMIFS(Dollars!$F$2:$F$1188,Dollars!$A$2:$A$1188,'Rent lookup by Building'!$B43,Dollars!$E$2:$E$1188,'Rent lookup by Building'!F$6,Dollars!$C$2:$C$1188,'Rent lookup by Building'!$C$4)","v":0},{"$f":"SUMIFS(Dollars!$F$2:$F$1188,Dollars!$A$2:$A$1188,'Rent lookup by Building'!$B43,Dollars!$E$2:$E$1188,'Rent lookup by Building'!G$6,Dollars!$C$2:$C$1188,'Rent lookup by Building'!$C$4)","v":0},{"$f":"SUMIFS(Dollars!$F$2:$F$1188,Dollars!$A$2:$A$1188,'Rent lookup by Building'!$B43,Dollars!$E$2:$E$1188,'Rent lookup by Building'!H$6,Dollars!$C$2:$C$1188,'Rent lookup by Building'!$C$4)","v":0},0,0,0,null,{"$f":"SUMIFS(Dollars!$G$2:$G$1188,Dollars!$A$2:$A$1188,'Rent lookup by Building'!$B43,Dollars!$E$2:$E$1188,'Rent lookup by Building'!M$6,Dollars!$C$2:$C$1188,'Rent lookup by Building'!$C$4)","v":0},{"$f":"SUMIFS(Dollars!$G$2:$G$1188,Dollars!$A$2:$A$1188,'Rent lookup by Building'!$B43,Dollars!$E$2:$E$1188,'Rent lookup by Building'!N$6,Dollars!$C$2:$C$1188,'Rent lookup by Building'!$C$4)","v":0},{"$f":"SUMIFS(Dollars!$G$2:$G$1188,Dollars!$A$2:$A$1188,'Rent lookup by Building'!$B43,Dollars!$E$2:$E$1188,'Rent lookup by Building'!O$6,Dollars!$C$2:$C$1188,'Rent lookup by Building'!$C$4)","v":0},0,0,0]
["HIDE","120","120 - Human Rights Commission",{"$f":"SUMIFS('RSF List'!C:C,'RSF List'!B:B,'Rent lookup by Building'!$C$4,'RSF List'!A:A,LEFT('Rent lookup by Building'!C44,3))","v":0},null,{"$f":"SUMIFS(Dollars!$F$2:$F$1188,Dollars!$A$2:$A$1188,'Rent lookup by Building'!$B44,Dollars!$E$2:$E$1188,'Rent lookup by Building'!F$6,Dollars!$C$2:$C$1188,'Rent lookup by Building'!$C$4)","v":0},{"$f":"SUMIFS(Dollars!$F$2:$F$1188,Dollars!$A$2:$A$1188,'Rent lookup by Building'!$B44,Dollars!$E$2:$E$1188,'Rent lookup by Building'!G$6,Dollars!$C$2:$C$1188,'Rent lookup by Building'!$C$4)","v":0},{"$f":"SUMIFS(Dollars!$F$2:$F$1188,Dollars!$A$2:$A$1188,'Rent lookup by Building'!$B44,Dollars!$E$2:$E$1188,'Rent lookup by Building'!H$6,Dollars!$C$2:$C$1188,'Rent lookup by Building'!$C$4)","v":0},0,0,0,null,{"$f":"SUMIFS(Dollars!$G$2:$G$1188,Dollars!$A$2:$A$1188,'Rent lookup by Building'!$B44,Dollars!$E$2:$E$1188,'Rent lookup by Building'!M$6,Dollars!$C$2:$C$1188,'Rent lookup by Building'!$C$4)","v":0},{"$f":"SUMIFS(Dollars!$G$2:$G$1188,Dollars!$A$2:$A$1188,'Rent lookup by Building'!$B44,Dollars!$E$2:$E$1188,'Rent lookup by Building'!N$6,Dollars!$C$2:$C$1188,'Rent lookup by Building'!$C$4)","v":0},{"$f":"SUMIFS(Dollars!$G$2:$G$1188,Dollars!$A$2:$A$1188,'Rent lookup by Building'!$B44,Dollars!$E$2:$E$1188,'Rent lookup by Building'!O$6,Dollars!$C$2:$C$1188,'Rent lookup by Building'!$C$4)","v":0},0,0,0]
["HIDE","124","124 - Department of Retirement Systems",{"$f":"SUMIFS('RSF List'!C:C,'RSF List'!B:B,'Rent lookup by Building'!$C$4,'RSF List'!A:A,LEFT('Rent lookup by Building'!C45,3))","v":0},null,{"$f":"SUMIFS(Dollars!$F$2:$F$1188,Dollars!$A$2:$A$1188,'Rent lookup by Building'!$B45,Dollars!$E$2:$E$1188,'Rent lookup by Building'!F$6,Dollars!$C$2:$C$1188,'Rent lookup by Building'!$C$4)","v":0},{"$f":"SUMIFS(Dollars!$F$2:$F$1188,Dollars!$A$2:$A$1188,'Rent lookup by Building'!$B45,Dollars!$E$2:$E$1188,'Rent lookup by Building'!G$6,Dollars!$C$2:$C$1188,'Rent lookup by Building'!$C$4)","v":0},{"$f":"SUMIFS(Dollars!$F$2:$F$1188,Dollars!$A$2:$A$1188,'Rent lookup by Building'!$B45,Dollars!$E$2:$E$1188,'Rent lookup by Building'!H$6,Dollars!$C$2:$C$1188,'Rent lookup by Building'!$C$4)","v":0},0,0,0,null,{"$f":"SUMIFS(Dollars!$G$2:$G$1188,Dollars!$A$2:$A$1188,'Rent lookup by Building'!$B45,Dollars!$E$2:$E$1188,'Rent lookup by Building'!M$6,Dollars!$C$2:$C$1188,'Rent lookup by Building'!$C$4)","v":0},{"$f":"SUMIFS(Dollars!$G$2:$G$1188,Dollars!$A$2:$A$1188,'Rent lookup by Building'!$B45,Dollars!$E$2:$E$1188,'Rent lookup by Building'!N$6,Dollars!$C$2:$C$1188,'Rent lookup by Building'!$C$4)","v":0},{"$f":"SUMIFS(Dollars!$G$2:$G$1188,Dollars!$A$2:$A$1188,'Rent lookup by Building'!$B45,Dollars!$E$2:$E$1188,'Rent lookup by Building'!O$6,Dollars!$C$2:$C$1188,'Rent lookup by Building'!$C$4)","v":0},0,0,0]
["HIDE","126","126 - State Investment Board",{"$f":"SUMIFS('RSF List'!C:C,'RSF List'!B:B,'Rent lookup by Building'!$C$4,'RSF List'!A:A,LEFT('Rent lookup by Building'!C46,3))","v":0},null,{"$f":"SUMIFS(Dollars!$F$2:$F$1188,Dollars!$A$2:$A$1188,'Rent lookup by Building'!$B46,Dollars!$E$2:$E$1188,'Rent lookup by Building'!F$6,Dollars!$C$2:$C$1188,'Rent lookup by Building'!$C$4)","v":0},{"$f":"SUMIFS(Dollars!$F$2:$F$1188,Dollars!$A$2:$A$1188,'Rent lookup by Building'!$B46,Dollars!$E$2:$E$1188,'Rent lookup by Building'!G$6,Dollars!$C$2:$C$1188,'Rent lookup by Building'!$C$4)","v":0},{"$f":"SUMIFS(Dollars!$F$2:$F$1188,Dollars!$A$2:$A$1188,'Rent lookup by Building'!$B46,Dollars!$E$2:$E$1188,'Rent lookup by Building'!H$6,Dollars!$C$2:$C$1188,'Rent lookup by Building'!$C$4)","v":0},0,0,0,null,{"$f":"SUMIFS(Dollars!$G$2:$G$1188,Dollars!$A$2:$A$1188,'Rent lookup by Building'!$B46,Dollars!$E$2:$E$1188,'Rent lookup by Building'!M$6,Dollars!$C$2:$C$1188,'Rent lookup by Building'!$C$4)","v":0},{"$f":"SUMIFS(Dollars!$G$2:$G$1188,Dollars!$A$2:$A$1188,'Rent lookup by Building'!$B46,Dollars!$E$2:$E$1188,'Rent lookup by Building'!N$6,Dollars!$C$2:$C$1188,'Rent lookup by Building'!$C$4)","v":0},{"$f":"SUMIFS(Dollars!$G$2:$G$1188,Dollars!$A$2:$A$1188,'Rent lookup by Building'!$B46,Dollars!$E$2:$E$1188,'Rent lookup by Building'!O$6,Dollars!$C$2:$C$1188,'Rent lookup by Building'!$C$4)","v":0},0,0,0]
["HIDE","140","140 - Department of Revenue",{"$f":"SUMIFS('RSF List'!C:C,'RSF List'!B:B,'Rent lookup by Building'!$C$4,'RSF List'!A:A,LEFT('Rent lookup by Building'!C47,3))","v":0},null,{"$f":"SUMIFS(Dollars!$F$2:$F$1188,Dollars!$A$2:$A$1188,'Rent lookup by Building'!$B47,Dollars!$E$2:$E$1188,'Rent lookup by Building'!F$6,Dollars!$C$2:$C$1188,'Rent lookup by Building'!$C$4)","v":0},{"$f":"SUMIFS(Dollars!$F$2:$F$1188,Dollars!$A$2:$A$1188,'Rent lookup by Building'!$B47,Dollars!$E$2:$E$1188,'Rent lookup by Building'!G$6,Dollars!$C$2:$C$1188,'Rent lookup by Building'!$C$4)","v":0},{"$f":"SUMIFS(Dollars!$F$2:$F$1188,Dollars!$A$2:$A$1188,'Rent lookup by Building'!$B47,Dollars!$E$2:$E$1188,'Rent lookup by Building'!H$6,Dollars!$C$2:$C$1188,'Rent lookup by Building'!$C$4)","v":0},0,0,0,null,{"$f":"SUMIFS(Dollars!$G$2:$G$1188,Dollars!$A$2:$A$1188,'Rent lookup by Building'!$B47,Dollars!$E$2:$E$1188,'Rent lookup by Building'!M$6,Dollars!$C$2:$C$1188,'Rent lookup by Building'!$C$4)","v":0},{"$f":"SUMIFS(Dollars!$G$2:$G$1188,Dollars!$A$2:$A$1188,'Rent lookup by Building'!$B47,Dollars!$E$2:$E$1188,'Rent lookup by Building'!N$6,Dollars!$C$2:$C$1188,'Rent lookup by Building'!$C$4)","v":0},{"$f":"SUMIFS(Dollars!$G$2:$G$1188,Dollars!$A$2:$A$1188,'Rent lookup by Building'!$B47,Dollars!$E$2:$E$1188,'Rent lookup by Building'!O$6,Dollars!$C$2:$C$1188,'Rent lookup by Building'!$C$4)","v":0},0,0,0]
["HIDE","142","142 - Board of Tax Appeals",{"$f":"SUMIFS('RSF List'!C:C,'RSF List'!B:B,'Rent lookup by Building'!$C$4,'RSF List'!A:A,LEFT('Rent lookup by Building'!C48,3))","v":0},null,{"$f":"SUMIFS(Dollars!$F$2:$F$1188,Dollars!$A$2:$A$1188,'Rent lookup by Building'!$B48,Dollars!$E$2:$E$1188,'Rent lookup by Building'!F$6,Dollars!$C$2:$C$1188,'Rent lookup by Building'!$C$4)","v":0},{"$f":"SUMIFS(Dollars!$F$2:$F$1188,Dollars!$A$2:$A$1188,'Rent lookup by Building'!$B48,Dollars!$E$2:$E$1188,'Rent lookup by Building'!G$6,Dollars!$C$2:$C$1188,'Rent lookup by Building'!$C$4)","v":0},{"$f":"SUMIFS(Dollars!$F$2:$F$1188,Dollars!$A$2:$A$1188,'Rent lookup by Building'!$B48,Dollars!$E$2:$E$1188,'Rent lookup by Building'!H$6,Dollars!$C$2:$C$1188,'Rent lookup by Building'!$C$4)","v":0},0,0,0,null,{"$f":"SUMIFS(Dollars!$G$2:$G$1188,Dollars!$A$2:$A$1188,'Rent lookup by Building'!$B48,Dollars!$E$2:$E$1188,'Rent lookup by Building'!M$6,Dollars!$C$2:$C$1188,'Rent lookup by Building'!$C$4)","v":0},{"$f":"SUMIFS(Dollars!$G$2:$G$1188,Dollars!$A$2:$A$1188,'Rent lookup by Building'!$B48,Dollars!$E$2:$E$1188,'Rent lookup by Building'!N$6,Dollars!$C$2:$C$1188,'Rent lookup by Building'!$C$4)","v":0},{"$f":"SUMIFS(Dollars!$G$2:$G$1188,Dollars!$A$2:$A$1188,'Rent lookup by Building'!$B48,Dollars!$E$2:$E$1188,'Rent lookup by Building'!O$6,Dollars!$C$2:$C$1188,'Rent lookup by Building'!$C$4)","v":0},0,0,0]
["HIDE","147","147 - Office of Minority and Women's Business Enterprises",{"$f":"SUMIFS('RSF List'!C:C,'RSF List'!B:B,'Rent lookup by Building'!$C$4,'RSF List'!A:A,LEFT('Rent lookup by Building'!C49,3))","v":0},null,{"$f":"SUMIFS(Dollars!$F$2:$F$1188,Dollars!$A$2:$A$1188,'Rent lookup by Building'!$B49,Dollars!$E$2:$E$1188,'Rent lookup by Building'!F$6,Dollars!$C$2:$C$1188,'Rent lookup by Building'!$C$4)","v":0},{"$f":"SUMIFS(Dollars!$F$2:$F$1188,Dollars!$A$2:$A$1188,'Rent lookup by Building'!$B49,Dollars!$E$2:$E$1188,'Rent lookup by Building'!G$6,Dollars!$C$2:$C$1188,'Rent lookup by Building'!$C$4)","v":0},{"$f":"SUMIFS(Dollars!$F$2:$F$1188,Dollars!$A$2:$A$1188,'Rent lookup by Building'!$B49,Dollars!$E$2:$E$1188,'Rent lookup by Building'!H$6,Dollars!$C$2:$C$1188,'Rent lookup by Building'!$C$4)","v":0},0,0,0,null,{"$f":"SUMIFS(Dollars!$G$2:$G$1188,Dollars!$A$2:$A$1188,'Rent lookup by Building'!$B49,Dollars!$E$2:$E$1188,'Rent lookup by Building'!M$6,Dollars!$C$2:$C$1188,'Rent lookup by Building'!$C$4)","v":0},{"$f":"SUMIFS(Dollars!$G$2:$G$1188,Dollars!$A$2:$A$1188,'Rent lookup by Building'!$B49,Dollars!$E$2:$E$1188,'Rent lookup by Building'!N$6,Dollars!$C$2:$C$1188,'Rent lookup by Building'!$C$4)","v":0},{"$f":"SUMIFS(Dollars!$G$2:$G$1188,Dollars!$A$2:$A$1188,'Rent lookup by Building'!$B49,Dollars!$E$2:$E$1188,'Rent lookup by Building'!O$6,Dollars!$C$2:$C$1188,'Rent lookup by Building'!$C$4)","v":0},0,0,0]
["HIDE","160","160 - Office of Insurance Commissioner",{"$f":"SUMIFS('RSF List'!C:C,'RSF List'!B:B,'Rent lookup by Building'!$C$4,'RSF List'!A:A,LEFT('Rent lookup by Building'!C50,3))","v":0},null,{"$f":"SUMIFS(Dollars!$F$2:$F$1188,Dollars!$A$2:$A$1188,'Rent lookup by Building'!$B50,Dollars!$E$2:$E$1188,'Rent lookup by Building'!F$6,Dollars!$C$2:$C$1188,'Rent lookup by Building'!$C$4)","v":0},{"$f":"SUMIFS(Dollars!$F$2:$F$1188,Dollars!$A$2:$A$1188,'Rent lookup by Building'!$B50,Dollars!$E$2:$E$1188,'Rent lookup by Building'!G$6,Dollars!$C$2:$C$1188,'Rent lookup by Building'!$C$4)","v":0},{"$f":"SUMIFS(Dollars!$F$2:$F$1188,Dollars!$A$2:$A$1188,'Rent lookup by Building'!$B50,Dollars!$E$2:$E$1188,'Rent lookup by Building'!H$6,Dollars!$C$2:$C$1188,'Rent lookup by Building'!$C$4)","v":0},0,0,0,null,{"$f":"SUMIFS(Dollars!$G$2:$G$1188,Dollars!$A$2:$A$1188,'Rent lookup by Building'!$B50,Dollars!$E$2:$E$1188,'Rent lookup by Building'!M$6,Dollars!$C$2:$C$1188,'Rent lookup by Building'!$C$4)","v":0},{"$f":"SUMIFS(Dollars!$G$2:$G$1188,Dollars!$A$2:$A$1188,'Rent lookup by Building'!$B50,Dollars!$E$2:$E$1188,'Rent lookup by Building'!N$6,Dollars!$C$2:$C$1188,'Rent lookup by Building'!$C$4)","v":0},{"$f":"SUMIFS(Dollars!$G$2:$G$1188,Dollars!$A$2:$A$1188,'Rent lookup by Building'!$B50,Dollars!$E$2:$E$1188,'Rent lookup by Building'!O$6,Dollars!$C$2:$C$1188,'Rent lookup by Building'!$C$4)","v":0},0,0,0]
["HIDE","163","163 - Consolidated Technology Services",{"$f":"SUMIFS('RSF List'!C:C,'RSF List'!B:B,'Rent lookup by Building'!$C$4,'RSF List'!A:A,LEFT('Rent lookup by Building'!C51,3))","v":0},null,{"$f":"SUMIFS(Dollars!$F$2:$F$1188,Dollars!$A$2:$A$1188,'Rent lookup by Building'!$B51,Dollars!$E$2:$E$1188,'Rent lookup by Building'!F$6,Dollars!$C$2:$C$1188,'Rent lookup by Building'!$C$4)","v":0},{"$f":"SUMIFS(Dollars!$F$2:$F$1188,Dollars!$A$2:$A$1188,'Rent lookup by Building'!$B51,Dollars!$E$2:$E$1188,'Rent lookup by Building'!G$6,Dollars!$C$2:$C$1188,'Rent lookup by Building'!$C$4)","v":0},{"$f":"SUMIFS(Dollars!$F$2:$F$1188,Dollars!$A$2:$A$1188,'Rent lookup by Building'!$B51,Dollars!$E$2:$E$1188,'Rent lookup by Building'!H$6,Dollars!$C$2:$C$1188,'Rent lookup by Building'!$C$4)","v":0},0,0,0,null,{"$f":"SUMIFS(Dollars!$G$2:$G$1188,Dollars!$A$2:$A$1188,'Rent lookup by Building'!$B51,Dollars!$E$2:$E$1188,'Rent lookup by Building'!M$6,Dollars!$C$2:$C$1188,'Rent lookup by Building'!$C$4)","v":0},{"$f":"SUMIFS(Dollars!$G$2:$G$1188,Dollars!$A$2:$A$1188,'Rent lookup by Building'!$B51,Dollars!$E$2:$E$1188,'Rent lookup by Building'!N$6,Dollars!$C$2:$C$1188,'Rent lookup by Building'!$C$4)","v":0},{"$f":"SUMIFS(Dollars!$G$2:$G$1188,Dollars!$A$2:$A$1188,'Rent lookup by Building'!$B51,Dollars!$E$2:$E$1188,'Rent lookup by Building'!O$6,Dollars!$C$2:$C$1188,'Rent lookup by Building'!$C$4)","v":0},0,0,0]
["HIDE","165","165 - Board of Accountancy",{"$f":"SUMIFS('RSF List'!C:C,'RSF List'!B:B,'Rent lookup by Building'!$C$4,'RSF List'!A:A,LEFT('Rent lookup by Building'!C52,3))","v":0},null,{"$f":"SUMIFS(Dollars!$F$2:$F$1188,Dollars!$A$2:$A$1188,'Rent lookup by Building'!$B52,Dollars!$E$2:$E$1188,'Rent lookup by Building'!F$6,Dollars!$C$2:$C$1188,'Rent lookup by Building'!$C$4)","v":0},{"$f":"SUMIFS(Dollars!$F$2:$F$1188,Dollars!$A$2:$A$1188,'Rent lookup by Building'!$B52,Dollars!$E$2:$E$1188,'Rent lookup by Building'!G$6,Dollars!$C$2:$C$1188,'Rent lookup by Building'!$C$4)","v":0},{"$f":"SUMIFS(Dollars!$F$2:$F$1188,Dollars!$A$2:$A$1188,'Rent lookup by Building'!$B52,Dollars!$E$2:$E$1188,'Rent lookup by Building'!H$6,Dollars!$C$2:$C$1188,'Rent lookup by Building'!$C$4)","v":0},0,0,0,null,{"$f":"SUMIFS(Dollars!$G$2:$G$1188,Dollars!$A$2:$A$1188,'Rent lookup by Building'!$B52,Dollars!$E$2:$E$1188,'Rent lookup by Building'!M$6,Dollars!$C$2:$C$1188,'Rent lookup by Building'!$C$4)","v":0},{"$f":"SUMIFS(Dollars!$G$2:$G$1188,Dollars!$A$2:$A$1188,'Rent lookup by Building'!$B52,Dollars!$E$2:$E$1188,'Rent lookup by Building'!N$6,Dollars!$C$2:$C$1188,'Rent lookup by Building'!$C$4)","v":0},{"$f":"SUMIFS(Dollars!$G$2:$G$1188,Dollars!$A$2:$A$1188,'Rent lookup by Building'!$B52,Dollars!$E$2:$E$1188,'Rent lookup by Building'!O$6,Dollars!$C$2:$C$1188,'Rent lookup by Building'!$C$4)","v":0},0,0,0]
["HIDE","166","166 - Brd Prof Eng Land Surveyors",{"$f":"SUMIFS('RSF List'!C:C,'RSF List'!B:B,'Rent lookup by Building'!$C$4,'RSF List'!A:A,LEFT('Rent lookup by Building'!C53,3))","v":0},null,{"$f":"SUMIFS(Dollars!$F$2:$F$1188,Dollars!$A$2:$A$1188,'Rent lookup by Building'!$B53,Dollars!$E$2:$E$1188,'Rent lookup by Building'!F$6,Dollars!$C$2:$C$1188,'Rent lookup by Building'!$C$4)","v":0},{"$f":"SUMIFS(Dollars!$F$2:$F$1188,Dollars!$A$2:$A$1188,'Rent lookup by Building'!$B53,Dollars!$E$2:$E$1188,'Rent lookup by Building'!G$6,Dollars!$C$2:$C$1188,'Rent lookup by Building'!$C$4)","v":0},{"$f":"SUMIFS(Dollars!$F$2:$F$1188,Dollars!$A$2:$A$1188,'Rent lookup by Building'!$B53,Dollars!$E$2:$E$1188,'Rent lookup by Building'!H$6,Dollars!$C$2:$C$1188,'Rent lookup by Building'!$C$4)","v":0},0,0,0,null,{"$f":"SUMIFS(Dollars!$G$2:$G$1188,Dollars!$A$2:$A$1188,'Rent lookup by Building'!$B53,Dollars!$E$2:$E$1188,'Rent lookup by Building'!M$6,Dollars!$C$2:$C$1188,'Rent lookup by Building'!$C$4)","v":0},{"$f":"SUMIFS(Dollars!$G$2:$G$1188,Dollars!$A$2:$A$1188,'Rent lookup by Building'!$B53,Dollars!$E$2:$E$1188,'Rent lookup by Building'!N$6,Dollars!$C$2:$C$1188,'Rent lookup by Building'!$C$4)","v":0},{"$f":"SUMIFS(Dollars!$G$2:$G$1188,Dollars!$A$2:$A$1188,'Rent lookup by Building'!$B53,Dollars!$E$2:$E$1188,'Rent lookup by Building'!O$6,Dollars!$C$2:$C$1188,'Rent lookup by Building'!$C$4)","v":0},0,0,0]
["HIDE","167","167 - Forensic Investigations Council",{"$f":"SUMIFS('RSF List'!C:C,'RSF List'!B:B,'Rent lookup by Building'!$C$4,'RSF List'!A:A,LEFT('Rent lookup by Building'!C54,3))","v":0},null,{"$f":"SUMIFS(Dollars!$F$2:$F$1188,Dollars!$A$2:$A$1188,'Rent lookup by Building'!$B54,Dollars!$E$2:$E$1188,'Rent lookup by Building'!F$6,Dollars!$C$2:$C$1188,'Rent lookup by Building'!$C$4)","v":0},{"$f":"SUMIFS(Dollars!$F$2:$F$1188,Dollars!$A$2:$A$1188,'Rent lookup by Building'!$B54,Dollars!$E$2:$E$1188,'Rent lookup by Building'!G$6,Dollars!$C$2:$C$1188,'Rent lookup by Building'!$C$4)","v":0},{"$f":"SUMIFS(Dollars!$F$2:$F$1188,Dollars!$A$2:$A$1188,'Rent lookup by Building'!$B54,Dollars!$E$2:$E$1188,'Rent lookup by Building'!H$6,Dollars!$C$2:$C$1188,'Rent lookup by Building'!$C$4)","v":0},0,0,0,null,{"$f":"SUMIFS(Dollars!$G$2:$G$1188,Dollars!$A$2:$A$1188,'Rent lookup by Building'!$B54,Dollars!$E$2:$E$1188,'Rent lookup by Building'!M$6,Dollars!$C$2:$C$1188,'Rent lookup by Building'!$C$4)","v":0},{"$f":"SUMIFS(Dollars!$G$2:$G$1188,Dollars!$A$2:$A$1188,'Rent lookup by Building'!$B54,Dollars!$E$2:$E$1188,'Rent lookup by Building'!N$6,Dollars!$C$2:$C$1188,'Rent lookup by Building'!$C$4)","v":0},{"$f":"SUMIFS(Dollars!$G$2:$G$1188,Dollars!$A$2:$A$1188,'Rent lookup by Building'!$B54,Dollars!$E$2:$E$1188,'Rent lookup by Building'!O$6,Dollars!$C$2:$C$1188,'Rent lookup by Building'!$C$4)","v":0},0,0,0]
["HIDE","179","179 - Department of Enterprise Services",{"$f":"SUMIFS('RSF List'!C:C,'RSF List'!B:B,'Rent lookup by Building'!$C$4,'RSF List'!A:A,LEFT('Rent lookup by Building'!C55,3))","v":0},null,{"$f":"SUMIFS(Dollars!$F$2:$F$1188,Dollars!$A$2:$A$1188,'Rent lookup by Building'!$B55,Dollars!$E$2:$E$1188,'Rent lookup by Building'!F$6,Dollars!$C$2:$C$1188,'Rent lookup by Building'!$C$4)","v":0},{"$f":"SUMIFS(Dollars!$F$2:$F$1188,Dollars!$A$2:$A$1188,'Rent lookup by Building'!$B55,Dollars!$E$2:$E$1188,'Rent lookup by Building'!G$6,Dollars!$C$2:$C$1188,'Rent lookup by Building'!$C$4)","v":0},{"$f":"SUMIFS(Dollars!$F$2:$F$1188,Dollars!$A$2:$A$1188,'Rent lookup by Building'!$B55,Dollars!$E$2:$E$1188,'Rent lookup by Building'!H$6,Dollars!$C$2:$C$1188,'Rent lookup by Building'!$C$4)","v":0},0,0,0,null,{"$f":"SUMIFS(Dollars!$G$2:$G$1188,Dollars!$A$2:$A$1188,'Rent lookup by Building'!$B55,Dollars!$E$2:$E$1188,'Rent lookup by Building'!M$6,Dollars!$C$2:$C$1188,'Rent lookup by Building'!$C$4)","v":0},{"$f":"SUMIFS(Dollars!$G$2:$G$1188,Dollars!$A$2:$A$1188,'Rent lookup by Building'!$B55,Dollars!$E$2:$E$1188,'Rent lookup by Building'!N$6,Dollars!$C$2:$C$1188,'Rent lookup by Building'!$C$4)","v":0},{"$f":"SUMIFS(Dollars!$G$2:$G$1188,Dollars!$A$2:$A$1188,'Rent lookup by Building'!$B55,Dollars!$E$2:$E$1188,'Rent lookup by Building'!O$6,Dollars!$C$2:$C$1188,'Rent lookup by Building'!$C$4)","v":0},0,0,0]
["HIDE","185","185 - Horse Racing Commission",{"$f":"SUMIFS('RSF List'!C:C,'RSF List'!B:B,'Rent lookup by Building'!$C$4,'RSF List'!A:A,LEFT('Rent lookup by Building'!C56,3))","v":0},null,{"$f":"SUMIFS(Dollars!$F$2:$F$1188,Dollars!$A$2:$A$1188,'Rent lookup by Building'!$B56,Dollars!$E$2:$E$1188,'Rent lookup by Building'!F$6,Dollars!$C$2:$C$1188,'Rent lookup by Building'!$C$4)","v":0},{"$f":"SUMIFS(Dollars!$F$2:$F$1188,Dollars!$A$2:$A$1188,'Rent lookup by Building'!$B56,Dollars!$E$2:$E$1188,'Rent lookup by Building'!G$6,Dollars!$C$2:$C$1188,'Rent lookup by Building'!$C$4)","v":0},{"$f":"SUMIFS(Dollars!$F$2:$F$1188,Dollars!$A$2:$A$1188,'Rent lookup by Building'!$B56,Dollars!$E$2:$E$1188,'Rent lookup by Building'!H$6,Dollars!$C$2:$C$1188,'Rent lookup by Building'!$C$4)","v":0},0,0,0,null,{"$f":"SUMIFS(Dollars!$G$2:$G$1188,Dollars!$A$2:$A$1188,'Rent lookup by Building'!$B56,Dollars!$E$2:$E$1188,'Rent lookup by Building'!M$6,Dollars!$C$2:$C$1188,'Rent lookup by Building'!$C$4)","v":0},{"$f":"SUMIFS(Dollars!$G$2:$G$1188,Dollars!$A$2:$A$1188,'Rent lookup by Building'!$B56,Dollars!$E$2:$E$1188,'Rent lookup by Building'!N$6,Dollars!$C$2:$C$1188,'Rent lookup by Building'!$C$4)","v":0},{"$f":"SUMIFS(Dollars!$G$2:$G$1188,Dollars!$A$2:$A$1188,'Rent lookup by Building'!$B56,Dollars!$E$2:$E$1188,'Rent lookup by Building'!O$6,Dollars!$C$2:$C$1188,'Rent lookup by Building'!$C$4)","v":0},0,0,0]
["HIDE","190","190 - Board of Industrial Insurance Appeals",{"$f":"SUMIFS('RSF List'!C:C,'RSF List'!B:B,'Rent lookup by Building'!$C$4,'RSF List'!A:A,LEFT('Rent lookup by Building'!C57,3))","v":0},null,{"$f":"SUMIFS(Dollars!$F$2:$F$1188,Dollars!$A$2:$A$1188,'Rent lookup by Building'!$B57,Dollars!$E$2:$E$1188,'Rent lookup by Building'!F$6,Dollars!$C$2:$C$1188,'Rent lookup by Building'!$C$4)","v":0},{"$f":"SUMIFS(Dollars!$F$2:$F$1188,Dollars!$A$2:$A$1188,'Rent lookup by Building'!$B57,Dollars!$E$2:$E$1188,'Rent lookup by Building'!G$6,Dollars!$C$2:$C$1188,'Rent lookup by Building'!$C$4)","v":0},{"$f":"SUMIFS(Dollars!$F$2:$F$1188,Dollars!$A$2:$A$1188,'Rent lookup by Building'!$B57,Dollars!$E$2:$E$1188,'Rent lookup by Building'!H$6,Dollars!$C$2:$C$1188,'Rent lookup by Building'!$C$4)","v":0},0,0,0,null,{"$f":"SUMIFS(Dollars!$G$2:$G$1188,Dollars!$A$2:$A$1188,'Rent lookup by Building'!$B57,Dollars!$E$2:$E$1188,'Rent lookup by Building'!M$6,Dollars!$C$2:$C$1188,'Rent lookup by Building'!$C$4)","v":0},{"$f":"SUMIFS(Dollars!$G$2:$G$1188,Dollars!$A$2:$A$1188,'Rent lookup by Building'!$B57,Dollars!$E$2:$E$1188,'Rent lookup by Building'!N$6,Dollars!$C$2:$C$1188,'Rent lookup by Building'!$C$4)","v":0},{"$f":"SUMIFS(Dollars!$G$2:$G$1188,Dollars!$A$2:$A$1188,'Rent lookup by Building'!$B57,Dollars!$E$2:$E$1188,'Rent lookup by Building'!O$6,Dollars!$C$2:$C$1188,'Rent lookup by Building'!$C$4)","v":0},0,0,0]
["HIDE","195","195 - Liquor Control Board",{"$f":"SUMIFS('RSF List'!C:C,'RSF List'!B:B,'Rent lookup by Building'!$C$4,'RSF List'!A:A,LEFT('Rent lookup by Building'!C58,3))","v":0},null,{"$f":"SUMIFS(Dollars!$F$2:$F$1188,Dollars!$A$2:$A$1188,'Rent lookup by Building'!$B58,Dollars!$E$2:$E$1188,'Rent lookup by Building'!F$6,Dollars!$C$2:$C$1188,'Rent lookup by Building'!$C$4)","v":0},{"$f":"SUMIFS(Dollars!$F$2:$F$1188,Dollars!$A$2:$A$1188,'Rent lookup by Building'!$B58,Dollars!$E$2:$E$1188,'Rent lookup by Building'!G$6,Dollars!$C$2:$C$1188,'Rent lookup by Building'!$C$4)","v":0},{"$f":"SUMIFS(Dollars!$F$2:$F$1188,Dollars!$A$2:$A$1188,'Rent lookup by Building'!$B58,Dollars!$E$2:$E$1188,'Rent lookup by Building'!H$6,Dollars!$C$2:$C$1188,'Rent lookup by Building'!$C$4)","v":0},0,0,0,null,{"$f":"SUMIFS(Dollars!$G$2:$G$1188,Dollars!$A$2:$A$1188,'Rent lookup by Building'!$B58,Dollars!$E$2:$E$1188,'Rent lookup by Building'!M$6,Dollars!$C$2:$C$1188,'Rent lookup by Building'!$C$4)","v":0},{"$f":"SUMIFS(Dollars!$G$2:$G$1188,Dollars!$A$2:$A$1188,'Rent lookup by Building'!$B58,Dollars!$E$2:$E$1188,'Rent lookup by Building'!N$6,Dollars!$C$2:$C$1188,'Rent lookup by Building'!$C$4)","v":0},{"$f":"SUMIFS(Dollars!$G$2:$G$1188,Dollars!$A$2:$A$1188,'Rent lookup by Building'!$B58,Dollars!$E$2:$E$1188,'Rent lookup by Building'!O$6,Dollars!$C$2:$C$1188,'Rent lookup by Building'!$C$4)","v":0},0,0,0]
["HIDE","205","205 - Board of Pilotage Commissioners",{"$f":"SUMIFS('RSF List'!C:C,'RSF List'!B:B,'Rent lookup by Building'!$C$4,'RSF List'!A:A,LEFT('Rent lookup by Building'!C59,3))","v":0},null,{"$f":"SUMIFS(Dollars!$F$2:$F$1188,Dollars!$A$2:$A$1188,'Rent lookup by Building'!$B59,Dollars!$E$2:$E$1188,'Rent lookup by Building'!F$6,Dollars!$C$2:$C$1188,'Rent lookup by Building'!$C$4)","v":0},{"$f":"SUMIFS(Dollars!$F$2:$F$1188,Dollars!$A$2:$A$1188,'Rent lookup by Building'!$B59,Dollars!$E$2:$E$1188,'Rent lookup by Building'!G$6,Dollars!$C$2:$C$1188,'Rent lookup by Building'!$C$4)","v":0},{"$f":"SUMIFS(Dollars!$F$2:$F$1188,Dollars!$A$2:$A$1188,'Rent lookup by Building'!$B59,Dollars!$E$2:$E$1188,'Rent lookup by Building'!H$6,Dollars!$C$2:$C$1188,'Rent lookup by Building'!$C$4)","v":0},0,0,0,null,{"$f":"SUMIFS(Dollars!$G$2:$G$1188,Dollars!$A$2:$A$1188,'Rent lookup by Building'!$B59,Dollars!$E$2:$E$1188,'Rent lookup by Building'!M$6,Dollars!$C$2:$C$1188,'Rent lookup by Building'!$C$4)","v":0},{"$f":"SUMIFS(Dollars!$G$2:$G$1188,Dollars!$A$2:$A$1188,'Rent lookup by Building'!$B59,Dollars!$E$2:$E$1188,'Rent lookup by Building'!N$6,Dollars!$C$2:$C$1188,'Rent lookup by Building'!$C$4)","v":0},{"$f":"SUMIFS(Dollars!$G$2:$G$1188,Dollars!$A$2:$A$1188,'Rent lookup by Building'!$B59,Dollars!$E$2:$E$1188,'Rent lookup by Building'!O$6,Dollars!$C$2:$C$1188,'Rent lookup by Building'!$C$4)","v":0},0,0,0]
["HIDE","215","215 - Utilities and Transportation Commission",{"$f":"SUMIFS('RSF List'!C:C,'RSF List'!B:B,'Rent lookup by Building'!$C$4,'RSF List'!A:A,LEFT('Rent lookup by Building'!C60,3))","v":0},null,{"$f":"SUMIFS(Dollars!$F$2:$F$1188,Dollars!$A$2:$A$1188,'Rent lookup by Building'!$B60,Dollars!$E$2:$E$1188,'Rent lookup by Building'!F$6,Dollars!$C$2:$C$1188,'Rent lookup by Building'!$C$4)","v":0},{"$f":"SUMIFS(Dollars!$F$2:$F$1188,Dollars!$A$2:$A$1188,'Rent lookup by Building'!$B60,Dollars!$E$2:$E$1188,'Rent lookup by Building'!G$6,Dollars!$C$2:$C$1188,'Rent lookup by Building'!$C$4)","v":0},{"$f":"SUMIFS(Dollars!$F$2:$F$1188,Dollars!$A$2:$A$1188,'Rent lookup by Building'!$B60,Dollars!$E$2:$E$1188,'Rent lookup by Building'!H$6,Dollars!$C$2:$C$1188,'Rent lookup by Building'!$C$4)","v":0},0,0,0,null,{"$f":"SUMIFS(Dollars!$G$2:$G$1188,Dollars!$A$2:$A$1188,'Rent lookup by Building'!$B60,Dollars!$E$2:$E$1188,'Rent lookup by Building'!M$6,Dollars!$C$2:$C$1188,'Rent lookup by Building'!$C$4)","v":0},{"$f":"SUMIFS(Dollars!$G$2:$G$1188,Dollars!$A$2:$A$1188,'Rent lookup by Building'!$B60,Dollars!$E$2:$E$1188,'Rent lookup by Building'!N$6,Dollars!$C$2:$C$1188,'Rent lookup by Building'!$C$4)","v":0},{"$f":"SUMIFS(Dollars!$G$2:$G$1188,Dollars!$A$2:$A$1188,'Rent lookup by Building'!$B60,Dollars!$E$2:$E$1188,'Rent lookup by Building'!O$6,Dollars!$C$2:$C$1188,'Rent lookup by Building'!$C$4)","v":0},0,0,0]
["HIDE","220","220 - Board for Volunteer Firefighters and Reserve Officers",{"$f":"SUMIFS('RSF List'!C:C,'RSF List'!B:B,'Rent lookup by Building'!$C$4,'RSF List'!A:A,LEFT('Rent lookup by Building'!C61,3))","v":0},null,{"$f":"SUMIFS(Dollars!$F$2:$F$1188,Dollars!$A$2:$A$1188,'Rent lookup by Building'!$B61,Dollars!$E$2:$E$1188,'Rent lookup by Building'!F$6,Dollars!$C$2:$C$1188,'Rent lookup by Building'!$C$4)","v":0},{"$f":"SUMIFS(Dollars!$F$2:$F$1188,Dollars!$A$2:$A$1188,'Rent lookup by Building'!$B61,Dollars!$E$2:$E$1188,'Rent lookup by Building'!G$6,Dollars!$C$2:$C$1188,'Rent lookup by Building'!$C$4)","v":0},{"$f":"SUMIFS(Dollars!$F$2:$F$1188,Dollars!$A$2:$A$1188,'Rent lookup by Building'!$B61,Dollars!$E$2:$E$1188,'Rent lookup by Building'!H$6,Dollars!$C$2:$C$1188,'Rent lookup by Building'!$C$4)","v":0},0,0,0,null,{"$f":"SUMIFS(Dollars!$G$2:$G$1188,Dollars!$A$2:$A$1188,'Rent lookup by Building'!$B61,Dollars!$E$2:$E$1188,'Rent lookup by Building'!M$6,Dollars!$C$2:$C$1188,'Rent lookup by Building'!$C$4)","v":0},{"$f":"SUMIFS(Dollars!$G$2:$G$1188,Dollars!$A$2:$A$1188,'Rent lookup by Building'!$B61,Dollars!$E$2:$E$1188,'Rent lookup by Building'!N$6,Dollars!$C$2:$C$1188,'Rent lookup by Building'!$C$4)","v":0},{"$f":"SUMIFS(Dollars!$G$2:$G$1188,Dollars!$A$2:$A$1188,'Rent lookup by Building'!$B61,Dollars!$E$2:$E$1188,'Rent lookup by Building'!O$6,Dollars!$C$2:$C$1188,'Rent lookup by Building'!$C$4)","v":0},0,0,0]
["HIDE","225","225 - Washington State Patrol",{"$f":"SUMIFS('RSF List'!C:C,'RSF List'!B:B,'Rent lookup by Building'!$C$4,'RSF List'!A:A,LEFT('Rent lookup by Building'!C62,3))","v":0},null,{"$f":"SUMIFS(Dollars!$F$2:$F$1188,Dollars!$A$2:$A$1188,'Rent lookup by Building'!$B62,Dollars!$E$2:$E$1188,'Rent lookup by Building'!F$6,Dollars!$C$2:$C$1188,'Rent lookup by Building'!$C$4)","v":0},{"$f":"SUMIFS(Dollars!$F$2:$F$1188,Dollars!$A$2:$A$1188,'Rent lookup by Building'!$B62,Dollars!$E$2:$E$1188,'Rent lookup by Building'!G$6,Dollars!$C$2:$C$1188,'Rent lookup by Building'!$C$4)","v":0},{"$f":"SUMIFS(Dollars!$F$2:$F$1188,Dollars!$A$2:$A$1188,'Rent lookup by Building'!$B62,Dollars!$E$2:$E$1188,'Rent lookup by Building'!H$6,Dollars!$C$2:$C$1188,'Rent lookup by Building'!$C$4)","v":0},0,0,0,null,{"$f":"SUMIFS(Dollars!$G$2:$G$1188,Dollars!$A$2:$A$1188,'Rent lookup by Building'!$B62,Dollars!$E$2:$E$1188,'Rent lookup by Building'!M$6,Dollars!$C$2:$C$1188,'Rent lookup by Building'!$C$4)","v":0},{"$f":"SUMIFS(Dollars!$G$2:$G$1188,Dollars!$A$2:$A$1188,'Rent lookup by Building'!$B62,Dollars!$E$2:$E$1188,'Rent lookup by Building'!N$6,Dollars!$C$2:$C$1188,'Rent lookup by Building'!$C$4)","v":0},{"$f":"SUMIFS(Dollars!$G$2:$G$1188,Dollars!$A$2:$A$1188,'Rent lookup by Building'!$B62,Dollars!$E$2:$E$1188,'Rent lookup by Building'!O$6,Dollars!$C$2:$C$1188,'Rent lookup by Building'!$C$4)","v":0},0,0,0]
["HIDE","227","227 - Criminal Justice Training Commission",{"$f":"SUMIFS('RSF List'!C:C,'RSF List'!B:B,'Rent lookup by Building'!$C$4,'RSF List'!A:A,LEFT('Rent lookup by Building'!C63,3))","v":0},null,{"$f":"SUMIFS(Dollars!$F$2:$F$1188,Dollars!$A$2:$A$1188,'Rent lookup by Building'!$B63,Dollars!$E$2:$E$1188,'Rent lookup by Building'!F$6,Dollars!$C$2:$C$1188,'Rent lookup by Building'!$C$4)","v":0},{"$f":"SUMIFS(Dollars!$F$2:$F$1188,Dollars!$A$2:$A$1188,'Rent lookup by Building'!$B63,Dollars!$E$2:$E$1188,'Rent lookup by Building'!G$6,Dollars!$C$2:$C$1188,'Rent lookup by Building'!$C$4)","v":0},{"$f":"SUMIFS(Dollars!$F$2:$F$1188,Dollars!$A$2:$A$1188,'Rent lookup by Building'!$B63,Dollars!$E$2:$E$1188,'Rent lookup by Building'!H$6,Dollars!$C$2:$C$1188,'Rent lookup by Building'!$C$4)","v":0},0,0,0,null,{"$f":"SUMIFS(Dollars!$G$2:$G$1188,Dollars!$A$2:$A$1188,'Rent lookup by Building'!$B63,Dollars!$E$2:$E$1188,'Rent lookup by Building'!M$6,Dollars!$C$2:$C$1188,'Rent lookup by Building'!$C$4)","v":0},{"$f":"SUMIFS(Dollars!$G$2:$G$1188,Dollars!$A$2:$A$1188,'Rent lookup by Building'!$B63,Dollars!$E$2:$E$1188,'Rent lookup by Building'!N$6,Dollars!$C$2:$C$1188,'Rent lookup by Building'!$C$4)","v":0},{"$f":"SUMIFS(Dollars!$G$2:$G$1188,Dollars!$A$2:$A$1188,'Rent lookup by Building'!$B63,Dollars!$E$2:$E$1188,'Rent lookup by Building'!O$6,Dollars!$C$2:$C$1188,'Rent lookup by Building'!$C$4)","v":0},0,0,0]
["HIDE","228","228 - Traffic Safety Commission",{"$f":"SUMIFS('RSF List'!C:C,'RSF List'!B:B,'Rent lookup by Building'!$C$4,'RSF List'!A:A,LEFT('Rent lookup by Building'!C64,3))","v":0},null,{"$f":"SUMIFS(Dollars!$F$2:$F$1188,Dollars!$A$2:$A$1188,'Rent lookup by Building'!$B64,Dollars!$E$2:$E$1188,'Rent lookup by Building'!F$6,Dollars!$C$2:$C$1188,'Rent lookup by Building'!$C$4)","v":0},{"$f":"SUMIFS(Dollars!$F$2:$F$1188,Dollars!$A$2:$A$1188,'Rent lookup by Building'!$B64,Dollars!$E$2:$E$1188,'Rent lookup by Building'!G$6,Dollars!$C$2:$C$1188,'Rent lookup by Building'!$C$4)","v":0},{"$f":"SUMIFS(Dollars!$F$2:$F$1188,Dollars!$A$2:$A$1188,'Rent lookup by Building'!$B64,Dollars!$E$2:$E$1188,'Rent lookup by Building'!H$6,Dollars!$C$2:$C$1188,'Rent lookup by Building'!$C$4)","v":0},0,0,0,null,{"$f":"SUMIFS(Dollars!$G$2:$G$1188,Dollars!$A$2:$A$1188,'Rent lookup by Building'!$B64,Dollars!$E$2:$E$1188,'Rent lookup by Building'!M$6,Dollars!$C$2:$C$1188,'Rent lookup by Building'!$C$4)","v":0},{"$f":"SUMIFS(Dollars!$G$2:$G$1188,Dollars!$A$2:$A$1188,'Rent lookup by Building'!$B64,Dollars!$E$2:$E$1188,'Rent lookup by Building'!N$6,Dollars!$C$2:$C$1188,'Rent lookup by Building'!$C$4)","v":0},{"$f":"SUMIFS(Dollars!$G$2:$G$1188,Dollars!$A$2:$A$1188,'Rent lookup by Building'!$B64,Dollars!$E$2:$E$1188,'Rent lookup by Building'!O$6,Dollars!$C$2:$C$1188,'Rent lookup by Building'!$C$4)","v":0},0,0,0]
["HIDE","235","235 - Department of Labor and Industries",{"$f":"SUMIFS('RSF List'!C:C,'RSF List'!B:B,'Rent lookup by Building'!$C$4,'RSF List'!A:A,LEFT('Rent lookup by Building'!C65,3))","v":0},null,{"$f":"SUMIFS(Dollars!$F$2:$F$1188,Dollars!$A$2:$A$1188,'Rent lookup by Building'!$B65,Dollars!$E$2:$E$1188,'Rent lookup by Building'!F$6,Dollars!$C$2:$C$1188,'Rent lookup by Building'!$C$4)","v":0},{"$f":"SUMIFS(Dollars!$F$2:$F$1188,Dollars!$A$2:$A$1188,'Rent lookup by Building'!$B65,Dollars!$E$2:$E$1188,'Rent lookup by Building'!G$6,Dollars!$C$2:$C$1188,'Rent lookup by Building'!$C$4)","v":0},{"$f":"SUMIFS(Dollars!$F$2:$F$1188,Dollars!$A$2:$A$1188,'Rent lookup by Building'!$B65,Dollars!$E$2:$E$1188,'Rent lookup by Building'!H$6,Dollars!$C$2:$C$1188,'Rent lookup by Building'!$C$4)","v":0},0,0,0,null,{"$f":"SUMIFS(Dollars!$G$2:$G$1188,Dollars!$A$2:$A$1188,'Rent lookup by Building'!$B65,Dollars!$E$2:$E$1188,'Rent lookup by Building'!M$6,Dollars!$C$2:$C$1188,'Rent lookup by Building'!$C$4)","v":0},{"$f":"SUMIFS(Dollars!$G$2:$G$1188,Dollars!$A$2:$A$1188,'Rent lookup by Building'!$B65,Dollars!$E$2:$E$1188,'Rent lookup by Building'!N$6,Dollars!$C$2:$C$1188,'Rent lookup by Building'!$C$4)","v":0},{"$f":"SUMIFS(Dollars!$G$2:$G$1188,Dollars!$A$2:$A$1188,'Rent lookup by Building'!$B65,Dollars!$E$2:$E$1188,'Rent lookup by Building'!O$6,Dollars!$C$2:$C$1188,'Rent lookup by Building'!$C$4)","v":0},0,0,0]
["HIDE","240","240 - Department of Licensing",{"$f":"SUMIFS('RSF List'!C:C,'RSF List'!B:B,'Rent lookup by Building'!$C$4,'RSF List'!A:A,LEFT('Rent lookup by Building'!C66,3))","v":0},null,{"$f":"SUMIFS(Dollars!$F$2:$F$1188,Dollars!$A$2:$A$1188,'Rent lookup by Building'!$B66,Dollars!$E$2:$E$1188,'Rent lookup by Building'!F$6,Dollars!$C$2:$C$1188,'Rent lookup by Building'!$C$4)","v":0},{"$f":"SUMIFS(Dollars!$F$2:$F$1188,Dollars!$A$2:$A$1188,'Rent lookup by Building'!$B66,Dollars!$E$2:$E$1188,'Rent lookup by Building'!G$6,Dollars!$C$2:$C$1188,'Rent lookup by Building'!$C$4)","v":0},{"$f":"SUMIFS(Dollars!$F$2:$F$1188,Dollars!$A$2:$A$1188,'Rent lookup by Building'!$B66,Dollars!$E$2:$E$1188,'Rent lookup by Building'!H$6,Dollars!$C$2:$C$1188,'Rent lookup by Building'!$C$4)","v":0},0,0,0,null,{"$f":"SUMIFS(Dollars!$G$2:$G$1188,Dollars!$A$2:$A$1188,'Rent lookup by Building'!$B66,Dollars!$E$2:$E$1188,'Rent lookup by Building'!M$6,Dollars!$C$2:$C$1188,'Rent lookup by Building'!$C$4)","v":0},{"$f":"SUMIFS(Dollars!$G$2:$G$1188,Dollars!$A$2:$A$1188,'Rent lookup by Building'!$B66,Dollars!$E$2:$E$1188,'Rent lookup by Building'!N$6,Dollars!$C$2:$C$1188,'Rent lookup by Building'!$C$4)","v":0},{"$f":"SUMIFS(Dollars!$G$2:$G$1188,Dollars!$A$2:$A$1188,'Rent lookup by Building'!$B66,Dollars!$E$2:$E$1188,'Rent lookup by Building'!O$6,Dollars!$C$2:$C$1188,'Rent lookup by Building'!$C$4)","v":0},0,0,0]
["HIDE","245","245 - Military Department",{"$f":"SUMIFS('RSF List'!C:C,'RSF List'!B:B,'Rent lookup by Building'!$C$4,'RSF List'!A:A,LEFT('Rent lookup by Building'!C67,3))","v":0},null,{"$f":"SUMIFS(Dollars!$F$2:$F$1188,Dollars!$A$2:$A$1188,'Rent lookup by Building'!$B67,Dollars!$E$2:$E$1188,'Rent lookup by Building'!F$6,Dollars!$C$2:$C$1188,'Rent lookup by Building'!$C$4)","v":0},{"$f":"SUMIFS(Dollars!$F$2:$F$1188,Dollars!$A$2:$A$1188,'Rent lookup by Building'!$B67,Dollars!$E$2:$E$1188,'Rent lookup by Building'!G$6,Dollars!$C$2:$C$1188,'Rent lookup by Building'!$C$4)","v":0},{"$f":"SUMIFS(Dollars!$F$2:$F$1188,Dollars!$A$2:$A$1188,'Rent lookup by Building'!$B67,Dollars!$E$2:$E$1188,'Rent lookup by Building'!H$6,Dollars!$C$2:$C$1188,'Rent lookup by Building'!$C$4)","v":0},0,0,0,null,{"$f":"SUMIFS(Dollars!$G$2:$G$1188,Dollars!$A$2:$A$1188,'Rent lookup by Building'!$B67,Dollars!$E$2:$E$1188,'Rent lookup by Building'!M$6,Dollars!$C$2:$C$1188,'Rent lookup by Building'!$C$4)","v":0},{"$f":"SUMIFS(Dollars!$G$2:$G$1188,Dollars!$A$2:$A$1188,'Rent lookup by Building'!$B67,Dollars!$E$2:$E$1188,'Rent lookup by Building'!N$6,Dollars!$C$2:$C$1188,'Rent lookup by Building'!$C$4)","v":0},{"$f":"SUMIFS(Dollars!$G$2:$G$1188,Dollars!$A$2:$A$1188,'Rent lookup by Building'!$B67,Dollars!$E$2:$E$1188,'Rent lookup by Building'!O$6,Dollars!$C$2:$C$1188,'Rent lookup by Building'!$C$4)","v":0},0,0,0]
["HIDE","275","275 - Public Employment Relations Commission",{"$f":"SUMIFS('RSF List'!C:C,'RSF List'!B:B,'Rent lookup by Building'!$C$4,'RSF List'!A:A,LEFT('Rent lookup by Building'!C68,3))","v":0},null,{"$f":"SUMIFS(Dollars!$F$2:$F$1188,Dollars!$A$2:$A$1188,'Rent lookup by Building'!$B68,Dollars!$E$2:$E$1188,'Rent lookup by Building'!F$6,Dollars!$C$2:$C$1188,'Rent lookup by Building'!$C$4)","v":0},{"$f":"SUMIFS(Dollars!$F$2:$F$1188,Dollars!$A$2:$A$1188,'Rent lookup by Building'!$B68,Dollars!$E$2:$E$1188,'Rent lookup by Building'!G$6,Dollars!$C$2:$C$1188,'Rent lookup by Building'!$C$4)","v":0},{"$f":"SUMIFS(Dollars!$F$2:$F$1188,Dollars!$A$2:$A$1188,'Rent lookup by Building'!$B68,Dollars!$E$2:$E$1188,'Rent lookup by Building'!H$6,Dollars!$C$2:$C$1188,'Rent lookup by Building'!$C$4)","v":0},0,0,0,null,{"$f":"SUMIFS(Dollars!$G$2:$G$1188,Dollars!$A$2:$A$1188,'Rent lookup by Building'!$B68,Dollars!$E$2:$E$1188,'Rent lookup by Building'!M$6,Dollars!$C$2:$C$1188,'Rent lookup by Building'!$C$4)","v":0},{"$f":"SUMIFS(Dollars!$G$2:$G$1188,Dollars!$A$2:$A$1188,'Rent lookup by Building'!$B68,Dollars!$E$2:$E$1188,'Rent lookup by Building'!N$6,Dollars!$C$2:$C$1188,'Rent lookup by Building'!$C$4)","v":0},{"$f":"SUMIFS(Dollars!$G$2:$G$1188,Dollars!$A$2:$A$1188,'Rent lookup by Building'!$B68,Dollars!$E$2:$E$1188,'Rent lookup by Building'!O$6,Dollars!$C$2:$C$1188,'Rent lookup by Building'!$C$4)","v":0},0,0,0]
["HIDE","300","300 - Department of Social and Health Services",{"$f":"SUMIFS('RSF List'!C:C,'RSF List'!B:B,'Rent lookup by Building'!$C$4,'RSF List'!A:A,LEFT('Rent lookup by Building'!C69,3))","v":0},null,{"$f":"SUMIFS(Dollars!$F$2:$F$1188,Dollars!$A$2:$A$1188,'Rent lookup by Building'!$B69,Dollars!$E$2:$E$1188,'Rent lookup by Building'!F$6,Dollars!$C$2:$C$1188,'Rent lookup by Building'!$C$4)","v":0},{"$f":"SUMIFS(Dollars!$F$2:$F$1188,Dollars!$A$2:$A$1188,'Rent lookup by Building'!$B69,Dollars!$E$2:$E$1188,'Rent lookup by Building'!G$6,Dollars!$C$2:$C$1188,'Rent lookup by Building'!$C$4)","v":0},{"$f":"SUMIFS(Dollars!$F$2:$F$1188,Dollars!$A$2:$A$1188,'Rent lookup by Building'!$B69,Dollars!$E$2:$E$1188,'Rent lookup by Building'!H$6,Dollars!$C$2:$C$1188,'Rent lookup by Building'!$C$4)","v":0},0,0,0,null,{"$f":"SUMIFS(Dollars!$G$2:$G$1188,Dollars!$A$2:$A$1188,'Rent lookup by Building'!$B69,Dollars!$E$2:$E$1188,'Rent lookup by Building'!M$6,Dollars!$C$2:$C$1188,'Rent lookup by Building'!$C$4)","v":0},{"$f":"SUMIFS(Dollars!$G$2:$G$1188,Dollars!$A$2:$A$1188,'Rent lookup by Building'!$B69,Dollars!$E$2:$E$1188,'Rent lookup by Building'!N$6,Dollars!$C$2:$C$1188,'Rent lookup by Building'!$C$4)","v":0},{"$f":"SUMIFS(Dollars!$G$2:$G$1188,Dollars!$A$2:$A$1188,'Rent lookup by Building'!$B69,Dollars!$E$2:$E$1188,'Rent lookup by Building'!O$6,Dollars!$C$2:$C$1188,'Rent lookup by Building'!$C$4)","v":0},0,0,0]
["HIDE","303","303 - Department of Health",{"$f":"SUMIFS('RSF List'!C:C,'RSF List'!B:B,'Rent lookup by Building'!$C$4,'RSF List'!A:A,LEFT('Rent lookup by Building'!C70,3))","v":0},null,{"$f":"SUMIFS(Dollars!$F$2:$F$1188,Dollars!$A$2:$A$1188,'Rent lookup by Building'!$B70,Dollars!$E$2:$E$1188,'Rent lookup by Building'!F$6,Dollars!$C$2:$C$1188,'Rent lookup by Building'!$C$4)","v":0},{"$f":"SUMIFS(Dollars!$F$2:$F$1188,Dollars!$A$2:$A$1188,'Rent lookup by Building'!$B70,Dollars!$E$2:$E$1188,'Rent lookup by Building'!G$6,Dollars!$C$2:$C$1188,'Rent lookup by Building'!$C$4)","v":0},{"$f":"SUMIFS(Dollars!$F$2:$F$1188,Dollars!$A$2:$A$1188,'Rent lookup by Building'!$B70,Dollars!$E$2:$E$1188,'Rent lookup by Building'!H$6,Dollars!$C$2:$C$1188,'Rent lookup by Building'!$C$4)","v":0},0,0,0,null,{"$f":"SUMIFS(Dollars!$G$2:$G$1188,Dollars!$A$2:$A$1188,'Rent lookup by Building'!$B70,Dollars!$E$2:$E$1188,'Rent lookup by Building'!M$6,Dollars!$C$2:$C$1188,'Rent lookup by Building'!$C$4)","v":0},{"$f":"SUMIFS(Dollars!$G$2:$G$1188,Dollars!$A$2:$A$1188,'Rent lookup by Building'!$B70,Dollars!$E$2:$E$1188,'Rent lookup by Building'!N$6,Dollars!$C$2:$C$1188,'Rent lookup by Building'!$C$4)","v":0},{"$f":"SUMIFS(Dollars!$G$2:$G$1188,Dollars!$A$2:$A$1188,'Rent lookup by Building'!$B70,Dollars!$E$2:$E$1188,'Rent lookup by Building'!O$6,Dollars!$C$2:$C$1188,'Rent lookup by Building'!$C$4)","v":0},0,0,0]
["HIDE","305","305 - Department of Veterans Affairs",{"$f":"SUMIFS('RSF List'!C:C,'RSF List'!B:B,'Rent lookup by Building'!$C$4,'RSF List'!A:A,LEFT('Rent lookup by Building'!C71,3))","v":0},null,{"$f":"SUMIFS(Dollars!$F$2:$F$1188,Dollars!$A$2:$A$1188,'Rent lookup by Building'!$B71,Dollars!$E$2:$E$1188,'Rent lookup by Building'!F$6,Dollars!$C$2:$C$1188,'Rent lookup by Building'!$C$4)","v":0},{"$f":"SUMIFS(Dollars!$F$2:$F$1188,Dollars!$A$2:$A$1188,'Rent lookup by Building'!$B71,Dollars!$E$2:$E$1188,'Rent lookup by Building'!G$6,Dollars!$C$2:$C$1188,'Rent lookup by Building'!$C$4)","v":0},{"$f":"SUMIFS(Dollars!$F$2:$F$1188,Dollars!$A$2:$A$1188,'Rent lookup by Building'!$B71,Dollars!$E$2:$E$1188,'Rent lookup by Building'!H$6,Dollars!$C$2:$C$1188,'Rent lookup by Building'!$C$4)","v":0},0,0,0,null,{"$f":"SUMIFS(Dollars!$G$2:$G$1188,Dollars!$A$2:$A$1188,'Rent lookup by Building'!$B71,Dollars!$E$2:$E$1188,'Rent lookup by Building'!M$6,Dollars!$C$2:$C$1188,'Rent lookup by Building'!$C$4)","v":0},{"$f":"SUMIFS(Dollars!$G$2:$G$1188,Dollars!$A$2:$A$1188,'Rent lookup by Building'!$B71,Dollars!$E$2:$E$1188,'Rent lookup by Building'!N$6,Dollars!$C$2:$C$1188,'Rent lookup by Building'!$C$4)","v":0},{"$f":"SUMIFS(Dollars!$G$2:$G$1188,Dollars!$A$2:$A$1188,'Rent lookup by Building'!$B71,Dollars!$E$2:$E$1188,'Rent lookup by Building'!O$6,Dollars!$C$2:$C$1188,'Rent lookup by Building'!$C$4)","v":0},0,0,0]
[{"$f":"IF(D72=0,\"HIDE\",\"VIEW\")","v":"HIDE"},{"$f":"LEFT(C72,3)","v":"307"},"307 - DCYF",{"$f":"SUMIFS('RSF List'!C:C,'RSF List'!B:B,'Rent lookup by Building'!$C$4,'RSF List'!A:A,LEFT('Rent lookup by Building'!C72,3))","v":0},null,{"$f":"SUMIFS(Dollars!$F$2:$F$1188,Dollars!$A$2:$A$1188,'Rent lookup by Building'!$B72,Dollars!$E$2:$E$1188,'Rent lookup by Building'!F$6,Dollars!$C$2:$C$1188,'Rent lookup by Building'!$C$4)","v":0},{"$f":"SUMIFS(Dollars!$F$2:$F$1188,Dollars!$A$2:$A$1188,'Rent lookup by Building'!$B72,Dollars!$E$2:$E$1188,'Rent lookup by Building'!G$6,Dollars!$C$2:$C$1188,'Rent lookup by Building'!$C$4)","v":0},{"$f":"SUMIFS(Dollars!$F$2:$F$1188,Dollars!$A$2:$A$1188,'Rent lookup by Building'!$B72,Dollars!$E$2:$E$1188,'Rent lookup by Building'!H$6,Dollars!$C$2:$C$1188,'Rent lookup by Building'!$C$4)","v":0},0,{"$f":"I72/12","v":0},0,null,{"$f":"SUMIFS(Dollars!$G$2:$G$1188,Dollars!$A$2:$A$1188,'Rent lookup by Building'!$B72,Dollars!$E$2:$E$1188,'Rent lookup by Building'!M$6,Dollars!$C$2:$C$1188,'Rent lookup by Building'!$C$4)","v":0},{"$f":"SUMIFS(Dollars!$G$2:$G$1188,Dollars!$A$2:$A$1188,'Rent lookup by Building'!$B72,Dollars!$E$2:$E$1188,'Rent lookup by Building'!N$6,Dollars!$C$2:$C$1188,'Rent lookup by Building'!$C$4)","v":0},{"$f":"SUMIFS(Dollars!$G$2:$G$1188,Dollars!$A$2:$A$1188,'Rent lookup by Building'!$B72,Dollars!$E$2:$E$1188,'Rent lookup by Building'!O$6,Dollars!$C$2:$C$1188,'Rent lookup by Building'!$C$4)","v":0},0,{"$f":"P72/12","v":0},0]
["HIDE","310","310 - Department of Corrections",{"$f":"SUMIFS('RSF List'!C:C,'RSF List'!B:B,'Rent lookup by Building'!$C$4,'RSF List'!A:A,LEFT('Rent lookup by Building'!C73,3))","v":0},null,{"$f":"SUMIFS(Dollars!$F$2:$F$1188,Dollars!$A$2:$A$1188,'Rent lookup by Building'!$B73,Dollars!$E$2:$E$1188,'Rent lookup by Building'!F$6,Dollars!$C$2:$C$1188,'Rent lookup by Building'!$C$4)","v":0},{"$f":"SUMIFS(Dollars!$F$2:$F$1188,Dollars!$A$2:$A$1188,'Rent lookup by Building'!$B73,Dollars!$E$2:$E$1188,'Rent lookup by Building'!G$6,Dollars!$C$2:$C$1188,'Rent lookup by Building'!$C$4)","v":0},{"$f":"SUMIFS(Dollars!$F$2:$F$1188,Dollars!$A$2:$A$1188,'Rent lookup by Building'!$B73,Dollars!$E$2:$E$1188,'Rent lookup by Building'!H$6,Dollars!$C$2:$C$1188,'Rent lookup by Building'!$C$4)","v":0},0,0,0,null,{"$f":"SUMIFS(Dollars!$G$2:$G$1188,Dollars!$A$2:$A$1188,'Rent lookup by Building'!$B73,Dollars!$E$2:$E$1188,'Rent lookup by Building'!M$6,Dollars!$C$2:$C$1188,'Rent lookup by Building'!$C$4)","v":0},{"$f":"SUMIFS(Dollars!$G$2:$G$1188,Dollars!$A$2:$A$1188,'Rent lookup by Building'!$B73,Dollars!$E$2:$E$1188,'Rent lookup by Building'!N$6,Dollars!$C$2:$C$1188,'Rent lookup by Building'!$C$4)","v":0},{"$f":"SUMIFS(Dollars!$G$2:$G$1188,Dollars!$A$2:$A$1188,'Rent lookup by Building'!$B73,Dollars!$E$2:$E$1188,'Rent lookup by Building'!O$6,Dollars!$C$2:$C$1188,'Rent lookup by Building'!$C$4)","v":0},0,0,0]
["HIDE","315","315 - Department of Services for the Blind",{"$f":"SUMIFS('RSF List'!C:C,'RSF List'!B:B,'Rent lookup by Building'!$C$4,'RSF List'!A:A,LEFT('Rent lookup by Building'!C74,3))","v":0},null,{"$f":"SUMIFS(Dollars!$F$2:$F$1188,Dollars!$A$2:$A$1188,'Rent lookup by Building'!$B74,Dollars!$E$2:$E$1188,'Rent lookup by Building'!F$6,Dollars!$C$2:$C$1188,'Rent lookup by Building'!$C$4)","v":0},{"$f":"SUMIFS(Dollars!$F$2:$F$1188,Dollars!$A$2:$A$1188,'Rent lookup by Building'!$B74,Dollars!$E$2:$E$1188,'Rent lookup by Building'!G$6,Dollars!$C$2:$C$1188,'Rent lookup by Building'!$C$4)","v":0},{"$f":"SUMIFS(Dollars!$F$2:$F$1188,Dollars!$A$2:$A$1188,'Rent lookup by Building'!$B74,Dollars!$E$2:$E$1188,'Rent lookup by Building'!H$6,Dollars!$C$2:$C$1188,'Rent lookup by Building'!$C$4)","v":0},0,0,0,null,{"$f":"SUMIFS(Dollars!$G$2:$G$1188,Dollars!$A$2:$A$1188,'Rent lookup by Building'!$B74,Dollars!$E$2:$E$1188,'Rent lookup by Building'!M$6,Dollars!$C$2:$C$1188,'Rent lookup by Building'!$C$4)","v":0},{"$f":"SUMIFS(Dollars!$G$2:$G$1188,Dollars!$A$2:$A$1188,'Rent lookup by Building'!$B74,Dollars!$E$2:$E$1188,'Rent lookup by Building'!N$6,Dollars!$C$2:$C$1188,'Rent lookup by Building'!$C$4)","v":0},{"$f":"SUMIFS(Dollars!$G$2:$G$1188,Dollars!$A$2:$A$1188,'Rent lookup by Building'!$B74,Dollars!$E$2:$E$1188,'Rent lookup by Building'!O$6,Dollars!$C$2:$C$1188,'Rent lookup by Building'!$C$4)","v":0},0,0,0]
["HIDE","340","340 - Student Achievement Council",{"$f":"SUMIFS('RSF List'!C:C,'RSF List'!B:B,'Rent lookup by Building'!$C$4,'RSF List'!A:A,LEFT('Rent lookup by Building'!C75,3))","v":0},null,{"$f":"SUMIFS(Dollars!$F$2:$F$1188,Dollars!$A$2:$A$1188,'Rent lookup by Building'!$B75,Dollars!$E$2:$E$1188,'Rent lookup by Building'!F$6,Dollars!$C$2:$C$1188,'Rent lookup by Building'!$C$4)","v":0},{"$f":"SUMIFS(Dollars!$F$2:$F$1188,Dollars!$A$2:$A$1188,'Rent lookup by Building'!$B75,Dollars!$E$2:$E$1188,'Rent lookup by Building'!G$6,Dollars!$C$2:$C$1188,'Rent lookup by Building'!$C$4)","v":0},{"$f":"SUMIFS(Dollars!$F$2:$F$1188,Dollars!$A$2:$A$1188,'Rent lookup by Building'!$B75,Dollars!$E$2:$E$1188,'Rent lookup by Building'!H$6,Dollars!$C$2:$C$1188,'Rent lookup by Building'!$C$4)","v":0},0,0,0,null,{"$f":"SUMIFS(Dollars!$G$2:$G$1188,Dollars!$A$2:$A$1188,'Rent lookup by Building'!$B75,Dollars!$E$2:$E$1188,'Rent lookup by Building'!M$6,Dollars!$C$2:$C$1188,'Rent lookup by Building'!$C$4)","v":0},{"$f":"SUMIFS(Dollars!$G$2:$G$1188,Dollars!$A$2:$A$1188,'Rent lookup by Building'!$B75,Dollars!$E$2:$E$1188,'Rent lookup by Building'!N$6,Dollars!$C$2:$C$1188,'Rent lookup by Building'!$C$4)","v":0},{"$f":"SUMIFS(Dollars!$G$2:$G$1188,Dollars!$A$2:$A$1188,'Rent lookup by Building'!$B75,Dollars!$E$2:$E$1188,'Rent lookup by Building'!O$6,Dollars!$C$2:$C$1188,'Rent lookup by Building'!$C$4)","v":0},0,0,0]
["HIDE","341","341 - Law Enforcement Officers' & Fire Fighters' Plan 2 Retirement Board",{"$f":"SUMIFS('RSF List'!C:C,'RSF List'!B:B,'Rent lookup by Building'!$C$4,'RSF List'!A:A,LEFT('Rent lookup by Building'!C76,3))","v":0},null,{"$f":"SUMIFS(Dollars!$F$2:$F$1188,Dollars!$A$2:$A$1188,'Rent lookup by Building'!$B76,Dollars!$E$2:$E$1188,'Rent lookup by Building'!F$6,Dollars!$C$2:$C$1188,'Rent lookup by Building'!$C$4)","v":0},{"$f":"SUMIFS(Dollars!$F$2:$F$1188,Dollars!$A$2:$A$1188,'Rent lookup by Building'!$B76,Dollars!$E$2:$E$1188,'Rent lookup by Building'!G$6,Dollars!$C$2:$C$1188,'Rent lookup by Building'!$C$4)","v":0},{"$f":"SUMIFS(Dollars!$F$2:$F$1188,Dollars!$A$2:$A$1188,'Rent lookup by Building'!$B76,Dollars!$E$2:$E$1188,'Rent lookup by Building'!H$6,Dollars!$C$2:$C$1188,'Rent lookup by Building'!$C$4)","v":0},0,0,0,null,{"$f":"SUMIFS(Dollars!$G$2:$G$1188,Dollars!$A$2:$A$1188,'Rent lookup by Building'!$B76,Dollars!$E$2:$E$1188,'Rent lookup by Building'!M$6,Dollars!$C$2:$C$1188,'Rent lookup by Building'!$C$4)","v":0},{"$f":"SUMIFS(Dollars!$G$2:$G$1188,Dollars!$A$2:$A$1188,'Rent lookup by Building'!$B76,Dollars!$E$2:$E$1188,'Rent lookup by Building'!N$6,Dollars!$C$2:$C$1188,'Rent lookup by Building'!$C$4)","v":0},{"$f":"SUMIFS(Dollars!$G$2:$G$1188,Dollars!$A$2:$A$1188,'Rent lookup by Building'!$B76,Dollars!$E$2:$E$1188,'Rent lookup by Building'!O$6,Dollars!$C$2:$C$1188,'Rent lookup by Building'!$C$4)","v":0},0,0,0]
["HIDE","350","350 - Superintendent of Public Instruction",{"$f":"SUMIFS('RSF List'!C:C,'RSF List'!B:B,'Rent lookup by Building'!$C$4,'RSF List'!A:A,LEFT('Rent lookup by Building'!C77,3))","v":0},null,{"$f":"SUMIFS(Dollars!$F$2:$F$1188,Dollars!$A$2:$A$1188,'Rent lookup by Building'!$B77,Dollars!$E$2:$E$1188,'Rent lookup by Building'!F$6,Dollars!$C$2:$C$1188,'Rent lookup by Building'!$C$4)","v":0},{"$f":"SUMIFS(Dollars!$F$2:$F$1188,Dollars!$A$2:$A$1188,'Rent lookup by Building'!$B77,Dollars!$E$2:$E$1188,'Rent lookup by Building'!G$6,Dollars!$C$2:$C$1188,'Rent lookup by Building'!$C$4)","v":0},{"$f":"SUMIFS(Dollars!$F$2:$F$1188,Dollars!$A$2:$A$1188,'Rent lookup by Building'!$B77,Dollars!$E$2:$E$1188,'Rent lookup by Building'!H$6,Dollars!$C$2:$C$1188,'Rent lookup by Building'!$C$4)","v":0},0,0,0,null,{"$f":"SUMIFS(Dollars!$G$2:$G$1188,Dollars!$A$2:$A$1188,'Rent lookup by Building'!$B77,Dollars!$E$2:$E$1188,'Rent lookup by Building'!M$6,Dollars!$C$2:$C$1188,'Rent lookup by Building'!$C$4)","v":0},{"$f":"SUMIFS(Dollars!$G$2:$G$1188,Dollars!$A$2:$A$1188,'Rent lookup by Building'!$B77,Dollars!$E$2:$E$1188,'Rent lookup by Building'!N$6,Dollars!$C$2:$C$1188,'Rent lookup by Building'!$C$4)","v":0},{"$f":"SUMIFS(Dollars!$G$2:$G$1188,Dollars!$A$2:$A$1188,'Rent lookup by Building'!$B77,Dollars!$E$2:$E$1188,'Rent lookup by Building'!O$6,Dollars!$C$2:$C$1188,'Rent lookup by Building'!$C$4)","v":0},0,0,0]
["HIDE","351","351 - State School For The Blind",{"$f":"SUMIFS('RSF List'!C:C,'RSF List'!B:B,'Rent lookup by Building'!$C$4,'RSF List'!A:A,LEFT('Rent lookup by Building'!C78,3))","v":0},null,{"$f":"SUMIFS(Dollars!$F$2:$F$1188,Dollars!$A$2:$A$1188,'Rent lookup by Building'!$B78,Dollars!$E$2:$E$1188,'Rent lookup by Building'!F$6,Dollars!$C$2:$C$1188,'Rent lookup by Building'!$C$4)","v":0},{"$f":"SUMIFS(Dollars!$F$2:$F$1188,Dollars!$A$2:$A$1188,'Rent lookup by Building'!$B78,Dollars!$E$2:$E$1188,'Rent lookup by Building'!G$6,Dollars!$C$2:$C$1188,'Rent lookup by Building'!$C$4)","v":0},{"$f":"SUMIFS(Dollars!$F$2:$F$1188,Dollars!$A$2:$A$1188,'Rent lookup by Building'!$B78,Dollars!$E$2:$E$1188,'Rent lookup by Building'!H$6,Dollars!$C$2:$C$1188,'Rent lookup by Building'!$C$4)","v":0},0,0,0,null,{"$f":"SUMIFS(Dollars!$G$2:$G$1188,Dollars!$A$2:$A$1188,'Rent lookup by Building'!$B78,Dollars!$E$2:$E$1188,'Rent lookup by Building'!M$6,Dollars!$C$2:$C$1188,'Rent lookup by Building'!$C$4)","v":0},{"$f":"SUMIFS(Dollars!$G$2:$G$1188,Dollars!$A$2:$A$1188,'Rent lookup by Building'!$B78,Dollars!$E$2:$E$1188,'Rent lookup by Building'!N$6,Dollars!$C$2:$C$1188,'Rent lookup by Building'!$C$4)","v":0},{"$f":"SUMIFS(Dollars!$G$2:$G$1188,Dollars!$A$2:$A$1188,'Rent lookup by Building'!$B78,Dollars!$E$2:$E$1188,'Rent lookup by Building'!O$6,Dollars!$C$2:$C$1188,'Rent lookup by Building'!$C$4)","v":0},0,0,0]
["HIDE","353","353 - State Center for Childhood Deafness and Hearing Loss",{"$f":"SUMIFS('RSF List'!C:C,'RSF List'!B:B,'Rent lookup by Building'!$C$4,'RSF List'!A:A,LEFT('Rent lookup by Building'!C79,3))","v":0},null,{"$f":"SUMIFS(Dollars!$F$2:$F$1188,Dollars!$A$2:$A$1188,'Rent lookup by Building'!$B79,Dollars!$E$2:$E$1188,'Rent lookup by Building'!F$6,Dollars!$C$2:$C$1188,'Rent lookup by Building'!$C$4)","v":0},{"$f":"SUMIFS(Dollars!$F$2:$F$1188,Dollars!$A$2:$A$1188,'Rent lookup by Building'!$B79,Dollars!$E$2:$E$1188,'Rent lookup by Building'!G$6,Dollars!$C$2:$C$1188,'Rent lookup by Building'!$C$4)","v":0},{"$f":"SUMIFS(Dollars!$F$2:$F$1188,Dollars!$A$2:$A$1188,'Rent lookup by Building'!$B79,Dollars!$E$2:$E$1188,'Rent lookup by Building'!H$6,Dollars!$C$2:$C$1188,'Rent lookup by Building'!$C$4)","v":0},0,0,0,null,{"$f":"SUMIFS(Dollars!$G$2:$G$1188,Dollars!$A$2:$A$1188,'Rent lookup by Building'!$B79,Dollars!$E$2:$E$1188,'Rent lookup by Building'!M$6,Dollars!$C$2:$C$1188,'Rent lookup by Building'!$C$4)","v":0},{"$f":"SUMIFS(Dollars!$G$2:$G$1188,Dollars!$A$2:$A$1188,'Rent lookup by Building'!$B79,Dollars!$E$2:$E$1188,'Rent lookup by Building'!N$6,Dollars!$C$2:$C$1188,'Rent lookup by Building'!$C$4)","v":0},{"$f":"SUMIFS(Dollars!$G$2:$G$1188,Dollars!$A$2:$A$1188,'Rent lookup by Building'!$B79,Dollars!$E$2:$E$1188,'Rent lookup by Building'!O$6,Dollars!$C$2:$C$1188,'Rent lookup by Building'!$C$4)","v":0},0,0,0]
["HIDE","354","354 - Workforce Training and Education Coordinating Board",{"$f":"SUMIFS('RSF List'!C:C,'RSF List'!B:B,'Rent lookup by Building'!$C$4,'RSF List'!A:A,LEFT('Rent lookup by Building'!C80,3))","v":0},null,{"$f":"SUMIFS(Dollars!$F$2:$F$1188,Dollars!$A$2:$A$1188,'Rent lookup by Building'!$B80,Dollars!$E$2:$E$1188,'Rent lookup by Building'!F$6,Dollars!$C$2:$C$1188,'Rent lookup by Building'!$C$4)","v":0},{"$f":"SUMIFS(Dollars!$F$2:$F$1188,Dollars!$A$2:$A$1188,'Rent lookup by Building'!$B80,Dollars!$E$2:$E$1188,'Rent lookup by Building'!G$6,Dollars!$C$2:$C$1188,'Rent lookup by Building'!$C$4)","v":0},{"$f":"SUMIFS(Dollars!$F$2:$F$1188,Dollars!$A$2:$A$1188,'Rent lookup by Building'!$B80,Dollars!$E$2:$E$1188,'Rent lookup by Building'!H$6,Dollars!$C$2:$C$1188,'Rent lookup by Building'!$C$4)","v":0},0,0,0,null,{"$f":"SUMIFS(Dollars!$G$2:$G$1188,Dollars!$A$2:$A$1188,'Rent lookup by Building'!$B80,Dollars!$E$2:$E$1188,'Rent lookup by Building'!M$6,Dollars!$C$2:$C$1188,'Rent lookup by Building'!$C$4)","v":0},{"$f":"SUMIFS(Dollars!$G$2:$G$1188,Dollars!$A$2:$A$1188,'Rent lookup by Building'!$B80,Dollars!$E$2:$E$1188,'Rent lookup by Building'!N$6,Dollars!$C$2:$C$1188,'Rent lookup by Building'!$C$4)","v":0},{"$f":"SUMIFS(Dollars!$G$2:$G$1188,Dollars!$A$2:$A$1188,'Rent lookup by Building'!$B80,Dollars!$E$2:$E$1188,'Rent lookup by Building'!O$6,Dollars!$C$2:$C$1188,'Rent lookup by Building'!$C$4)","v":0},0,0,0]
["HIDE","355","355 - Department of Archaeology and Historic Preservation",{"$f":"SUMIFS('RSF List'!C:C,'RSF List'!B:B,'Rent lookup by Building'!$C$4,'RSF List'!A:A,LEFT('Rent lookup by Building'!C81,3))","v":0},null,{"$f":"SUMIFS(Dollars!$F$2:$F$1188,Dollars!$A$2:$A$1188,'Rent lookup by Building'!$B81,Dollars!$E$2:$E$1188,'Rent lookup by Building'!F$6,Dollars!$C$2:$C$1188,'Rent lookup by Building'!$C$4)","v":0},{"$f":"SUMIFS(Dollars!$F$2:$F$1188,Dollars!$A$2:$A$1188,'Rent lookup by Building'!$B81,Dollars!$E$2:$E$1188,'Rent lookup by Building'!G$6,Dollars!$C$2:$C$1188,'Rent lookup by Building'!$C$4)","v":0},{"$f":"SUMIFS(Dollars!$F$2:$F$1188,Dollars!$A$2:$A$1188,'Rent lookup by Building'!$B81,Dollars!$E$2:$E$1188,'Rent lookup by Building'!H$6,Dollars!$C$2:$C$1188,'Rent lookup by Building'!$C$4)","v":0},0,0,0,null,{"$f":"SUMIFS(Dollars!$G$2:$G$1188,Dollars!$A$2:$A$1188,'Rent lookup by Building'!$B81,Dollars!$E$2:$E$1188,'Rent lookup by Building'!M$6,Dollars!$C$2:$C$1188,'Rent lookup by Building'!$C$4)","v":0},{"$f":"SUMIFS(Dollars!$G$2:$G$1188,Dollars!$A$2:$A$1188,'Rent lookup by Building'!$B81,Dollars!$E$2:$E$1188,'Rent lookup by Building'!N$6,Dollars!$C$2:$C$1188,'Rent lookup by Building'!$C$4)","v":0},{"$f":"SUMIFS(Dollars!$G$2:$G$1188,Dollars!$A$2:$A$1188,'Rent lookup by Building'!$B81,Dollars!$E$2:$E$1188,'Rent lookup by Building'!O$6,Dollars!$C$2:$C$1188,'Rent lookup by Building'!$C$4)","v":0},0,0,0]
["HIDE","357","357 - Department of Early Learning",{"$f":"SUMIFS('RSF List'!C:C,'RSF List'!B:B,'Rent lookup by Building'!$C$4,'RSF List'!A:A,LEFT('Rent lookup by Building'!C82,3))","v":0},null,{"$f":"SUMIFS(Dollars!$F$2:$F$1188,Dollars!$A$2:$A$1188,'Rent lookup by Building'!$B82,Dollars!$E$2:$E$1188,'Rent lookup by Building'!F$6,Dollars!$C$2:$C$1188,'Rent lookup by Building'!$C$4)","v":0},{"$f":"SUMIFS(Dollars!$F$2:$F$1188,Dollars!$A$2:$A$1188,'Rent lookup by Building'!$B82,Dollars!$E$2:$E$1188,'Rent lookup by Building'!G$6,Dollars!$C$2:$C$1188,'Rent lookup by Building'!$C$4)","v":0},{"$f":"SUMIFS(Dollars!$F$2:$F$1188,Dollars!$A$2:$A$1188,'Rent lookup by Building'!$B82,Dollars!$E$2:$E$1188,'Rent lookup by Building'!H$6,Dollars!$C$2:$C$1188,'Rent lookup by Building'!$C$4)","v":0},0,0,0,null,{"$f":"SUMIFS(Dollars!$G$2:$G$1188,Dollars!$A$2:$A$1188,'Rent lookup by Building'!$B82,Dollars!$E$2:$E$1188,'Rent lookup by Building'!M$6,Dollars!$C$2:$C$1188,'Rent lookup by Building'!$C$4)","v":0},{"$f":"SUMIFS(Dollars!$G$2:$G$1188,Dollars!$A$2:$A$1188,'Rent lookup by Building'!$B82,Dollars!$E$2:$E$1188,'Rent lookup by Building'!N$6,Dollars!$C$2:$C$1188,'Rent lookup by Building'!$C$4)","v":0},{"$f":"SUMIFS(Dollars!$G$2:$G$1188,Dollars!$A$2:$A$1188,'Rent lookup by Building'!$B82,Dollars!$E$2:$E$1188,'Rent lookup by Building'!O$6,Dollars!$C$2:$C$1188,'Rent lookup by Building'!$C$4)","v":0},0,0,0]
["HIDE","359","359 - WA Charter School Commission",{"$f":"SUMIFS('RSF List'!C:C,'RSF List'!B:B,'Rent lookup by Building'!$C$4,'RSF List'!A:A,LEFT('Rent lookup by Building'!C83,3))","v":0},null,{"$f":"SUMIFS(Dollars!$F$2:$F$1188,Dollars!$A$2:$A$1188,'Rent lookup by Building'!$B83,Dollars!$E$2:$E$1188,'Rent lookup by Building'!F$6,Dollars!$C$2:$C$1188,'Rent lookup by Building'!$C$4)","v":0},{"$f":"SUMIFS(Dollars!$F$2:$F$1188,Dollars!$A$2:$A$1188,'Rent lookup by Building'!$B83,Dollars!$E$2:$E$1188,'Rent lookup by Building'!G$6,Dollars!$C$2:$C$1188,'Rent lookup by Building'!$C$4)","v":0},{"$f":"SUMIFS(Dollars!$F$2:$F$1188,Dollars!$A$2:$A$1188,'Rent lookup by Building'!$B83,Dollars!$E$2:$E$1188,'Rent lookup by Building'!H$6,Dollars!$C$2:$C$1188,'Rent lookup by Building'!$C$4)","v":0},0,0,0,null,{"$f":"SUMIFS(Dollars!$G$2:$G$1188,Dollars!$A$2:$A$1188,'Rent lookup by Building'!$B83,Dollars!$E$2:$E$1188,'Rent lookup by Building'!M$6,Dollars!$C$2:$C$1188,'Rent lookup by Building'!$C$4)","v":0},{"$f":"SUMIFS(Dollars!$G$2:$G$1188,Dollars!$A$2:$A$1188,'Rent lookup by Building'!$B83,Dollars!$E$2:$E$1188,'Rent lookup by Building'!N$6,Dollars!$C$2:$C$1188,'Rent lookup by Building'!$C$4)","v":0},{"$f":"SUMIFS(Dollars!$G$2:$G$1188,Dollars!$A$2:$A$1188,'Rent lookup by Building'!$B83,Dollars!$E$2:$E$1188,'Rent lookup by Building'!O$6,Dollars!$C$2:$C$1188,'Rent lookup by Building'!$C$4)","v":0},0,0,0]
["HIDE","360","360 - University of Washington",{"$f":"SUMIFS('RSF List'!C:C,'RSF List'!B:B,'Rent lookup by Building'!$C$4,'RSF List'!A:A,LEFT('Rent lookup by Building'!C84,3))","v":0},null,{"$f":"SUMIFS(Dollars!$F$2:$F$1188,Dollars!$A$2:$A$1188,'Rent lookup by Building'!$B84,Dollars!$E$2:$E$1188,'Rent lookup by Building'!F$6,Dollars!$C$2:$C$1188,'Rent lookup by Building'!$C$4)","v":0},{"$f":"SUMIFS(Dollars!$F$2:$F$1188,Dollars!$A$2:$A$1188,'Rent lookup by Building'!$B84,Dollars!$E$2:$E$1188,'Rent lookup by Building'!G$6,Dollars!$C$2:$C$1188,'Rent lookup by Building'!$C$4)","v":0},{"$f":"SUMIFS(Dollars!$F$2:$F$1188,Dollars!$A$2:$A$1188,'Rent lookup by Building'!$B84,Dollars!$E$2:$E$1188,'Rent lookup by Building'!H$6,Dollars!$C$2:$C$1188,'Rent lookup by Building'!$C$4)","v":0},0,0,0,null,{"$f":"SUMIFS(Dollars!$G$2:$G$1188,Dollars!$A$2:$A$1188,'Rent lookup by Building'!$B84,Dollars!$E$2:$E$1188,'Rent lookup by Building'!M$6,Dollars!$C$2:$C$1188,'Rent lookup by Building'!$C$4)","v":0},{"$f":"SUMIFS(Dollars!$G$2:$G$1188,Dollars!$A$2:$A$1188,'Rent lookup by Building'!$B84,Dollars!$E$2:$E$1188,'Rent lookup by Building'!N$6,Dollars!$C$2:$C$1188,'Rent lookup by Building'!$C$4)","v":0},{"$f":"SUMIFS(Dollars!$G$2:$G$1188,Dollars!$A$2:$A$1188,'Rent lookup by Building'!$B84,Dollars!$E$2:$E$1188,'Rent lookup by Building'!O$6,Dollars!$C$2:$C$1188,'Rent lookup by Building'!$C$4)","v":0},0,0,0]
["HIDE","365","365 - Washington State University",{"$f":"SUMIFS('RSF List'!C:C,'RSF List'!B:B,'Rent lookup by Building'!$C$4,'RSF List'!A:A,LEFT('Rent lookup by Building'!C85,3))","v":0},null,{"$f":"SUMIFS(Dollars!$F$2:$F$1188,Dollars!$A$2:$A$1188,'Rent lookup by Building'!$B85,Dollars!$E$2:$E$1188,'Rent lookup by Building'!F$6,Dollars!$C$2:$C$1188,'Rent lookup by Building'!$C$4)","v":0},{"$f":"SUMIFS(Dollars!$F$2:$F$1188,Dollars!$A$2:$A$1188,'Rent lookup by Building'!$B85,Dollars!$E$2:$E$1188,'Rent lookup by Building'!G$6,Dollars!$C$2:$C$1188,'Rent lookup by Building'!$C$4)","v":0},{"$f":"SUMIFS(Dollars!$F$2:$F$1188,Dollars!$A$2:$A$1188,'Rent lookup by Building'!$B85,Dollars!$E$2:$E$1188,'Rent lookup by Building'!H$6,Dollars!$C$2:$C$1188,'Rent lookup by Building'!$C$4)","v":0},0,0,0,null,{"$f":"SUMIFS(Dollars!$G$2:$G$1188,Dollars!$A$2:$A$1188,'Rent lookup by Building'!$B85,Dollars!$E$2:$E$1188,'Rent lookup by Building'!M$6,Dollars!$C$2:$C$1188,'Rent lookup by Building'!$C$4)","v":0},{"$f":"SUMIFS(Dollars!$G$2:$G$1188,Dollars!$A$2:$A$1188,'Rent lookup by Building'!$B85,Dollars!$E$2:$E$1188,'Rent lookup by Building'!N$6,Dollars!$C$2:$C$1188,'Rent lookup by Building'!$C$4)","v":0},{"$f":"SUMIFS(Dollars!$G$2:$G$1188,Dollars!$A$2:$A$1188,'Rent lookup by Building'!$B85,Dollars!$E$2:$E$1188,'Rent lookup by Building'!O$6,Dollars!$C$2:$C$1188,'Rent lookup by Building'!$C$4)","v":0},0,0,0]
["HIDE","370","370 - Eastern Washington University",{"$f":"SUMIFS('RSF List'!C:C,'RSF List'!B:B,'Rent lookup by Building'!$C$4,'RSF List'!A:A,LEFT('Rent lookup by Building'!C86,3))","v":0},null,{"$f":"SUMIFS(Dollars!$F$2:$F$1188,Dollars!$A$2:$A$1188,'Rent lookup by Building'!$B86,Dollars!$E$2:$E$1188,'Rent lookup by Building'!F$6,Dollars!$C$2:$C$1188,'Rent lookup by Building'!$C$4)","v":0},{"$f":"SUMIFS(Dollars!$F$2:$F$1188,Dollars!$A$2:$A$1188,'Rent lookup by Building'!$B86,Dollars!$E$2:$E$1188,'Rent lookup by Building'!G$6,Dollars!$C$2:$C$1188,'Rent lookup by Building'!$C$4)","v":0},{"$f":"SUMIFS(Dollars!$F$2:$F$1188,Dollars!$A$2:$A$1188,'Rent lookup by Building'!$B86,Dollars!$E$2:$E$1188,'Rent lookup by Building'!H$6,Dollars!$C$2:$C$1188,'Rent lookup by Building'!$C$4)","v":0},0,0,0,null,{"$f":"SUMIFS(Dollars!$G$2:$G$1188,Dollars!$A$2:$A$1188,'Rent lookup by Building'!$B86,Dollars!$E$2:$E$1188,'Rent lookup by Building'!M$6,Dollars!$C$2:$C$1188,'Rent lookup by Building'!$C$4)","v":0},{"$f":"SUMIFS(Dollars!$G$2:$G$1188,Dollars!$A$2:$A$1188,'Rent lookup by Building'!$B86,Dollars!$E$2:$E$1188,'Rent lookup by Building'!N$6,Dollars!$C$2:$C$1188,'Rent lookup by Building'!$C$4)","v":0},{"$f":"SUMIFS(Dollars!$G$2:$G$1188,Dollars!$A$2:$A$1188,'Rent lookup by Building'!$B86,Dollars!$E$2:$E$1188,'Rent lookup by Building'!O$6,Dollars!$C$2:$C$1188,'Rent lookup by Building'!$C$4)","v":0},0,0,0]
["HIDE","375","375 - Central Washington University",{"$f":"SUMIFS('RSF List'!C:C,'RSF List'!B:B,'Rent lookup by Building'!$C$4,'RSF List'!A:A,LEFT('Rent lookup by Building'!C87,3))","v":0},null,{"$f":"SUMIFS(Dollars!$F$2:$F$1188,Dollars!$A$2:$A$1188,'Rent lookup by Building'!$B87,Dollars!$E$2:$E$1188,'Rent lookup by Building'!F$6,Dollars!$C$2:$C$1188,'Rent lookup by Building'!$C$4)","v":0},{"$f":"SUMIFS(Dollars!$F$2:$F$1188,Dollars!$A$2:$A$1188,'Rent lookup by Building'!$B87,Dollars!$E$2:$E$1188,'Rent lookup by Building'!G$6,Dollars!$C$2:$C$1188,'Rent lookup by Building'!$C$4)","v":0},{"$f":"SUMIFS(Dollars!$F$2:$F$1188,Dollars!$A$2:$A$1188,'Rent lookup by Building'!$B87,Dollars!$E$2:$E$1188,'Rent lookup by Building'!H$6,Dollars!$C$2:$C$1188,'Rent lookup by Building'!$C$4)","v":0},0,0,0,null,{"$f":"SUMIFS(Dollars!$G$2:$G$1188,Dollars!$A$2:$A$1188,'Rent lookup by Building'!$B87,Dollars!$E$2:$E$1188,'Rent lookup by Building'!M$6,Dollars!$C$2:$C$1188,'Rent lookup by Building'!$C$4)","v":0},{"$f":"SUMIFS(Dollars!$G$2:$G$1188,Dollars!$A$2:$A$1188,'Rent lookup by Building'!$B87,Dollars!$E$2:$E$1188,'Rent lookup by Building'!N$6,Dollars!$C$2:$C$1188,'Rent lookup by Building'!$C$4)","v":0},{"$f":"SUMIFS(Dollars!$G$2:$G$1188,Dollars!$A$2:$A$1188,'Rent lookup by Building'!$B87,Dollars!$E$2:$E$1188,'Rent lookup by Building'!O$6,Dollars!$C$2:$C$1188,'Rent lookup by Building'!$C$4)","v":0},0,0,0]
["HIDE","376","376 - The Evergreen State College",{"$f":"SUMIFS('RSF List'!C:C,'RSF List'!B:B,'Rent lookup by Building'!$C$4,'RSF List'!A:A,LEFT('Rent lookup by Building'!C88,3))","v":0},null,{"$f":"SUMIFS(Dollars!$F$2:$F$1188,Dollars!$A$2:$A$1188,'Rent lookup by Building'!$B88,Dollars!$E$2:$E$1188,'Rent lookup by Building'!F$6,Dollars!$C$2:$C$1188,'Rent lookup by Building'!$C$4)","v":0},{"$f":"SUMIFS(Dollars!$F$2:$F$1188,Dollars!$A$2:$A$1188,'Rent lookup by Building'!$B88,Dollars!$E$2:$E$1188,'Rent lookup by Building'!G$6,Dollars!$C$2:$C$1188,'Rent lookup by Building'!$C$4)","v":0},{"$f":"SUMIFS(Dollars!$F$2:$F$1188,Dollars!$A$2:$A$1188,'Rent lookup by Building'!$B88,Dollars!$E$2:$E$1188,'Rent lookup by Building'!H$6,Dollars!$C$2:$C$1188,'Rent lookup by Building'!$C$4)","v":0},0,0,0,null,{"$f":"SUMIFS(Dollars!$G$2:$G$1188,Dollars!$A$2:$A$1188,'Rent lookup by Building'!$B88,Dollars!$E$2:$E$1188,'Rent lookup by Building'!M$6,Dollars!$C$2:$C$1188,'Rent lookup by Building'!$C$4)","v":0},{"$f":"SUMIFS(Dollars!$G$2:$G$1188,Dollars!$A$2:$A$1188,'Rent lookup by Building'!$B88,Dollars!$E$2:$E$1188,'Rent lookup by Building'!N$6,Dollars!$C$2:$C$1188,'Rent lookup by Building'!$C$4)","v":0},{"$f":"SUMIFS(Dollars!$G$2:$G$1188,Dollars!$A$2:$A$1188,'Rent lookup by Building'!$B88,Dollars!$E$2:$E$1188,'Rent lookup by Building'!O$6,Dollars!$C$2:$C$1188,'Rent lookup by Building'!$C$4)","v":0},0,0,0]
["HIDE","380","380 - Western Washington University",{"$f":"SUMIFS('RSF List'!C:C,'RSF List'!B:B,'Rent lookup by Building'!$C$4,'RSF List'!A:A,LEFT('Rent lookup by Building'!C89,3))","v":0},null,{"$f":"SUMIFS(Dollars!$F$2:$F$1188,Dollars!$A$2:$A$1188,'Rent lookup by Building'!$B89,Dollars!$E$2:$E$1188,'Rent lookup by Building'!F$6,Dollars!$C$2:$C$1188,'Rent lookup by Building'!$C$4)","v":0},{"$f":"SUMIFS(Dollars!$F$2:$F$1188,Dollars!$A$2:$A$1188,'Rent lookup by Building'!$B89,Dollars!$E$2:$E$1188,'Rent lookup by Building'!G$6,Dollars!$C$2:$C$1188,'Rent lookup by Building'!$C$4)","v":0},{"$f":"SUMIFS(Dollars!$F$2:$F$1188,Dollars!$A$2:$A$1188,'Rent lookup by Building'!$B89,Dollars!$E$2:$E$1188,'Rent lookup by Building'!H$6,Dollars!$C$2:$C$1188,'Rent lookup by Building'!$C$4)","v":0},0,0,0,null,{"$f":"SUMIFS(Dollars!$G$2:$G$1188,Dollars!$A$2:$A$1188,'Rent lookup by Building'!$B89,Dollars!$E$2:$E$1188,'Rent lookup by Building'!M$6,Dollars!$C$2:$C$1188,'Rent lookup by Building'!$C$4)","v":0},{"$f":"SUMIFS(Dollars!$G$2:$G$1188,Dollars!$A$2:$A$1188,'Rent lookup by Building'!$B89,Dollars!$E$2:$E$1188,'Rent lookup by Building'!N$6,Dollars!$C$2:$C$1188,'Rent lookup by Building'!$C$4)","v":0},{"$f":"SUMIFS(Dollars!$G$2:$G$1188,Dollars!$A$2:$A$1188,'Rent lookup by Building'!$B89,Dollars!$E$2:$E$1188,'Rent lookup by Building'!O$6,Dollars!$C$2:$C$1188,'Rent lookup by Building'!$C$4)","v":0},0,0,0]
["HIDE","387","387 - Washington State Arts Commission",{"$f":"SUMIFS('RSF List'!C:C,'RSF List'!B:B,'Rent lookup by Building'!$C$4,'RSF List'!A:A,LEFT('Rent lookup by Building'!C90,3))","v":0},null,{"$f":"SUMIFS(Dollars!$F$2:$F$1188,Dollars!$A$2:$A$1188,'Rent lookup by Building'!$B90,Dollars!$E$2:$E$1188,'Rent lookup by Building'!F$6,Dollars!$C$2:$C$1188,'Rent lookup by Building'!$C$4)","v":0},{"$f":"SUMIFS(Dollars!$F$2:$F$1188,Dollars!$A$2:$A$1188,'Rent lookup by Building'!$B90,Dollars!$E$2:$E$1188,'Rent lookup by Building'!G$6,Dollars!$C$2:$C$1188,'Rent lookup by Building'!$C$4)","v":0},{"$f":"SUMIFS(Dollars!$F$2:$F$1188,Dollars!$A$2:$A$1188,'Rent lookup by Building'!$B90,Dollars!$E$2:$E$1188,'Rent lookup by Building'!H$6,Dollars!$C$2:$C$1188,'Rent lookup by Building'!$C$4)","v":0},0,0,0,null,{"$f":"SUMIFS(Dollars!$G$2:$G$1188,Dollars!$A$2:$A$1188,'Rent lookup by Building'!$B90,Dollars!$E$2:$E$1188,'Rent lookup by Building'!M$6,Dollars!$C$2:$C$1188,'Rent lookup by Building'!$C$4)","v":0},{"$f":"SUMIFS(Dollars!$G$2:$G$1188,Dollars!$A$2:$A$1188,'Rent lookup by Building'!$B90,Dollars!$E$2:$E$1188,'Rent lookup by Building'!N$6,Dollars!$C$2:$C$1188,'Rent lookup by Building'!$C$4)","v":0},{"$f":"SUMIFS(Dollars!$G$2:$G$1188,Dollars!$A$2:$A$1188,'Rent lookup by Building'!$B90,Dollars!$E$2:$E$1188,'Rent lookup by Building'!O$6,Dollars!$C$2:$C$1188,'Rent lookup by Building'!$C$4)","v":0},0,0,0]
["HIDE","390","390 - Washington State Historical Society",{"$f":"SUMIFS('RSF List'!C:C,'RSF List'!B:B,'Rent lookup by Building'!$C$4,'RSF List'!A:A,LEFT('Rent lookup by Building'!C91,3))","v":0},null,{"$f":"SUMIFS(Dollars!$F$2:$F$1188,Dollars!$A$2:$A$1188,'Rent lookup by Building'!$B91,Dollars!$E$2:$E$1188,'Rent lookup by Building'!F$6,Dollars!$C$2:$C$1188,'Rent lookup by Building'!$C$4)","v":0},{"$f":"SUMIFS(Dollars!$F$2:$F$1188,Dollars!$A$2:$A$1188,'Rent lookup by Building'!$B91,Dollars!$E$2:$E$1188,'Rent lookup by Building'!G$6,Dollars!$C$2:$C$1188,'Rent lookup by Building'!$C$4)","v":0},{"$f":"SUMIFS(Dollars!$F$2:$F$1188,Dollars!$A$2:$A$1188,'Rent lookup by Building'!$B91,Dollars!$E$2:$E$1188,'Rent lookup by Building'!H$6,Dollars!$C$2:$C$1188,'Rent lookup by Building'!$C$4)","v":0},0,0,0,null,{"$f":"SUMIFS(Dollars!$G$2:$G$1188,Dollars!$A$2:$A$1188,'Rent lookup by Building'!$B91,Dollars!$E$2:$E$1188,'Rent lookup by Building'!M$6,Dollars!$C$2:$C$1188,'Rent lookup by Building'!$C$4)","v":0},{"$f":"SUMIFS(Dollars!$G$2:$G$1188,Dollars!$A$2:$A$1188,'Rent lookup by Building'!$B91,Dollars!$E$2:$E$1188,'Rent lookup by Building'!N$6,Dollars!$C$2:$C$1188,'Rent lookup by Building'!$C$4)","v":0},{"$f":"SUMIFS(Dollars!$G$2:$G$1188,Dollars!$A$2:$A$1188,'Rent lookup by Building'!$B91,Dollars!$E$2:$E$1188,'Rent lookup by Building'!O$6,Dollars!$C$2:$C$1188,'Rent lookup by Building'!$C$4)","v":0},0,0,0]
["HIDE","395","395 - Eastern Washington State Historical Society",{"$f":"SUMIFS('RSF List'!C:C,'RSF List'!B:B,'Rent lookup by Building'!$C$4,'RSF List'!A:A,LEFT('Rent lookup by Building'!C92,3))","v":0},null,{"$f":"SUMIFS(Dollars!$F$2:$F$1188,Dollars!$A$2:$A$1188,'Rent lookup by Building'!$B92,Dollars!$E$2:$E$1188,'Rent lookup by Building'!F$6,Dollars!$C$2:$C$1188,'Rent lookup by Building'!$C$4)","v":0},{"$f":"SUMIFS(Dollars!$F$2:$F$1188,Dollars!$A$2:$A$1188,'Rent lookup by Building'!$B92,Dollars!$E$2:$E$1188,'Rent lookup by Building'!G$6,Dollars!$C$2:$C$1188,'Rent lookup by Building'!$C$4)","v":0},{"$f":"SUMIFS(Dollars!$F$2:$F$1188,Dollars!$A$2:$A$1188,'Rent lookup by Building'!$B92,Dollars!$E$2:$E$1188,'Rent lookup by Building'!H$6,Dollars!$C$2:$C$1188,'Rent lookup by Building'!$C$4)","v":0},0,0,0,null,{"$f":"SUMIFS(Dollars!$G$2:$G$1188,Dollars!$A$2:$A$1188,'Rent lookup by Building'!$B92,Dollars!$E$2:$E$1188,'Rent lookup by Building'!M$6,Dollars!$C$2:$C$1188,'Rent lookup by Building'!$C$4)","v":0},{"$f":"SUMIFS(Dollars!$G$2:$G$1188,Dollars!$A$2:$A$1188,'Rent lookup by Building'!$B92,Dollars!$E$2:$E$1188,'Rent lookup by Building'!N$6,Dollars!$C$2:$C$1188,'Rent lookup by Building'!$C$4)","v":0},{"$f":"SUMIFS(Dollars!$G$2:$G$1188,Dollars!$A$2:$A$1188,'Rent lookup by Building'!$B92,Dollars!$E$2:$E$1188,'Rent lookup by Building'!O$6,Dollars!$C$2:$C$1188,'Rent lookup by Building'!$C$4)","v":0},0,0,0]
["HIDE","405","405 - Department of Transportation",{"$f":"SUMIFS('RSF List'!C:C,'RSF List'!B:B,'Rent lookup by Building'!$C$4,'RSF List'!A:A,LEFT('Rent lookup by Building'!C93,3))","v":0},null,{"$f":"SUMIFS(Dollars!$F$2:$F$1188,Dollars!$A$2:$A$1188,'Rent lookup by Building'!$B93,Dollars!$E$2:$E$1188,'Rent lookup by Building'!F$6,Dollars!$C$2:$C$1188,'Rent lookup by Building'!$C$4)","v":0},{"$f":"SUMIFS(Dollars!$F$2:$F$1188,Dollars!$A$2:$A$1188,'Rent lookup by Building'!$B93,Dollars!$E$2:$E$1188,'Rent lookup by Building'!G$6,Dollars!$C$2:$C$1188,'Rent lookup by Building'!$C$4)","v":0},{"$f":"SUMIFS(Dollars!$F$2:$F$1188,Dollars!$A$2:$A$1188,'Rent lookup by Building'!$B93,Dollars!$E$2:$E$1188,'Rent lookup by Building'!H$6,Dollars!$C$2:$C$1188,'Rent lookup by Building'!$C$4)","v":0},0,0,0,null,{"$f":"SUMIFS(Dollars!$G$2:$G$1188,Dollars!$A$2:$A$1188,'Rent lookup by Building'!$B93,Dollars!$E$2:$E$1188,'Rent lookup by Building'!M$6,Dollars!$C$2:$C$1188,'Rent lookup by Building'!$C$4)","v":0},{"$f":"SUMIFS(Dollars!$G$2:$G$1188,Dollars!$A$2:$A$1188,'Rent lookup by Building'!$B93,Dollars!$E$2:$E$1188,'Rent lookup by Building'!N$6,Dollars!$C$2:$C$1188,'Rent lookup by Building'!$C$4)","v":0},{"$f":"SUMIFS(Dollars!$G$2:$G$1188,Dollars!$A$2:$A$1188,'Rent lookup by Building'!$B93,Dollars!$E$2:$E$1188,'Rent lookup by Building'!O$6,Dollars!$C$2:$C$1188,'Rent lookup by Building'!$C$4)","v":0},0,0,0]
["HIDE","406","406 - County Road Administration Board",{"$f":"SUMIFS('RSF List'!C:C,'RSF List'!B:B,'Rent lookup by Building'!$C$4,'RSF List'!A:A,LEFT('Rent lookup by Building'!C94,3))","v":0},null,{"$f":"SUMIFS(Dollars!$F$2:$F$1188,Dollars!$A$2:$A$1188,'Rent lookup by Building'!$B94,Dollars!$E$2:$E$1188,'Rent lookup by Building'!F$6,Dollars!$C$2:$C$1188,'Rent lookup by Building'!$C$4)","v":0},{"$f":"SUMIFS(Dollars!$F$2:$F$1188,Dollars!$A$2:$A$1188,'Rent lookup by Building'!$B94,Dollars!$E$2:$E$1188,'Rent lookup by Building'!G$6,Dollars!$C$2:$C$1188,'Rent lookup by Building'!$C$4)","v":0},{"$f":"SUMIFS(Dollars!$F$2:$F$1188,Dollars!$A$2:$A$1188,'Rent lookup by Building'!$B94,Dollars!$E$2:$E$1188,'Rent lookup by Building'!H$6,Dollars!$C$2:$C$1188,'Rent lookup by Building'!$C$4)","v":0},0,0,0,null,{"$f":"SUMIFS(Dollars!$G$2:$G$1188,Dollars!$A$2:$A$1188,'Rent lookup by Building'!$B94,Dollars!$E$2:$E$1188,'Rent lookup by Building'!M$6,Dollars!$C$2:$C$1188,'Rent lookup by Building'!$C$4)","v":0},{"$f":"SUMIFS(Dollars!$G$2:$G$1188,Dollars!$A$2:$A$1188,'Rent lookup by Building'!$B94,Dollars!$E$2:$E$1188,'Rent lookup by Building'!N$6,Dollars!$C$2:$C$1188,'Rent lookup by Building'!$C$4)","v":0},{"$f":"SUMIFS(Dollars!$G$2:$G$1188,Dollars!$A$2:$A$1188,'Rent lookup by Building'!$B94,Dollars!$E$2:$E$1188,'Rent lookup by Building'!O$6,Dollars!$C$2:$C$1188,'Rent lookup by Building'!$C$4)","v":0},0,0,0]
["HIDE","407","407 - Transportation Improvement Board",{"$f":"SUMIFS('RSF List'!C:C,'RSF List'!B:B,'Rent lookup by Building'!$C$4,'RSF List'!A:A,LEFT('Rent lookup by Building'!C95,3))","v":0},null,{"$f":"SUMIFS(Dollars!$F$2:$F$1188,Dollars!$A$2:$A$1188,'Rent lookup by Building'!$B95,Dollars!$E$2:$E$1188,'Rent lookup by Building'!F$6,Dollars!$C$2:$C$1188,'Rent lookup by Building'!$C$4)","v":0},{"$f":"SUMIFS(Dollars!$F$2:$F$1188,Dollars!$A$2:$A$1188,'Rent lookup by Building'!$B95,Dollars!$E$2:$E$1188,'Rent lookup by Building'!G$6,Dollars!$C$2:$C$1188,'Rent lookup by Building'!$C$4)","v":0},{"$f":"SUMIFS(Dollars!$F$2:$F$1188,Dollars!$A$2:$A$1188,'Rent lookup by Building'!$B95,Dollars!$E$2:$E$1188,'Rent lookup by Building'!H$6,Dollars!$C$2:$C$1188,'Rent lookup by Building'!$C$4)","v":0},0,0,0,null,{"$f":"SUMIFS(Dollars!$G$2:$G$1188,Dollars!$A$2:$A$1188,'Rent lookup by Building'!$B95,Dollars!$E$2:$E$1188,'Rent lookup by Building'!M$6,Dollars!$C$2:$C$1188,'Rent lookup by Building'!$C$4)","v":0},{"$f":"SUMIFS(Dollars!$G$2:$G$1188,Dollars!$A$2:$A$1188,'Rent lookup by Building'!$B95,Dollars!$E$2:$E$1188,'Rent lookup by Building'!N$6,Dollars!$C$2:$C$1188,'Rent lookup by Building'!$C$4)","v":0},{"$f":"SUMIFS(Dollars!$G$2:$G$1188,Dollars!$A$2:$A$1188,'Rent lookup by Building'!$B95,Dollars!$E$2:$E$1188,'Rent lookup by Building'!O$6,Dollars!$C$2:$C$1188,'Rent lookup by Building'!$C$4)","v":0},0,0,0]
["HIDE","410","410 - Transportation Commission",{"$f":"SUMIFS('RSF List'!C:C,'RSF List'!B:B,'Rent lookup by Building'!$C$4,'RSF List'!A:A,LEFT('Rent lookup by Building'!C96,3))","v":0},null,{"$f":"SUMIFS(Dollars!$F$2:$F$1188,Dollars!$A$2:$A$1188,'Rent lookup by Building'!$B96,Dollars!$E$2:$E$1188,'Rent lookup by Building'!F$6,Dollars!$C$2:$C$1188,'Rent lookup by Building'!$C$4)","v":0},{"$f":"SUMIFS(Dollars!$F$2:$F$1188,Dollars!$A$2:$A$1188,'Rent lookup by Building'!$B96,Dollars!$E$2:$E$1188,'Rent lookup by Building'!G$6,Dollars!$C$2:$C$1188,'Rent lookup by Building'!$C$4)","v":0},{"$f":"SUMIFS(Dollars!$F$2:$F$1188,Dollars!$A$2:$A$1188,'Rent lookup by Building'!$B96,Dollars!$E$2:$E$1188,'Rent lookup by Building'!H$6,Dollars!$C$2:$C$1188,'Rent lookup by Building'!$C$4)","v":0},0,0,0,null,{"$f":"SUMIFS(Dollars!$G$2:$G$1188,Dollars!$A$2:$A$1188,'Rent lookup by Building'!$B96,Dollars!$E$2:$E$1188,'Rent lookup by Building'!M$6,Dollars!$C$2:$C$1188,'Rent lookup by Building'!$C$4)","v":0},{"$f":"SUMIFS(Dollars!$G$2:$G$1188,Dollars!$A$2:$A$1188,'Rent lookup by Building'!$B96,Dollars!$E$2:$E$1188,'Rent lookup by Building'!N$6,Dollars!$C$2:$C$1188,'Rent lookup by Building'!$C$4)","v":0},{"$f":"SUMIFS(Dollars!$G$2:$G$1188,Dollars!$A$2:$A$1188,'Rent lookup by Building'!$B96,Dollars!$E$2:$E$1188,'Rent lookup by Building'!O$6,Dollars!$C$2:$C$1188,'Rent lookup by Building'!$C$4)","v":0},0,0,0]
["HIDE","411","411 - Freight Mobility Strategic Investment Board",{"$f":"SUMIFS('RSF List'!C:C,'RSF List'!B:B,'Rent lookup by Building'!$C$4,'RSF List'!A:A,LEFT('Rent lookup by Building'!C97,3))","v":0},null,{"$f":"SUMIFS(Dollars!$F$2:$F$1188,Dollars!$A$2:$A$1188,'Rent lookup by Building'!$B97,Dollars!$E$2:$E$1188,'Rent lookup by Building'!F$6,Dollars!$C$2:$C$1188,'Rent lookup by Building'!$C$4)","v":0},{"$f":"SUMIFS(Dollars!$F$2:$F$1188,Dollars!$A$2:$A$1188,'Rent lookup by Building'!$B97,Dollars!$E$2:$E$1188,'Rent lookup by Building'!G$6,Dollars!$C$2:$C$1188,'Rent lookup by Building'!$C$4)","v":0},{"$f":"SUMIFS(Dollars!$F$2:$F$1188,Dollars!$A$2:$A$1188,'Rent lookup by Building'!$B97,Dollars!$E$2:$E$1188,'Rent lookup by Building'!H$6,Dollars!$C$2:$C$1188,'Rent lookup by Building'!$C$4)","v":0},0,0,0,null,{"$f":"SUMIFS(Dollars!$G$2:$G$1188,Dollars!$A$2:$A$1188,'Rent lookup by Building'!$B97,Dollars!$E$2:$E$1188,'Rent lookup by Building'!M$6,Dollars!$C$2:$C$1188,'Rent lookup by Building'!$C$4)","v":0},{"$f":"SUMIFS(Dollars!$G$2:$G$1188,Dollars!$A$2:$A$1188,'Rent lookup by Building'!$B97,Dollars!$E$2:$E$1188,'Rent lookup by Building'!N$6,Dollars!$C$2:$C$1188,'Rent lookup by Building'!$C$4)","v":0},{"$f":"SUMIFS(Dollars!$G$2:$G$1188,Dollars!$A$2:$A$1188,'Rent lookup by Building'!$B97,Dollars!$E$2:$E$1188,'Rent lookup by Building'!O$6,Dollars!$C$2:$C$1188,'Rent lookup by Building'!$C$4)","v":0},0,0,0]
["HIDE","460","460 - Columbia River Gorge Commission",{"$f":"SUMIFS('RSF List'!C:C,'RSF List'!B:B,'Rent lookup by Building'!$C$4,'RSF List'!A:A,LEFT('Rent lookup by Building'!C98,3))","v":0},null,{"$f":"SUMIFS(Dollars!$F$2:$F$1188,Dollars!$A$2:$A$1188,'Rent lookup by Building'!$B98,Dollars!$E$2:$E$1188,'Rent lookup by Building'!F$6,Dollars!$C$2:$C$1188,'Rent lookup by Building'!$C$4)","v":0},{"$f":"SUMIFS(Dollars!$F$2:$F$1188,Dollars!$A$2:$A$1188,'Rent lookup by Building'!$B98,Dollars!$E$2:$E$1188,'Rent lookup by Building'!G$6,Dollars!$C$2:$C$1188,'Rent lookup by Building'!$C$4)","v":0},{"$f":"SUMIFS(Dollars!$F$2:$F$1188,Dollars!$A$2:$A$1188,'Rent lookup by Building'!$B98,Dollars!$E$2:$E$1188,'Rent lookup by Building'!H$6,Dollars!$C$2:$C$1188,'Rent lookup by Building'!$C$4)","v":0},0,0,0,null,{"$f":"SUMIFS(Dollars!$G$2:$G$1188,Dollars!$A$2:$A$1188,'Rent lookup by Building'!$B98,Dollars!$E$2:$E$1188,'Rent lookup by Building'!M$6,Dollars!$C$2:$C$1188,'Rent lookup by Building'!$C$4)","v":0},{"$f":"SUMIFS(Dollars!$G$2:$G$1188,Dollars!$A$2:$A$1188,'Rent lookup by Building'!$B98,Dollars!$E$2:$E$1188,'Rent lookup by Building'!N$6,Dollars!$C$2:$C$1188,'Rent lookup by Building'!$C$4)","v":0},{"$f":"SUMIFS(Dollars!$G$2:$G$1188,Dollars!$A$2:$A$1188,'Rent lookup by Building'!$B98,Dollars!$E$2:$E$1188,'Rent lookup by Building'!O$6,Dollars!$C$2:$C$1188,'Rent lookup by Building'!$C$4)","v":0},0,0,0]
["HIDE","461","461 - Department of Ecology",{"$f":"SUMIFS('RSF List'!C:C,'RSF List'!B:B,'Rent lookup by Building'!$C$4,'RSF List'!A:A,LEFT('Rent lookup by Building'!C99,3))","v":0},null,{"$f":"SUMIFS(Dollars!$F$2:$F$1188,Dollars!$A$2:$A$1188,'Rent lookup by Building'!$B99,Dollars!$E$2:$E$1188,'Rent lookup by Building'!F$6,Dollars!$C$2:$C$1188,'Rent lookup by Building'!$C$4)","v":0},{"$f":"SUMIFS(Dollars!$F$2:$F$1188,Dollars!$A$2:$A$1188,'Rent lookup by Building'!$B99,Dollars!$E$2:$E$1188,'Rent lookup by Building'!G$6,Dollars!$C$2:$C$1188,'Rent lookup by Building'!$C$4)","v":0},{"$f":"SUMIFS(Dollars!$F$2:$F$1188,Dollars!$A$2:$A$1188,'Rent lookup by Building'!$B99,Dollars!$E$2:$E$1188,'Rent lookup by Building'!H$6,Dollars!$C$2:$C$1188,'Rent lookup by Building'!$C$4)","v":0},0,0,0,null,{"$f":"SUMIFS(Dollars!$G$2:$G$1188,Dollars!$A$2:$A$1188,'Rent lookup by Building'!$B99,Dollars!$E$2:$E$1188,'Rent lookup by Building'!M$6,Dollars!$C$2:$C$1188,'Rent lookup by Building'!$C$4)","v":0},{"$f":"SUMIFS(Dollars!$G$2:$G$1188,Dollars!$A$2:$A$1188,'Rent lookup by Building'!$B99,Dollars!$E$2:$E$1188,'Rent lookup by Building'!N$6,Dollars!$C$2:$C$1188,'Rent lookup by Building'!$C$4)","v":0},{"$f":"SUMIFS(Dollars!$G$2:$G$1188,Dollars!$A$2:$A$1188,'Rent lookup by Building'!$B99,Dollars!$E$2:$E$1188,'Rent lookup by Building'!O$6,Dollars!$C$2:$C$1188,'Rent lookup by Building'!$C$4)","v":0},0,0,0]
["HIDE","462","462 - Pollution Liability Insurance Program",{"$f":"SUMIFS('RSF List'!C:C,'RSF List'!B:B,'Rent lookup by Building'!$C$4,'RSF List'!A:A,LEFT('Rent lookup by Building'!C100,3))","v":0},null,{"$f":"SUMIFS(Dollars!$F$2:$F$1188,Dollars!$A$2:$A$1188,'Rent lookup by Building'!$B100,Dollars!$E$2:$E$1188,'Rent lookup by Building'!F$6,Dollars!$C$2:$C$1188,'Rent lookup by Building'!$C$4)","v":0},{"$f":"SUMIFS(Dollars!$F$2:$F$1188,Dollars!$A$2:$A$1188,'Rent lookup by Building'!$B100,Dollars!$E$2:$E$1188,'Rent lookup by Building'!G$6,Dollars!$C$2:$C$1188,'Rent lookup by Building'!$C$4)","v":0},{"$f":"SUMIFS(Dollars!$F$2:$F$1188,Dollars!$A$2:$A$1188,'Rent lookup by Building'!$B100,Dollars!$E$2:$E$1188,'Rent lookup by Building'!H$6,Dollars!$C$2:$C$1188,'Rent lookup by Building'!$C$4)","v":0},0,0,0,null,{"$f":"SUMIFS(Dollars!$G$2:$G$1188,Dollars!$A$2:$A$1188,'Rent lookup by Building'!$B100,Dollars!$E$2:$E$1188,'Rent lookup by Building'!M$6,Dollars!$C$2:$C$1188,'Rent lookup by Building'!$C$4)","v":0},{"$f":"SUMIFS(Dollars!$G$2:$G$1188,Dollars!$A$2:$A$1188,'Rent lookup by Building'!$B100,Dollars!$E$2:$E$1188,'Rent lookup by Building'!N$6,Dollars!$C$2:$C$1188,'Rent lookup by Building'!$C$4)","v":0},{"$f":"SUMIFS(Dollars!$G$2:$G$1188,Dollars!$A$2:$A$1188,'Rent lookup by Building'!$B100,Dollars!$E$2:$E$1188,'Rent lookup by Building'!O$6,Dollars!$C$2:$C$1188,'Rent lookup by Building'!$C$4)","v":0},0,0,0]
["HIDE","465","465 - State Parks and Recreation Commission",{"$f":"SUMIFS('RSF List'!C:C,'RSF List'!B:B,'Rent lookup by Building'!$C$4,'RSF List'!A:A,LEFT('Rent lookup by Building'!C101,3))","v":0},null,{"$f":"SUMIFS(Dollars!$F$2:$F$1188,Dollars!$A$2:$A$1188,'Rent lookup by Building'!$B101,Dollars!$E$2:$E$1188,'Rent lookup by Building'!F$6,Dollars!$C$2:$C$1188,'Rent lookup by Building'!$C$4)","v":0},{"$f":"SUMIFS(Dollars!$F$2:$F$1188,Dollars!$A$2:$A$1188,'Rent lookup by Building'!$B101,Dollars!$E$2:$E$1188,'Rent lookup by Building'!G$6,Dollars!$C$2:$C$1188,'Rent lookup by Building'!$C$4)","v":0},{"$f":"SUMIFS(Dollars!$F$2:$F$1188,Dollars!$A$2:$A$1188,'Rent lookup by Building'!$B101,Dollars!$E$2:$E$1188,'Rent lookup by Building'!H$6,Dollars!$C$2:$C$1188,'Rent lookup by Building'!$C$4)","v":0},0,0,0,null,{"$f":"SUMIFS(Dollars!$G$2:$G$1188,Dollars!$A$2:$A$1188,'Rent lookup by Building'!$B101,Dollars!$E$2:$E$1188,'Rent lookup by Building'!M$6,Dollars!$C$2:$C$1188,'Rent lookup by Building'!$C$4)","v":0},{"$f":"SUMIFS(Dollars!$G$2:$G$1188,Dollars!$A$2:$A$1188,'Rent lookup by Building'!$B101,Dollars!$E$2:$E$1188,'Rent lookup by Building'!N$6,Dollars!$C$2:$C$1188,'Rent lookup by Building'!$C$4)","v":0},{"$f":"SUMIFS(Dollars!$G$2:$G$1188,Dollars!$A$2:$A$1188,'Rent lookup by Building'!$B101,Dollars!$E$2:$E$1188,'Rent lookup by Building'!O$6,Dollars!$C$2:$C$1188,'Rent lookup by Building'!$C$4)","v":0},0,0,0]
["HIDE","467","467 - Recreation and Conservation Funding Board",{"$f":"SUMIFS('RSF List'!C:C,'RSF List'!B:B,'Rent lookup by Building'!$C$4,'RSF List'!A:A,LEFT('Rent lookup by Building'!C102,3))","v":0},null,{"$f":"SUMIFS(Dollars!$F$2:$F$1188,Dollars!$A$2:$A$1188,'Rent lookup by Building'!$B102,Dollars!$E$2:$E$1188,'Rent lookup by Building'!F$6,Dollars!$C$2:$C$1188,'Rent lookup by Building'!$C$4)","v":0},{"$f":"SUMIFS(Dollars!$F$2:$F$1188,Dollars!$A$2:$A$1188,'Rent lookup by Building'!$B102,Dollars!$E$2:$E$1188,'Rent lookup by Building'!G$6,Dollars!$C$2:$C$1188,'Rent lookup by Building'!$C$4)","v":0},{"$f":"SUMIFS(Dollars!$F$2:$F$1188,Dollars!$A$2:$A$1188,'Rent lookup by Building'!$B102,Dollars!$E$2:$E$1188,'Rent lookup by Building'!H$6,Dollars!$C$2:$C$1188,'Rent lookup by Building'!$C$4)","v":0},0,0,0,null,{"$f":"SUMIFS(Dollars!$G$2:$G$1188,Dollars!$A$2:$A$1188,'Rent lookup by Building'!$B102,Dollars!$E$2:$E$1188,'Rent lookup by Building'!M$6,Dollars!$C$2:$C$1188,'Rent lookup by Building'!$C$4)","v":0},{"$f":"SUMIFS(Dollars!$G$2:$G$1188,Dollars!$A$2:$A$1188,'Rent lookup by Building'!$B102,Dollars!$E$2:$E$1188,'Rent lookup by Building'!N$6,Dollars!$C$2:$C$1188,'Rent lookup by Building'!$C$4)","v":0},{"$f":"SUMIFS(Dollars!$G$2:$G$1188,Dollars!$A$2:$A$1188,'Rent lookup by Building'!$B102,Dollars!$E$2:$E$1188,'Rent lookup by Building'!O$6,Dollars!$C$2:$C$1188,'Rent lookup by Building'!$C$4)","v":0},0,0,0]
["HIDE","468","468 - Environmental and Land Use Hearings Office",{"$f":"SUMIFS('RSF List'!C:C,'RSF List'!B:B,'Rent lookup by Building'!$C$4,'RSF List'!A:A,LEFT('Rent lookup by Building'!C103,3))","v":0},null,{"$f":"SUMIFS(Dollars!$F$2:$F$1188,Dollars!$A$2:$A$1188,'Rent lookup by Building'!$B103,Dollars!$E$2:$E$1188,'Rent lookup by Building'!F$6,Dollars!$C$2:$C$1188,'Rent lookup by Building'!$C$4)","v":0},{"$f":"SUMIFS(Dollars!$F$2:$F$1188,Dollars!$A$2:$A$1188,'Rent lookup by Building'!$B103,Dollars!$E$2:$E$1188,'Rent lookup by Building'!G$6,Dollars!$C$2:$C$1188,'Rent lookup by Building'!$C$4)","v":0},{"$f":"SUMIFS(Dollars!$F$2:$F$1188,Dollars!$A$2:$A$1188,'Rent lookup by Building'!$B103,Dollars!$E$2:$E$1188,'Rent lookup by Building'!H$6,Dollars!$C$2:$C$1188,'Rent lookup by Building'!$C$4)","v":0},{"$f":"SUM(F103:H103)","v":0},0,{"$f":"IFERROR(I103/D103,0)","v":0},null,{"$f":"SUMIFS(Dollars!$G$2:$G$1188,Dollars!$A$2:$A$1188,'Rent lookup by Building'!$B103,Dollars!$E$2:$E$1188,'Rent lookup by Building'!M$6,Dollars!$C$2:$C$1188,'Rent lookup by Building'!$C$4)","v":0},{"$f":"SUMIFS(Dollars!$G$2:$G$1188,Dollars!$A$2:$A$1188,'Rent lookup by Building'!$B103,Dollars!$E$2:$E$1188,'Rent lookup by Building'!N$6,Dollars!$C$2:$C$1188,'Rent lookup by Building'!$C$4)","v":0},{"$f":"SUMIFS(Dollars!$G$2:$G$1188,Dollars!$A$2:$A$1188,'Rent lookup by Building'!$B103,Dollars!$E$2:$E$1188,'Rent lookup by Building'!O$6,Dollars!$C$2:$C$1188,'Rent lookup by Building'!$C$4)","v":0},{"$f":"SUM(M103:O103)","v":0},0,{"$f":"IFERROR(P103/D103,0)","v":0}]
["HIDE","471","471 - State Conservation Commission",{"$f":"SUMIFS('RSF List'!C:C,'RSF List'!B:B,'Rent lookup by Building'!$C$4,'RSF List'!A:A,LEFT('Rent lookup by Building'!C104,3))","v":0},null,{"$f":"SUMIFS(Dollars!$F$2:$F$1188,Dollars!$A$2:$A$1188,'Rent lookup by Building'!$B104,Dollars!$E$2:$E$1188,'Rent lookup by Building'!F$6,Dollars!$C$2:$C$1188,'Rent lookup by Building'!$C$4)","v":0},{"$f":"SUMIFS(Dollars!$F$2:$F$1188,Dollars!$A$2:$A$1188,'Rent lookup by Building'!$B104,Dollars!$E$2:$E$1188,'Rent lookup by Building'!G$6,Dollars!$C$2:$C$1188,'Rent lookup by Building'!$C$4)","v":0},{"$f":"SUMIFS(Dollars!$F$2:$F$1188,Dollars!$A$2:$A$1188,'Rent lookup by Building'!$B104,Dollars!$E$2:$E$1188,'Rent lookup by Building'!H$6,Dollars!$C$2:$C$1188,'Rent lookup by Building'!$C$4)","v":0},0,0,0,null,{"$f":"SUMIFS(Dollars!$G$2:$G$1188,Dollars!$A$2:$A$1188,'Rent lookup by Building'!$B104,Dollars!$E$2:$E$1188,'Rent lookup by Building'!M$6,Dollars!$C$2:$C$1188,'Rent lookup by Building'!$C$4)","v":0},{"$f":"SUMIFS(Dollars!$G$2:$G$1188,Dollars!$A$2:$A$1188,'Rent lookup by Building'!$B104,Dollars!$E$2:$E$1188,'Rent lookup by Building'!N$6,Dollars!$C$2:$C$1188,'Rent lookup by Building'!$C$4)","v":0},{"$f":"SUMIFS(Dollars!$G$2:$G$1188,Dollars!$A$2:$A$1188,'Rent lookup by Building'!$B104,Dollars!$E$2:$E$1188,'Rent lookup by Building'!O$6,Dollars!$C$2:$C$1188,'Rent lookup by Building'!$C$4)","v":0},0,0,0]
["HIDE","477","477 - Department of Fish and Wildlife",{"$f":"SUMIFS('RSF List'!C:C,'RSF List'!B:B,'Rent lookup by Building'!$C$4,'RSF List'!A:A,LEFT('Rent lookup by Building'!C105,3))","v":0},null,{"$f":"SUMIFS(Dollars!$F$2:$F$1188,Dollars!$A$2:$A$1188,'Rent lookup by Building'!$B105,Dollars!$E$2:$E$1188,'Rent lookup by Building'!F$6,Dollars!$C$2:$C$1188,'Rent lookup by Building'!$C$4)","v":0},{"$f":"SUMIFS(Dollars!$F$2:$F$1188,Dollars!$A$2:$A$1188,'Rent lookup by Building'!$B105,Dollars!$E$2:$E$1188,'Rent lookup by Building'!G$6,Dollars!$C$2:$C$1188,'Rent lookup by Building'!$C$4)","v":0},{"$f":"SUMIFS(Dollars!$F$2:$F$1188,Dollars!$A$2:$A$1188,'Rent lookup by Building'!$B105,Dollars!$E$2:$E$1188,'Rent lookup by Building'!H$6,Dollars!$C$2:$C$1188,'Rent lookup by Building'!$C$4)","v":0},0,0,0,null,{"$f":"SUMIFS(Dollars!$G$2:$G$1188,Dollars!$A$2:$A$1188,'Rent lookup by Building'!$B105,Dollars!$E$2:$E$1188,'Rent lookup by Building'!M$6,Dollars!$C$2:$C$1188,'Rent lookup by Building'!$C$4)","v":0},{"$f":"SUMIFS(Dollars!$G$2:$G$1188,Dollars!$A$2:$A$1188,'Rent lookup by Building'!$B105,Dollars!$E$2:$E$1188,'Rent lookup by Building'!N$6,Dollars!$C$2:$C$1188,'Rent lookup by Building'!$C$4)","v":0},{"$f":"SUMIFS(Dollars!$G$2:$G$1188,Dollars!$A$2:$A$1188,'Rent lookup by Building'!$B105,Dollars!$E$2:$E$1188,'Rent lookup by Building'!O$6,Dollars!$C$2:$C$1188,'Rent lookup by Building'!$C$4)","v":0},0,0,0]
["HIDE","478","478 - Puget Sound Partnership",{"$f":"SUMIFS('RSF List'!C:C,'RSF List'!B:B,'Rent lookup by Building'!$C$4,'RSF List'!A:A,LEFT('Rent lookup by Building'!C106,3))","v":0},null,{"$f":"SUMIFS(Dollars!$F$2:$F$1188,Dollars!$A$2:$A$1188,'Rent lookup by Building'!$B106,Dollars!$E$2:$E$1188,'Rent lookup by Building'!F$6,Dollars!$C$2:$C$1188,'Rent lookup by Building'!$C$4)","v":0},{"$f":"SUMIFS(Dollars!$F$2:$F$1188,Dollars!$A$2:$A$1188,'Rent lookup by Building'!$B106,Dollars!$E$2:$E$1188,'Rent lookup by Building'!G$6,Dollars!$C$2:$C$1188,'Rent lookup by Building'!$C$4)","v":0},{"$f":"SUMIFS(Dollars!$F$2:$F$1188,Dollars!$A$2:$A$1188,'Rent lookup by Building'!$B106,Dollars!$E$2:$E$1188,'Rent lookup by Building'!H$6,Dollars!$C$2:$C$1188,'Rent lookup by Building'!$C$4)","v":0},0,0,0,null,{"$f":"SUMIFS(Dollars!$G$2:$G$1188,Dollars!$A$2:$A$1188,'Rent lookup by Building'!$B106,Dollars!$E$2:$E$1188,'Rent lookup by Building'!M$6,Dollars!$C$2:$C$1188,'Rent lookup by Building'!$C$4)","v":0},{"$f":"SUMIFS(Dollars!$G$2:$G$1188,Dollars!$A$2:$A$1188,'Rent lookup by Building'!$B106,Dollars!$E$2:$E$1188,'Rent lookup by Building'!N$6,Dollars!$C$2:$C$1188,'Rent lookup by Building'!$C$4)","v":0},{"$f":"SUMIFS(Dollars!$G$2:$G$1188,Dollars!$A$2:$A$1188,'Rent lookup by Building'!$B106,Dollars!$E$2:$E$1188,'Rent lookup by Building'!O$6,Dollars!$C$2:$C$1188,'Rent lookup by Building'!$C$4)","v":0},0,0,0]
["HIDE","490","490 - Department of Natural Resources",{"$f":"SUMIFS('RSF List'!C:C,'RSF List'!B:B,'Rent lookup by Building'!$C$4,'RSF List'!A:A,LEFT('Rent lookup by Building'!C107,3))","v":0},null,{"$f":"SUMIFS(Dollars!$F$2:$F$1188,Dollars!$A$2:$A$1188,'Rent lookup by Building'!$B107,Dollars!$E$2:$E$1188,'Rent lookup by Building'!F$6,Dollars!$C$2:$C$1188,'Rent lookup by Building'!$C$4)","v":0},{"$f":"SUMIFS(Dollars!$F$2:$F$1188,Dollars!$A$2:$A$1188,'Rent lookup by Building'!$B107,Dollars!$E$2:$E$1188,'Rent lookup by Building'!G$6,Dollars!$C$2:$C$1188,'Rent lookup by Building'!$C$4)","v":0},{"$f":"SUMIFS(Dollars!$F$2:$F$1188,Dollars!$A$2:$A$1188,'Rent lookup by Building'!$B107,Dollars!$E$2:$E$1188,'Rent lookup by Building'!H$6,Dollars!$C$2:$C$1188,'Rent lookup by Building'!$C$4)","v":0},0,0,0,null,{"$f":"SUMIFS(Dollars!$G$2:$G$1188,Dollars!$A$2:$A$1188,'Rent lookup by Building'!$B107,Dollars!$E$2:$E$1188,'Rent lookup by Building'!M$6,Dollars!$C$2:$C$1188,'Rent lookup by Building'!$C$4)","v":0},{"$f":"SUMIFS(Dollars!$G$2:$G$1188,Dollars!$A$2:$A$1188,'Rent lookup by Building'!$B107,Dollars!$E$2:$E$1188,'Rent lookup by Building'!N$6,Dollars!$C$2:$C$1188,'Rent lookup by Building'!$C$4)","v":0},{"$f":"SUMIFS(Dollars!$G$2:$G$1188,Dollars!$A$2:$A$1188,'Rent lookup by Building'!$B107,Dollars!$E$2:$E$1188,'Rent lookup by Building'!O$6,Dollars!$C$2:$C$1188,'Rent lookup by Building'!$C$4)","v":0},0,0,0]
["HIDE","495","495 - Department of Agriculture",{"$f":"SUMIFS('RSF List'!C:C,'RSF List'!B:B,'Rent lookup by Building'!$C$4,'RSF List'!A:A,LEFT('Rent lookup by Building'!C108,3))","v":0},null,{"$f":"SUMIFS(Dollars!$F$2:$F$1188,Dollars!$A$2:$A$1188,'Rent lookup by Building'!$B108,Dollars!$E$2:$E$1188,'Rent lookup by Building'!F$6,Dollars!$C$2:$C$1188,'Rent lookup by Building'!$C$4)","v":0},{"$f":"SUMIFS(Dollars!$F$2:$F$1188,Dollars!$A$2:$A$1188,'Rent lookup by Building'!$B108,Dollars!$E$2:$E$1188,'Rent lookup by Building'!G$6,Dollars!$C$2:$C$1188,'Rent lookup by Building'!$C$4)","v":0},{"$f":"SUMIFS(Dollars!$F$2:$F$1188,Dollars!$A$2:$A$1188,'Rent lookup by Building'!$B108,Dollars!$E$2:$E$1188,'Rent lookup by Building'!H$6,Dollars!$C$2:$C$1188,'Rent lookup by Building'!$C$4)","v":0},0,0,0,null,{"$f":"SUMIFS(Dollars!$G$2:$G$1188,Dollars!$A$2:$A$1188,'Rent lookup by Building'!$B108,Dollars!$E$2:$E$1188,'Rent lookup by Building'!M$6,Dollars!$C$2:$C$1188,'Rent lookup by Building'!$C$4)","v":0},{"$f":"SUMIFS(Dollars!$G$2:$G$1188,Dollars!$A$2:$A$1188,'Rent lookup by Building'!$B108,Dollars!$E$2:$E$1188,'Rent lookup by Building'!N$6,Dollars!$C$2:$C$1188,'Rent lookup by Building'!$C$4)","v":0},{"$f":"SUMIFS(Dollars!$G$2:$G$1188,Dollars!$A$2:$A$1188,'Rent lookup by Building'!$B108,Dollars!$E$2:$E$1188,'Rent lookup by Building'!O$6,Dollars!$C$2:$C$1188,'Rent lookup by Building'!$C$4)","v":0},0,0,0]
["HIDE","540","540 - Employment Security Department",{"$f":"SUMIFS('RSF List'!C:C,'RSF List'!B:B,'Rent lookup by Building'!$C$4,'RSF List'!A:A,LEFT('Rent lookup by Building'!C109,3))","v":0},null,{"$f":"SUMIFS(Dollars!$F$2:$F$1188,Dollars!$A$2:$A$1188,'Rent lookup by Building'!$B109,Dollars!$E$2:$E$1188,'Rent lookup by Building'!F$6,Dollars!$C$2:$C$1188,'Rent lookup by Building'!$C$4)","v":0},{"$f":"SUMIFS(Dollars!$F$2:$F$1188,Dollars!$A$2:$A$1188,'Rent lookup by Building'!$B109,Dollars!$E$2:$E$1188,'Rent lookup by Building'!G$6,Dollars!$C$2:$C$1188,'Rent lookup by Building'!$C$4)","v":0},{"$f":"SUMIFS(Dollars!$F$2:$F$1188,Dollars!$A$2:$A$1188,'Rent lookup by Building'!$B109,Dollars!$E$2:$E$1188,'Rent lookup by Building'!H$6,Dollars!$C$2:$C$1188,'Rent lookup by Building'!$C$4)","v":0},0,0,0,null,{"$f":"SUMIFS(Dollars!$G$2:$G$1188,Dollars!$A$2:$A$1188,'Rent lookup by Building'!$B109,Dollars!$E$2:$E$1188,'Rent lookup by Building'!M$6,Dollars!$C$2:$C$1188,'Rent lookup by Building'!$C$4)","v":0},{"$f":"SUMIFS(Dollars!$G$2:$G$1188,Dollars!$A$2:$A$1188,'Rent lookup by Building'!$B109,Dollars!$E$2:$E$1188,'Rent lookup by Building'!N$6,Dollars!$C$2:$C$1188,'Rent lookup by Building'!$C$4)","v":0},{"$f":"SUMIFS(Dollars!$G$2:$G$1188,Dollars!$A$2:$A$1188,'Rent lookup by Building'!$B109,Dollars!$E$2:$E$1188,'Rent lookup by Building'!O$6,Dollars!$C$2:$C$1188,'Rent lookup by Building'!$C$4)","v":0},0,0,0]
["HIDE","699","699 - Community Colleges",{"$f":"SUMIFS('RSF List'!C:C,'RSF List'!B:B,'Rent lookup by Building'!$C$4,'RSF List'!A:A,LEFT('Rent lookup by Building'!C110,3))","v":0},null,{"$f":"SUMIFS(Dollars!$F$2:$F$1188,Dollars!$A$2:$A$1188,'Rent lookup by Building'!$B110,Dollars!$E$2:$E$1188,'Rent lookup by Building'!F$6,Dollars!$C$2:$C$1188,'Rent lookup by Building'!$C$4)","v":0},{"$f":"SUMIFS(Dollars!$F$2:$F$1188,Dollars!$A$2:$A$1188,'Rent lookup by Building'!$B110,Dollars!$E$2:$E$1188,'Rent lookup by Building'!G$6,Dollars!$C$2:$C$1188,'Rent lookup by Building'!$C$4)","v":0},{"$f":"SUMIFS(Dollars!$F$2:$F$1188,Dollars!$A$2:$A$1188,'Rent lookup by Building'!$B110,Dollars!$E$2:$E$1188,'Rent lookup by Building'!H$6,Dollars!$C$2:$C$1188,'Rent lookup by Building'!$C$4)","v":0},0,0,0,null,{"$f":"SUMIFS(Dollars!$G$2:$G$1188,Dollars!$A$2:$A$1188,'Rent lookup by Building'!$B110,Dollars!$E$2:$E$1188,'Rent lookup by Building'!M$6,Dollars!$C$2:$C$1188,'Rent lookup by Building'!$C$4)","v":0},{"$f":"SUMIFS(Dollars!$G$2:$G$1188,Dollars!$A$2:$A$1188,'Rent lookup by Building'!$B110,Dollars!$E$2:$E$1188,'Rent lookup by Building'!N$6,Dollars!$C$2:$C$1188,'Rent lookup by Building'!$C$4)","v":0},{"$f":"SUMIFS(Dollars!$G$2:$G$1188,Dollars!$A$2:$A$1188,'Rent lookup by Building'!$B110,Dollars!$E$2:$E$1188,'Rent lookup by Building'!O$6,Dollars!$C$2:$C$1188,'Rent lookup by Building'!$C$4)","v":0},0,0,0]
["VIEW",null,"TOTAL",{"$f":"SUM(D7:D110)","v":77281},{"$f":"SUM(E7:E110)","v":0},1157203.2753575314,0,35396.868062251677,1192600.1434197831,99383.34528498193,{"$f":"I111/D111","v":15.431996783423909},null,{"$f":"SUM(M7:M110)","v":1172017.5952267577},{"$f":"SUM(N7:N110)","v":0},{"$f":"SUM(O7:O110)","v":35396.868062251677},{"$f":"SUM(P7:P110)","v":1207414.4632890094},{"$f":"SUM(Q7:Q110)","v":100617.87194075079},{"$f":"P111/D111","v":15.623690988587226}]
["VIEW"]
["VIEW",null,"Notes:"]
[{"$f":"IF(C4=\"Tacoma Rhodes\",\"VIEW\",\"HIDE\")","v":"HIDE"},null,"o  Tacoma Rhodes:   This building was recently sold to private ownership.  DES will work with OFM to have this building removed from the CSM in the Supplemental 22 Budget."]
["VIEW",null,"o  Campus Contracts (CC) is invoiced in three parts:  "]
["VIEW",null,"1) CC Bldg pays for CC services within the buildings (see rent tab)"]
["VIEW",null,"2) CC Parking pays for CC services within parking garages and lots (see Other Facility Related Costs tab)"]
["VIEW",null,"3) CC PHF pays for CC services in public & historic spaces (see Other Facility Related Costs tab)  Note*  Public and Historic Facilities may not be eligible for Federal Funding or Reimbursement"]
["VIEW",null,"o  Facilities and Services charges for the House (011), Senate (012), LSS (037), LSC (038) and Statute Law (040) for traditionally \"on-campus\" buildings are funded by an appropriation to DES and will not be invoiced. "]
["VIEW",null,"o  Rent Abatement was provided for DSB (Agency 315) Deli spaces , and will not be invoiced."]
["VIEW"]
["VIEW",null,null,null,null,null,null,null,"Prepared by DES Budget, Finance Division.  For question relating to CSM charges from DES, please contact DesBudget@des.wa.gov"]
["VIEW"]
["VIEW"]
["VIEW"]
["VIEW"]
["VIEW"]
["VIEW"]
["VIEW"]
["VIEW"]
["VIEW"]
["VIEW"]
["VIEW"]
["VIEW"]
["VIEW"]
["VIEW"]
["VIEW"]
["VIEW"]
["VIEW"]
["VIEW"]
["VIEW"]
["VIEW"]
["VIEW"]
["VIEW"]
["VIEW"]

{"sheet":"Other Facility Related Costs","index":3,"n_rows":291,"n_cols":27,"rows_kept":291,"cut":false,"hidden":false,"merged":[[4,5,4,15],[4,17,4,26],[3,2,3,4]]}
["VIEW"]
["VIEW",null,"Other Facility related Costs in the Central Service Model",null,null,null,null,null,null,null,null,null,null,null,null,"Department of Enterprise Services"]
["VIEW",null,"Agency",null,null,null,null,null,null,null,null,null,null,null,null,"scroll right for FY25 è"]
["VIEW",null,"011 - House of Representatives",null,null,null,"ç Select Agency Here"]
["VIEW",null,null,null,null,"Fiscal Year 24",null,null,null,null,null,null,null,null,null,null,null,"Fiscal Year 25"]
["VIEW",null,"Building","occupied RSF","Thurston FTEs",null,"Parking Surcharge","Capital Project Surcharge","Campus Contracts CSM (Parking)","Campus Contracts CSM (PHF)","Public Historic Facilities","Perry St. & Capitol Childcare","Security on Campus","TOTAL\nAnnual Cost","Monthly Charge","Rate/(RSF or Thurston FTE)",null,"Parking Surcharge","Capital Project Surcharge","Campus Contracts\nCSM (Parking)","Campus Contracts\nCSM (PHF)","Public Historic Facilities","Perry St. & Capitol Childcare","Security on Campus","TOTAL RENT\nAnnual Cost","Monthly Charge","Rate/(RSF or Thurston FTE)"]
[{"$f":"IF(D7=0,\"HIDE\",\"VIEW\")","v":"HIDE"},null,"Cherberg",{"$f":"VLOOKUP(LEFT($C$4,3),RSF!$A$3:$AJ$108,MATCH($C7,RSF!$A$3:$AK$3,0),FALSE)","v":0},null,null,{"$f":"SUMIFS(Dollars!$F$2:$F$1188,Dollars!$E$2:$E$1188,'Other Facility Related Costs'!G$6,Dollars!$C$2:$C$1188,'Other Facility Related Costs'!$C7,Dollars!$A$2:$A$1188,LEFT('Other Facility Related Costs'!$C$4,3))","v":0},{"$f":"SUMIFS(Dollars!$F$2:$F$1188,Dollars!$E$2:$E$1188,'Other Facility Related Costs'!H$6,Dollars!$C$2:$C$1188,'Other Facility Related Costs'!$C7,Dollars!$A$2:$A$1188,LEFT('Other Facility Related Costs'!$C$4,3))","v":0},{"$f":"SUMIFS(Dollars!$F$2:$F$1188,Dollars!$E$2:$E$1188,'Other Facility Related Costs'!I$6,Dollars!$C$2:$C$1188,'Other Facility Related Costs'!$C7,Dollars!$A$2:$A$1188,LEFT('Other Facility Related Costs'!$C$4,3))","v":0},{"$f":"SUMIFS(Dollars!$F$2:$F$1188,Dollars!$E$2:$E$1188,'Other Facility Related Costs'!J$6,Dollars!$C$2:$C$1188,'Other Facility Related Costs'!$C7,Dollars!$A$2:$A$1188,LEFT('Other Facility Related Costs'!$C$4,3))","v":0},{"$f":"SUMIFS(Dollars!$F$2:$F$1188,Dollars!$E$2:$E$1188,'Other Facility Related Costs'!K$6,Dollars!$C$2:$C$1188,'Other Facility Related Costs'!$C7,Dollars!$A$2:$A$1188,LEFT('Other Facility Related Costs'!$C$4,3))","v":0},{"$f":"SUMIFS(Dollars!$F$2:$F$1188,Dollars!$E$2:$E$1188,'Other Facility Related Costs'!L$6,Dollars!$C$2:$C$1188,'Other Facility Related Costs'!$C7,Dollars!$A$2:$A$1188,LEFT('Other Facility Related Costs'!$C$4,3))","v":0},{"$f":"SUMIFS(Dollars!$F$2:$F$1188,Dollars!$E$2:$E$1188,'Other Facility Related Costs'!M$6,Dollars!$C$2:$C$1188,'Other Facility Related Costs'!$C7,Dollars!$A$2:$A$1188,LEFT('Other Facility Related Costs'!$C$4,3))","v":0},{"$f":"SUM(G7:M7)","v":0},{"$f":"N7/12","v":0},{"$f":"IFERROR(N7/D7,0)","v":0},null,{"$f":"SUMIFS(Dollars!$G$2:$G$1188,Dollars!$E$2:$E$1188,'Other Facility Related Costs'!R$6,Dollars!$C$2:$C$1188,'Other Facility Related Costs'!$C7,Dollars!$A$2:$A$1188,LEFT('Other Facility Related Costs'!$C$4,3))","v":0},{"$f":"SUMIFS(Dollars!$G$2:$G$1188,Dollars!$E$2:$E$1188,'Other Facility Related Costs'!S$6,Dollars!$C$2:$C$1188,'Other Facility Related Costs'!$C7,Dollars!$A$2:$A$1188,LEFT('Other Facility Related Costs'!$C$4,3))","v":0},{"$f":"SUMIFS(Dollars!$G$2:$G$1188,Dollars!$E$2:$E$1188,'Other Facility Related Costs'!T$6,Dollars!$C$2:$C$1188,'Other Facility Related Costs'!$C7,Dollars!$A$2:$A$1188,LEFT('Other Facility Related Costs'!$C$4,3))","v":0},{"$f":"SUMIFS(Dollars!$G$2:$G$1188,Dollars!$E$2:$E$1188,'Other Facility Related Costs'!U$6,Dollars!$C$2:$C$1188,'Other Facility Related Costs'!$C7,Dollars!$A$2:$A$1188,LEFT('Other Facility Related Costs'!$C$4,3))","v":0},{"$f":"SUMIFS(Dollars!$G$2:$G$1188,Dollars!$E$2:$E$1188,'Other Facility Related Costs'!V$6,Dollars!$C$2:$C$1188,'Other Facility Related Costs'!$C7,Dollars!$A$2:$A$1188,LEFT('Other Facility Related Costs'!$C$4,3))","v":0},{"$f":"SUMIFS(Dollars!$G$2:$G$1188,Dollars!$E$2:$E$1188,'Other Facility Related Costs'!W$6,Dollars!$C$2:$C$1188,'Other Facility Related Costs'!$C7,Dollars!$A$2:$A$1188,LEFT('Other Facility Related Costs'!$C$4,3))","v":0},{"$f":"SUMIFS(Dollars!$G$2:$G$1188,Dollars!$E$2:$E$1188,'Other Facility Related Costs'!X$6,Dollars!$C$2:$C$1188,'Other Facility Related Costs'!$C7,Dollars!$A$2:$A$1188,LEFT('Other Facility Related Costs'!$C$4,3))","v":0},{"$f":"SUM(R7:X7)","v":0},{"$f":"Y7/12","v":0},{"$f":"IFERROR(Y7/D7,0)","v":0}]
[{"$f":"IF(D8=0,\"HIDE\",\"VIEW\")","v":"VIEW"},null,"O'Brien",{"$f":"VLOOKUP(LEFT($C$4,3),RSF!$A$3:$AJ$108,MATCH($C8,RSF!$A$3:$AK$3,0),FALSE)","v":78594},null,null,{"$f":"SUMIFS(Dollars!$F$2:$F$1188,Dollars!$E$2:$E$1188,'Other Facility Related Costs'!G$6,Dollars!$C$2:$C$1188,'Other Facility Related Costs'!$C8,Dollars!$A$2:$A$1188,LEFT('Other Facility Related Costs'!$C$4,3))","v":73503.219442254733},{"$f":"SUMIFS(Dollars!$F$2:$F$1188,Dollars!$E$2:$E$1188,'Other Facility Related Costs'!H$6,Dollars!$C$2:$C$1188,'Other Facility Related Costs'!$C8,Dollars!$A$2:$A$1188,LEFT('Other Facility Related Costs'!$C$4,3))","v":186647.51254952807},{"$f":"SUMIFS(Dollars!$F$2:$F$1188,Dollars!$E$2:$E$1188,'Other Facility Related Costs'!I$6,Dollars!$C$2:$C$1188,'Other Facility Related Costs'!$C8,Dollars!$A$2:$A$1188,LEFT('Other Facility Related Costs'!$C$4,3))","v":16938.713133149438},{"$f":"SUMIFS(Dollars!$F$2:$F$1188,Dollars!$E$2:$E$1188,'Other Facility Related Costs'!J$6,Dollars!$C$2:$C$1188,'Other Facility Related Costs'!$C8,Dollars!$A$2:$A$1188,LEFT('Other Facility Related Costs'!$C$4,3))","v":0},{"$f":"SUMIFS(Dollars!$F$2:$F$1188,Dollars!$E$2:$E$1188,'Other Facility Related Costs'!K$6,Dollars!$C$2:$C$1188,'Other Facility Related Costs'!$C8,Dollars!$A$2:$A$1188,LEFT('Other Facility Related Costs'!$C$4,3))","v":0},{"$f":"SUMIFS(Dollars!$F$2:$F$1188,Dollars!$E$2:$E$1188,'Other Facility Related Costs'!L$6,Dollars!$C$2:$C$1188,'Other Facility Related Costs'!$C8,Dollars!$A$2:$A$1188,LEFT('Other Facility Related Costs'!$C$4,3))","v":0},{"$f":"SUMIFS(Dollars!$F$2:$F$1188,Dollars!$E$2:$E$1188,'Other Facility Related Costs'!M$6,Dollars!$C$2:$C$1188,'Other Facility Related Costs'!$C8,Dollars!$A$2:$A$1188,LEFT('Other Facility Related Costs'!$C$4,3))","v":121457.59249442565},{"$f":"SUM(G8:M8)","v":398547.03761935787},{"$f":"N8/12","v":33212.253134946492},{"$f":"IFERROR(N8/D8,0)","v":5.0709600938921273},null,{"$f":"SUMIFS(Dollars!$G$2:$G$1188,Dollars!$E$2:$E$1188,'Other Facility Related Costs'!R$6,Dollars!$C$2:$C$1188,'Other Facility Related Costs'!$C8,Dollars!$A$2:$A$1188,LEFT('Other Facility Related Costs'!$C$4,3))","v":73786.900510457912},{"$f":"SUMIFS(Dollars!$G$2:$G$1188,Dollars!$E$2:$E$1188,'Other Facility Related Costs'!S$6,Dollars!$C$2:$C$1188,'Other Facility Related Costs'!$C8,Dollars!$A$2:$A$1188,LEFT('Other Facility Related Costs'!$C$4,3))","v":186691.99252747244},{"$f":"SUMIFS(Dollars!$G$2:$G$1188,Dollars!$E$2:$E$1188,'Other Facility Related Costs'!T$6,Dollars!$C$2:$C$1188,'Other Facility Related Costs'!$C8,Dollars!$A$2:$A$1188,LEFT('Other Facility Related Costs'!$C$4,3))","v":0},{"$f":"SUMIFS(Dollars!$G$2:$G$1188,Dollars!$E$2:$E$1188,'Other Facility Related Costs'!U$6,Dollars!$C$2:$C$1188,'Other Facility Related Costs'!$C8,Dollars!$A$2:$A$1188,LEFT('Other Facility Related Costs'!$C$4,3))","v":0},{"$f":"SUMIFS(Dollars!$G$2:$G$1188,Dollars!$E$2:$E$1188,'Other Facility Related Costs'!V$6,Dollars!$C$2:$C$1188,'Other Facility Related Costs'!$C8,Dollars!$A$2:$A$1188,LEFT('Other Facility Related Costs'!$C$4,3))","v":0},{"$f":"SUMIFS(Dollars!$G$2:$G$1188,Dollars!$E$2:$E$1188,'Other Facility Related Costs'!W$6,Dollars!$C$2:$C$1188,'Other Facility Related Costs'!$C8,Dollars!$A$2:$A$1188,LEFT('Other Facility Related Costs'!$C$4,3))","v":0},{"$f":"SUMIFS(Dollars!$G$2:$G$1188,Dollars!$E$2:$E$1188,'Other Facility Related Costs'!X$6,Dollars!$C$2:$C$1188,'Other Facility Related Costs'!$C8,Dollars!$A$2:$A$1188,LEFT('Other Facility Related Costs'!$C$4,3))","v":121573.91680456132},382052.8098424917,{"$f":"Y8/12","v":31837.734153540976},4.8610938473991867]
["VIEW",null,"Legislative",{"$f":"VLOOKUP(LEFT($C$4,3),RSF!$A$3:$AJ$108,MATCH($C9,RSF!$A$3:$AK$3,0),FALSE)","v":45304},null,null,{"$f":"SUMIFS(Dollars!$F$2:$F$1188,Dollars!$E$2:$E$1188,'Other Facility Related Costs'!G$6,Dollars!$C$2:$C$1188,'Other Facility Related Costs'!$C9,Dollars!$A$2:$A$1188,LEFT('Other Facility Related Costs'!$C$4,3))","v":42369.517439141775},{"$f":"SUMIFS(Dollars!$F$2:$F$1188,Dollars!$E$2:$E$1188,'Other Facility Related Costs'!H$6,Dollars!$C$2:$C$1188,'Other Facility Related Costs'!$C9,Dollars!$A$2:$A$1188,LEFT('Other Facility Related Costs'!$C$4,3))","v":107589.36952622108},{"$f":"SUMIFS(Dollars!$F$2:$F$1188,Dollars!$E$2:$E$1188,'Other Facility Related Costs'!I$6,Dollars!$C$2:$C$1188,'Other Facility Related Costs'!$C9,Dollars!$A$2:$A$1188,LEFT('Other Facility Related Costs'!$C$4,3))","v":9763.9954676464131},{"$f":"SUMIFS(Dollars!$F$2:$F$1188,Dollars!$E$2:$E$1188,'Other Facility Related Costs'!J$6,Dollars!$C$2:$C$1188,'Other Facility Related Costs'!$C9,Dollars!$A$2:$A$1188,LEFT('Other Facility Related Costs'!$C$4,3))","v":0},{"$f":"SUMIFS(Dollars!$F$2:$F$1188,Dollars!$E$2:$E$1188,'Other Facility Related Costs'!K$6,Dollars!$C$2:$C$1188,'Other Facility Related Costs'!$C9,Dollars!$A$2:$A$1188,LEFT('Other Facility Related Costs'!$C$4,3))","v":0},{"$f":"SUMIFS(Dollars!$F$2:$F$1188,Dollars!$E$2:$E$1188,'Other Facility Related Costs'!L$6,Dollars!$C$2:$C$1188,'Other Facility Related Costs'!$C9,Dollars!$A$2:$A$1188,LEFT('Other Facility Related Costs'!$C$4,3))","v":0},{"$f":"SUMIFS(Dollars!$F$2:$F$1188,Dollars!$E$2:$E$1188,'Other Facility Related Costs'!M$6,Dollars!$C$2:$C$1188,'Other Facility Related Costs'!$C9,Dollars!$A$2:$A$1188,LEFT('Other Facility Related Costs'!$C$4,3))","v":70011.893660679692},229734.77609368897,19144.564674474081,5.0709600938921282,null,{"$f":"SUMIFS(Dollars!$G$2:$G$1188,Dollars!$E$2:$E$1188,'Other Facility Related Costs'!R$6,Dollars!$C$2:$C$1188,'Other Facility Related Costs'!$C9,Dollars!$A$2:$A$1188,LEFT('Other Facility Related Costs'!$C$4,3))","v":42533.039935946581},{"$f":"SUMIFS(Dollars!$G$2:$G$1188,Dollars!$E$2:$E$1188,'Other Facility Related Costs'!S$6,Dollars!$C$2:$C$1188,'Other Facility Related Costs'!$C9,Dollars!$A$2:$A$1188,LEFT('Other Facility Related Costs'!$C$4,3))","v":107615.00915419258},{"$f":"SUMIFS(Dollars!$G$2:$G$1188,Dollars!$E$2:$E$1188,'Other Facility Related Costs'!T$6,Dollars!$C$2:$C$1188,'Other Facility Related Costs'!$C9,Dollars!$A$2:$A$1188,LEFT('Other Facility Related Costs'!$C$4,3))","v":0},{"$f":"SUMIFS(Dollars!$G$2:$G$1188,Dollars!$E$2:$E$1188,'Other Facility Related Costs'!U$6,Dollars!$C$2:$C$1188,'Other Facility Related Costs'!$C9,Dollars!$A$2:$A$1188,LEFT('Other Facility Related Costs'!$C$4,3))","v":0},{"$f":"SUMIFS(Dollars!$G$2:$G$1188,Dollars!$E$2:$E$1188,'Other Facility Related Costs'!V$6,Dollars!$C$2:$C$1188,'Other Facility Related Costs'!$C9,Dollars!$A$2:$A$1188,LEFT('Other Facility Related Costs'!$C$4,3))","v":0},{"$f":"SUMIFS(Dollars!$G$2:$G$1188,Dollars!$E$2:$E$1188,'Other Facility Related Costs'!W$6,Dollars!$C$2:$C$1188,'Other Facility Related Costs'!$C9,Dollars!$A$2:$A$1188,LEFT('Other Facility Related Costs'!$C$4,3))","v":0},{"$f":"SUMIFS(Dollars!$G$2:$G$1188,Dollars!$E$2:$E$1188,'Other Facility Related Costs'!X$6,Dollars!$C$2:$C$1188,'Other Facility Related Costs'!$C9,Dollars!$A$2:$A$1188,LEFT('Other Facility Related Costs'!$C$4,3))","v":70078.94657243359},220226.99566257274,18352.249638547728,4.8610938473991867]
["HIDE",null,"Pritchard",{"$f":"VLOOKUP(LEFT($C$4,3),RSF!$A$3:$AJ$108,MATCH($C10,RSF!$A$3:$AK$3,0),FALSE)","v":0},null,null,{"$f":"SUMIFS(Dollars!$F$2:$F$1188,Dollars!$E$2:$E$1188,'Other Facility Related Costs'!G$6,Dollars!$C$2:$C$1188,'Other Facility Related Costs'!$C10,Dollars!$A$2:$A$1188,LEFT('Other Facility Related Costs'!$C$4,3))","v":0},{"$f":"SUMIFS(Dollars!$F$2:$F$1188,Dollars!$E$2:$E$1188,'Other Facility Related Costs'!H$6,Dollars!$C$2:$C$1188,'Other Facility Related Costs'!$C10,Dollars!$A$2:$A$1188,LEFT('Other Facility Related Costs'!$C$4,3))","v":0},{"$f":"SUMIFS(Dollars!$F$2:$F$1188,Dollars!$E$2:$E$1188,'Other Facility Related Costs'!I$6,Dollars!$C$2:$C$1188,'Other Facility Related Costs'!$C10,Dollars!$A$2:$A$1188,LEFT('Other Facility Related Costs'!$C$4,3))","v":0},{"$f":"SUMIFS(Dollars!$F$2:$F$1188,Dollars!$E$2:$E$1188,'Other Facility Related Costs'!J$6,Dollars!$C$2:$C$1188,'Other Facility Related Costs'!$C10,Dollars!$A$2:$A$1188,LEFT('Other Facility Related Costs'!$C$4,3))","v":0},{"$f":"SUMIFS(Dollars!$F$2:$F$1188,Dollars!$E$2:$E$1188,'Other Facility Related Costs'!K$6,Dollars!$C$2:$C$1188,'Other Facility Related Costs'!$C10,Dollars!$A$2:$A$1188,LEFT('Other Facility Related Costs'!$C$4,3))","v":0},{"$f":"SUMIFS(Dollars!$F$2:$F$1188,Dollars!$E$2:$E$1188,'Other Facility Related Costs'!L$6,Dollars!$C$2:$C$1188,'Other Facility Related Costs'!$C10,Dollars!$A$2:$A$1188,LEFT('Other Facility Related Costs'!$C$4,3))","v":0},{"$f":"SUMIFS(Dollars!$F$2:$F$1188,Dollars!$E$2:$E$1188,'Other Facility Related Costs'!M$6,Dollars!$C$2:$C$1188,'Other Facility Related Costs'!$C10,Dollars!$A$2:$A$1188,LEFT('Other Facility Related Costs'!$C$4,3))","v":0},0,0,0,null,{"$f":"SUMIFS(Dollars!$G$2:$G$1188,Dollars!$E$2:$E$1188,'Other Facility Related Costs'!R$6,Dollars!$C$2:$C$1188,'Other Facility Related Costs'!$C10,Dollars!$A$2:$A$1188,LEFT('Other Facility Related Costs'!$C$4,3))","v":0},{"$f":"SUMIFS(Dollars!$G$2:$G$1188,Dollars!$E$2:$E$1188,'Other Facility Related Costs'!S$6,Dollars!$C$2:$C$1188,'Other Facility Related Costs'!$C10,Dollars!$A$2:$A$1188,LEFT('Other Facility Related Costs'!$C$4,3))","v":0},{"$f":"SUMIFS(Dollars!$G$2:$G$1188,Dollars!$E$2:$E$1188,'Other Facility Related Costs'!T$6,Dollars!$C$2:$C$1188,'Other Facility Related Costs'!$C10,Dollars!$A$2:$A$1188,LEFT('Other Facility Related Costs'!$C$4,3))","v":0},{"$f":"SUMIFS(Dollars!$G$2:$G$1188,Dollars!$E$2:$E$1188,'Other Facility Related Costs'!U$6,Dollars!$C$2:$C$1188,'Other Facility Related Costs'!$C10,Dollars!$A$2:$A$1188,LEFT('Other Facility Related Costs'!$C$4,3))","v":0},{"$f":"SUMIFS(Dollars!$G$2:$G$1188,Dollars!$E$2:$E$1188,'Other Facility Related Costs'!V$6,Dollars!$C$2:$C$1188,'Other Facility Related Costs'!$C10,Dollars!$A$2:$A$1188,LEFT('Other Facility Related Costs'!$C$4,3))","v":0},{"$f":"SUMIFS(Dollars!$G$2:$G$1188,Dollars!$E$2:$E$1188,'Other Facility Related Costs'!W$6,Dollars!$C$2:$C$1188,'Other Facility Related Costs'!$C10,Dollars!$A$2:$A$1188,LEFT('Other Facility Related Costs'!$C$4,3))","v":0},{"$f":"SUMIFS(Dollars!$G$2:$G$1188,Dollars!$E$2:$E$1188,'Other Facility Related Costs'!X$6,Dollars!$C$2:$C$1188,'Other Facility Related Costs'!$C10,Dollars!$A$2:$A$1188,LEFT('Other Facility Related Costs'!$C$4,3))","v":0},0,0,0]
["HIDE",null,"HLB",{"$f":"VLOOKUP(LEFT($C$4,3),RSF!$A$3:$AJ$108,MATCH($C11,RSF!$A$3:$AK$3,0),FALSE)","v":0},null,null,{"$f":"SUMIFS(Dollars!$F$2:$F$1188,Dollars!$E$2:$E$1188,'Other Facility Related Costs'!G$6,Dollars!$C$2:$C$1188,'Other Facility Related Costs'!$C11,Dollars!$A$2:$A$1188,LEFT('Other Facility Related Costs'!$C$4,3))","v":0},{"$f":"SUMIFS(Dollars!$F$2:$F$1188,Dollars!$E$2:$E$1188,'Other Facility Related Costs'!H$6,Dollars!$C$2:$C$1188,'Other Facility Related Costs'!$C11,Dollars!$A$2:$A$1188,LEFT('Other Facility Related Costs'!$C$4,3))","v":0},{"$f":"SUMIFS(Dollars!$F$2:$F$1188,Dollars!$E$2:$E$1188,'Other Facility Related Costs'!I$6,Dollars!$C$2:$C$1188,'Other Facility Related Costs'!$C11,Dollars!$A$2:$A$1188,LEFT('Other Facility Related Costs'!$C$4,3))","v":0},{"$f":"SUMIFS(Dollars!$F$2:$F$1188,Dollars!$E$2:$E$1188,'Other Facility Related Costs'!J$6,Dollars!$C$2:$C$1188,'Other Facility Related Costs'!$C11,Dollars!$A$2:$A$1188,LEFT('Other Facility Related Costs'!$C$4,3))","v":0},{"$f":"SUMIFS(Dollars!$F$2:$F$1188,Dollars!$E$2:$E$1188,'Other Facility Related Costs'!K$6,Dollars!$C$2:$C$1188,'Other Facility Related Costs'!$C11,Dollars!$A$2:$A$1188,LEFT('Other Facility Related Costs'!$C$4,3))","v":0},{"$f":"SUMIFS(Dollars!$F$2:$F$1188,Dollars!$E$2:$E$1188,'Other Facility Related Costs'!L$6,Dollars!$C$2:$C$1188,'Other Facility Related Costs'!$C11,Dollars!$A$2:$A$1188,LEFT('Other Facility Related Costs'!$C$4,3))","v":0},{"$f":"SUMIFS(Dollars!$F$2:$F$1188,Dollars!$E$2:$E$1188,'Other Facility Related Costs'!M$6,Dollars!$C$2:$C$1188,'Other Facility Related Costs'!$C11,Dollars!$A$2:$A$1188,LEFT('Other Facility Related Costs'!$C$4,3))","v":0},0,0,0,null,{"$f":"SUMIFS(Dollars!$G$2:$G$1188,Dollars!$E$2:$E$1188,'Other Facility Related Costs'!R$6,Dollars!$C$2:$C$1188,'Other Facility Related Costs'!$C11,Dollars!$A$2:$A$1188,LEFT('Other Facility Related Costs'!$C$4,3))","v":0},{"$f":"SUMIFS(Dollars!$G$2:$G$1188,Dollars!$E$2:$E$1188,'Other Facility Related Costs'!S$6,Dollars!$C$2:$C$1188,'Other Facility Related Costs'!$C11,Dollars!$A$2:$A$1188,LEFT('Other Facility Related Costs'!$C$4,3))","v":0},{"$f":"SUMIFS(Dollars!$G$2:$G$1188,Dollars!$E$2:$E$1188,'Other Facility Related Costs'!T$6,Dollars!$C$2:$C$1188,'Other Facility Related Costs'!$C11,Dollars!$A$2:$A$1188,LEFT('Other Facility Related Costs'!$C$4,3))","v":0},{"$f":"SUMIFS(Dollars!$G$2:$G$1188,Dollars!$E$2:$E$1188,'Other Facility Related Costs'!U$6,Dollars!$C$2:$C$1188,'Other Facility Related Costs'!$C11,Dollars!$A$2:$A$1188,LEFT('Other Facility Related Costs'!$C$4,3))","v":0},{"$f":"SUMIFS(Dollars!$G$2:$G$1188,Dollars!$E$2:$E$1188,'Other Facility Related Costs'!V$6,Dollars!$C$2:$C$1188,'Other Facility Related Costs'!$C11,Dollars!$A$2:$A$1188,LEFT('Other Facility Related Costs'!$C$4,3))","v":0},{"$f":"SUMIFS(Dollars!$G$2:$G$1188,Dollars!$E$2:$E$1188,'Other Facility Related Costs'!W$6,Dollars!$C$2:$C$1188,'Other Facility Related Costs'!$C11,Dollars!$A$2:$A$1188,LEFT('Other Facility Related Costs'!$C$4,3))","v":0},{"$f":"SUMIFS(Dollars!$G$2:$G$1188,Dollars!$E$2:$E$1188,'Other Facility Related Costs'!X$6,Dollars!$C$2:$C$1188,'Other Facility Related Costs'!$C11,Dollars!$A$2:$A$1188,LEFT('Other Facility Related Costs'!$C$4,3))","v":0},0,0,0]
["HIDE",null,"OB2",{"$f":"VLOOKUP(LEFT($C$4,3),RSF!$A$3:$AJ$108,MATCH($C12,RSF!$A$3:$AK$3,0),FALSE)","v":0},null,null,{"$f":"SUMIFS(Dollars!$F$2:$F$1188,Dollars!$E$2:$E$1188,'Other Facility Related Costs'!G$6,Dollars!$C$2:$C$1188,'Other Facility Related Costs'!$C12,Dollars!$A$2:$A$1188,LEFT('Other Facility Related Costs'!$C$4,3))","v":0},{"$f":"SUMIFS(Dollars!$F$2:$F$1188,Dollars!$E$2:$E$1188,'Other Facility Related Costs'!H$6,Dollars!$C$2:$C$1188,'Other Facility Related Costs'!$C12,Dollars!$A$2:$A$1188,LEFT('Other Facility Related Costs'!$C$4,3))","v":0},{"$f":"SUMIFS(Dollars!$F$2:$F$1188,Dollars!$E$2:$E$1188,'Other Facility Related Costs'!I$6,Dollars!$C$2:$C$1188,'Other Facility Related Costs'!$C12,Dollars!$A$2:$A$1188,LEFT('Other Facility Related Costs'!$C$4,3))","v":0},{"$f":"SUMIFS(Dollars!$F$2:$F$1188,Dollars!$E$2:$E$1188,'Other Facility Related Costs'!J$6,Dollars!$C$2:$C$1188,'Other Facility Related Costs'!$C12,Dollars!$A$2:$A$1188,LEFT('Other Facility Related Costs'!$C$4,3))","v":0},{"$f":"SUMIFS(Dollars!$F$2:$F$1188,Dollars!$E$2:$E$1188,'Other Facility Related Costs'!K$6,Dollars!$C$2:$C$1188,'Other Facility Related Costs'!$C12,Dollars!$A$2:$A$1188,LEFT('Other Facility Related Costs'!$C$4,3))","v":0},{"$f":"SUMIFS(Dollars!$F$2:$F$1188,Dollars!$E$2:$E$1188,'Other Facility Related Costs'!L$6,Dollars!$C$2:$C$1188,'Other Facility Related Costs'!$C12,Dollars!$A$2:$A$1188,LEFT('Other Facility Related Costs'!$C$4,3))","v":0},{"$f":"SUMIFS(Dollars!$F$2:$F$1188,Dollars!$E$2:$E$1188,'Other Facility Related Costs'!M$6,Dollars!$C$2:$C$1188,'Other Facility Related Costs'!$C12,Dollars!$A$2:$A$1188,LEFT('Other Facility Related Costs'!$C$4,3))","v":0},0,0,0,null,{"$f":"SUMIFS(Dollars!$G$2:$G$1188,Dollars!$E$2:$E$1188,'Other Facility Related Costs'!R$6,Dollars!$C$2:$C$1188,'Other Facility Related Costs'!$C12,Dollars!$A$2:$A$1188,LEFT('Other Facility Related Costs'!$C$4,3))","v":0},{"$f":"SUMIFS(Dollars!$G$2:$G$1188,Dollars!$E$2:$E$1188,'Other Facility Related Costs'!S$6,Dollars!$C$2:$C$1188,'Other Facility Related Costs'!$C12,Dollars!$A$2:$A$1188,LEFT('Other Facility Related Costs'!$C$4,3))","v":0},{"$f":"SUMIFS(Dollars!$G$2:$G$1188,Dollars!$E$2:$E$1188,'Other Facility Related Costs'!T$6,Dollars!$C$2:$C$1188,'Other Facility Related Costs'!$C12,Dollars!$A$2:$A$1188,LEFT('Other Facility Related Costs'!$C$4,3))","v":0},{"$f":"SUMIFS(Dollars!$G$2:$G$1188,Dollars!$E$2:$E$1188,'Other Facility Related Costs'!U$6,Dollars!$C$2:$C$1188,'Other Facility Related Costs'!$C12,Dollars!$A$2:$A$1188,LEFT('Other Facility Related Costs'!$C$4,3))","v":0},{"$f":"SUMIFS(Dollars!$G$2:$G$1188,Dollars!$E$2:$E$1188,'Other Facility Related Costs'!V$6,Dollars!$C$2:$C$1188,'Other Facility Related Costs'!$C12,Dollars!$A$2:$A$1188,LEFT('Other Facility Related Costs'!$C$4,3))","v":0},{"$f":"SUMIFS(Dollars!$G$2:$G$1188,Dollars!$E$2:$E$1188,'Other Facility Related Costs'!W$6,Dollars!$C$2:$C$1188,'Other Facility Related Costs'!$C12,Dollars!$A$2:$A$1188,LEFT('Other Facility Related Costs'!$C$4,3))","v":0},{"$f":"SUMIFS(Dollars!$G$2:$G$1188,Dollars!$E$2:$E$1188,'Other Facility Related Costs'!X$6,Dollars!$C$2:$C$1188,'Other Facility Related Costs'!$C12,Dollars!$A$2:$A$1188,LEFT('Other Facility Related Costs'!$C$4,3))","v":0},0,0,0]
["HIDE",null,"Archives",{"$f":"VLOOKUP(LEFT($C$4,3),RSF!$A$3:$AJ$108,MATCH($C13,RSF!$A$3:$AK$3,0),FALSE)","v":0},null,null,{"$f":"SUMIFS(Dollars!$F$2:$F$1188,Dollars!$E$2:$E$1188,'Other Facility Related Costs'!G$6,Dollars!$C$2:$C$1188,'Other Facility Related Costs'!$C13,Dollars!$A$2:$A$1188,LEFT('Other Facility Related Costs'!$C$4,3))","v":0},{"$f":"SUMIFS(Dollars!$F$2:$F$1188,Dollars!$E$2:$E$1188,'Other Facility Related Costs'!H$6,Dollars!$C$2:$C$1188,'Other Facility Related Costs'!$C13,Dollars!$A$2:$A$1188,LEFT('Other Facility Related Costs'!$C$4,3))","v":0},{"$f":"SUMIFS(Dollars!$F$2:$F$1188,Dollars!$E$2:$E$1188,'Other Facility Related Costs'!I$6,Dollars!$C$2:$C$1188,'Other Facility Related Costs'!$C13,Dollars!$A$2:$A$1188,LEFT('Other Facility Related Costs'!$C$4,3))","v":0},{"$f":"SUMIFS(Dollars!$F$2:$F$1188,Dollars!$E$2:$E$1188,'Other Facility Related Costs'!J$6,Dollars!$C$2:$C$1188,'Other Facility Related Costs'!$C13,Dollars!$A$2:$A$1188,LEFT('Other Facility Related Costs'!$C$4,3))","v":0},{"$f":"SUMIFS(Dollars!$F$2:$F$1188,Dollars!$E$2:$E$1188,'Other Facility Related Costs'!K$6,Dollars!$C$2:$C$1188,'Other Facility Related Costs'!$C13,Dollars!$A$2:$A$1188,LEFT('Other Facility Related Costs'!$C$4,3))","v":0},{"$f":"SUMIFS(Dollars!$F$2:$F$1188,Dollars!$E$2:$E$1188,'Other Facility Related Costs'!L$6,Dollars!$C$2:$C$1188,'Other Facility Related Costs'!$C13,Dollars!$A$2:$A$1188,LEFT('Other Facility Related Costs'!$C$4,3))","v":0},{"$f":"SUMIFS(Dollars!$F$2:$F$1188,Dollars!$E$2:$E$1188,'Other Facility Related Costs'!M$6,Dollars!$C$2:$C$1188,'Other Facility Related Costs'!$C13,Dollars!$A$2:$A$1188,LEFT('Other Facility Related Costs'!$C$4,3))","v":0},0,0,0,null,{"$f":"SUMIFS(Dollars!$G$2:$G$1188,Dollars!$E$2:$E$1188,'Other Facility Related Costs'!R$6,Dollars!$C$2:$C$1188,'Other Facility Related Costs'!$C13,Dollars!$A$2:$A$1188,LEFT('Other Facility Related Costs'!$C$4,3))","v":0},{"$f":"SUMIFS(Dollars!$G$2:$G$1188,Dollars!$E$2:$E$1188,'Other Facility Related Costs'!S$6,Dollars!$C$2:$C$1188,'Other Facility Related Costs'!$C13,Dollars!$A$2:$A$1188,LEFT('Other Facility Related Costs'!$C$4,3))","v":0},{"$f":"SUMIFS(Dollars!$G$2:$G$1188,Dollars!$E$2:$E$1188,'Other Facility Related Costs'!T$6,Dollars!$C$2:$C$1188,'Other Facility Related Costs'!$C13,Dollars!$A$2:$A$1188,LEFT('Other Facility Related Costs'!$C$4,3))","v":0},{"$f":"SUMIFS(Dollars!$G$2:$G$1188,Dollars!$E$2:$E$1188,'Other Facility Related Costs'!U$6,Dollars!$C$2:$C$1188,'Other Facility Related Costs'!$C13,Dollars!$A$2:$A$1188,LEFT('Other Facility Related Costs'!$C$4,3))","v":0},{"$f":"SUMIFS(Dollars!$G$2:$G$1188,Dollars!$E$2:$E$1188,'Other Facility Related Costs'!V$6,Dollars!$C$2:$C$1188,'Other Facility Related Costs'!$C13,Dollars!$A$2:$A$1188,LEFT('Other Facility Related Costs'!$C$4,3))","v":0},{"$f":"SUMIFS(Dollars!$G$2:$G$1188,Dollars!$E$2:$E$1188,'Other Facility Related Costs'!W$6,Dollars!$C$2:$C$1188,'Other Facility Related Costs'!$C13,Dollars!$A$2:$A$1188,LEFT('Other Facility Related Costs'!$C$4,3))","v":0},{"$f":"SUMIFS(Dollars!$G$2:$G$1188,Dollars!$E$2:$E$1188,'Other Facility Related Costs'!X$6,Dollars!$C$2:$C$1188,'Other Facility Related Costs'!$C13,Dollars!$A$2:$A$1188,LEFT('Other Facility Related Costs'!$C$4,3))","v":0},0,0,0]
["HIDE",null,"NRB",{"$f":"VLOOKUP(LEFT($C$4,3),RSF!$A$3:$AJ$108,MATCH($C14,RSF!$A$3:$AK$3,0),FALSE)","v":0},null,null,{"$f":"SUMIFS(Dollars!$F$2:$F$1188,Dollars!$E$2:$E$1188,'Other Facility Related Costs'!G$6,Dollars!$C$2:$C$1188,'Other Facility Related Costs'!$C14,Dollars!$A$2:$A$1188,LEFT('Other Facility Related Costs'!$C$4,3))","v":0},{"$f":"SUMIFS(Dollars!$F$2:$F$1188,Dollars!$E$2:$E$1188,'Other Facility Related Costs'!H$6,Dollars!$C$2:$C$1188,'Other Facility Related Costs'!$C14,Dollars!$A$2:$A$1188,LEFT('Other Facility Related Costs'!$C$4,3))","v":0},{"$f":"SUMIFS(Dollars!$F$2:$F$1188,Dollars!$E$2:$E$1188,'Other Facility Related Costs'!I$6,Dollars!$C$2:$C$1188,'Other Facility Related Costs'!$C14,Dollars!$A$2:$A$1188,LEFT('Other Facility Related Costs'!$C$4,3))","v":0},{"$f":"SUMIFS(Dollars!$F$2:$F$1188,Dollars!$E$2:$E$1188,'Other Facility Related Costs'!J$6,Dollars!$C$2:$C$1188,'Other Facility Related Costs'!$C14,Dollars!$A$2:$A$1188,LEFT('Other Facility Related Costs'!$C$4,3))","v":0},{"$f":"SUMIFS(Dollars!$F$2:$F$1188,Dollars!$E$2:$E$1188,'Other Facility Related Costs'!K$6,Dollars!$C$2:$C$1188,'Other Facility Related Costs'!$C14,Dollars!$A$2:$A$1188,LEFT('Other Facility Related Costs'!$C$4,3))","v":0},{"$f":"SUMIFS(Dollars!$F$2:$F$1188,Dollars!$E$2:$E$1188,'Other Facility Related Costs'!L$6,Dollars!$C$2:$C$1188,'Other Facility Related Costs'!$C14,Dollars!$A$2:$A$1188,LEFT('Other Facility Related Costs'!$C$4,3))","v":0},{"$f":"SUMIFS(Dollars!$F$2:$F$1188,Dollars!$E$2:$E$1188,'Other Facility Related Costs'!M$6,Dollars!$C$2:$C$1188,'Other Facility Related Costs'!$C14,Dollars!$A$2:$A$1188,LEFT('Other Facility Related Costs'!$C$4,3))","v":0},0,0,0,null,{"$f":"SUMIFS(Dollars!$G$2:$G$1188,Dollars!$E$2:$E$1188,'Other Facility Related Costs'!R$6,Dollars!$C$2:$C$1188,'Other Facility Related Costs'!$C14,Dollars!$A$2:$A$1188,LEFT('Other Facility Related Costs'!$C$4,3))","v":0},{"$f":"SUMIFS(Dollars!$G$2:$G$1188,Dollars!$E$2:$E$1188,'Other Facility Related Costs'!S$6,Dollars!$C$2:$C$1188,'Other Facility Related Costs'!$C14,Dollars!$A$2:$A$1188,LEFT('Other Facility Related Costs'!$C$4,3))","v":0},{"$f":"SUMIFS(Dollars!$G$2:$G$1188,Dollars!$E$2:$E$1188,'Other Facility Related Costs'!T$6,Dollars!$C$2:$C$1188,'Other Facility Related Costs'!$C14,Dollars!$A$2:$A$1188,LEFT('Other Facility Related Costs'!$C$4,3))","v":0},{"$f":"SUMIFS(Dollars!$G$2:$G$1188,Dollars!$E$2:$E$1188,'Other Facility Related Costs'!U$6,Dollars!$C$2:$C$1188,'Other Facility Related Costs'!$C14,Dollars!$A$2:$A$1188,LEFT('Other Facility Related Costs'!$C$4,3))","v":0},{"$f":"SUMIFS(Dollars!$G$2:$G$1188,Dollars!$E$2:$E$1188,'Other Facility Related Costs'!V$6,Dollars!$C$2:$C$1188,'Other Facility Related Costs'!$C14,Dollars!$A$2:$A$1188,LEFT('Other Facility Related Costs'!$C$4,3))","v":0},{"$f":"SUMIFS(Dollars!$G$2:$G$1188,Dollars!$E$2:$E$1188,'Other Facility Related Costs'!W$6,Dollars!$C$2:$C$1188,'Other Facility Related Costs'!$C14,Dollars!$A$2:$A$1188,LEFT('Other Facility Related Costs'!$C$4,3))","v":0},{"$f":"SUMIFS(Dollars!$G$2:$G$1188,Dollars!$E$2:$E$1188,'Other Facility Related Costs'!X$6,Dollars!$C$2:$C$1188,'Other Facility Related Costs'!$C14,Dollars!$A$2:$A$1188,LEFT('Other Facility Related Costs'!$C$4,3))","v":0},0,0,0]
["HIDE",null,"Emp Sec",{"$f":"VLOOKUP(LEFT($C$4,3),RSF!$A$3:$AJ$108,MATCH($C15,RSF!$A$3:$AK$3,0),FALSE)","v":0},null,null,{"$f":"SUMIFS(Dollars!$F$2:$F$1188,Dollars!$E$2:$E$1188,'Other Facility Related Costs'!G$6,Dollars!$C$2:$C$1188,'Other Facility Related Costs'!$C15,Dollars!$A$2:$A$1188,LEFT('Other Facility Related Costs'!$C$4,3))","v":0},{"$f":"SUMIFS(Dollars!$F$2:$F$1188,Dollars!$E$2:$E$1188,'Other Facility Related Costs'!H$6,Dollars!$C$2:$C$1188,'Other Facility Related Costs'!$C15,Dollars!$A$2:$A$1188,LEFT('Other Facility Related Costs'!$C$4,3))","v":0},{"$f":"SUMIFS(Dollars!$F$2:$F$1188,Dollars!$E$2:$E$1188,'Other Facility Related Costs'!I$6,Dollars!$C$2:$C$1188,'Other Facility Related Costs'!$C15,Dollars!$A$2:$A$1188,LEFT('Other Facility Related Costs'!$C$4,3))","v":0},{"$f":"SUMIFS(Dollars!$F$2:$F$1188,Dollars!$E$2:$E$1188,'Other Facility Related Costs'!J$6,Dollars!$C$2:$C$1188,'Other Facility Related Costs'!$C15,Dollars!$A$2:$A$1188,LEFT('Other Facility Related Costs'!$C$4,3))","v":0},{"$f":"SUMIFS(Dollars!$F$2:$F$1188,Dollars!$E$2:$E$1188,'Other Facility Related Costs'!K$6,Dollars!$C$2:$C$1188,'Other Facility Related Costs'!$C15,Dollars!$A$2:$A$1188,LEFT('Other Facility Related Costs'!$C$4,3))","v":0},{"$f":"SUMIFS(Dollars!$F$2:$F$1188,Dollars!$E$2:$E$1188,'Other Facility Related Costs'!L$6,Dollars!$C$2:$C$1188,'Other Facility Related Costs'!$C15,Dollars!$A$2:$A$1188,LEFT('Other Facility Related Costs'!$C$4,3))","v":0},{"$f":"SUMIFS(Dollars!$F$2:$F$1188,Dollars!$E$2:$E$1188,'Other Facility Related Costs'!M$6,Dollars!$C$2:$C$1188,'Other Facility Related Costs'!$C15,Dollars!$A$2:$A$1188,LEFT('Other Facility Related Costs'!$C$4,3))","v":0},0,0,0,null,{"$f":"SUMIFS(Dollars!$G$2:$G$1188,Dollars!$E$2:$E$1188,'Other Facility Related Costs'!R$6,Dollars!$C$2:$C$1188,'Other Facility Related Costs'!$C15,Dollars!$A$2:$A$1188,LEFT('Other Facility Related Costs'!$C$4,3))","v":0},{"$f":"SUMIFS(Dollars!$G$2:$G$1188,Dollars!$E$2:$E$1188,'Other Facility Related Costs'!S$6,Dollars!$C$2:$C$1188,'Other Facility Related Costs'!$C15,Dollars!$A$2:$A$1188,LEFT('Other Facility Related Costs'!$C$4,3))","v":0},{"$f":"SUMIFS(Dollars!$G$2:$G$1188,Dollars!$E$2:$E$1188,'Other Facility Related Costs'!T$6,Dollars!$C$2:$C$1188,'Other Facility Related Costs'!$C15,Dollars!$A$2:$A$1188,LEFT('Other Facility Related Costs'!$C$4,3))","v":0},{"$f":"SUMIFS(Dollars!$G$2:$G$1188,Dollars!$E$2:$E$1188,'Other Facility Related Costs'!U$6,Dollars!$C$2:$C$1188,'Other Facility Related Costs'!$C15,Dollars!$A$2:$A$1188,LEFT('Other Facility Related Costs'!$C$4,3))","v":0},{"$f":"SUMIFS(Dollars!$G$2:$G$1188,Dollars!$E$2:$E$1188,'Other Facility Related Costs'!V$6,Dollars!$C$2:$C$1188,'Other Facility Related Costs'!$C15,Dollars!$A$2:$A$1188,LEFT('Other Facility Related Costs'!$C$4,3))","v":0},{"$f":"SUMIFS(Dollars!$G$2:$G$1188,Dollars!$E$2:$E$1188,'Other Facility Related Costs'!W$6,Dollars!$C$2:$C$1188,'Other Facility Related Costs'!$C15,Dollars!$A$2:$A$1188,LEFT('Other Facility Related Costs'!$C$4,3))","v":0},{"$f":"SUMIFS(Dollars!$G$2:$G$1188,Dollars!$E$2:$E$1188,'Other Facility Related Costs'!X$6,Dollars!$C$2:$C$1188,'Other Facility Related Costs'!$C15,Dollars!$A$2:$A$1188,LEFT('Other Facility Related Costs'!$C$4,3))","v":0},0,0,0]
["HIDE",null,"Transportation",{"$f":"VLOOKUP(LEFT($C$4,3),RSF!$A$3:$AJ$108,MATCH($C16,RSF!$A$3:$AK$3,0),FALSE)","v":0},null,null,{"$f":"SUMIFS(Dollars!$F$2:$F$1188,Dollars!$E$2:$E$1188,'Other Facility Related Costs'!G$6,Dollars!$C$2:$C$1188,'Other Facility Related Costs'!$C16,Dollars!$A$2:$A$1188,LEFT('Other Facility Related Costs'!$C$4,3))","v":0},{"$f":"SUMIFS(Dollars!$F$2:$F$1188,Dollars!$E$2:$E$1188,'Other Facility Related Costs'!H$6,Dollars!$C$2:$C$1188,'Other Facility Related Costs'!$C16,Dollars!$A$2:$A$1188,LEFT('Other Facility Related Costs'!$C$4,3))","v":0},{"$f":"SUMIFS(Dollars!$F$2:$F$1188,Dollars!$E$2:$E$1188,'Other Facility Related Costs'!I$6,Dollars!$C$2:$C$1188,'Other Facility Related Costs'!$C16,Dollars!$A$2:$A$1188,LEFT('Other Facility Related Costs'!$C$4,3))","v":0},{"$f":"SUMIFS(Dollars!$F$2:$F$1188,Dollars!$E$2:$E$1188,'Other Facility Related Costs'!J$6,Dollars!$C$2:$C$1188,'Other Facility Related Costs'!$C16,Dollars!$A$2:$A$1188,LEFT('Other Facility Related Costs'!$C$4,3))","v":0},{"$f":"SUMIFS(Dollars!$F$2:$F$1188,Dollars!$E$2:$E$1188,'Other Facility Related Costs'!K$6,Dollars!$C$2:$C$1188,'Other Facility Related Costs'!$C16,Dollars!$A$2:$A$1188,LEFT('Other Facility Related Costs'!$C$4,3))","v":0},{"$f":"SUMIFS(Dollars!$F$2:$F$1188,Dollars!$E$2:$E$1188,'Other Facility Related Costs'!L$6,Dollars!$C$2:$C$1188,'Other Facility Related Costs'!$C16,Dollars!$A$2:$A$1188,LEFT('Other Facility Related Costs'!$C$4,3))","v":0},{"$f":"SUMIFS(Dollars!$F$2:$F$1188,Dollars!$E$2:$E$1188,'Other Facility Related Costs'!M$6,Dollars!$C$2:$C$1188,'Other Facility Related Costs'!$C16,Dollars!$A$2:$A$1188,LEFT('Other Facility Related Costs'!$C$4,3))","v":0},0,0,0,null,{"$f":"SUMIFS(Dollars!$G$2:$G$1188,Dollars!$E$2:$E$1188,'Other Facility Related Costs'!R$6,Dollars!$C$2:$C$1188,'Other Facility Related Costs'!$C16,Dollars!$A$2:$A$1188,LEFT('Other Facility Related Costs'!$C$4,3))","v":0},{"$f":"SUMIFS(Dollars!$G$2:$G$1188,Dollars!$E$2:$E$1188,'Other Facility Related Costs'!S$6,Dollars!$C$2:$C$1188,'Other Facility Related Costs'!$C16,Dollars!$A$2:$A$1188,LEFT('Other Facility Related Costs'!$C$4,3))","v":0},{"$f":"SUMIFS(Dollars!$G$2:$G$1188,Dollars!$E$2:$E$1188,'Other Facility Related Costs'!T$6,Dollars!$C$2:$C$1188,'Other Facility Related Costs'!$C16,Dollars!$A$2:$A$1188,LEFT('Other Facility Related Costs'!$C$4,3))","v":0},{"$f":"SUMIFS(Dollars!$G$2:$G$1188,Dollars!$E$2:$E$1188,'Other Facility Related Costs'!U$6,Dollars!$C$2:$C$1188,'Other Facility Related Costs'!$C16,Dollars!$A$2:$A$1188,LEFT('Other Facility Related Costs'!$C$4,3))","v":0},{"$f":"SUMIFS(Dollars!$G$2:$G$1188,Dollars!$E$2:$E$1188,'Other Facility Related Costs'!V$6,Dollars!$C$2:$C$1188,'Other Facility Related Costs'!$C16,Dollars!$A$2:$A$1188,LEFT('Other Facility Related Costs'!$C$4,3))","v":0},{"$f":"SUMIFS(Dollars!$G$2:$G$1188,Dollars!$E$2:$E$1188,'Other Facility Related Costs'!W$6,Dollars!$C$2:$C$1188,'Other Facility Related Costs'!$C16,Dollars!$A$2:$A$1188,LEFT('Other Facility Related Costs'!$C$4,3))","v":0},{"$f":"SUMIFS(Dollars!$G$2:$G$1188,Dollars!$E$2:$E$1188,'Other Facility Related Costs'!X$6,Dollars!$C$2:$C$1188,'Other Facility Related Costs'!$C16,Dollars!$A$2:$A$1188,LEFT('Other Facility Related Costs'!$C$4,3))","v":0},0,0,0]
["HIDE",null,"Insurance",{"$f":"VLOOKUP(LEFT($C$4,3),RSF!$A$3:$AJ$108,MATCH($C17,RSF!$A$3:$AK$3,0),FALSE)","v":0},null,null,{"$f":"SUMIFS(Dollars!$F$2:$F$1188,Dollars!$E$2:$E$1188,'Other Facility Related Costs'!G$6,Dollars!$C$2:$C$1188,'Other Facility Related Costs'!$C17,Dollars!$A$2:$A$1188,LEFT('Other Facility Related Costs'!$C$4,3))","v":0},{"$f":"SUMIFS(Dollars!$F$2:$F$1188,Dollars!$E$2:$E$1188,'Other Facility Related Costs'!H$6,Dollars!$C$2:$C$1188,'Other Facility Related Costs'!$C17,Dollars!$A$2:$A$1188,LEFT('Other Facility Related Costs'!$C$4,3))","v":0},{"$f":"SUMIFS(Dollars!$F$2:$F$1188,Dollars!$E$2:$E$1188,'Other Facility Related Costs'!I$6,Dollars!$C$2:$C$1188,'Other Facility Related Costs'!$C17,Dollars!$A$2:$A$1188,LEFT('Other Facility Related Costs'!$C$4,3))","v":0},{"$f":"SUMIFS(Dollars!$F$2:$F$1188,Dollars!$E$2:$E$1188,'Other Facility Related Costs'!J$6,Dollars!$C$2:$C$1188,'Other Facility Related Costs'!$C17,Dollars!$A$2:$A$1188,LEFT('Other Facility Related Costs'!$C$4,3))","v":0},{"$f":"SUMIFS(Dollars!$F$2:$F$1188,Dollars!$E$2:$E$1188,'Other Facility Related Costs'!K$6,Dollars!$C$2:$C$1188,'Other Facility Related Costs'!$C17,Dollars!$A$2:$A$1188,LEFT('Other Facility Related Costs'!$C$4,3))","v":0},{"$f":"SUMIFS(Dollars!$F$2:$F$1188,Dollars!$E$2:$E$1188,'Other Facility Related Costs'!L$6,Dollars!$C$2:$C$1188,'Other Facility Related Costs'!$C17,Dollars!$A$2:$A$1188,LEFT('Other Facility Related Costs'!$C$4,3))","v":0},{"$f":"SUMIFS(Dollars!$F$2:$F$1188,Dollars!$E$2:$E$1188,'Other Facility Related Costs'!M$6,Dollars!$C$2:$C$1188,'Other Facility Related Costs'!$C17,Dollars!$A$2:$A$1188,LEFT('Other Facility Related Costs'!$C$4,3))","v":0},0,0,0,null,{"$f":"SUMIFS(Dollars!$G$2:$G$1188,Dollars!$E$2:$E$1188,'Other Facility Related Costs'!R$6,Dollars!$C$2:$C$1188,'Other Facility Related Costs'!$C17,Dollars!$A$2:$A$1188,LEFT('Other Facility Related Costs'!$C$4,3))","v":0},{"$f":"SUMIFS(Dollars!$G$2:$G$1188,Dollars!$E$2:$E$1188,'Other Facility Related Costs'!S$6,Dollars!$C$2:$C$1188,'Other Facility Related Costs'!$C17,Dollars!$A$2:$A$1188,LEFT('Other Facility Related Costs'!$C$4,3))","v":0},{"$f":"SUMIFS(Dollars!$G$2:$G$1188,Dollars!$E$2:$E$1188,'Other Facility Related Costs'!T$6,Dollars!$C$2:$C$1188,'Other Facility Related Costs'!$C17,Dollars!$A$2:$A$1188,LEFT('Other Facility Related Costs'!$C$4,3))","v":0},{"$f":"SUMIFS(Dollars!$G$2:$G$1188,Dollars!$E$2:$E$1188,'Other Facility Related Costs'!U$6,Dollars!$C$2:$C$1188,'Other Facility Related Costs'!$C17,Dollars!$A$2:$A$1188,LEFT('Other Facility Related Costs'!$C$4,3))","v":0},{"$f":"SUMIFS(Dollars!$G$2:$G$1188,Dollars!$E$2:$E$1188,'Other Facility Related Costs'!V$6,Dollars!$C$2:$C$1188,'Other Facility Related Costs'!$C17,Dollars!$A$2:$A$1188,LEFT('Other Facility Related Costs'!$C$4,3))","v":0},{"$f":"SUMIFS(Dollars!$G$2:$G$1188,Dollars!$E$2:$E$1188,'Other Facility Related Costs'!W$6,Dollars!$C$2:$C$1188,'Other Facility Related Costs'!$C17,Dollars!$A$2:$A$1188,LEFT('Other Facility Related Costs'!$C$4,3))","v":0},{"$f":"SUMIFS(Dollars!$G$2:$G$1188,Dollars!$E$2:$E$1188,'Other Facility Related Costs'!X$6,Dollars!$C$2:$C$1188,'Other Facility Related Costs'!$C17,Dollars!$A$2:$A$1188,LEFT('Other Facility Related Costs'!$C$4,3))","v":0},0,0,0]
["HIDE",null,"Old Cap",{"$f":"VLOOKUP(LEFT($C$4,3),RSF!$A$3:$AJ$108,MATCH($C18,RSF!$A$3:$AK$3,0),FALSE)","v":0},null,null,{"$f":"SUMIFS(Dollars!$F$2:$F$1188,Dollars!$E$2:$E$1188,'Other Facility Related Costs'!G$6,Dollars!$C$2:$C$1188,'Other Facility Related Costs'!$C18,Dollars!$A$2:$A$1188,LEFT('Other Facility Related Costs'!$C$4,3))","v":0},{"$f":"SUMIFS(Dollars!$F$2:$F$1188,Dollars!$E$2:$E$1188,'Other Facility Related Costs'!H$6,Dollars!$C$2:$C$1188,'Other Facility Related Costs'!$C18,Dollars!$A$2:$A$1188,LEFT('Other Facility Related Costs'!$C$4,3))","v":0},{"$f":"SUMIFS(Dollars!$F$2:$F$1188,Dollars!$E$2:$E$1188,'Other Facility Related Costs'!I$6,Dollars!$C$2:$C$1188,'Other Facility Related Costs'!$C18,Dollars!$A$2:$A$1188,LEFT('Other Facility Related Costs'!$C$4,3))","v":0},{"$f":"SUMIFS(Dollars!$F$2:$F$1188,Dollars!$E$2:$E$1188,'Other Facility Related Costs'!J$6,Dollars!$C$2:$C$1188,'Other Facility Related Costs'!$C18,Dollars!$A$2:$A$1188,LEFT('Other Facility Related Costs'!$C$4,3))","v":0},{"$f":"SUMIFS(Dollars!$F$2:$F$1188,Dollars!$E$2:$E$1188,'Other Facility Related Costs'!K$6,Dollars!$C$2:$C$1188,'Other Facility Related Costs'!$C18,Dollars!$A$2:$A$1188,LEFT('Other Facility Related Costs'!$C$4,3))","v":0},{"$f":"SUMIFS(Dollars!$F$2:$F$1188,Dollars!$E$2:$E$1188,'Other Facility Related Costs'!L$6,Dollars!$C$2:$C$1188,'Other Facility Related Costs'!$C18,Dollars!$A$2:$A$1188,LEFT('Other Facility Related Costs'!$C$4,3))","v":0},{"$f":"SUMIFS(Dollars!$F$2:$F$1188,Dollars!$E$2:$E$1188,'Other Facility Related Costs'!M$6,Dollars!$C$2:$C$1188,'Other Facility Related Costs'!$C18,Dollars!$A$2:$A$1188,LEFT('Other Facility Related Costs'!$C$4,3))","v":0},0,0,0,null,{"$f":"SUMIFS(Dollars!$G$2:$G$1188,Dollars!$E$2:$E$1188,'Other Facility Related Costs'!R$6,Dollars!$C$2:$C$1188,'Other Facility Related Costs'!$C18,Dollars!$A$2:$A$1188,LEFT('Other Facility Related Costs'!$C$4,3))","v":0},{"$f":"SUMIFS(Dollars!$G$2:$G$1188,Dollars!$E$2:$E$1188,'Other Facility Related Costs'!S$6,Dollars!$C$2:$C$1188,'Other Facility Related Costs'!$C18,Dollars!$A$2:$A$1188,LEFT('Other Facility Related Costs'!$C$4,3))","v":0},{"$f":"SUMIFS(Dollars!$G$2:$G$1188,Dollars!$E$2:$E$1188,'Other Facility Related Costs'!T$6,Dollars!$C$2:$C$1188,'Other Facility Related Costs'!$C18,Dollars!$A$2:$A$1188,LEFT('Other Facility Related Costs'!$C$4,3))","v":0},{"$f":"SUMIFS(Dollars!$G$2:$G$1188,Dollars!$E$2:$E$1188,'Other Facility Related Costs'!U$6,Dollars!$C$2:$C$1188,'Other Facility Related Costs'!$C18,Dollars!$A$2:$A$1188,LEFT('Other Facility Related Costs'!$C$4,3))","v":0},{"$f":"SUMIFS(Dollars!$G$2:$G$1188,Dollars!$E$2:$E$1188,'Other Facility Related Costs'!V$6,Dollars!$C$2:$C$1188,'Other Facility Related Costs'!$C18,Dollars!$A$2:$A$1188,LEFT('Other Facility Related Costs'!$C$4,3))","v":0},{"$f":"SUMIFS(Dollars!$G$2:$G$1188,Dollars!$E$2:$E$1188,'Other Facility Related Costs'!W$6,Dollars!$C$2:$C$1188,'Other Facility Related Costs'!$C18,Dollars!$A$2:$A$1188,LEFT('Other Facility Related Costs'!$C$4,3))","v":0},{"$f":"SUMIFS(Dollars!$G$2:$G$1188,Dollars!$E$2:$E$1188,'Other Facility Related Costs'!X$6,Dollars!$C$2:$C$1188,'Other Facility Related Costs'!$C18,Dollars!$A$2:$A$1188,LEFT('Other Facility Related Costs'!$C$4,3))","v":0},0,0,0]
["HIDE",null,"TOJ",{"$f":"VLOOKUP(LEFT($C$4,3),RSF!$A$3:$AJ$108,MATCH($C19,RSF!$A$3:$AK$3,0),FALSE)","v":0},null,null,{"$f":"SUMIFS(Dollars!$F$2:$F$1188,Dollars!$E$2:$E$1188,'Other Facility Related Costs'!G$6,Dollars!$C$2:$C$1188,'Other Facility Related Costs'!$C19,Dollars!$A$2:$A$1188,LEFT('Other Facility Related Costs'!$C$4,3))","v":0},{"$f":"SUMIFS(Dollars!$F$2:$F$1188,Dollars!$E$2:$E$1188,'Other Facility Related Costs'!H$6,Dollars!$C$2:$C$1188,'Other Facility Related Costs'!$C19,Dollars!$A$2:$A$1188,LEFT('Other Facility Related Costs'!$C$4,3))","v":0},{"$f":"SUMIFS(Dollars!$F$2:$F$1188,Dollars!$E$2:$E$1188,'Other Facility Related Costs'!I$6,Dollars!$C$2:$C$1188,'Other Facility Related Costs'!$C19,Dollars!$A$2:$A$1188,LEFT('Other Facility Related Costs'!$C$4,3))","v":0},{"$f":"SUMIFS(Dollars!$F$2:$F$1188,Dollars!$E$2:$E$1188,'Other Facility Related Costs'!J$6,Dollars!$C$2:$C$1188,'Other Facility Related Costs'!$C19,Dollars!$A$2:$A$1188,LEFT('Other Facility Related Costs'!$C$4,3))","v":0},{"$f":"SUMIFS(Dollars!$F$2:$F$1188,Dollars!$E$2:$E$1188,'Other Facility Related Costs'!K$6,Dollars!$C$2:$C$1188,'Other Facility Related Costs'!$C19,Dollars!$A$2:$A$1188,LEFT('Other Facility Related Costs'!$C$4,3))","v":0},{"$f":"SUMIFS(Dollars!$F$2:$F$1188,Dollars!$E$2:$E$1188,'Other Facility Related Costs'!L$6,Dollars!$C$2:$C$1188,'Other Facility Related Costs'!$C19,Dollars!$A$2:$A$1188,LEFT('Other Facility Related Costs'!$C$4,3))","v":0},{"$f":"SUMIFS(Dollars!$F$2:$F$1188,Dollars!$E$2:$E$1188,'Other Facility Related Costs'!M$6,Dollars!$C$2:$C$1188,'Other Facility Related Costs'!$C19,Dollars!$A$2:$A$1188,LEFT('Other Facility Related Costs'!$C$4,3))","v":0},0,0,0,null,{"$f":"SUMIFS(Dollars!$G$2:$G$1188,Dollars!$E$2:$E$1188,'Other Facility Related Costs'!R$6,Dollars!$C$2:$C$1188,'Other Facility Related Costs'!$C19,Dollars!$A$2:$A$1188,LEFT('Other Facility Related Costs'!$C$4,3))","v":0},{"$f":"SUMIFS(Dollars!$G$2:$G$1188,Dollars!$E$2:$E$1188,'Other Facility Related Costs'!S$6,Dollars!$C$2:$C$1188,'Other Facility Related Costs'!$C19,Dollars!$A$2:$A$1188,LEFT('Other Facility Related Costs'!$C$4,3))","v":0},{"$f":"SUMIFS(Dollars!$G$2:$G$1188,Dollars!$E$2:$E$1188,'Other Facility Related Costs'!T$6,Dollars!$C$2:$C$1188,'Other Facility Related Costs'!$C19,Dollars!$A$2:$A$1188,LEFT('Other Facility Related Costs'!$C$4,3))","v":0},{"$f":"SUMIFS(Dollars!$G$2:$G$1188,Dollars!$E$2:$E$1188,'Other Facility Related Costs'!U$6,Dollars!$C$2:$C$1188,'Other Facility Related Costs'!$C19,Dollars!$A$2:$A$1188,LEFT('Other Facility Related Costs'!$C$4,3))","v":0},{"$f":"SUMIFS(Dollars!$G$2:$G$1188,Dollars!$E$2:$E$1188,'Other Facility Related Costs'!V$6,Dollars!$C$2:$C$1188,'Other Facility Related Costs'!$C19,Dollars!$A$2:$A$1188,LEFT('Other Facility Related Costs'!$C$4,3))","v":0},{"$f":"SUMIFS(Dollars!$G$2:$G$1188,Dollars!$E$2:$E$1188,'Other Facility Related Costs'!W$6,Dollars!$C$2:$C$1188,'Other Facility Related Costs'!$C19,Dollars!$A$2:$A$1188,LEFT('Other Facility Related Costs'!$C$4,3))","v":0},{"$f":"SUMIFS(Dollars!$G$2:$G$1188,Dollars!$E$2:$E$1188,'Other Facility Related Costs'!X$6,Dollars!$C$2:$C$1188,'Other Facility Related Costs'!$C19,Dollars!$A$2:$A$1188,LEFT('Other Facility Related Costs'!$C$4,3))","v":0},0,0,0]
["HIDE",null,"Newhouse",{"$f":"VLOOKUP(LEFT($C$4,3),RSF!$A$3:$AJ$108,MATCH($C20,RSF!$A$3:$AK$3,0),FALSE)","v":0},null,null,{"$f":"SUMIFS(Dollars!$F$2:$F$1188,Dollars!$E$2:$E$1188,'Other Facility Related Costs'!G$6,Dollars!$C$2:$C$1188,'Other Facility Related Costs'!$C20,Dollars!$A$2:$A$1188,LEFT('Other Facility Related Costs'!$C$4,3))","v":0},{"$f":"SUMIFS(Dollars!$F$2:$F$1188,Dollars!$E$2:$E$1188,'Other Facility Related Costs'!H$6,Dollars!$C$2:$C$1188,'Other Facility Related Costs'!$C20,Dollars!$A$2:$A$1188,LEFT('Other Facility Related Costs'!$C$4,3))","v":0},{"$f":"SUMIFS(Dollars!$F$2:$F$1188,Dollars!$E$2:$E$1188,'Other Facility Related Costs'!I$6,Dollars!$C$2:$C$1188,'Other Facility Related Costs'!$C20,Dollars!$A$2:$A$1188,LEFT('Other Facility Related Costs'!$C$4,3))","v":0},{"$f":"SUMIFS(Dollars!$F$2:$F$1188,Dollars!$E$2:$E$1188,'Other Facility Related Costs'!J$6,Dollars!$C$2:$C$1188,'Other Facility Related Costs'!$C20,Dollars!$A$2:$A$1188,LEFT('Other Facility Related Costs'!$C$4,3))","v":0},{"$f":"SUMIFS(Dollars!$F$2:$F$1188,Dollars!$E$2:$E$1188,'Other Facility Related Costs'!K$6,Dollars!$C$2:$C$1188,'Other Facility Related Costs'!$C20,Dollars!$A$2:$A$1188,LEFT('Other Facility Related Costs'!$C$4,3))","v":0},{"$f":"SUMIFS(Dollars!$F$2:$F$1188,Dollars!$E$2:$E$1188,'Other Facility Related Costs'!L$6,Dollars!$C$2:$C$1188,'Other Facility Related Costs'!$C20,Dollars!$A$2:$A$1188,LEFT('Other Facility Related Costs'!$C$4,3))","v":0},{"$f":"SUMIFS(Dollars!$F$2:$F$1188,Dollars!$E$2:$E$1188,'Other Facility Related Costs'!M$6,Dollars!$C$2:$C$1188,'Other Facility Related Costs'!$C20,Dollars!$A$2:$A$1188,LEFT('Other Facility Related Costs'!$C$4,3))","v":0},0,0,0,null,{"$f":"SUMIFS(Dollars!$G$2:$G$1188,Dollars!$E$2:$E$1188,'Other Facility Related Costs'!R$6,Dollars!$C$2:$C$1188,'Other Facility Related Costs'!$C20,Dollars!$A$2:$A$1188,LEFT('Other Facility Related Costs'!$C$4,3))","v":0},{"$f":"SUMIFS(Dollars!$G$2:$G$1188,Dollars!$E$2:$E$1188,'Other Facility Related Costs'!S$6,Dollars!$C$2:$C$1188,'Other Facility Related Costs'!$C20,Dollars!$A$2:$A$1188,LEFT('Other Facility Related Costs'!$C$4,3))","v":0},{"$f":"SUMIFS(Dollars!$G$2:$G$1188,Dollars!$E$2:$E$1188,'Other Facility Related Costs'!T$6,Dollars!$C$2:$C$1188,'Other Facility Related Costs'!$C20,Dollars!$A$2:$A$1188,LEFT('Other Facility Related Costs'!$C$4,3))","v":0},{"$f":"SUMIFS(Dollars!$G$2:$G$1188,Dollars!$E$2:$E$1188,'Other Facility Related Costs'!U$6,Dollars!$C$2:$C$1188,'Other Facility Related Costs'!$C20,Dollars!$A$2:$A$1188,LEFT('Other Facility Related Costs'!$C$4,3))","v":0},{"$f":"SUMIFS(Dollars!$G$2:$G$1188,Dollars!$E$2:$E$1188,'Other Facility Related Costs'!V$6,Dollars!$C$2:$C$1188,'Other Facility Related Costs'!$C20,Dollars!$A$2:$A$1188,LEFT('Other Facility Related Costs'!$C$4,3))","v":0},{"$f":"SUMIFS(Dollars!$G$2:$G$1188,Dollars!$E$2:$E$1188,'Other Facility Related Costs'!W$6,Dollars!$C$2:$C$1188,'Other Facility Related Costs'!$C20,Dollars!$A$2:$A$1188,LEFT('Other Facility Related Costs'!$C$4,3))","v":0},{"$f":"SUMIFS(Dollars!$G$2:$G$1188,Dollars!$E$2:$E$1188,'Other Facility Related Costs'!X$6,Dollars!$C$2:$C$1188,'Other Facility Related Costs'!$C20,Dollars!$A$2:$A$1188,LEFT('Other Facility Related Costs'!$C$4,3))","v":0},0,0,0]
["HIDE",null,"Modular Bldg",{"$f":"VLOOKUP(LEFT($C$4,3),RSF!$A$3:$AJ$108,MATCH($C21,RSF!$A$3:$AK$3,0),FALSE)","v":0},null,null,{"$f":"SUMIFS(Dollars!$F$2:$F$1188,Dollars!$E$2:$E$1188,'Other Facility Related Costs'!G$6,Dollars!$C$2:$C$1188,'Other Facility Related Costs'!$C21,Dollars!$A$2:$A$1188,LEFT('Other Facility Related Costs'!$C$4,3))","v":0},{"$f":"SUMIFS(Dollars!$F$2:$F$1188,Dollars!$E$2:$E$1188,'Other Facility Related Costs'!H$6,Dollars!$C$2:$C$1188,'Other Facility Related Costs'!$C21,Dollars!$A$2:$A$1188,LEFT('Other Facility Related Costs'!$C$4,3))","v":0},{"$f":"SUMIFS(Dollars!$F$2:$F$1188,Dollars!$E$2:$E$1188,'Other Facility Related Costs'!I$6,Dollars!$C$2:$C$1188,'Other Facility Related Costs'!$C21,Dollars!$A$2:$A$1188,LEFT('Other Facility Related Costs'!$C$4,3))","v":0},{"$f":"SUMIFS(Dollars!$F$2:$F$1188,Dollars!$E$2:$E$1188,'Other Facility Related Costs'!J$6,Dollars!$C$2:$C$1188,'Other Facility Related Costs'!$C21,Dollars!$A$2:$A$1188,LEFT('Other Facility Related Costs'!$C$4,3))","v":0},{"$f":"SUMIFS(Dollars!$F$2:$F$1188,Dollars!$E$2:$E$1188,'Other Facility Related Costs'!K$6,Dollars!$C$2:$C$1188,'Other Facility Related Costs'!$C21,Dollars!$A$2:$A$1188,LEFT('Other Facility Related Costs'!$C$4,3))","v":0},{"$f":"SUMIFS(Dollars!$F$2:$F$1188,Dollars!$E$2:$E$1188,'Other Facility Related Costs'!L$6,Dollars!$C$2:$C$1188,'Other Facility Related Costs'!$C21,Dollars!$A$2:$A$1188,LEFT('Other Facility Related Costs'!$C$4,3))","v":0},{"$f":"SUMIFS(Dollars!$F$2:$F$1188,Dollars!$E$2:$E$1188,'Other Facility Related Costs'!M$6,Dollars!$C$2:$C$1188,'Other Facility Related Costs'!$C21,Dollars!$A$2:$A$1188,LEFT('Other Facility Related Costs'!$C$4,3))","v":0},0,0,0,null,{"$f":"SUMIFS(Dollars!$G$2:$G$1188,Dollars!$E$2:$E$1188,'Other Facility Related Costs'!R$6,Dollars!$C$2:$C$1188,'Other Facility Related Costs'!$C21,Dollars!$A$2:$A$1188,LEFT('Other Facility Related Costs'!$C$4,3))","v":0},{"$f":"SUMIFS(Dollars!$G$2:$G$1188,Dollars!$E$2:$E$1188,'Other Facility Related Costs'!S$6,Dollars!$C$2:$C$1188,'Other Facility Related Costs'!$C21,Dollars!$A$2:$A$1188,LEFT('Other Facility Related Costs'!$C$4,3))","v":0},{"$f":"SUMIFS(Dollars!$G$2:$G$1188,Dollars!$E$2:$E$1188,'Other Facility Related Costs'!T$6,Dollars!$C$2:$C$1188,'Other Facility Related Costs'!$C21,Dollars!$A$2:$A$1188,LEFT('Other Facility Related Costs'!$C$4,3))","v":0},{"$f":"SUMIFS(Dollars!$G$2:$G$1188,Dollars!$E$2:$E$1188,'Other Facility Related Costs'!U$6,Dollars!$C$2:$C$1188,'Other Facility Related Costs'!$C21,Dollars!$A$2:$A$1188,LEFT('Other Facility Related Costs'!$C$4,3))","v":0},{"$f":"SUMIFS(Dollars!$G$2:$G$1188,Dollars!$E$2:$E$1188,'Other Facility Related Costs'!V$6,Dollars!$C$2:$C$1188,'Other Facility Related Costs'!$C21,Dollars!$A$2:$A$1188,LEFT('Other Facility Related Costs'!$C$4,3))","v":0},{"$f":"SUMIFS(Dollars!$G$2:$G$1188,Dollars!$E$2:$E$1188,'Other Facility Related Costs'!W$6,Dollars!$C$2:$C$1188,'Other Facility Related Costs'!$C21,Dollars!$A$2:$A$1188,LEFT('Other Facility Related Costs'!$C$4,3))","v":0},{"$f":"SUMIFS(Dollars!$G$2:$G$1188,Dollars!$E$2:$E$1188,'Other Facility Related Costs'!X$6,Dollars!$C$2:$C$1188,'Other Facility Related Costs'!$C21,Dollars!$A$2:$A$1188,LEFT('Other Facility Related Costs'!$C$4,3))","v":0},0,0,0]
["HIDE",null,"Isabella Bush",{"$f":"VLOOKUP(LEFT($C$4,3),RSF!$A$3:$AJ$108,MATCH($C22,RSF!$A$3:$AK$3,0),FALSE)","v":0},null,null,{"$f":"SUMIFS(Dollars!$F$2:$F$1188,Dollars!$E$2:$E$1188,'Other Facility Related Costs'!G$6,Dollars!$C$2:$C$1188,'Other Facility Related Costs'!$C22,Dollars!$A$2:$A$1188,LEFT('Other Facility Related Costs'!$C$4,3))","v":0},{"$f":"SUMIFS(Dollars!$F$2:$F$1188,Dollars!$E$2:$E$1188,'Other Facility Related Costs'!H$6,Dollars!$C$2:$C$1188,'Other Facility Related Costs'!$C22,Dollars!$A$2:$A$1188,LEFT('Other Facility Related Costs'!$C$4,3))","v":0},{"$f":"SUMIFS(Dollars!$F$2:$F$1188,Dollars!$E$2:$E$1188,'Other Facility Related Costs'!I$6,Dollars!$C$2:$C$1188,'Other Facility Related Costs'!$C22,Dollars!$A$2:$A$1188,LEFT('Other Facility Related Costs'!$C$4,3))","v":0},{"$f":"SUMIFS(Dollars!$F$2:$F$1188,Dollars!$E$2:$E$1188,'Other Facility Related Costs'!J$6,Dollars!$C$2:$C$1188,'Other Facility Related Costs'!$C22,Dollars!$A$2:$A$1188,LEFT('Other Facility Related Costs'!$C$4,3))","v":0},{"$f":"SUMIFS(Dollars!$F$2:$F$1188,Dollars!$E$2:$E$1188,'Other Facility Related Costs'!K$6,Dollars!$C$2:$C$1188,'Other Facility Related Costs'!$C22,Dollars!$A$2:$A$1188,LEFT('Other Facility Related Costs'!$C$4,3))","v":0},{"$f":"SUMIFS(Dollars!$F$2:$F$1188,Dollars!$E$2:$E$1188,'Other Facility Related Costs'!L$6,Dollars!$C$2:$C$1188,'Other Facility Related Costs'!$C22,Dollars!$A$2:$A$1188,LEFT('Other Facility Related Costs'!$C$4,3))","v":0},{"$f":"SUMIFS(Dollars!$F$2:$F$1188,Dollars!$E$2:$E$1188,'Other Facility Related Costs'!M$6,Dollars!$C$2:$C$1188,'Other Facility Related Costs'!$C22,Dollars!$A$2:$A$1188,LEFT('Other Facility Related Costs'!$C$4,3))","v":0},0,0,0,null,{"$f":"SUMIFS(Dollars!$G$2:$G$1188,Dollars!$E$2:$E$1188,'Other Facility Related Costs'!R$6,Dollars!$C$2:$C$1188,'Other Facility Related Costs'!$C22,Dollars!$A$2:$A$1188,LEFT('Other Facility Related Costs'!$C$4,3))","v":0},{"$f":"SUMIFS(Dollars!$G$2:$G$1188,Dollars!$E$2:$E$1188,'Other Facility Related Costs'!S$6,Dollars!$C$2:$C$1188,'Other Facility Related Costs'!$C22,Dollars!$A$2:$A$1188,LEFT('Other Facility Related Costs'!$C$4,3))","v":0},{"$f":"SUMIFS(Dollars!$G$2:$G$1188,Dollars!$E$2:$E$1188,'Other Facility Related Costs'!T$6,Dollars!$C$2:$C$1188,'Other Facility Related Costs'!$C22,Dollars!$A$2:$A$1188,LEFT('Other Facility Related Costs'!$C$4,3))","v":0},{"$f":"SUMIFS(Dollars!$G$2:$G$1188,Dollars!$E$2:$E$1188,'Other Facility Related Costs'!U$6,Dollars!$C$2:$C$1188,'Other Facility Related Costs'!$C22,Dollars!$A$2:$A$1188,LEFT('Other Facility Related Costs'!$C$4,3))","v":0},{"$f":"SUMIFS(Dollars!$G$2:$G$1188,Dollars!$E$2:$E$1188,'Other Facility Related Costs'!V$6,Dollars!$C$2:$C$1188,'Other Facility Related Costs'!$C22,Dollars!$A$2:$A$1188,LEFT('Other Facility Related Costs'!$C$4,3))","v":0},{"$f":"SUMIFS(Dollars!$G$2:$G$1188,Dollars!$E$2:$E$1188,'Other Facility Related Costs'!W$6,Dollars!$C$2:$C$1188,'Other Facility Related Costs'!$C22,Dollars!$A$2:$A$1188,LEFT('Other Facility Related Costs'!$C$4,3))","v":0},{"$f":"SUMIFS(Dollars!$G$2:$G$1188,Dollars!$E$2:$E$1188,'Other Facility Related Costs'!X$6,Dollars!$C$2:$C$1188,'Other Facility Related Costs'!$C22,Dollars!$A$2:$A$1188,LEFT('Other Facility Related Costs'!$C$4,3))","v":0},0,0,0]
["HIDE",null,"1007 Washington",{"$f":"VLOOKUP(LEFT($C$4,3),RSF!$A$3:$AJ$108,MATCH($C23,RSF!$A$3:$AK$3,0),FALSE)","v":0},null,null,{"$f":"SUMIFS(Dollars!$F$2:$F$1188,Dollars!$E$2:$E$1188,'Other Facility Related Costs'!G$6,Dollars!$C$2:$C$1188,'Other Facility Related Costs'!$C23,Dollars!$A$2:$A$1188,LEFT('Other Facility Related Costs'!$C$4,3))","v":0},{"$f":"SUMIFS(Dollars!$F$2:$F$1188,Dollars!$E$2:$E$1188,'Other Facility Related Costs'!H$6,Dollars!$C$2:$C$1188,'Other Facility Related Costs'!$C23,Dollars!$A$2:$A$1188,LEFT('Other Facility Related Costs'!$C$4,3))","v":0},{"$f":"SUMIFS(Dollars!$F$2:$F$1188,Dollars!$E$2:$E$1188,'Other Facility Related Costs'!I$6,Dollars!$C$2:$C$1188,'Other Facility Related Costs'!$C23,Dollars!$A$2:$A$1188,LEFT('Other Facility Related Costs'!$C$4,3))","v":0},{"$f":"SUMIFS(Dollars!$F$2:$F$1188,Dollars!$E$2:$E$1188,'Other Facility Related Costs'!J$6,Dollars!$C$2:$C$1188,'Other Facility Related Costs'!$C23,Dollars!$A$2:$A$1188,LEFT('Other Facility Related Costs'!$C$4,3))","v":0},{"$f":"SUMIFS(Dollars!$F$2:$F$1188,Dollars!$E$2:$E$1188,'Other Facility Related Costs'!K$6,Dollars!$C$2:$C$1188,'Other Facility Related Costs'!$C23,Dollars!$A$2:$A$1188,LEFT('Other Facility Related Costs'!$C$4,3))","v":0},{"$f":"SUMIFS(Dollars!$F$2:$F$1188,Dollars!$E$2:$E$1188,'Other Facility Related Costs'!L$6,Dollars!$C$2:$C$1188,'Other Facility Related Costs'!$C23,Dollars!$A$2:$A$1188,LEFT('Other Facility Related Costs'!$C$4,3))","v":0},{"$f":"SUMIFS(Dollars!$F$2:$F$1188,Dollars!$E$2:$E$1188,'Other Facility Related Costs'!M$6,Dollars!$C$2:$C$1188,'Other Facility Related Costs'!$C23,Dollars!$A$2:$A$1188,LEFT('Other Facility Related Costs'!$C$4,3))","v":0},0,0,0,null,{"$f":"SUMIFS(Dollars!$G$2:$G$1188,Dollars!$E$2:$E$1188,'Other Facility Related Costs'!R$6,Dollars!$C$2:$C$1188,'Other Facility Related Costs'!$C23,Dollars!$A$2:$A$1188,LEFT('Other Facility Related Costs'!$C$4,3))","v":0},{"$f":"SUMIFS(Dollars!$G$2:$G$1188,Dollars!$E$2:$E$1188,'Other Facility Related Costs'!S$6,Dollars!$C$2:$C$1188,'Other Facility Related Costs'!$C23,Dollars!$A$2:$A$1188,LEFT('Other Facility Related Costs'!$C$4,3))","v":0},{"$f":"SUMIFS(Dollars!$G$2:$G$1188,Dollars!$E$2:$E$1188,'Other Facility Related Costs'!T$6,Dollars!$C$2:$C$1188,'Other Facility Related Costs'!$C23,Dollars!$A$2:$A$1188,LEFT('Other Facility Related Costs'!$C$4,3))","v":0},{"$f":"SUMIFS(Dollars!$G$2:$G$1188,Dollars!$E$2:$E$1188,'Other Facility Related Costs'!U$6,Dollars!$C$2:$C$1188,'Other Facility Related Costs'!$C23,Dollars!$A$2:$A$1188,LEFT('Other Facility Related Costs'!$C$4,3))","v":0},{"$f":"SUMIFS(Dollars!$G$2:$G$1188,Dollars!$E$2:$E$1188,'Other Facility Related Costs'!V$6,Dollars!$C$2:$C$1188,'Other Facility Related Costs'!$C23,Dollars!$A$2:$A$1188,LEFT('Other Facility Related Costs'!$C$4,3))","v":0},{"$f":"SUMIFS(Dollars!$G$2:$G$1188,Dollars!$E$2:$E$1188,'Other Facility Related Costs'!W$6,Dollars!$C$2:$C$1188,'Other Facility Related Costs'!$C23,Dollars!$A$2:$A$1188,LEFT('Other Facility Related Costs'!$C$4,3))","v":0},{"$f":"SUMIFS(Dollars!$G$2:$G$1188,Dollars!$E$2:$E$1188,'Other Facility Related Costs'!X$6,Dollars!$C$2:$C$1188,'Other Facility Related Costs'!$C23,Dollars!$A$2:$A$1188,LEFT('Other Facility Related Costs'!$C$4,3))","v":0},0,0,0]
["HIDE",null,"120 E Union Avenue",{"$f":"VLOOKUP(LEFT($C$4,3),RSF!$A$3:$AJ$108,MATCH($C24,RSF!$A$3:$AK$3,0),FALSE)","v":0},null,null,{"$f":"SUMIFS(Dollars!$F$2:$F$1188,Dollars!$E$2:$E$1188,'Other Facility Related Costs'!G$6,Dollars!$C$2:$C$1188,'Other Facility Related Costs'!$C24,Dollars!$A$2:$A$1188,LEFT('Other Facility Related Costs'!$C$4,3))","v":0},{"$f":"SUMIFS(Dollars!$F$2:$F$1188,Dollars!$E$2:$E$1188,'Other Facility Related Costs'!H$6,Dollars!$C$2:$C$1188,'Other Facility Related Costs'!$C24,Dollars!$A$2:$A$1188,LEFT('Other Facility Related Costs'!$C$4,3))","v":0},{"$f":"SUMIFS(Dollars!$F$2:$F$1188,Dollars!$E$2:$E$1188,'Other Facility Related Costs'!I$6,Dollars!$C$2:$C$1188,'Other Facility Related Costs'!$C24,Dollars!$A$2:$A$1188,LEFT('Other Facility Related Costs'!$C$4,3))","v":0},{"$f":"SUMIFS(Dollars!$F$2:$F$1188,Dollars!$E$2:$E$1188,'Other Facility Related Costs'!J$6,Dollars!$C$2:$C$1188,'Other Facility Related Costs'!$C24,Dollars!$A$2:$A$1188,LEFT('Other Facility Related Costs'!$C$4,3))","v":0},{"$f":"SUMIFS(Dollars!$F$2:$F$1188,Dollars!$E$2:$E$1188,'Other Facility Related Costs'!K$6,Dollars!$C$2:$C$1188,'Other Facility Related Costs'!$C24,Dollars!$A$2:$A$1188,LEFT('Other Facility Related Costs'!$C$4,3))","v":0},{"$f":"SUMIFS(Dollars!$F$2:$F$1188,Dollars!$E$2:$E$1188,'Other Facility Related Costs'!L$6,Dollars!$C$2:$C$1188,'Other Facility Related Costs'!$C24,Dollars!$A$2:$A$1188,LEFT('Other Facility Related Costs'!$C$4,3))","v":0},{"$f":"SUMIFS(Dollars!$F$2:$F$1188,Dollars!$E$2:$E$1188,'Other Facility Related Costs'!M$6,Dollars!$C$2:$C$1188,'Other Facility Related Costs'!$C24,Dollars!$A$2:$A$1188,LEFT('Other Facility Related Costs'!$C$4,3))","v":0},0,0,0,null,{"$f":"SUMIFS(Dollars!$G$2:$G$1188,Dollars!$E$2:$E$1188,'Other Facility Related Costs'!R$6,Dollars!$C$2:$C$1188,'Other Facility Related Costs'!$C24,Dollars!$A$2:$A$1188,LEFT('Other Facility Related Costs'!$C$4,3))","v":0},{"$f":"SUMIFS(Dollars!$G$2:$G$1188,Dollars!$E$2:$E$1188,'Other Facility Related Costs'!S$6,Dollars!$C$2:$C$1188,'Other Facility Related Costs'!$C24,Dollars!$A$2:$A$1188,LEFT('Other Facility Related Costs'!$C$4,3))","v":0},{"$f":"SUMIFS(Dollars!$G$2:$G$1188,Dollars!$E$2:$E$1188,'Other Facility Related Costs'!T$6,Dollars!$C$2:$C$1188,'Other Facility Related Costs'!$C24,Dollars!$A$2:$A$1188,LEFT('Other Facility Related Costs'!$C$4,3))","v":0},{"$f":"SUMIFS(Dollars!$G$2:$G$1188,Dollars!$E$2:$E$1188,'Other Facility Related Costs'!U$6,Dollars!$C$2:$C$1188,'Other Facility Related Costs'!$C24,Dollars!$A$2:$A$1188,LEFT('Other Facility Related Costs'!$C$4,3))","v":0},{"$f":"SUMIFS(Dollars!$G$2:$G$1188,Dollars!$E$2:$E$1188,'Other Facility Related Costs'!V$6,Dollars!$C$2:$C$1188,'Other Facility Related Costs'!$C24,Dollars!$A$2:$A$1188,LEFT('Other Facility Related Costs'!$C$4,3))","v":0},{"$f":"SUMIFS(Dollars!$G$2:$G$1188,Dollars!$E$2:$E$1188,'Other Facility Related Costs'!W$6,Dollars!$C$2:$C$1188,'Other Facility Related Costs'!$C24,Dollars!$A$2:$A$1188,LEFT('Other Facility Related Costs'!$C$4,3))","v":0},{"$f":"SUMIFS(Dollars!$G$2:$G$1188,Dollars!$E$2:$E$1188,'Other Facility Related Costs'!X$6,Dollars!$C$2:$C$1188,'Other Facility Related Costs'!$C24,Dollars!$A$2:$A$1188,LEFT('Other Facility Related Costs'!$C$4,3))","v":0},0,0,0]
["HIDE",null,"Capital Court",{"$f":"VLOOKUP(LEFT($C$4,3),RSF!$A$3:$AJ$108,MATCH($C25,RSF!$A$3:$AK$3,0),FALSE)","v":0},null,null,{"$f":"SUMIFS(Dollars!$F$2:$F$1188,Dollars!$E$2:$E$1188,'Other Facility Related Costs'!G$6,Dollars!$C$2:$C$1188,'Other Facility Related Costs'!$C25,Dollars!$A$2:$A$1188,LEFT('Other Facility Related Costs'!$C$4,3))","v":0},{"$f":"SUMIFS(Dollars!$F$2:$F$1188,Dollars!$E$2:$E$1188,'Other Facility Related Costs'!H$6,Dollars!$C$2:$C$1188,'Other Facility Related Costs'!$C25,Dollars!$A$2:$A$1188,LEFT('Other Facility Related Costs'!$C$4,3))","v":0},{"$f":"SUMIFS(Dollars!$F$2:$F$1188,Dollars!$E$2:$E$1188,'Other Facility Related Costs'!I$6,Dollars!$C$2:$C$1188,'Other Facility Related Costs'!$C25,Dollars!$A$2:$A$1188,LEFT('Other Facility Related Costs'!$C$4,3))","v":0},{"$f":"SUMIFS(Dollars!$F$2:$F$1188,Dollars!$E$2:$E$1188,'Other Facility Related Costs'!J$6,Dollars!$C$2:$C$1188,'Other Facility Related Costs'!$C25,Dollars!$A$2:$A$1188,LEFT('Other Facility Related Costs'!$C$4,3))","v":0},{"$f":"SUMIFS(Dollars!$F$2:$F$1188,Dollars!$E$2:$E$1188,'Other Facility Related Costs'!K$6,Dollars!$C$2:$C$1188,'Other Facility Related Costs'!$C25,Dollars!$A$2:$A$1188,LEFT('Other Facility Related Costs'!$C$4,3))","v":0},{"$f":"SUMIFS(Dollars!$F$2:$F$1188,Dollars!$E$2:$E$1188,'Other Facility Related Costs'!L$6,Dollars!$C$2:$C$1188,'Other Facility Related Costs'!$C25,Dollars!$A$2:$A$1188,LEFT('Other Facility Related Costs'!$C$4,3))","v":0},{"$f":"SUMIFS(Dollars!$F$2:$F$1188,Dollars!$E$2:$E$1188,'Other Facility Related Costs'!M$6,Dollars!$C$2:$C$1188,'Other Facility Related Costs'!$C25,Dollars!$A$2:$A$1188,LEFT('Other Facility Related Costs'!$C$4,3))","v":0},0,0,0,null,{"$f":"SUMIFS(Dollars!$G$2:$G$1188,Dollars!$E$2:$E$1188,'Other Facility Related Costs'!R$6,Dollars!$C$2:$C$1188,'Other Facility Related Costs'!$C25,Dollars!$A$2:$A$1188,LEFT('Other Facility Related Costs'!$C$4,3))","v":0},{"$f":"SUMIFS(Dollars!$G$2:$G$1188,Dollars!$E$2:$E$1188,'Other Facility Related Costs'!S$6,Dollars!$C$2:$C$1188,'Other Facility Related Costs'!$C25,Dollars!$A$2:$A$1188,LEFT('Other Facility Related Costs'!$C$4,3))","v":0},{"$f":"SUMIFS(Dollars!$G$2:$G$1188,Dollars!$E$2:$E$1188,'Other Facility Related Costs'!T$6,Dollars!$C$2:$C$1188,'Other Facility Related Costs'!$C25,Dollars!$A$2:$A$1188,LEFT('Other Facility Related Costs'!$C$4,3))","v":0},{"$f":"SUMIFS(Dollars!$G$2:$G$1188,Dollars!$E$2:$E$1188,'Other Facility Related Costs'!U$6,Dollars!$C$2:$C$1188,'Other Facility Related Costs'!$C25,Dollars!$A$2:$A$1188,LEFT('Other Facility Related Costs'!$C$4,3))","v":0},{"$f":"SUMIFS(Dollars!$G$2:$G$1188,Dollars!$E$2:$E$1188,'Other Facility Related Costs'!V$6,Dollars!$C$2:$C$1188,'Other Facility Related Costs'!$C25,Dollars!$A$2:$A$1188,LEFT('Other Facility Related Costs'!$C$4,3))","v":0},{"$f":"SUMIFS(Dollars!$G$2:$G$1188,Dollars!$E$2:$E$1188,'Other Facility Related Costs'!W$6,Dollars!$C$2:$C$1188,'Other Facility Related Costs'!$C25,Dollars!$A$2:$A$1188,LEFT('Other Facility Related Costs'!$C$4,3))","v":0},{"$f":"SUMIFS(Dollars!$G$2:$G$1188,Dollars!$E$2:$E$1188,'Other Facility Related Costs'!X$6,Dollars!$C$2:$C$1188,'Other Facility Related Costs'!$C25,Dollars!$A$2:$A$1188,LEFT('Other Facility Related Costs'!$C$4,3))","v":0},0,0,0]
["HIDE",null,"James Dolliver Building",{"$f":"VLOOKUP(LEFT($C$4,3),RSF!$A$3:$AJ$108,MATCH($C26,RSF!$A$3:$AK$3,0),FALSE)","v":0},null,null,{"$f":"SUMIFS(Dollars!$F$2:$F$1188,Dollars!$E$2:$E$1188,'Other Facility Related Costs'!G$6,Dollars!$C$2:$C$1188,'Other Facility Related Costs'!$C26,Dollars!$A$2:$A$1188,LEFT('Other Facility Related Costs'!$C$4,3))","v":0},{"$f":"SUMIFS(Dollars!$F$2:$F$1188,Dollars!$E$2:$E$1188,'Other Facility Related Costs'!H$6,Dollars!$C$2:$C$1188,'Other Facility Related Costs'!$C26,Dollars!$A$2:$A$1188,LEFT('Other Facility Related Costs'!$C$4,3))","v":0},{"$f":"SUMIFS(Dollars!$F$2:$F$1188,Dollars!$E$2:$E$1188,'Other Facility Related Costs'!I$6,Dollars!$C$2:$C$1188,'Other Facility Related Costs'!$C26,Dollars!$A$2:$A$1188,LEFT('Other Facility Related Costs'!$C$4,3))","v":0},{"$f":"SUMIFS(Dollars!$F$2:$F$1188,Dollars!$E$2:$E$1188,'Other Facility Related Costs'!J$6,Dollars!$C$2:$C$1188,'Other Facility Related Costs'!$C26,Dollars!$A$2:$A$1188,LEFT('Other Facility Related Costs'!$C$4,3))","v":0},{"$f":"SUMIFS(Dollars!$F$2:$F$1188,Dollars!$E$2:$E$1188,'Other Facility Related Costs'!K$6,Dollars!$C$2:$C$1188,'Other Facility Related Costs'!$C26,Dollars!$A$2:$A$1188,LEFT('Other Facility Related Costs'!$C$4,3))","v":0},{"$f":"SUMIFS(Dollars!$F$2:$F$1188,Dollars!$E$2:$E$1188,'Other Facility Related Costs'!L$6,Dollars!$C$2:$C$1188,'Other Facility Related Costs'!$C26,Dollars!$A$2:$A$1188,LEFT('Other Facility Related Costs'!$C$4,3))","v":0},{"$f":"SUMIFS(Dollars!$F$2:$F$1188,Dollars!$E$2:$E$1188,'Other Facility Related Costs'!M$6,Dollars!$C$2:$C$1188,'Other Facility Related Costs'!$C26,Dollars!$A$2:$A$1188,LEFT('Other Facility Related Costs'!$C$4,3))","v":0},0,0,0,null,{"$f":"SUMIFS(Dollars!$G$2:$G$1188,Dollars!$E$2:$E$1188,'Other Facility Related Costs'!R$6,Dollars!$C$2:$C$1188,'Other Facility Related Costs'!$C26,Dollars!$A$2:$A$1188,LEFT('Other Facility Related Costs'!$C$4,3))","v":0},{"$f":"SUMIFS(Dollars!$G$2:$G$1188,Dollars!$E$2:$E$1188,'Other Facility Related Costs'!S$6,Dollars!$C$2:$C$1188,'Other Facility Related Costs'!$C26,Dollars!$A$2:$A$1188,LEFT('Other Facility Related Costs'!$C$4,3))","v":0},{"$f":"SUMIFS(Dollars!$G$2:$G$1188,Dollars!$E$2:$E$1188,'Other Facility Related Costs'!T$6,Dollars!$C$2:$C$1188,'Other Facility Related Costs'!$C26,Dollars!$A$2:$A$1188,LEFT('Other Facility Related Costs'!$C$4,3))","v":0},{"$f":"SUMIFS(Dollars!$G$2:$G$1188,Dollars!$E$2:$E$1188,'Other Facility Related Costs'!U$6,Dollars!$C$2:$C$1188,'Other Facility Related Costs'!$C26,Dollars!$A$2:$A$1188,LEFT('Other Facility Related Costs'!$C$4,3))","v":0},{"$f":"SUMIFS(Dollars!$G$2:$G$1188,Dollars!$E$2:$E$1188,'Other Facility Related Costs'!V$6,Dollars!$C$2:$C$1188,'Other Facility Related Costs'!$C26,Dollars!$A$2:$A$1188,LEFT('Other Facility Related Costs'!$C$4,3))","v":0},{"$f":"SUMIFS(Dollars!$G$2:$G$1188,Dollars!$E$2:$E$1188,'Other Facility Related Costs'!W$6,Dollars!$C$2:$C$1188,'Other Facility Related Costs'!$C26,Dollars!$A$2:$A$1188,LEFT('Other Facility Related Costs'!$C$4,3))","v":0},{"$f":"SUMIFS(Dollars!$G$2:$G$1188,Dollars!$E$2:$E$1188,'Other Facility Related Costs'!X$6,Dollars!$C$2:$C$1188,'Other Facility Related Costs'!$C26,Dollars!$A$2:$A$1188,LEFT('Other Facility Related Costs'!$C$4,3))","v":0},0,0,0]
["HIDE",null,"Undeveloped Properties",{"$f":"VLOOKUP(LEFT($C$4,3),RSF!$A$3:$AJ$108,MATCH($C27,RSF!$A$3:$AK$3,0),FALSE)","v":0},null,null,{"$f":"SUMIFS(Dollars!$F$2:$F$1188,Dollars!$E$2:$E$1188,'Other Facility Related Costs'!G$6,Dollars!$C$2:$C$1188,'Other Facility Related Costs'!$C27,Dollars!$A$2:$A$1188,LEFT('Other Facility Related Costs'!$C$4,3))","v":0},{"$f":"SUMIFS(Dollars!$F$2:$F$1188,Dollars!$E$2:$E$1188,'Other Facility Related Costs'!H$6,Dollars!$C$2:$C$1188,'Other Facility Related Costs'!$C27,Dollars!$A$2:$A$1188,LEFT('Other Facility Related Costs'!$C$4,3))","v":0},{"$f":"SUMIFS(Dollars!$F$2:$F$1188,Dollars!$E$2:$E$1188,'Other Facility Related Costs'!I$6,Dollars!$C$2:$C$1188,'Other Facility Related Costs'!$C27,Dollars!$A$2:$A$1188,LEFT('Other Facility Related Costs'!$C$4,3))","v":0},{"$f":"SUMIFS(Dollars!$F$2:$F$1188,Dollars!$E$2:$E$1188,'Other Facility Related Costs'!J$6,Dollars!$C$2:$C$1188,'Other Facility Related Costs'!$C27,Dollars!$A$2:$A$1188,LEFT('Other Facility Related Costs'!$C$4,3))","v":0},{"$f":"SUMIFS(Dollars!$F$2:$F$1188,Dollars!$E$2:$E$1188,'Other Facility Related Costs'!K$6,Dollars!$C$2:$C$1188,'Other Facility Related Costs'!$C27,Dollars!$A$2:$A$1188,LEFT('Other Facility Related Costs'!$C$4,3))","v":0},{"$f":"SUMIFS(Dollars!$F$2:$F$1188,Dollars!$E$2:$E$1188,'Other Facility Related Costs'!L$6,Dollars!$C$2:$C$1188,'Other Facility Related Costs'!$C27,Dollars!$A$2:$A$1188,LEFT('Other Facility Related Costs'!$C$4,3))","v":0},{"$f":"SUMIFS(Dollars!$F$2:$F$1188,Dollars!$E$2:$E$1188,'Other Facility Related Costs'!M$6,Dollars!$C$2:$C$1188,'Other Facility Related Costs'!$C27,Dollars!$A$2:$A$1188,LEFT('Other Facility Related Costs'!$C$4,3))","v":0},0,0,0,null,{"$f":"SUMIFS(Dollars!$G$2:$G$1188,Dollars!$E$2:$E$1188,'Other Facility Related Costs'!R$6,Dollars!$C$2:$C$1188,'Other Facility Related Costs'!$C27,Dollars!$A$2:$A$1188,LEFT('Other Facility Related Costs'!$C$4,3))","v":0},{"$f":"SUMIFS(Dollars!$G$2:$G$1188,Dollars!$E$2:$E$1188,'Other Facility Related Costs'!S$6,Dollars!$C$2:$C$1188,'Other Facility Related Costs'!$C27,Dollars!$A$2:$A$1188,LEFT('Other Facility Related Costs'!$C$4,3))","v":0},{"$f":"SUMIFS(Dollars!$G$2:$G$1188,Dollars!$E$2:$E$1188,'Other Facility Related Costs'!T$6,Dollars!$C$2:$C$1188,'Other Facility Related Costs'!$C27,Dollars!$A$2:$A$1188,LEFT('Other Facility Related Costs'!$C$4,3))","v":0},{"$f":"SUMIFS(Dollars!$G$2:$G$1188,Dollars!$E$2:$E$1188,'Other Facility Related Costs'!U$6,Dollars!$C$2:$C$1188,'Other Facility Related Costs'!$C27,Dollars!$A$2:$A$1188,LEFT('Other Facility Related Costs'!$C$4,3))","v":0},{"$f":"SUMIFS(Dollars!$G$2:$G$1188,Dollars!$E$2:$E$1188,'Other Facility Related Costs'!V$6,Dollars!$C$2:$C$1188,'Other Facility Related Costs'!$C27,Dollars!$A$2:$A$1188,LEFT('Other Facility Related Costs'!$C$4,3))","v":0},{"$f":"SUMIFS(Dollars!$G$2:$G$1188,Dollars!$E$2:$E$1188,'Other Facility Related Costs'!W$6,Dollars!$C$2:$C$1188,'Other Facility Related Costs'!$C27,Dollars!$A$2:$A$1188,LEFT('Other Facility Related Costs'!$C$4,3))","v":0},{"$f":"SUMIFS(Dollars!$G$2:$G$1188,Dollars!$E$2:$E$1188,'Other Facility Related Costs'!X$6,Dollars!$C$2:$C$1188,'Other Facility Related Costs'!$C27,Dollars!$A$2:$A$1188,LEFT('Other Facility Related Costs'!$C$4,3))","v":0},0,0,0]
["HIDE",null,"1068 WA Street SE (ST Farm)",{"$f":"VLOOKUP(LEFT($C$4,3),RSF!$A$3:$AJ$108,MATCH($C28,RSF!$A$3:$AK$3,0),FALSE)","v":0},null,null,{"$f":"SUMIFS(Dollars!$F$2:$F$1188,Dollars!$E$2:$E$1188,'Other Facility Related Costs'!G$6,Dollars!$C$2:$C$1188,'Other Facility Related Costs'!$C28,Dollars!$A$2:$A$1188,LEFT('Other Facility Related Costs'!$C$4,3))","v":0},{"$f":"SUMIFS(Dollars!$F$2:$F$1188,Dollars!$E$2:$E$1188,'Other Facility Related Costs'!H$6,Dollars!$C$2:$C$1188,'Other Facility Related Costs'!$C28,Dollars!$A$2:$A$1188,LEFT('Other Facility Related Costs'!$C$4,3))","v":0},{"$f":"SUMIFS(Dollars!$F$2:$F$1188,Dollars!$E$2:$E$1188,'Other Facility Related Costs'!I$6,Dollars!$C$2:$C$1188,'Other Facility Related Costs'!$C28,Dollars!$A$2:$A$1188,LEFT('Other Facility Related Costs'!$C$4,3))","v":0},{"$f":"SUMIFS(Dollars!$F$2:$F$1188,Dollars!$E$2:$E$1188,'Other Facility Related Costs'!J$6,Dollars!$C$2:$C$1188,'Other Facility Related Costs'!$C28,Dollars!$A$2:$A$1188,LEFT('Other Facility Related Costs'!$C$4,3))","v":0},{"$f":"SUMIFS(Dollars!$F$2:$F$1188,Dollars!$E$2:$E$1188,'Other Facility Related Costs'!K$6,Dollars!$C$2:$C$1188,'Other Facility Related Costs'!$C28,Dollars!$A$2:$A$1188,LEFT('Other Facility Related Costs'!$C$4,3))","v":0},{"$f":"SUMIFS(Dollars!$F$2:$F$1188,Dollars!$E$2:$E$1188,'Other Facility Related Costs'!L$6,Dollars!$C$2:$C$1188,'Other Facility Related Costs'!$C28,Dollars!$A$2:$A$1188,LEFT('Other Facility Related Costs'!$C$4,3))","v":0},{"$f":"SUMIFS(Dollars!$F$2:$F$1188,Dollars!$E$2:$E$1188,'Other Facility Related Costs'!M$6,Dollars!$C$2:$C$1188,'Other Facility Related Costs'!$C28,Dollars!$A$2:$A$1188,LEFT('Other Facility Related Costs'!$C$4,3))","v":0},0,0,0,null,{"$f":"SUMIFS(Dollars!$G$2:$G$1188,Dollars!$E$2:$E$1188,'Other Facility Related Costs'!R$6,Dollars!$C$2:$C$1188,'Other Facility Related Costs'!$C28,Dollars!$A$2:$A$1188,LEFT('Other Facility Related Costs'!$C$4,3))","v":0},{"$f":"SUMIFS(Dollars!$G$2:$G$1188,Dollars!$E$2:$E$1188,'Other Facility Related Costs'!S$6,Dollars!$C$2:$C$1188,'Other Facility Related Costs'!$C28,Dollars!$A$2:$A$1188,LEFT('Other Facility Related Costs'!$C$4,3))","v":0},{"$f":"SUMIFS(Dollars!$G$2:$G$1188,Dollars!$E$2:$E$1188,'Other Facility Related Costs'!T$6,Dollars!$C$2:$C$1188,'Other Facility Related Costs'!$C28,Dollars!$A$2:$A$1188,LEFT('Other Facility Related Costs'!$C$4,3))","v":0},{"$f":"SUMIFS(Dollars!$G$2:$G$1188,Dollars!$E$2:$E$1188,'Other Facility Related Costs'!U$6,Dollars!$C$2:$C$1188,'Other Facility Related Costs'!$C28,Dollars!$A$2:$A$1188,LEFT('Other Facility Related Costs'!$C$4,3))","v":0},{"$f":"SUMIFS(Dollars!$G$2:$G$1188,Dollars!$E$2:$E$1188,'Other Facility Related Costs'!V$6,Dollars!$C$2:$C$1188,'Other Facility Related Costs'!$C28,Dollars!$A$2:$A$1188,LEFT('Other Facility Related Costs'!$C$4,3))","v":0},{"$f":"SUMIFS(Dollars!$G$2:$G$1188,Dollars!$E$2:$E$1188,'Other Facility Related Costs'!W$6,Dollars!$C$2:$C$1188,'Other Facility Related Costs'!$C28,Dollars!$A$2:$A$1188,LEFT('Other Facility Related Costs'!$C$4,3))","v":0},{"$f":"SUMIFS(Dollars!$G$2:$G$1188,Dollars!$E$2:$E$1188,'Other Facility Related Costs'!X$6,Dollars!$C$2:$C$1188,'Other Facility Related Costs'!$C28,Dollars!$A$2:$A$1188,LEFT('Other Facility Related Costs'!$C$4,3))","v":0},0,0,0]
["HIDE",null,"232 Perry Street",{"$f":"VLOOKUP(LEFT($C$4,3),RSF!$A$3:$AJ$108,MATCH($C29,RSF!$A$3:$AK$3,0),FALSE)","v":0},null,null,{"$f":"SUMIFS(Dollars!$F$2:$F$1188,Dollars!$E$2:$E$1188,'Other Facility Related Costs'!G$6,Dollars!$C$2:$C$1188,'Other Facility Related Costs'!$C29,Dollars!$A$2:$A$1188,LEFT('Other Facility Related Costs'!$C$4,3))","v":0},{"$f":"SUMIFS(Dollars!$F$2:$F$1188,Dollars!$E$2:$E$1188,'Other Facility Related Costs'!H$6,Dollars!$C$2:$C$1188,'Other Facility Related Costs'!$C29,Dollars!$A$2:$A$1188,LEFT('Other Facility Related Costs'!$C$4,3))","v":0},{"$f":"SUMIFS(Dollars!$F$2:$F$1188,Dollars!$E$2:$E$1188,'Other Facility Related Costs'!I$6,Dollars!$C$2:$C$1188,'Other Facility Related Costs'!$C29,Dollars!$A$2:$A$1188,LEFT('Other Facility Related Costs'!$C$4,3))","v":0},{"$f":"SUMIFS(Dollars!$F$2:$F$1188,Dollars!$E$2:$E$1188,'Other Facility Related Costs'!J$6,Dollars!$C$2:$C$1188,'Other Facility Related Costs'!$C29,Dollars!$A$2:$A$1188,LEFT('Other Facility Related Costs'!$C$4,3))","v":0},{"$f":"SUMIFS(Dollars!$F$2:$F$1188,Dollars!$E$2:$E$1188,'Other Facility Related Costs'!K$6,Dollars!$C$2:$C$1188,'Other Facility Related Costs'!$C29,Dollars!$A$2:$A$1188,LEFT('Other Facility Related Costs'!$C$4,3))","v":0},{"$f":"SUMIFS(Dollars!$F$2:$F$1188,Dollars!$E$2:$E$1188,'Other Facility Related Costs'!L$6,Dollars!$C$2:$C$1188,'Other Facility Related Costs'!$C29,Dollars!$A$2:$A$1188,LEFT('Other Facility Related Costs'!$C$4,3))","v":0},{"$f":"SUMIFS(Dollars!$F$2:$F$1188,Dollars!$E$2:$E$1188,'Other Facility Related Costs'!M$6,Dollars!$C$2:$C$1188,'Other Facility Related Costs'!$C29,Dollars!$A$2:$A$1188,LEFT('Other Facility Related Costs'!$C$4,3))","v":0},0,0,0,null,{"$f":"SUMIFS(Dollars!$G$2:$G$1188,Dollars!$E$2:$E$1188,'Other Facility Related Costs'!R$6,Dollars!$C$2:$C$1188,'Other Facility Related Costs'!$C29,Dollars!$A$2:$A$1188,LEFT('Other Facility Related Costs'!$C$4,3))","v":0},{"$f":"SUMIFS(Dollars!$G$2:$G$1188,Dollars!$E$2:$E$1188,'Other Facility Related Costs'!S$6,Dollars!$C$2:$C$1188,'Other Facility Related Costs'!$C29,Dollars!$A$2:$A$1188,LEFT('Other Facility Related Costs'!$C$4,3))","v":0},{"$f":"SUMIFS(Dollars!$G$2:$G$1188,Dollars!$E$2:$E$1188,'Other Facility Related Costs'!T$6,Dollars!$C$2:$C$1188,'Other Facility Related Costs'!$C29,Dollars!$A$2:$A$1188,LEFT('Other Facility Related Costs'!$C$4,3))","v":0},{"$f":"SUMIFS(Dollars!$G$2:$G$1188,Dollars!$E$2:$E$1188,'Other Facility Related Costs'!U$6,Dollars!$C$2:$C$1188,'Other Facility Related Costs'!$C29,Dollars!$A$2:$A$1188,LEFT('Other Facility Related Costs'!$C$4,3))","v":0},{"$f":"SUMIFS(Dollars!$G$2:$G$1188,Dollars!$E$2:$E$1188,'Other Facility Related Costs'!V$6,Dollars!$C$2:$C$1188,'Other Facility Related Costs'!$C29,Dollars!$A$2:$A$1188,LEFT('Other Facility Related Costs'!$C$4,3))","v":0},{"$f":"SUMIFS(Dollars!$G$2:$G$1188,Dollars!$E$2:$E$1188,'Other Facility Related Costs'!W$6,Dollars!$C$2:$C$1188,'Other Facility Related Costs'!$C29,Dollars!$A$2:$A$1188,LEFT('Other Facility Related Costs'!$C$4,3))","v":0},{"$f":"SUMIFS(Dollars!$G$2:$G$1188,Dollars!$E$2:$E$1188,'Other Facility Related Costs'!X$6,Dollars!$C$2:$C$1188,'Other Facility Related Costs'!$C29,Dollars!$A$2:$A$1188,LEFT('Other Facility Related Costs'!$C$4,3))","v":0},0,0,0]
["HIDE",null,"208 11th Avenue SE (Pro Arts)",{"$f":"VLOOKUP(LEFT($C$4,3),RSF!$A$3:$AJ$108,MATCH($C30,RSF!$A$3:$AK$3,0),FALSE)","v":0},null,null,{"$f":"SUMIFS(Dollars!$F$2:$F$1188,Dollars!$E$2:$E$1188,'Other Facility Related Costs'!G$6,Dollars!$C$2:$C$1188,'Other Facility Related Costs'!$C30,Dollars!$A$2:$A$1188,LEFT('Other Facility Related Costs'!$C$4,3))","v":0},{"$f":"SUMIFS(Dollars!$F$2:$F$1188,Dollars!$E$2:$E$1188,'Other Facility Related Costs'!H$6,Dollars!$C$2:$C$1188,'Other Facility Related Costs'!$C30,Dollars!$A$2:$A$1188,LEFT('Other Facility Related Costs'!$C$4,3))","v":0},{"$f":"SUMIFS(Dollars!$F$2:$F$1188,Dollars!$E$2:$E$1188,'Other Facility Related Costs'!I$6,Dollars!$C$2:$C$1188,'Other Facility Related Costs'!$C30,Dollars!$A$2:$A$1188,LEFT('Other Facility Related Costs'!$C$4,3))","v":0},{"$f":"SUMIFS(Dollars!$F$2:$F$1188,Dollars!$E$2:$E$1188,'Other Facility Related Costs'!J$6,Dollars!$C$2:$C$1188,'Other Facility Related Costs'!$C30,Dollars!$A$2:$A$1188,LEFT('Other Facility Related Costs'!$C$4,3))","v":0},{"$f":"SUMIFS(Dollars!$F$2:$F$1188,Dollars!$E$2:$E$1188,'Other Facility Related Costs'!K$6,Dollars!$C$2:$C$1188,'Other Facility Related Costs'!$C30,Dollars!$A$2:$A$1188,LEFT('Other Facility Related Costs'!$C$4,3))","v":0},{"$f":"SUMIFS(Dollars!$F$2:$F$1188,Dollars!$E$2:$E$1188,'Other Facility Related Costs'!L$6,Dollars!$C$2:$C$1188,'Other Facility Related Costs'!$C30,Dollars!$A$2:$A$1188,LEFT('Other Facility Related Costs'!$C$4,3))","v":0},{"$f":"SUMIFS(Dollars!$F$2:$F$1188,Dollars!$E$2:$E$1188,'Other Facility Related Costs'!M$6,Dollars!$C$2:$C$1188,'Other Facility Related Costs'!$C30,Dollars!$A$2:$A$1188,LEFT('Other Facility Related Costs'!$C$4,3))","v":0},0,0,0,null,{"$f":"SUMIFS(Dollars!$G$2:$G$1188,Dollars!$E$2:$E$1188,'Other Facility Related Costs'!R$6,Dollars!$C$2:$C$1188,'Other Facility Related Costs'!$C30,Dollars!$A$2:$A$1188,LEFT('Other Facility Related Costs'!$C$4,3))","v":0},{"$f":"SUMIFS(Dollars!$G$2:$G$1188,Dollars!$E$2:$E$1188,'Other Facility Related Costs'!S$6,Dollars!$C$2:$C$1188,'Other Facility Related Costs'!$C30,Dollars!$A$2:$A$1188,LEFT('Other Facility Related Costs'!$C$4,3))","v":0},{"$f":"SUMIFS(Dollars!$G$2:$G$1188,Dollars!$E$2:$E$1188,'Other Facility Related Costs'!T$6,Dollars!$C$2:$C$1188,'Other Facility Related Costs'!$C30,Dollars!$A$2:$A$1188,LEFT('Other Facility Related Costs'!$C$4,3))","v":0},{"$f":"SUMIFS(Dollars!$G$2:$G$1188,Dollars!$E$2:$E$1188,'Other Facility Related Costs'!U$6,Dollars!$C$2:$C$1188,'Other Facility Related Costs'!$C30,Dollars!$A$2:$A$1188,LEFT('Other Facility Related Costs'!$C$4,3))","v":0},{"$f":"SUMIFS(Dollars!$G$2:$G$1188,Dollars!$E$2:$E$1188,'Other Facility Related Costs'!V$6,Dollars!$C$2:$C$1188,'Other Facility Related Costs'!$C30,Dollars!$A$2:$A$1188,LEFT('Other Facility Related Costs'!$C$4,3))","v":0},{"$f":"SUMIFS(Dollars!$G$2:$G$1188,Dollars!$E$2:$E$1188,'Other Facility Related Costs'!W$6,Dollars!$C$2:$C$1188,'Other Facility Related Costs'!$C30,Dollars!$A$2:$A$1188,LEFT('Other Facility Related Costs'!$C$4,3))","v":0},{"$f":"SUMIFS(Dollars!$G$2:$G$1188,Dollars!$E$2:$E$1188,'Other Facility Related Costs'!X$6,Dollars!$C$2:$C$1188,'Other Facility Related Costs'!$C30,Dollars!$A$2:$A$1188,LEFT('Other Facility Related Costs'!$C$4,3))","v":0},0,0,0]
["HIDE",null,"Press Houses Ayer(White); Carlyon(Blue)",{"$f":"VLOOKUP(LEFT($C$4,3),RSF!$A$3:$AJ$108,MATCH($C31,RSF!$A$3:$AK$3,0),FALSE)","v":0},null,null,{"$f":"SUMIFS(Dollars!$F$2:$F$1188,Dollars!$E$2:$E$1188,'Other Facility Related Costs'!G$6,Dollars!$C$2:$C$1188,'Other Facility Related Costs'!$C31,Dollars!$A$2:$A$1188,LEFT('Other Facility Related Costs'!$C$4,3))","v":0},{"$f":"SUMIFS(Dollars!$F$2:$F$1188,Dollars!$E$2:$E$1188,'Other Facility Related Costs'!H$6,Dollars!$C$2:$C$1188,'Other Facility Related Costs'!$C31,Dollars!$A$2:$A$1188,LEFT('Other Facility Related Costs'!$C$4,3))","v":0},{"$f":"SUMIFS(Dollars!$F$2:$F$1188,Dollars!$E$2:$E$1188,'Other Facility Related Costs'!I$6,Dollars!$C$2:$C$1188,'Other Facility Related Costs'!$C31,Dollars!$A$2:$A$1188,LEFT('Other Facility Related Costs'!$C$4,3))","v":0},{"$f":"SUMIFS(Dollars!$F$2:$F$1188,Dollars!$E$2:$E$1188,'Other Facility Related Costs'!J$6,Dollars!$C$2:$C$1188,'Other Facility Related Costs'!$C31,Dollars!$A$2:$A$1188,LEFT('Other Facility Related Costs'!$C$4,3))","v":0},{"$f":"SUMIFS(Dollars!$F$2:$F$1188,Dollars!$E$2:$E$1188,'Other Facility Related Costs'!K$6,Dollars!$C$2:$C$1188,'Other Facility Related Costs'!$C31,Dollars!$A$2:$A$1188,LEFT('Other Facility Related Costs'!$C$4,3))","v":0},{"$f":"SUMIFS(Dollars!$F$2:$F$1188,Dollars!$E$2:$E$1188,'Other Facility Related Costs'!L$6,Dollars!$C$2:$C$1188,'Other Facility Related Costs'!$C31,Dollars!$A$2:$A$1188,LEFT('Other Facility Related Costs'!$C$4,3))","v":0},{"$f":"SUMIFS(Dollars!$F$2:$F$1188,Dollars!$E$2:$E$1188,'Other Facility Related Costs'!M$6,Dollars!$C$2:$C$1188,'Other Facility Related Costs'!$C31,Dollars!$A$2:$A$1188,LEFT('Other Facility Related Costs'!$C$4,3))","v":0},0,0,0,null,{"$f":"SUMIFS(Dollars!$G$2:$G$1188,Dollars!$E$2:$E$1188,'Other Facility Related Costs'!R$6,Dollars!$C$2:$C$1188,'Other Facility Related Costs'!$C31,Dollars!$A$2:$A$1188,LEFT('Other Facility Related Costs'!$C$4,3))","v":0},{"$f":"SUMIFS(Dollars!$G$2:$G$1188,Dollars!$E$2:$E$1188,'Other Facility Related Costs'!S$6,Dollars!$C$2:$C$1188,'Other Facility Related Costs'!$C31,Dollars!$A$2:$A$1188,LEFT('Other Facility Related Costs'!$C$4,3))","v":0},{"$f":"SUMIFS(Dollars!$G$2:$G$1188,Dollars!$E$2:$E$1188,'Other Facility Related Costs'!T$6,Dollars!$C$2:$C$1188,'Other Facility Related Costs'!$C31,Dollars!$A$2:$A$1188,LEFT('Other Facility Related Costs'!$C$4,3))","v":0},{"$f":"SUMIFS(Dollars!$G$2:$G$1188,Dollars!$E$2:$E$1188,'Other Facility Related Costs'!U$6,Dollars!$C$2:$C$1188,'Other Facility Related Costs'!$C31,Dollars!$A$2:$A$1188,LEFT('Other Facility Related Costs'!$C$4,3))","v":0},{"$f":"SUMIFS(Dollars!$G$2:$G$1188,Dollars!$E$2:$E$1188,'Other Facility Related Costs'!V$6,Dollars!$C$2:$C$1188,'Other Facility Related Costs'!$C31,Dollars!$A$2:$A$1188,LEFT('Other Facility Related Costs'!$C$4,3))","v":0},{"$f":"SUMIFS(Dollars!$G$2:$G$1188,Dollars!$E$2:$E$1188,'Other Facility Related Costs'!W$6,Dollars!$C$2:$C$1188,'Other Facility Related Costs'!$C31,Dollars!$A$2:$A$1188,LEFT('Other Facility Related Costs'!$C$4,3))","v":0},{"$f":"SUMIFS(Dollars!$G$2:$G$1188,Dollars!$E$2:$E$1188,'Other Facility Related Costs'!X$6,Dollars!$C$2:$C$1188,'Other Facility Related Costs'!$C31,Dollars!$A$2:$A$1188,LEFT('Other Facility Related Costs'!$C$4,3))","v":0},0,0,0]
["HIDE",null,"Visitor Center",{"$f":"VLOOKUP(LEFT($C$4,3),RSF!$A$3:$AJ$108,MATCH($C32,RSF!$A$3:$AK$3,0),FALSE)","v":0},null,null,{"$f":"SUMIFS(Dollars!$F$2:$F$1188,Dollars!$E$2:$E$1188,'Other Facility Related Costs'!G$6,Dollars!$C$2:$C$1188,'Other Facility Related Costs'!$C32,Dollars!$A$2:$A$1188,LEFT('Other Facility Related Costs'!$C$4,3))","v":0},{"$f":"SUMIFS(Dollars!$F$2:$F$1188,Dollars!$E$2:$E$1188,'Other Facility Related Costs'!H$6,Dollars!$C$2:$C$1188,'Other Facility Related Costs'!$C32,Dollars!$A$2:$A$1188,LEFT('Other Facility Related Costs'!$C$4,3))","v":0},{"$f":"SUMIFS(Dollars!$F$2:$F$1188,Dollars!$E$2:$E$1188,'Other Facility Related Costs'!I$6,Dollars!$C$2:$C$1188,'Other Facility Related Costs'!$C32,Dollars!$A$2:$A$1188,LEFT('Other Facility Related Costs'!$C$4,3))","v":0},{"$f":"SUMIFS(Dollars!$F$2:$F$1188,Dollars!$E$2:$E$1188,'Other Facility Related Costs'!J$6,Dollars!$C$2:$C$1188,'Other Facility Related Costs'!$C32,Dollars!$A$2:$A$1188,LEFT('Other Facility Related Costs'!$C$4,3))","v":0},{"$f":"SUMIFS(Dollars!$F$2:$F$1188,Dollars!$E$2:$E$1188,'Other Facility Related Costs'!K$6,Dollars!$C$2:$C$1188,'Other Facility Related Costs'!$C32,Dollars!$A$2:$A$1188,LEFT('Other Facility Related Costs'!$C$4,3))","v":0},{"$f":"SUMIFS(Dollars!$F$2:$F$1188,Dollars!$E$2:$E$1188,'Other Facility Related Costs'!L$6,Dollars!$C$2:$C$1188,'Other Facility Related Costs'!$C32,Dollars!$A$2:$A$1188,LEFT('Other Facility Related Costs'!$C$4,3))","v":0},{"$f":"SUMIFS(Dollars!$F$2:$F$1188,Dollars!$E$2:$E$1188,'Other Facility Related Costs'!M$6,Dollars!$C$2:$C$1188,'Other Facility Related Costs'!$C32,Dollars!$A$2:$A$1188,LEFT('Other Facility Related Costs'!$C$4,3))","v":0},0,0,0,null,{"$f":"SUMIFS(Dollars!$G$2:$G$1188,Dollars!$E$2:$E$1188,'Other Facility Related Costs'!R$6,Dollars!$C$2:$C$1188,'Other Facility Related Costs'!$C32,Dollars!$A$2:$A$1188,LEFT('Other Facility Related Costs'!$C$4,3))","v":0},{"$f":"SUMIFS(Dollars!$G$2:$G$1188,Dollars!$E$2:$E$1188,'Other Facility Related Costs'!S$6,Dollars!$C$2:$C$1188,'Other Facility Related Costs'!$C32,Dollars!$A$2:$A$1188,LEFT('Other Facility Related Costs'!$C$4,3))","v":0},{"$f":"SUMIFS(Dollars!$G$2:$G$1188,Dollars!$E$2:$E$1188,'Other Facility Related Costs'!T$6,Dollars!$C$2:$C$1188,'Other Facility Related Costs'!$C32,Dollars!$A$2:$A$1188,LEFT('Other Facility Related Costs'!$C$4,3))","v":0},{"$f":"SUMIFS(Dollars!$G$2:$G$1188,Dollars!$E$2:$E$1188,'Other Facility Related Costs'!U$6,Dollars!$C$2:$C$1188,'Other Facility Related Costs'!$C32,Dollars!$A$2:$A$1188,LEFT('Other Facility Related Costs'!$C$4,3))","v":0},{"$f":"SUMIFS(Dollars!$G$2:$G$1188,Dollars!$E$2:$E$1188,'Other Facility Related Costs'!V$6,Dollars!$C$2:$C$1188,'Other Facility Related Costs'!$C32,Dollars!$A$2:$A$1188,LEFT('Other Facility Related Costs'!$C$4,3))","v":0},{"$f":"SUMIFS(Dollars!$G$2:$G$1188,Dollars!$E$2:$E$1188,'Other Facility Related Costs'!W$6,Dollars!$C$2:$C$1188,'Other Facility Related Costs'!$C32,Dollars!$A$2:$A$1188,LEFT('Other Facility Related Costs'!$C$4,3))","v":0},{"$f":"SUMIFS(Dollars!$G$2:$G$1188,Dollars!$E$2:$E$1188,'Other Facility Related Costs'!X$6,Dollars!$C$2:$C$1188,'Other Facility Related Costs'!$C32,Dollars!$A$2:$A$1188,LEFT('Other Facility Related Costs'!$C$4,3))","v":0},0,0,0]
["HIDE",null,"Helen Sommers",{"$f":"VLOOKUP(LEFT($C$4,3),RSF!$A$3:$AJ$108,MATCH($C33,RSF!$A$3:$AK$3,0),FALSE)","v":0},null,null,{"$f":"SUMIFS(Dollars!$F$2:$F$1188,Dollars!$E$2:$E$1188,'Other Facility Related Costs'!G$6,Dollars!$C$2:$C$1188,'Other Facility Related Costs'!$C33,Dollars!$A$2:$A$1188,LEFT('Other Facility Related Costs'!$C$4,3))","v":0},{"$f":"SUMIFS(Dollars!$F$2:$F$1188,Dollars!$E$2:$E$1188,'Other Facility Related Costs'!H$6,Dollars!$C$2:$C$1188,'Other Facility Related Costs'!$C33,Dollars!$A$2:$A$1188,LEFT('Other Facility Related Costs'!$C$4,3))","v":0},{"$f":"SUMIFS(Dollars!$F$2:$F$1188,Dollars!$E$2:$E$1188,'Other Facility Related Costs'!I$6,Dollars!$C$2:$C$1188,'Other Facility Related Costs'!$C33,Dollars!$A$2:$A$1188,LEFT('Other Facility Related Costs'!$C$4,3))","v":0},{"$f":"SUMIFS(Dollars!$F$2:$F$1188,Dollars!$E$2:$E$1188,'Other Facility Related Costs'!J$6,Dollars!$C$2:$C$1188,'Other Facility Related Costs'!$C33,Dollars!$A$2:$A$1188,LEFT('Other Facility Related Costs'!$C$4,3))","v":0},{"$f":"SUMIFS(Dollars!$F$2:$F$1188,Dollars!$E$2:$E$1188,'Other Facility Related Costs'!K$6,Dollars!$C$2:$C$1188,'Other Facility Related Costs'!$C33,Dollars!$A$2:$A$1188,LEFT('Other Facility Related Costs'!$C$4,3))","v":0},{"$f":"SUMIFS(Dollars!$F$2:$F$1188,Dollars!$E$2:$E$1188,'Other Facility Related Costs'!L$6,Dollars!$C$2:$C$1188,'Other Facility Related Costs'!$C33,Dollars!$A$2:$A$1188,LEFT('Other Facility Related Costs'!$C$4,3))","v":0},{"$f":"SUMIFS(Dollars!$F$2:$F$1188,Dollars!$E$2:$E$1188,'Other Facility Related Costs'!M$6,Dollars!$C$2:$C$1188,'Other Facility Related Costs'!$C33,Dollars!$A$2:$A$1188,LEFT('Other Facility Related Costs'!$C$4,3))","v":0},0,0,0,null,{"$f":"SUMIFS(Dollars!$G$2:$G$1188,Dollars!$E$2:$E$1188,'Other Facility Related Costs'!R$6,Dollars!$C$2:$C$1188,'Other Facility Related Costs'!$C33,Dollars!$A$2:$A$1188,LEFT('Other Facility Related Costs'!$C$4,3))","v":0},{"$f":"SUMIFS(Dollars!$G$2:$G$1188,Dollars!$E$2:$E$1188,'Other Facility Related Costs'!S$6,Dollars!$C$2:$C$1188,'Other Facility Related Costs'!$C33,Dollars!$A$2:$A$1188,LEFT('Other Facility Related Costs'!$C$4,3))","v":0},{"$f":"SUMIFS(Dollars!$G$2:$G$1188,Dollars!$E$2:$E$1188,'Other Facility Related Costs'!T$6,Dollars!$C$2:$C$1188,'Other Facility Related Costs'!$C33,Dollars!$A$2:$A$1188,LEFT('Other Facility Related Costs'!$C$4,3))","v":0},{"$f":"SUMIFS(Dollars!$G$2:$G$1188,Dollars!$E$2:$E$1188,'Other Facility Related Costs'!U$6,Dollars!$C$2:$C$1188,'Other Facility Related Costs'!$C33,Dollars!$A$2:$A$1188,LEFT('Other Facility Related Costs'!$C$4,3))","v":0},{"$f":"SUMIFS(Dollars!$G$2:$G$1188,Dollars!$E$2:$E$1188,'Other Facility Related Costs'!V$6,Dollars!$C$2:$C$1188,'Other Facility Related Costs'!$C33,Dollars!$A$2:$A$1188,LEFT('Other Facility Related Costs'!$C$4,3))","v":0},{"$f":"SUMIFS(Dollars!$G$2:$G$1188,Dollars!$E$2:$E$1188,'Other Facility Related Costs'!W$6,Dollars!$C$2:$C$1188,'Other Facility Related Costs'!$C33,Dollars!$A$2:$A$1188,LEFT('Other Facility Related Costs'!$C$4,3))","v":0},{"$f":"SUMIFS(Dollars!$G$2:$G$1188,Dollars!$E$2:$E$1188,'Other Facility Related Costs'!X$6,Dollars!$C$2:$C$1188,'Other Facility Related Costs'!$C33,Dollars!$A$2:$A$1188,LEFT('Other Facility Related Costs'!$C$4,3))","v":0},0,0,0]
["HIDE",null,"Kelso Building",{"$f":"VLOOKUP(LEFT($C$4,3),RSF!$A$3:$AJ$108,MATCH($C34,RSF!$A$3:$AK$3,0),FALSE)","v":0},null,null,{"$f":"SUMIFS(Dollars!$F$2:$F$1188,Dollars!$E$2:$E$1188,'Other Facility Related Costs'!G$6,Dollars!$C$2:$C$1188,'Other Facility Related Costs'!$C34,Dollars!$A$2:$A$1188,LEFT('Other Facility Related Costs'!$C$4,3))","v":0},{"$f":"SUMIFS(Dollars!$F$2:$F$1188,Dollars!$E$2:$E$1188,'Other Facility Related Costs'!H$6,Dollars!$C$2:$C$1188,'Other Facility Related Costs'!$C34,Dollars!$A$2:$A$1188,LEFT('Other Facility Related Costs'!$C$4,3))","v":0},{"$f":"SUMIFS(Dollars!$F$2:$F$1188,Dollars!$E$2:$E$1188,'Other Facility Related Costs'!I$6,Dollars!$C$2:$C$1188,'Other Facility Related Costs'!$C34,Dollars!$A$2:$A$1188,LEFT('Other Facility Related Costs'!$C$4,3))","v":0},{"$f":"SUMIFS(Dollars!$F$2:$F$1188,Dollars!$E$2:$E$1188,'Other Facility Related Costs'!J$6,Dollars!$C$2:$C$1188,'Other Facility Related Costs'!$C34,Dollars!$A$2:$A$1188,LEFT('Other Facility Related Costs'!$C$4,3))","v":0},{"$f":"SUMIFS(Dollars!$F$2:$F$1188,Dollars!$E$2:$E$1188,'Other Facility Related Costs'!K$6,Dollars!$C$2:$C$1188,'Other Facility Related Costs'!$C34,Dollars!$A$2:$A$1188,LEFT('Other Facility Related Costs'!$C$4,3))","v":0},{"$f":"SUMIFS(Dollars!$F$2:$F$1188,Dollars!$E$2:$E$1188,'Other Facility Related Costs'!L$6,Dollars!$C$2:$C$1188,'Other Facility Related Costs'!$C34,Dollars!$A$2:$A$1188,LEFT('Other Facility Related Costs'!$C$4,3))","v":0},{"$f":"SUMIFS(Dollars!$F$2:$F$1188,Dollars!$E$2:$E$1188,'Other Facility Related Costs'!M$6,Dollars!$C$2:$C$1188,'Other Facility Related Costs'!$C34,Dollars!$A$2:$A$1188,LEFT('Other Facility Related Costs'!$C$4,3))","v":0},0,0,0,null,{"$f":"SUMIFS(Dollars!$G$2:$G$1188,Dollars!$E$2:$E$1188,'Other Facility Related Costs'!R$6,Dollars!$C$2:$C$1188,'Other Facility Related Costs'!$C34,Dollars!$A$2:$A$1188,LEFT('Other Facility Related Costs'!$C$4,3))","v":0},{"$f":"SUMIFS(Dollars!$G$2:$G$1188,Dollars!$E$2:$E$1188,'Other Facility Related Costs'!S$6,Dollars!$C$2:$C$1188,'Other Facility Related Costs'!$C34,Dollars!$A$2:$A$1188,LEFT('Other Facility Related Costs'!$C$4,3))","v":0},{"$f":"SUMIFS(Dollars!$G$2:$G$1188,Dollars!$E$2:$E$1188,'Other Facility Related Costs'!T$6,Dollars!$C$2:$C$1188,'Other Facility Related Costs'!$C34,Dollars!$A$2:$A$1188,LEFT('Other Facility Related Costs'!$C$4,3))","v":0},{"$f":"SUMIFS(Dollars!$G$2:$G$1188,Dollars!$E$2:$E$1188,'Other Facility Related Costs'!U$6,Dollars!$C$2:$C$1188,'Other Facility Related Costs'!$C34,Dollars!$A$2:$A$1188,LEFT('Other Facility Related Costs'!$C$4,3))","v":0},{"$f":"SUMIFS(Dollars!$G$2:$G$1188,Dollars!$E$2:$E$1188,'Other Facility Related Costs'!V$6,Dollars!$C$2:$C$1188,'Other Facility Related Costs'!$C34,Dollars!$A$2:$A$1188,LEFT('Other Facility Related Costs'!$C$4,3))","v":0},{"$f":"SUMIFS(Dollars!$G$2:$G$1188,Dollars!$E$2:$E$1188,'Other Facility Related Costs'!W$6,Dollars!$C$2:$C$1188,'Other Facility Related Costs'!$C34,Dollars!$A$2:$A$1188,LEFT('Other Facility Related Costs'!$C$4,3))","v":0},{"$f":"SUMIFS(Dollars!$G$2:$G$1188,Dollars!$E$2:$E$1188,'Other Facility Related Costs'!X$6,Dollars!$C$2:$C$1188,'Other Facility Related Costs'!$C34,Dollars!$A$2:$A$1188,LEFT('Other Facility Related Costs'!$C$4,3))","v":0},0,0,0]
["HIDE",null,"Yakima Building",{"$f":"VLOOKUP(LEFT($C$4,3),RSF!$A$3:$AJ$108,MATCH($C35,RSF!$A$3:$AK$3,0),FALSE)","v":0},null,null,{"$f":"SUMIFS(Dollars!$F$2:$F$1188,Dollars!$E$2:$E$1188,'Other Facility Related Costs'!G$6,Dollars!$C$2:$C$1188,'Other Facility Related Costs'!$C35,Dollars!$A$2:$A$1188,LEFT('Other Facility Related Costs'!$C$4,3))","v":0},{"$f":"SUMIFS(Dollars!$F$2:$F$1188,Dollars!$E$2:$E$1188,'Other Facility Related Costs'!H$6,Dollars!$C$2:$C$1188,'Other Facility Related Costs'!$C35,Dollars!$A$2:$A$1188,LEFT('Other Facility Related Costs'!$C$4,3))","v":0},{"$f":"SUMIFS(Dollars!$F$2:$F$1188,Dollars!$E$2:$E$1188,'Other Facility Related Costs'!I$6,Dollars!$C$2:$C$1188,'Other Facility Related Costs'!$C35,Dollars!$A$2:$A$1188,LEFT('Other Facility Related Costs'!$C$4,3))","v":0},{"$f":"SUMIFS(Dollars!$F$2:$F$1188,Dollars!$E$2:$E$1188,'Other Facility Related Costs'!J$6,Dollars!$C$2:$C$1188,'Other Facility Related Costs'!$C35,Dollars!$A$2:$A$1188,LEFT('Other Facility Related Costs'!$C$4,3))","v":0},{"$f":"SUMIFS(Dollars!$F$2:$F$1188,Dollars!$E$2:$E$1188,'Other Facility Related Costs'!K$6,Dollars!$C$2:$C$1188,'Other Facility Related Costs'!$C35,Dollars!$A$2:$A$1188,LEFT('Other Facility Related Costs'!$C$4,3))","v":0},{"$f":"SUMIFS(Dollars!$F$2:$F$1188,Dollars!$E$2:$E$1188,'Other Facility Related Costs'!L$6,Dollars!$C$2:$C$1188,'Other Facility Related Costs'!$C35,Dollars!$A$2:$A$1188,LEFT('Other Facility Related Costs'!$C$4,3))","v":0},{"$f":"SUMIFS(Dollars!$F$2:$F$1188,Dollars!$E$2:$E$1188,'Other Facility Related Costs'!M$6,Dollars!$C$2:$C$1188,'Other Facility Related Costs'!$C35,Dollars!$A$2:$A$1188,LEFT('Other Facility Related Costs'!$C$4,3))","v":0},0,0,0,null,{"$f":"SUMIFS(Dollars!$G$2:$G$1188,Dollars!$E$2:$E$1188,'Other Facility Related Costs'!R$6,Dollars!$C$2:$C$1188,'Other Facility Related Costs'!$C35,Dollars!$A$2:$A$1188,LEFT('Other Facility Related Costs'!$C$4,3))","v":0},{"$f":"SUMIFS(Dollars!$G$2:$G$1188,Dollars!$E$2:$E$1188,'Other Facility Related Costs'!S$6,Dollars!$C$2:$C$1188,'Other Facility Related Costs'!$C35,Dollars!$A$2:$A$1188,LEFT('Other Facility Related Costs'!$C$4,3))","v":0},{"$f":"SUMIFS(Dollars!$G$2:$G$1188,Dollars!$E$2:$E$1188,'Other Facility Related Costs'!T$6,Dollars!$C$2:$C$1188,'Other Facility Related Costs'!$C35,Dollars!$A$2:$A$1188,LEFT('Other Facility Related Costs'!$C$4,3))","v":0},{"$f":"SUMIFS(Dollars!$G$2:$G$1188,Dollars!$E$2:$E$1188,'Other Facility Related Costs'!U$6,Dollars!$C$2:$C$1188,'Other Facility Related Costs'!$C35,Dollars!$A$2:$A$1188,LEFT('Other Facility Related Costs'!$C$4,3))","v":0},{"$f":"SUMIFS(Dollars!$G$2:$G$1188,Dollars!$E$2:$E$1188,'Other Facility Related Costs'!V$6,Dollars!$C$2:$C$1188,'Other Facility Related Costs'!$C35,Dollars!$A$2:$A$1188,LEFT('Other Facility Related Costs'!$C$4,3))","v":0},{"$f":"SUMIFS(Dollars!$G$2:$G$1188,Dollars!$E$2:$E$1188,'Other Facility Related Costs'!W$6,Dollars!$C$2:$C$1188,'Other Facility Related Costs'!$C35,Dollars!$A$2:$A$1188,LEFT('Other Facility Related Costs'!$C$4,3))","v":0},{"$f":"SUMIFS(Dollars!$G$2:$G$1188,Dollars!$E$2:$E$1188,'Other Facility Related Costs'!X$6,Dollars!$C$2:$C$1188,'Other Facility Related Costs'!$C35,Dollars!$A$2:$A$1188,LEFT('Other Facility Related Costs'!$C$4,3))","v":0},0,0,0]
["HIDE",null,"Alaska Street",{"$f":"VLOOKUP(LEFT($C$4,3),RSF!$A$3:$AJ$108,MATCH($C36,RSF!$A$3:$AK$3,0),FALSE)","v":0},null,null,{"$f":"SUMIFS(Dollars!$F$2:$F$1188,Dollars!$E$2:$E$1188,'Other Facility Related Costs'!G$6,Dollars!$C$2:$C$1188,'Other Facility Related Costs'!$C36,Dollars!$A$2:$A$1188,LEFT('Other Facility Related Costs'!$C$4,3))","v":0},{"$f":"SUMIFS(Dollars!$F$2:$F$1188,Dollars!$E$2:$E$1188,'Other Facility Related Costs'!H$6,Dollars!$C$2:$C$1188,'Other Facility Related Costs'!$C36,Dollars!$A$2:$A$1188,LEFT('Other Facility Related Costs'!$C$4,3))","v":0},{"$f":"SUMIFS(Dollars!$F$2:$F$1188,Dollars!$E$2:$E$1188,'Other Facility Related Costs'!I$6,Dollars!$C$2:$C$1188,'Other Facility Related Costs'!$C36,Dollars!$A$2:$A$1188,LEFT('Other Facility Related Costs'!$C$4,3))","v":0},{"$f":"SUMIFS(Dollars!$F$2:$F$1188,Dollars!$E$2:$E$1188,'Other Facility Related Costs'!J$6,Dollars!$C$2:$C$1188,'Other Facility Related Costs'!$C36,Dollars!$A$2:$A$1188,LEFT('Other Facility Related Costs'!$C$4,3))","v":0},{"$f":"SUMIFS(Dollars!$F$2:$F$1188,Dollars!$E$2:$E$1188,'Other Facility Related Costs'!K$6,Dollars!$C$2:$C$1188,'Other Facility Related Costs'!$C36,Dollars!$A$2:$A$1188,LEFT('Other Facility Related Costs'!$C$4,3))","v":0},{"$f":"SUMIFS(Dollars!$F$2:$F$1188,Dollars!$E$2:$E$1188,'Other Facility Related Costs'!L$6,Dollars!$C$2:$C$1188,'Other Facility Related Costs'!$C36,Dollars!$A$2:$A$1188,LEFT('Other Facility Related Costs'!$C$4,3))","v":0},{"$f":"SUMIFS(Dollars!$F$2:$F$1188,Dollars!$E$2:$E$1188,'Other Facility Related Costs'!M$6,Dollars!$C$2:$C$1188,'Other Facility Related Costs'!$C36,Dollars!$A$2:$A$1188,LEFT('Other Facility Related Costs'!$C$4,3))","v":0},0,0,0,null,{"$f":"SUMIFS(Dollars!$G$2:$G$1188,Dollars!$E$2:$E$1188,'Other Facility Related Costs'!R$6,Dollars!$C$2:$C$1188,'Other Facility Related Costs'!$C36,Dollars!$A$2:$A$1188,LEFT('Other Facility Related Costs'!$C$4,3))","v":0},{"$f":"SUMIFS(Dollars!$G$2:$G$1188,Dollars!$E$2:$E$1188,'Other Facility Related Costs'!S$6,Dollars!$C$2:$C$1188,'Other Facility Related Costs'!$C36,Dollars!$A$2:$A$1188,LEFT('Other Facility Related Costs'!$C$4,3))","v":0},{"$f":"SUMIFS(Dollars!$G$2:$G$1188,Dollars!$E$2:$E$1188,'Other Facility Related Costs'!T$6,Dollars!$C$2:$C$1188,'Other Facility Related Costs'!$C36,Dollars!$A$2:$A$1188,LEFT('Other Facility Related Costs'!$C$4,3))","v":0},{"$f":"SUMIFS(Dollars!$G$2:$G$1188,Dollars!$E$2:$E$1188,'Other Facility Related Costs'!U$6,Dollars!$C$2:$C$1188,'Other Facility Related Costs'!$C36,Dollars!$A$2:$A$1188,LEFT('Other Facility Related Costs'!$C$4,3))","v":0},{"$f":"SUMIFS(Dollars!$G$2:$G$1188,Dollars!$E$2:$E$1188,'Other Facility Related Costs'!V$6,Dollars!$C$2:$C$1188,'Other Facility Related Costs'!$C36,Dollars!$A$2:$A$1188,LEFT('Other Facility Related Costs'!$C$4,3))","v":0},{"$f":"SUMIFS(Dollars!$G$2:$G$1188,Dollars!$E$2:$E$1188,'Other Facility Related Costs'!W$6,Dollars!$C$2:$C$1188,'Other Facility Related Costs'!$C36,Dollars!$A$2:$A$1188,LEFT('Other Facility Related Costs'!$C$4,3))","v":0},{"$f":"SUMIFS(Dollars!$G$2:$G$1188,Dollars!$E$2:$E$1188,'Other Facility Related Costs'!X$6,Dollars!$C$2:$C$1188,'Other Facility Related Costs'!$C36,Dollars!$A$2:$A$1188,LEFT('Other Facility Related Costs'!$C$4,3))","v":0},0,0,0]
["HIDE",null,"Tacoma Rhodes",{"$f":"VLOOKUP(LEFT($C$4,3),RSF!$A$3:$AJ$108,MATCH($C37,RSF!$A$3:$AK$3,0),FALSE)","v":0},null,null,{"$f":"SUMIFS(Dollars!$F$2:$F$1188,Dollars!$E$2:$E$1188,'Other Facility Related Costs'!G$6,Dollars!$C$2:$C$1188,'Other Facility Related Costs'!$C37,Dollars!$A$2:$A$1188,LEFT('Other Facility Related Costs'!$C$4,3))","v":0},{"$f":"SUMIFS(Dollars!$F$2:$F$1188,Dollars!$E$2:$E$1188,'Other Facility Related Costs'!H$6,Dollars!$C$2:$C$1188,'Other Facility Related Costs'!$C37,Dollars!$A$2:$A$1188,LEFT('Other Facility Related Costs'!$C$4,3))","v":0},{"$f":"SUMIFS(Dollars!$F$2:$F$1188,Dollars!$E$2:$E$1188,'Other Facility Related Costs'!I$6,Dollars!$C$2:$C$1188,'Other Facility Related Costs'!$C37,Dollars!$A$2:$A$1188,LEFT('Other Facility Related Costs'!$C$4,3))","v":0},{"$f":"SUMIFS(Dollars!$F$2:$F$1188,Dollars!$E$2:$E$1188,'Other Facility Related Costs'!J$6,Dollars!$C$2:$C$1188,'Other Facility Related Costs'!$C37,Dollars!$A$2:$A$1188,LEFT('Other Facility Related Costs'!$C$4,3))","v":0},{"$f":"SUMIFS(Dollars!$F$2:$F$1188,Dollars!$E$2:$E$1188,'Other Facility Related Costs'!K$6,Dollars!$C$2:$C$1188,'Other Facility Related Costs'!$C37,Dollars!$A$2:$A$1188,LEFT('Other Facility Related Costs'!$C$4,3))","v":0},{"$f":"SUMIFS(Dollars!$F$2:$F$1188,Dollars!$E$2:$E$1188,'Other Facility Related Costs'!L$6,Dollars!$C$2:$C$1188,'Other Facility Related Costs'!$C37,Dollars!$A$2:$A$1188,LEFT('Other Facility Related Costs'!$C$4,3))","v":0},{"$f":"SUMIFS(Dollars!$F$2:$F$1188,Dollars!$E$2:$E$1188,'Other Facility Related Costs'!M$6,Dollars!$C$2:$C$1188,'Other Facility Related Costs'!$C37,Dollars!$A$2:$A$1188,LEFT('Other Facility Related Costs'!$C$4,3))","v":0},0,0,0,null,{"$f":"SUMIFS(Dollars!$G$2:$G$1188,Dollars!$E$2:$E$1188,'Other Facility Related Costs'!R$6,Dollars!$C$2:$C$1188,'Other Facility Related Costs'!$C37,Dollars!$A$2:$A$1188,LEFT('Other Facility Related Costs'!$C$4,3))","v":0},{"$f":"SUMIFS(Dollars!$G$2:$G$1188,Dollars!$E$2:$E$1188,'Other Facility Related Costs'!S$6,Dollars!$C$2:$C$1188,'Other Facility Related Costs'!$C37,Dollars!$A$2:$A$1188,LEFT('Other Facility Related Costs'!$C$4,3))","v":0},{"$f":"SUMIFS(Dollars!$G$2:$G$1188,Dollars!$E$2:$E$1188,'Other Facility Related Costs'!T$6,Dollars!$C$2:$C$1188,'Other Facility Related Costs'!$C37,Dollars!$A$2:$A$1188,LEFT('Other Facility Related Costs'!$C$4,3))","v":0},{"$f":"SUMIFS(Dollars!$G$2:$G$1188,Dollars!$E$2:$E$1188,'Other Facility Related Costs'!U$6,Dollars!$C$2:$C$1188,'Other Facility Related Costs'!$C37,Dollars!$A$2:$A$1188,LEFT('Other Facility Related Costs'!$C$4,3))","v":0},{"$f":"SUMIFS(Dollars!$G$2:$G$1188,Dollars!$E$2:$E$1188,'Other Facility Related Costs'!V$6,Dollars!$C$2:$C$1188,'Other Facility Related Costs'!$C37,Dollars!$A$2:$A$1188,LEFT('Other Facility Related Costs'!$C$4,3))","v":0},{"$f":"SUMIFS(Dollars!$G$2:$G$1188,Dollars!$E$2:$E$1188,'Other Facility Related Costs'!W$6,Dollars!$C$2:$C$1188,'Other Facility Related Costs'!$C37,Dollars!$A$2:$A$1188,LEFT('Other Facility Related Costs'!$C$4,3))","v":0},{"$f":"SUMIFS(Dollars!$G$2:$G$1188,Dollars!$E$2:$E$1188,'Other Facility Related Costs'!X$6,Dollars!$C$2:$C$1188,'Other Facility Related Costs'!$C37,Dollars!$A$2:$A$1188,LEFT('Other Facility Related Costs'!$C$4,3))","v":0},0,0,0]
["VIEW",null,"PHF Thurston FTEs",null,{"$f":"VLOOKUP(LEFT(C4,3),Dollars!Q:R,2,FALSE)","v":334},null,null,null,null,{"$f":"SUMIFS(Dollars!$F$2:$F$1188,Dollars!$E$2:$E$1188,'Other Facility Related Costs'!J6,Dollars!$A$2:$A$1188,LEFT('Other Facility Related Costs'!$C$4,3))","v":1337.7087887382756},{"$f":"SUMIFS(Dollars!$F$2:$F$1188,Dollars!$E$2:$E$1188,'Other Facility Related Costs'!K6,Dollars!$A$2:$A$1188,LEFT('Other Facility Related Costs'!$C$4,3))","v":64892.417761148346},{"$f":"SUMIFS(Dollars!$F$2:$F$1188,Dollars!$E$2:$E$1188,'Other Facility Related Costs'!L6,Dollars!$A$2:$A$1188,LEFT('Other Facility Related Costs'!$C$4,3))","v":6885.7787874159949},{"$f":"SUMIFS(Dollars!$F$2:$F$1188,Dollars!$E$2:$E$1188,'Other Facility Related Costs'!M6,Dollars!$A$2:$A$1188,LEFT('Other Facility Related Costs'!$C$4,3))","v":467254.50389437634},{"$f":"SUM(G38:M38)","v":540370.40923167893},{"$f":"N38/12","v":45030.867435973247},{"$f":"IFERROR(N38/E38,0)","v":1617.8754767415537},null,null,null,null,{"$f":"SUMIFS(Dollars!$G$2:$G$1188,Dollars!$E$2:$E$1188,'Other Facility Related Costs'!U6,Dollars!$A$2:$A$1188,LEFT('Other Facility Related Costs'!$C$4,3))","v":0},{"$f":"SUMIFS(Dollars!$G$2:$G$1188,Dollars!$E$2:$E$1188,'Other Facility Related Costs'!V6,Dollars!$A$2:$A$1188,LEFT('Other Facility Related Costs'!$C$4,3))","v":65835.97541233954},{"$f":"SUMIFS(Dollars!$G$2:$G$1188,Dollars!$E$2:$E$1188,'Other Facility Related Costs'!W6,Dollars!$A$2:$A$1188,LEFT('Other Facility Related Costs'!$C$4,3))","v":6911.3465180207595},{"$f":"SUMIFS(Dollars!$G$2:$G$1188,Dollars!$E$2:$E$1188,'Other Facility Related Costs'!X6,Dollars!$A$2:$A$1188,LEFT('Other Facility Related Costs'!$C$4,3))","v":467702.01035903633},540449.33228939667,{"$f":"Y38/12","v":45037.44435744972},{"$f":"IFERROR(Y38/E38,0)","v":1618.1117733215469}]
["VIEW"]
["VIEW",null,"TOTAL",{"$f":"SUM(D7:D38)","v":123898},{"$f":"SUM(E7:E38)","v":334},{"$f":"SUM(F7:F37)","v":0},115872.7368813965,294236.88207574916,26702.70860079585,{"$f":"SUM(J7:J38)","v":1337.7087887382756},64892.417761148346,6885.7787874159949,658723.99004948162,1168652.2229447258,97387.685245393819,null,null,{"$f":"SUM(R7:R38)","v":116319.94044640449},{"$f":"SUM(S7:S38)","v":294307.00168166502},0,{"$f":"SUM(U7:U38)","v":0},65835.97541233954,6911.3465180207595,659354.87373603124,1142729.1377944611,95227.428149538435]
[]
["VIEW"]
["VIEW",null,"Notes:"]
[{"$f":"IF(D37=0,\"HIDE\",\"VIEW\")","v":"HIDE"},null,"o  Tacoma Rhodes:   This building was recently sold to private ownership.  DES will work with OFM to have this building removed from the CSM in the Supplemental 22 Budget."]
["VIEW",null,"o  Campus Contracts (CC) is invoiced in three parts:  "]
["VIEW",null,"1) CC Bldg pays for CC services within the buildings (see rent tab)"]
["VIEW",null,"2) CC Parking pays for CC services within parking garages and lots (see Other Facility Related Costs tab)"]
["VIEW",null,"3) CC PHF pays for CC services in public & historic spaces (see Other Facility Related Costs tab)  Note*  Public and Historic Facilities may not be eligible for Federal Funding or Reimbursement"]
["VIEW",null,"o  Facilities and Services charges for the House (011), Senate (012), LSS (037), LSC (038) and Statute Law (040) for traditionally \"on-campus\" buildings are funded by an appropriation to DES and will not be invoiced.  "]
["VIEW",null,"o  Public and Historic Facilities:  Note*  Public and Historic Facilities may not be eligible for Federal Funding or Reimbursement"]
["VIEW",null,"o  Rent Abatement was provided for DSB (Agency 315) Deli spaces , and will not be invoiced."]
["VIEW",null,null,null,null,null,null,null,null,null,null,null,"Prepared by DES Budget, Finance Division.  For question relating to CSM charges from DES, please contact DesBudget@des.wa.gov"]
["VIEW"]
["VIEW"]
["VIEW"]
["VIEW"]
["VIEW"]
["VIEW"]
["VIEW"]
["VIEW"]
["VIEW"]
["VIEW"]
["VIEW"]
["VIEW"]
["VIEW"]
["VIEW"]
["VIEW"]
["VIEW"]
["VIEW"]
["VIEW"]
["VIEW"]
["VIEW"]
["VIEW"]
["VIEW"]
["VIEW"]
["VIEW"]
["VIEW"]
["VIEW"]
["VIEW"]
["VIEW"]
["VIEW"]
["VIEW"]
["VIEW"]
["VIEW"]
["VIEW"]
["VIEW"]
["VIEW"]
["VIEW"]
["VIEW"]
["VIEW"]
["VIEW"]
["VIEW"]
["VIEW"]
["VIEW"]
["VIEW"]
["VIEW"]
["VIEW"]
["VIEW"]
["VIEW"]
["VIEW"]
["VIEW"]
["VIEW"]
["VIEW"]
["VIEW"]
["VIEW"]
["VIEW"]
["VIEW"]
["VIEW"]
["VIEW"]
["VIEW"]
["VIEW"]
["VIEW"]
["VIEW"]
["VIEW"]
["VIEW"]
["VIEW"]
["VIEW"]
["VIEW"]
["VIEW"]
["VIEW"]
["VIEW"]
["VIEW"]
["VIEW"]
["VIEW"]
["VIEW"]
["VIEW"]
["VIEW"]
["VIEW"]
["VIEW"]
["VIEW"]
["VIEW"]
["VIEW"]
["VIEW"]
["VIEW"]
["VIEW"]
["VIEW"]
["VIEW"]
["VIEW"]
["VIEW"]
["VIEW"]
["VIEW"]
["VIEW"]
["VIEW"]
["VIEW"]
["VIEW"]
["VIEW"]
["VIEW"]
["VIEW"]
["VIEW"]
["VIEW"]
["VIEW"]
["VIEW"]
["VIEW"]
["VIEW"]
["VIEW"]
["VIEW"]
["VIEW"]
["VIEW"]
["VIEW"]
["VIEW"]
["VIEW"]
["VIEW"]
["VIEW"]
["VIEW"]
["VIEW"]
["VIEW"]
["VIEW"]
["VIEW"]
["VIEW"]
["VIEW"]
["VIEW"]
["VIEW"]
["VIEW"]
["VIEW"]
["VIEW"]
["VIEW"]
["VIEW"]
["VIEW"]
["VIEW"]
["VIEW"]
["VIEW"]
["VIEW"]
["VIEW"]
["VIEW"]
["VIEW"]
["VIEW"]
["VIEW"]
["VIEW"]
["VIEW"]
["VIEW"]
["VIEW"]
["VIEW"]
["VIEW"]
["VIEW"]
["VIEW"]
["VIEW"]
["VIEW"]
["VIEW"]
["VIEW"]
["VIEW"]
["VIEW"]
["VIEW"]
["VIEW"]
["VIEW"]
["VIEW"]
["VIEW"]
["VIEW"]
["VIEW"]
["VIEW"]
["VIEW"]
["VIEW"]
["VIEW"]
["VIEW"]
["VIEW"]
["VIEW"]
["VIEW"]
["VIEW"]
["VIEW"]
["VIEW"]
["VIEW"]
["VIEW"]
["VIEW"]
["VIEW"]
["VIEW"]
["VIEW"]
["VIEW"]
["VIEW"]
["VIEW"]
["VIEW"]
["VIEW"]
["VIEW"]
["VIEW"]
["VIEW"]
["VIEW"]
["VIEW"]
["VIEW"]
["VIEW"]
["VIEW"]
["VIEW"]
["VIEW"]
["VIEW"]
["VIEW"]
["VIEW"]
["VIEW"]
["VIEW"]
["VIEW"]
["VIEW"]
["VIEW"]
["VIEW"]
["VIEW"]
["VIEW"]
["VIEW"]
["VIEW"]
["VIEW"]
["VIEW"]
["VIEW"]
["VIEW"]
["VIEW"]
["VIEW"]
["VIEW"]
["VIEW"]
["VIEW"]
["VIEW"]
["VIEW"]
["VIEW"]
["VIEW"]
["VIEW"]
["VIEW"]
["VIEW"]
["VIEW"]
["VIEW"]
["VIEW"]
["VIEW"]
["VIEW"]
["VIEW"]
["VIEW"]
["VIEW"]
["VIEW"]
["VIEW"]
["VIEW"]
["VIEW"]
["VIEW"]
["VIEW"]
["VIEW"]
["VIEW"]
["VIEW"]
["VIEW"]
["VIEW"]
["VIEW"]
["VIEW"]
["VIEW"]

{"sheet":"RSF List","index":4,"n_rows":105,"n_cols":3,"rows_kept":105,"cut":false,"hidden":true,"merged":[]}
["Agency","Building","SQF"]
["147","120 E Union Avenue",72]
["118","120 E Union Avenue",126]
["XXX","120 E Union Avenue",198]
["179","Helen Sommers",300]
["163","OB2",304]
["225","Legislative",520]
["315","Legislative",591]
["099","Capital Court",666]
["105","Capital Court",699]
["087","Capital Court",863]
["118","Capital Court",863]
["119","Capital Court",863]
["315","HLB",868]
["038","Legislative",1143]
["086","Capital Court",1312]
["478","Capital Court",1382]
["315","Transportation",1434]
["315","Pritchard",1515]
["350","1068 WA Street SE (ST Farm)",1539]
["XXX","1068 WA Street SE (ST Farm)",1539]
["179","Legislative",1588]
["225","Press Houses Ayer(White); Carlyon(Blue)",1595]
["XXX","Press Houses Ayer(White); Carlyon(Blue)",1595]
["075","Insurance",2657]
["315","OB2",2675]
["315","NRB",3022]
["037","Pritchard",3973]
["020","Helen Sommers",4243]
["055","TOJ",4251]
["142","Capital Court",4670]
["147","Capital Court",4819]
["037","Legislative",4979]
["101","Capital Court",5156]
["050","Capital Court",5175]
["179","Capital Court",5378]
["085","Modular Bldg",6382]
["095","Insurance",6412]
["160","Insurance",6989]
["038","Pritchard",7679]
["080","Legislative",8874]
["014","Helen Sommers",8887]
["355","Capital Court",9336]
["235","Kelso Building",10323]
["085","Legislative",10650]
["090","Legislative",10715]
["467","NRB",11819]
["038","Helen Sommers",11969]
["040","Pritchard",12238]
["090","Helen Sommers",12915]
["075","Helen Sommers",13931]
["037","1007 Washington",14308]
["XXX","1007 Washington",14308]
["046","TOJ",15418]
["085","James Dolliver Building",17000]
["XXX","James Dolliver Building",17000]
["075","Legislative",17257]
["179","OB2",18761]
["315","Alaska Street",20708]
["XXX","Alaska Street",20708]
["307","Kelso Building",21257]
["012","Newhouse",22032]
["XXX","Newhouse",22032]
["XXX","Pritchard",25405]
["300","Kelso Building",29001]
["307","Yakima Building",29483]
["045","TOJ",33940]
["012","Legislative",37849]
["105","Insurance",39050]
["XXX","Capital Court",41182]
["011","Legislative",45304]
["085","Isabella Bush",47200]
["XXX","Isabella Bush",47200]
["085","Archives",47488]
["XXX","Archives",47488]
["495","NRB",48144]
["307","OB2",49437]
["XXX","TOJ",53609]
["XXX","Insurance",55108]
["XXX","Kelso Building",60581]
["300","Yakima Building",69517]
["100","HLB",72639]
["012","Cherberg",77281]
["XXX","Cherberg",77281]
["011","O'Brien",78594]
["XXX","O'Brien",78594]
["179","Modular Bldg",89004]
["540","Emp Sec",92619]
["XXX","Emp Sec",92619]
["XXX","Modular Bldg",95386]
["350","Old Cap",97800]
["XXX","Old Cap",97800]
["XXX","Yakima Building",99000]
["240","HLB",104161]
["XXX","Legislative",139470]
["477","NRB",140136]
["225","Helen Sommers",148347]
["490","NRB",153042]
["XXX","HLB",177668]
["405","Transportation",182993]
["XXX","Transportation",184427]
["300","OB2",187486]
["XXX","Helen Sommers",200592]
["XXX","OB2",258663]
["XXX","NRB",356163]

{"sheet":"RSF","index":5,"n_rows":112,"n_cols":36,"rows_kept":112,"cut":false,"hidden":true,"merged":[]}
[]
[null,null,"F6121","F6122","F6123","F6124","F6125","F6126","F6127","F6129","F612A","F612C","F612E","F612H","F612J","F612K","F6131","F6132","F6133","F6134","F6137","F613D","F613E","F613F","F613G","F613H","F613i","F613K","F613L","F613M","F6141","F6142","F6143","F6144","F614G","F6146"]
["Agency #","Agency","Cherberg","O'Brien","Legislative","Pritchard","HLB","OB2","Archives","NRB","Emp Sec","Transportation","Insurance","Old Cap","TOJ","Newhouse","Modular Bldg","Isabella Bush","1007 Washington","120 E Union Avenue","Conservatory","Capital Court","James Dolliver Building","Undeveloped Properties","1068 WA Street SE (ST Farm)","232 Perry Street","208 11th Avenue SE (Pro Arts)","Press Houses Ayer(White); Carlyon(Blue)","Visitor Center","Helen Sommers","Kelso Building","Yakima Building","Alaska Street","Tacoma Rhodes","Tacoma Rhodes Garage","North Cascades Gateway Center (NCGC)"]
["011","House of Representatives",0,78594,45304,0,0,0,0,0,0,0,0,0,0,0,0,0,0,0,0,0,0,0,0,0,0,0,0,0,0,0,0,0,0,0]
["012","Senate",77281,0,37849,0,0,0,0,0,0,0,0,0,0,22032,0,0,0,0,0,0,0,0,0,0,0,0,0,0,0,0,0,0,0,0]
["013","Joint Transportation Committee",0,0,0,0,0,0,0,0,0,0,0,0,0,0,0,0,0,0,0,0,0,0,0,0,0,0,0,0,0,0,0,0,0,0]
["014","Joint Legislative Audit and Review Committee",0,0,0,0,0,0,0,0,0,0,0,0,0,0,0,0,0,0,0,0,0,0,0,0,0,0,0,8887,0,0,0,0,0,0]
["020","Legislative Evaluation and Accountability Program Committee",0,0,0,0,0,0,0,0,0,0,0,0,0,0,0,0,0,0,0,0,0,0,0,0,0,0,0,4243,0,0,0,0,0,0]
["035","Office of the State Actuary",0,0,0,0,0,0,0,0,0,0,0,0,0,0,0,0,0,0,0,0,0,0,0,0,0,0,0,0,0,0,0,0,0,0]
["037","Office of Legislative Support Services",0,0,4979,3973,0,0,0,0,0,0,0,0,0,0,0,0,14308,0,0,0,0,0,0,0,0,0,0,0,0,0,0,0,0,0]
["038","Joint Legislative Systems Committee",0,0,1143,7679,0,0,0,0,0,0,0,0,0,0,0,0,0,0,0,0,0,0,0,0,0,0,0,11969,0,0,0,0,0,0]
["040","Statute Law Committee (Code Revisor)",0,0,0,12238,0,0,0,0,0,0,0,0,0,0,0,0,0,0,0,0,0,0,0,0,0,0,0,0,0,0,0,0,0,0]
["045","Supreme Court",0,0,0,0,0,0,0,0,0,0,0,0,33940,0,0,0,0,0,0,0,0,0,0,0,0,0,0,0,0,0,0,0,0,0]
["046","Law Library",0,0,0,0,0,0,0,0,0,0,0,0,15418,0,0,0,0,0,0,0,0,0,0,0,0,0,0,0,0,0,0,0,0,0]
["048","Court of Appeals",0,0,0,0,0,0,0,0,0,0,0,0,0,0,0,0,0,0,0,0,0,0,0,0,0,0,0,0,0,0,0,0,0,0]
["050","Commission on Judicial Conduct",0,0,0,0,0,0,0,0,0,0,0,0,0,0,0,0,0,0,0,5175,0,0,0,0,0,0,0,0,0,0,0,0,0,0]
["055","Administrative Office of the Courts",0,0,0,0,0,0,0,0,0,0,0,0,4251,0,0,0,0,0,0,0,0,0,0,0,0,0,0,0,0,0,0,0,0,0]
["056","Office of Public Defense",0,0,0,0,0,0,0,0,0,0,0,0,0,0,0,0,0,0,0,0,0,0,0,0,0,0,0,0,0,0,0,0,0,0]
["057","Office of Civil Legal Aid",0,0,0,0,0,0,0,0,0,0,0,0,0,0,0,0,0,0,0,0,0,0,0,0,0,0,0,0,0,0,0,0,0,0]
["075","Office of the Governor",0,0,17257,0,0,0,0,0,0,0,2657,0,0,0,0,0,0,0,0,0,0,0,0,0,0,0,0,13931,0,0,0,0,0,0]
["080","Office of Lieutenant Governor",0,0,8874,0,0,0,0,0,0,0,0,0,0,0,0,0,0,0,0,0,0,0,0,0,0,0,0,0,0,0,0,0,0,0]
["082","Public Disclosure Commission",0,0,0,0,0,0,0,0,0,0,0,0,0,0,0,0,0,0,0,0,0,0,0,0,0,0,0,0,0,0,0,0,0,0]
["085","Office of the Secretary of State",0,0,10650,0,0,0,47488,0,0,0,0,0,0,0,6382,47200,0,0,0,0,17000,0,0,0,0,0,0,0,0,0,0,0,0,0]
["086","Governor's Office of Indian Affairs",0,0,0,0,0,0,0,0,0,0,0,0,0,0,0,0,0,0,0,1312,0,0,0,0,0,0,0,0,0,0,0,0,0,0]
["087","Commission on Asian Pacific American Affairs",0,0,0,0,0,0,0,0,0,0,0,0,0,0,0,0,0,0,0,863,0,0,0,0,0,0,0,0,0,0,0,0,0,0]
["090","Office of State Treasurer",0,0,10715,0,0,0,0,0,0,0,0,0,0,0,0,0,0,0,0,0,0,0,0,0,0,0,0,12915,0,0,0,0,0,0]
["095","Office of State Auditor",0,0,0,0,0,0,0,0,0,0,6412,0,0,0,0,0,0,0,0,0,0,0,0,0,0,0,0,0,0,0,0,0,0,0]
["099","Citizens' Commission on Salaries for Elected Officials",0,0,0,0,0,0,0,0,0,0,0,0,0,0,0,0,0,0,0,666,0,0,0,0,0,0,0,0,0,0,0,0,0,0]
["100","Office of Attorney General",0,0,0,0,72639,0,0,0,0,0,0,0,0,0,0,0,0,0,0,0,0,0,0,0,0,0,0,0,0,0,0,0,0,0]
["101","Caseload Forecast Council",0,0,0,0,0,0,0,0,0,0,0,0,0,0,0,0,0,0,0,5156,0,0,0,0,0,0,0,0,0,0,0,0,0,0]
["102","Department of Financial Institutions",0,0,0,0,0,0,0,0,0,0,0,0,0,0,0,0,0,0,0,0,0,0,0,0,0,0,0,0,0,0,0,0,0,0]
["103","Department of Commerce",0,0,0,0,0,0,0,0,0,0,0,0,0,0,0,0,0,0,0,0,0,0,0,0,0,0,0,0,0,0,0,0,0,0]
["104","Economic and Revenue Forecast Council",0,0,0,0,0,0,0,0,0,0,0,0,0,0,0,0,0,0,0,0,0,0,0,0,0,0,0,0,0,0,0,0,0,0]
["105","Office of Financial Management",0,0,0,0,0,0,0,0,0,0,39050,0,0,0,0,0,0,0,0,699,0,0,0,0,0,0,0,0,0,0,0,0,0,0]
["107","Washington State Health Care Authority",0,0,0,0,0,0,0,0,0,0,0,0,0,0,0,0,0,0,0,0,0,0,0,0,0,0,0,0,0,0,0,0,0,0]
["110","Office of Administrative Hearings",0,0,0,0,0,0,0,0,0,0,0,0,0,0,0,0,0,0,0,0,0,0,0,0,0,0,0,0,0,0,0,0,0,0]
["116","State Lottery",0,0,0,0,0,0,0,0,0,0,0,0,0,0,0,0,0,0,0,0,0,0,0,0,0,0,0,0,0,0,0,0,0,0]
["117","Washington State Gambling Commission",0,0,0,0,0,0,0,0,0,0,0,0,0,0,0,0,0,0,0,0,0,0,0,0,0,0,0,0,0,0,0,0,0,0]
["118","Commission on Hispanic Affairs",0,0,0,0,0,0,0,0,0,0,0,0,0,0,0,0,0,126,0,863,0,0,0,0,0,0,0,0,0,0,0,0,0,0]
["119","Commission on African-American Affairs",0,0,0,0,0,0,0,0,0,0,0,0,0,0,0,0,0,0,0,863,0,0,0,0,0,0,0,0,0,0,0,0,0,0]
["120","Human Rights Commission",0,0,0,0,0,0,0,0,0,0,0,0,0,0,0,0,0,0,0,0,0,0,0,0,0,0,0,0,0,0,0,0,0,0]
["124","Department of Retirement Systems",0,0,0,0,0,0,0,0,0,0,0,0,0,0,0,0,0,0,0,0,0,0,0,0,0,0,0,0,0,0,0,0,0,0]
["126","State Investment Board",0,0,0,0,0,0,0,0,0,0,0,0,0,0,0,0,0,0,0,0,0,0,0,0,0,0,0,0,0,0,0,0,0,0]
["140","Department of Revenue",0,0,0,0,0,0,0,0,0,0,0,0,0,0,0,0,0,0,0,0,0,0,0,0,0,0,0,0,0,0,0,0,0,0]
["142","Board of Tax Appeals",0,0,0,0,0,0,0,0,0,0,0,0,0,0,0,0,0,0,0,4670,0,0,0,0,0,0,0,0,0,0,0,0,0,0]
["147","Office of Minority and Women's Business Enterprises",0,0,0,0,0,0,0,0,0,0,0,0,0,0,0,0,0,72,0,4819,0,0,0,0,0,0,0,0,0,0,0,0,0,0]
["160","Office of Insurance Commissioner",0,0,0,0,0,0,0,0,0,0,6989,0,0,0,0,0,0,0,0,0,0,0,0,0,0,0,0,0,0,0,0,0,0,0]
["163","Consolidated Technology Services",0,0,0,0,0,304,0,0,0,0,0,0,0,0,0,0,0,0,0,0,0,0,0,0,0,0,0,0,0,0,0,0,0,0]
["165","Board of Accountancy",0,0,0,0,0,0,0,0,0,0,0,0,0,0,0,0,0,0,0,0,0,0,0,0,0,0,0,0,0,0,0,0,0,0]
["166","Brd Prof Eng Land Surveyors",0,0,0,0,0,0,0,0,0,0,0,0,0,0,0,0,0,0,0,0,0,0,0,0,0,0,0,0,0,0,0,0,0,0]
["167","Forensic Investigations Council",0,0,0,0,0,0,0,0,0,0,0,0,0,0,0,0,0,0,0,0,0,0,0,0,0,0,0,0,0,0,0,0,0,0]
["179","Department of Enterprise Services",0,0,1588,0,0,18761,0,0,0,0,0,0,0,0,89004,0,0,0,0,5378,0,0,0,0,0,0,0,300,0,0,0,0,0,0]
["185","Horse Racing Commission",0,0,0,0,0,0,0,0,0,0,0,0,0,0,0,0,0,0,0,0,0,0,0,0,0,0,0,0,0,0,0,0,0,0]
["190","Board of Industrial Insurance Appeals",0,0,0,0,0,0,0,0,0,0,0,0,0,0,0,0,0,0,0,0,0,0,0,0,0,0,0,0,0,0,0,0,0,0]
["195","Liquor Control Board",0,0,0,0,0,0,0,0,0,0,0,0,0,0,0,0,0,0,0,0,0,0,0,0,0,0,0,0,0,0,0,0,0,0]
["205","Board of Pilotage Commissioners",0,0,0,0,0,0,0,0,0,0,0,0,0,0,0,0,0,0,0,0,0,0,0,0,0,0,0,0,0,0,0,0,0,0]
["215","Utilities and Transportation Commission",0,0,0,0,0,0,0,0,0,0,0,0,0,0,0,0,0,0,0,0,0,0,0,0,0,0,0,0,0,0,0,0,0,0]
["220","Board for Volunteer Firefighters and Reserve Officers",0,0,0,0,0,0,0,0,0,0,0,0,0,0,0,0,0,0,0,0,0,0,0,0,0,0,0,0,0,0,0,0,0,0]
["225","Washington State Patrol",0,0,520,0,0,0,0,0,0,0,0,0,0,0,0,0,0,0,0,0,0,0,0,0,0,1595,0,148347,0,0,0,0,0,0]
["227","Criminal Justice Training Commission",0,0,0,0,0,0,0,0,0,0,0,0,0,0,0,0,0,0,0,0,0,0,0,0,0,0,0,0,0,0,0,0,0,0]
["228","Traffic Safety Commission",0,0,0,0,0,0,0,0,0,0,0,0,0,0,0,0,0,0,0,0,0,0,0,0,0,0,0,0,0,0,0,0,0,0]
["235","Department of Labor and Industries",0,0,0,0,0,0,0,0,0,0,0,0,0,0,0,0,0,0,0,0,0,0,0,0,0,0,0,0,10323,0,0,0,0,0]
["240","Department of Licensing",0,0,0,0,104161,0,0,0,0,0,0,0,0,0,0,0,0,0,0,0,0,0,0,0,0,0,0,0,0,0,0,0,0,0]
["245","Military Department",0,0,0,0,0,0,0,0,0,0,0,0,0,0,0,0,0,0,0,0,0,0,0,0,0,0,0,0,0,0,0,0,0,0]
["275","Public Employment Relations Commission",0,0,0,0,0,0,0,0,0,0,0,0,0,0,0,0,0,0,0,0,0,0,0,0,0,0,0,0,0,0,0,0,0,0]
["300","Department of Social and Health Services",0,0,0,0,0,187486,0,0,0,0,0,0,0,0,0,0,0,0,0,0,0,0,0,0,0,0,0,0,29001,69517,0,0,0,0]
["303","Department of Health",0,0,0,0,0,0,0,0,0,0,0,0,0,0,0,0,0,0,0,0,0,0,0,0,0,0,0,0,0,0,0,0,0,0]
["305","Department of Veterans Affairs",0,0,0,0,0,0,0,0,0,0,0,0,0,0,0,0,0,0,0,0,0,0,0,0,0,0,0,0,0,0,0,0,0,0]
["307","DCYF",0,0,0,0,0,49437,0,0,0,0,0,0,0,0,0,0,0,0,0,0,0,0,0,0,0,0,0,0,21257,29483,0,0,0,0]
["310","Department of Corrections",0,0,0,0,0,0,0,0,0,0,0,0,0,0,0,0,0,0,0,0,0,0,0,0,0,0,0,0,0,0,0,0,0,0]
["315","Department of Services for the Blind",0,0,591,1515,868,2675,0,3022,0,1434,0,0,0,0,0,0,0,0,0,0,0,0,0,0,0,0,0,0,0,0,20708,0,0,0]
["340","Student Achievement Council",0,0,0,0,0,0,0,0,0,0,0,0,0,0,0,0,0,0,0,0,0,0,0,0,0,0,0,0,0,0,0,0,0,0]
["341","Law Enforcement Officers' & Fire Fighters' Plan 2 Retirement Board",0,0,0,0,0,0,0,0,0,0,0,0,0,0,0,0,0,0,0,0,0,0,0,0,0,0,0,0,0,0,0,0,0,0]
["350","Superintendent of Public Instruction",0,0,0,0,0,0,0,0,0,0,0,97800,0,0,0,0,0,0,0,0,0,0,1539,0,0,0,0,0,0,0,0,0,0,0]
["351","State School For The Blind",0,0,0,0,0,0,0,0,0,0,0,0,0,0,0,0,0,0,0,0,0,0,0,0,0,0,0,0,0,0,0,0,0,0]
["353","State Center for Childhood Deafness and Hearing Loss",0,0,0,0,0,0,0,0,0,0,0,0,0,0,0,0,0,0,0,0,0,0,0,0,0,0,0,0,0,0,0,0,0,0]
["354","Workforce Training and Education Coordinating Board",0,0,0,0,0,0,0,0,0,0,0,0,0,0,0,0,0,0,0,0,0,0,0,0,0,0,0,0,0,0,0,0,0,0]
["355","Department of Archaeology and Historic Preservation",0,0,0,0,0,0,0,0,0,0,0,0,0,0,0,0,0,0,0,9336,0,0,0,0,0,0,0,0,0,0,0,0,0,0]
["357","Department of Early Learning",0,0,0,0,0,0,0,0,0,0,0,0,0,0,0,0,0,0,0,0,0,0,0,0,0,0,0,0,0,0,0,0,0,0]
["359","WA Charter School Commission",0,0,0,0,0,0,0,0,0,0,0,0,0,0,0,0,0,0,0,0,0,0,0,0,0,0,0,0,0,0,0,0,0,0]
["360","University of Washington",0,0,0,0,0,0,0,0,0,0,0,0,0,0,0,0,0,0,0,0,0,0,0,0,0,0,0,0,0,0,0,0,0,0]
["365","Washington State University",0,0,0,0,0,0,0,0,0,0,0,0,0,0,0,0,0,0,0,0,0,0,0,0,0,0,0,0,0,0,0,0,0,0]
["370","Eastern Washington University",0,0,0,0,0,0,0,0,0,0,0,0,0,0,0,0,0,0,0,0,0,0,0,0,0,0,0,0,0,0,0,0,0,0]
["375","Central Washington University",0,0,0,0,0,0,0,0,0,0,0,0,0,0,0,0,0,0,0,0,0,0,0,0,0,0,0,0,0,0,0,0,0,0]
["376","The Evergreen State College",0,0,0,0,0,0,0,0,0,0,0,0,0,0,0,0,0,0,0,0,0,0,0,0,0,0,0,0,0,0,0,0,0,0]
["380","Western Washington University",0,0,0,0,0,0,0,0,0,0,0,0,0,0,0,0,0,0,0,0,0,0,0,0,0,0,0,0,0,0,0,0,0,0]
["387","Washington State Arts Commission",0,0,0,0,0,0,0,0,0,0,0,0,0,0,0,0,0,0,0,0,0,0,0,0,0,0,0,0,0,0,0,0,0,0]
["390","Washington State Historical Society",0,0,0,0,0,0,0,0,0,0,0,0,0,0,0,0,0,0,0,0,0,0,0,0,0,0,0,0,0,0,0,0,0,0]
["395","Eastern Washington State Historical Society",0,0,0,0,0,0,0,0,0,0,0,0,0,0,0,0,0,0,0,0,0,0,0,0,0,0,0,0,0,0,0,0,0,0]
["405","Department of Transportation",0,0,0,0,0,0,0,0,0,182993,0,0,0,0,0,0,0,0,0,0,0,0,0,0,0,0,0,0,0,0,0,0,0,0]
["406","County Road Administration Board",0,0,0,0,0,0,0,0,0,0,0,0,0,0,0,0,0,0,0,0,0,0,0,0,0,0,0,0,0,0,0,0,0,0]
["407","Transportation Improvement Board",0,0,0,0,0,0,0,0,0,0,0,0,0,0,0,0,0,0,0,0,0,0,0,0,0,0,0,0,0,0,0,0,0,0]
["410","Transportation Commission",0,0,0,0,0,0,0,0,0,0,0,0,0,0,0,0,0,0,0,0,0,0,0,0,0,0,0,0,0,0,0,0,0,0]
["411","Freight Mobility Strategic Investment Board",0,0,0,0,0,0,0,0,0,0,0,0,0,0,0,0,0,0,0,0,0,0,0,0,0,0,0,0,0,0,0,0,0,0]
["460","Columbia River Gorge Commission",0,0,0,0,0,0,0,0,0,0,0,0,0,0,0,0,0,0,0,0,0,0,0,0,0,0,0,0,0,0,0,0,0,0]
["461","Department of Ecology",0,0,0,0,0,0,0,0,0,0,0,0,0,0,0,0,0,0,0,0,0,0,0,0,0,0,0,0,0,0,0,0,0,0]
["462","Pollution Liability Insurance Program",0,0,0,0,0,0,0,0,0,0,0,0,0,0,0,0,0,0,0,0,0,0,0,0,0,0,0,0,0,0,0,0,0,0]
["465","State Parks and Recreation Commission",0,0,0,0,0,0,0,0,0,0,0,0,0,0,0,0,0,0,0,0,0,0,0,0,0,0,0,0,0,0,0,0,0,0]
["467","Recreation and Conservation Funding Board",0,0,0,0,0,0,0,11819,0,0,0,0,0,0,0,0,0,0,0,0,0,0,0,0,0,0,0,0,0,0,0,0,0,0]
["468","Environmental and Land Use Hearings Office",0,0,0,0,0,0,0,0,0,0,0,0,0,0,0,0,0,0,0,0,0,0,0,0,0,0,0,0,0,0,0,0,0,0]
["471","State Conservation Commission",0,0,0,0,0,0,0,0,0,0,0,0,0,0,0,0,0,0,0,0,0,0,0,0,0,0,0,0,0,0,0,0,0,0]
["477","Department of Fish and Wildlife",0,0,0,0,0,0,0,140136,0,0,0,0,0,0,0,0,0,0,0,0,0,0,0,0,0,0,0,0,0,0,0,0,0,0]
["478","Puget Sound Partnership",0,0,0,0,0,0,0,0,0,0,0,0,0,0,0,0,0,0,0,1382,0,0,0,0,0,0,0,0,0,0,0,0,0,0]
["490","Department of Natural Resources",0,0,0,0,0,0,0,153042,0,0,0,0,0,0,0,0,0,0,0,0,0,0,0,0,0,0,0,0,0,0,0,0,0,0]
["495","Department of Agriculture",0,0,0,0,0,0,0,48144,0,0,0,0,0,0,0,0,0,0,0,0,0,0,0,0,0,0,0,0,0,0,0,0,0,0]
["540","Employment Security Department",0,0,0,0,0,0,0,0,92619,0,0,0,0,0,0,0,0,0,0,0,0,0,0,0,0,0,0,0,0,0,0,0,0,0]
["699","Community Colleges",0,0,0,0,0,0,0,0,0,0,0,0,0,0,0,0,0,0,0,0,0,0,0,0,0,0,0,0,0,0,0,0,0,0]
["XXX","Private"]
[null,"Building Total",77281,78594,139470,25405,177668,258663,47488,356163,92619,184427,55108,97800,53609,22032,95386,47200,14308,198,0,41182,17000,0,1539,0,0,1595,0,200592,60581,99000,20708,0,0,0]
[]
[]
[null,null,null,"Update Made 6/2023"]

{"sheet":"Dollars","index":6,"n_rows":1188,"n_cols":18,"rows_kept":1188,"cut":false,"hidden":true,"merged":[]}
["Agency","Building","Building2","Allocation","Item","FY 24","FY 25","Column1",null,null,"Central Service","FY 1 ","FY 2","23-25 Billing ","CC %",null,"Agency","Thurston County FTEs"]
["011","F6123",{"$f":"_xlfn.IFNA(VLOOKUP(Table1[[#This Row],[Building]],$K$17:$L$50,2,FALSE),\"\")","v":"Legislative"},1.9150016463390832E-2,"Campus Contracts CSM (bldg)",{"$f":"VLOOKUP(E2,K:M,2,FALSE)*D2","v":30563.330525489451},{"$f":"VLOOKUP(E2,K:M,3,FALSE)*D2","v":30563.330525489451},null,null,null,null,null,null,null,null,null,"011",334]
["011","F6122",{"$f":"_xlfn.IFNA(VLOOKUP(Table1[[#This Row],[Building]],$K$17:$L$50,2,FALSE),\"\")","v":"O'Brien"},1.7853217528524014E-2,"Campus Contracts CSM (bldg)",28493.645909436684,28493.645909436684,null,null,null,"Parking Surcharge",1813995,1820996,3634991,null,null,"012",224]
["012","F6121",{"$f":"_xlfn.IFNA(VLOOKUP(Table1[[#This Row],[Building]],$K$17:$L$50,2,FALSE),\"\")","v":"Cherberg"},2.2178558242508077E-2,"Campus Contracts CSM (bldg)",35396.868062251677,35396.868062251677,null,null,null,"Rent CSM",27339997,27689999,55029996,null,null,"013",4]
["012","F6123",{"$f":"_xlfn.IFNA(VLOOKUP(Table1[[#This Row],[Building]],$K$17:$L$50,2,FALSE),\"\")","v":"Legislative"},1.5998785385901458E-2,"Campus Contracts CSM (bldg)",25533.981481971798,25533.981481971798,null,null,null,"DES - Capital Campus Childcare (422-6)",254984,254984,509968,null,null,"014",27]
["012","F612K",{"$f":"_xlfn.IFNA(VLOOKUP(Table1[[#This Row],[Building]],$K$17:$L$50,2,FALSE),\"\")","v":"Newhouse"},9.8394429814291102E-3,"Campus Contracts CSM (bldg)",15703.701801145953,15703.701801145953,null,null,null,"Capital Project Surcharge",4212999,4214003,8427002,null,null,"020",11]
["014","F613M",{"$f":"_xlfn.IFNA(VLOOKUP(Table1[[#This Row],[Building]],$K$17:$L$50,2,FALSE),\"\")","v":"Helen Sommers"},2.7054187690426644E-3,"Campus Contracts CSM (bldg)",4317.834828298247,4317.834828298247,null,null,null,"Fin Cost Recovery CSM",6996851.4000000004,6996851.4000000004,14374998,null,null,"035",19]
["020","F613M",{"$f":"_xlfn.IFNA(VLOOKUP(Table1[[#This Row],[Building]],$K$17:$L$50,2,FALSE),\"\")","v":"Helen Sommers"},1.2916723120342101E-3,"Campus Contracts CSM (bldg)",2061.5025516450391,2061.5025516450391,null,null,null,"DES - Perry Street Daycare (422-6)",284993,286998,571991,null,null,"037",34]
["037","F6133",{"$f":"_xlfn.IFNA(VLOOKUP(Table1[[#This Row],[Building]],$K$17:$L$50,2,FALSE),\"\")","v":"1007 Washington"},8.1314378652049806E-3,"Campus Contracts CSM (bldg)",12977.734175677822,12977.734175677822,null,null,null,"DES - Personnel Services Rates (422-6)",4099991,4152993,8252984,null,null,"038",52]
["037","F6123",{"$f":"_xlfn.IFNA(VLOOKUP(Table1[[#This Row],[Building]],$K$17:$L$50,2,FALSE),\"\")","v":"Legislative"},2.1046250214379072E-3,"Campus Contracts CSM (bldg)",3358.9710110897927,3358.9710110897927,null,null,null,"PHF",5088809,5162802,10251611,null,null,"040",39]
["037","F6124",{"$f":"_xlfn.IFNA(VLOOKUP(Table1[[#This Row],[Building]],$K$17:$L$50,2,FALSE),\"\")","v":"Pritchard"},1.8684304837981208E-3,"Campus Contracts CSM (bldg)",2982.005709989382,2982.005709989382,null,null,null,"Security on Campus",6269995,6276000,12545995,null,null,"045",60]
["038","F613M",{"$f":"_xlfn.IFNA(VLOOKUP(Table1[[#This Row],[Building]],$K$17:$L$50,2,FALSE),\"\")","v":"Helen Sommers"},3.6436544668247608E-3,"Campus Contracts CSM (bldg)",5815.2543107799838,5815.2543107799838,null,null,null,"Campus Contracts CSM (bldg)",1595995,{"$f":"L12","v":1595995},3191990,null,null,"046",8]
["038","F6123",{"$f":"_xlfn.IFNA(VLOOKUP(Table1[[#This Row],[Building]],$K$17:$L$50,2,FALSE),\"\")","v":"Legislative"},4.8314649518046358E-4,"Campus Contracts CSM (bldg)",771.09939057554402,771.09939057554402,null,null,null,"Campus Contracts CSM (PHF)",1595995,{"$f":"L13","v":1595995},3191990,null,null,"048",1]
["038","F6124",{"$f":"_xlfn.IFNA(VLOOKUP(Table1[[#This Row],[Building]],$K$17:$L$50,2,FALSE),\"\")","v":"Pritchard"},3.6112956670238529E-3,"Campus Contracts CSM (bldg)",5763.609828091734,5763.609828091734,null,null,null,"Campus Contracts CSM (Parking)",1595995,1595995,3191990,null,null,"050",7]
["040","F6124",{"$f":"_xlfn.IFNA(VLOOKUP(Table1[[#This Row],[Building]],$K$17:$L$50,2,FALSE),\"\")","v":"Pritchard"},5.7553114172467657E-3,"Campus Contracts CSM (bldg)",9185.4482453687524,9185.4482453687524,null,null,null,null,null,null,null,null,null,"055",292]
["045","F612J",{"$f":"_xlfn.IFNA(VLOOKUP(Table1[[#This Row],[Building]],$K$17:$L$50,2,FALSE),\"\")","v":"TOJ"},1.3555259586823897E-2,"Campus Contracts CSM (bldg)",21634.126524273004,21634.126524273004,null,null,null,null,null,null,null,null,null,"056",30]
["046","F612J",{"$f":"_xlfn.IFNA(VLOOKUP(Table1[[#This Row],[Building]],$K$17:$L$50,2,FALSE),\"\")","v":"TOJ"},6.1577782059413924E-3,"Campus Contracts CSM (bldg)",9827.7832277914331,9827.7832277914331,null,null,null,"MI","Building",null,null,null,null,"057",7]
["050","F613D",{"$f":"_xlfn.IFNA(VLOOKUP(Table1[[#This Row],[Building]],$K$17:$L$50,2,FALSE),\"\")","v":"Capital Court"},2.284487669713359E-3,"Campus Contracts CSM (bldg)",3646.0308984241724,3646.0308984241724,null,null,null,"F6121","Cherberg",null,null,null,null,"075",57]
["055","F612J",{"$f":"_xlfn.IFNA(VLOOKUP(Table1[[#This Row],[Building]],$K$17:$L$50,2,FALSE),\"\")","v":"TOJ"},1.6978022540833349E-3,"Campus Contracts CSM (bldg)",2709.6839085057322,2709.6839085057322,null,null,null,"F6122","O'Brien",null,null,null,null,"080",7]
["075","F613M",{"$f":"_xlfn.IFNA(VLOOKUP(Table1[[#This Row],[Building]],$K$17:$L$50,2,FALSE),\"\")","v":"Helen Sommers"},4.2409349467236812E-3,"Campus Contracts CSM (bldg)",6768.5109702962618,6768.5109702962618,null,null,null,"F6123","Legislative",null,null,null,null,"082",29]
["075","F612E",{"$f":"_xlfn.IFNA(VLOOKUP(Table1[[#This Row],[Building]],$K$17:$L$50,2,FALSE),\"\")","v":"Insurance"},8.0000000000000004E-4,"Campus Contracts CSM (bldg)",1276.796,1276.796,null,null,null,"F6124","Pritchard",null,null,null,null,"085",214]
["075","F6123",{"$f":"_xlfn.IFNA(VLOOKUP(Table1[[#This Row],[Building]],$K$17:$L$50,2,FALSE),\"\")","v":"Legislative"},7.2945398664297986E-3,"Campus Contracts CSM (bldg)",11642.049154122626,11642.049154122626,null,null,null,"F6125","HLB",null,null,null,null,"086",2]
["080","F6123",{"$f":"_xlfn.IFNA(VLOOKUP(Table1[[#This Row],[Building]],$K$17:$L$50,2,FALSE),\"\")","v":"Legislative"},3.7510428680939925E-3,"Campus Contracts CSM (bldg)",5986.6456622636715,5986.6456622636715,null,null,null,"F6126","OB2",null,null,null,null,"087",2]
["085","F6127",{"$f":"_xlfn.IFNA(VLOOKUP(Table1[[#This Row],[Building]],$K$17:$L$50,2,FALSE),\"\")","v":"Archives"},1.410506543134415E-2,"Campus Contracts CSM (bldg)",22511.613903098107,22511.613903098107,null,null,null,"F6127","Archives",null,null,null,null,"090",62]
["085","F6132",{"$f":"_xlfn.IFNA(VLOOKUP(Table1[[#This Row],[Building]],$K$17:$L$50,2,FALSE),\"\")","v":"Isabella Bush"},5.7606539167522203E-3,"Campus Contracts CSM (bldg)",9193.974847866959,9193.974847866959,null,null,null,"F6129","NRB",null,null,null,null,"095",182]
["085","F613E",{"$f":"_xlfn.IFNA(VLOOKUP(Table1[[#This Row],[Building]],$K$17:$L$50,2,FALSE),\"\")","v":"James Dolliver Building"},5.7606539167522203E-3,"Campus Contracts CSM (bldg)",9193.974847866959,9193.974847866959,null,null,null,"F612A","Emp Sec",null,null,null,null,"099",2]
["085","F6123",{"$f":"_xlfn.IFNA(VLOOKUP(Table1[[#This Row],[Building]],$K$17:$L$50,2,FALSE),\"\")","v":"Legislative"},4.5017586821276788E-3,"Campus Contracts CSM (bldg)",7184.7843478823643,7184.7843478823643,null,null,null,"F612C","Transportation",null,null,null,null,"100",698]
["086","F613D",{"$f":"_xlfn.IFNA(VLOOKUP(Table1[[#This Row],[Building]],$K$17:$L$50,2,FALSE),\"\")","v":"Capital Court"},5.7917832322008239E-4,"Campus Contracts CSM (bldg)",924.36570796763544,924.36570796763544,null,null,null,"F612E","Insurance",null,null,null,null,"101",12]
["087","F613D",{"$f":"_xlfn.IFNA(VLOOKUP(Table1[[#This Row],[Building]],$K$17:$L$50,2,FALSE),\"\")","v":"Capital Court"},3.8096866839857556E-4,"Campus Contracts CSM (bldg)",608.0240899207846,608.0240899207846,null,null,null,"F612H","Old Cap",null,null,null,null,"102",160]
["090","F613M",{"$f":"_xlfn.IFNA(VLOOKUP(Table1[[#This Row],[Building]],$K$17:$L$50,2,FALSE),\"\")","v":"Helen Sommers"},3.9316398562153718E-3,"Campus Contracts CSM (bldg)",6274.8775523204522,6274.8775523204522,null,null,null,"F612J","TOJ",null,null,null,null,"103",385]
["090","F6123",{"$f":"_xlfn.IFNA(VLOOKUP(Table1[[#This Row],[Building]],$K$17:$L$50,2,FALSE),\"\")","v":"Legislative"},4.5292342046007582E-3,"Campus Contracts CSM (bldg)",7228.6351443717867,7228.6351443717867,null,null,null,"F612K","Newhouse",null,null,null,null,"104",6]
["095","F612E",{"$f":"_xlfn.IFNA(VLOOKUP(Table1[[#This Row],[Building]],$K$17:$L$50,2,FALSE),\"\")","v":"Insurance"},1.9284665403689325E-3,"Campus Contracts CSM (bldg)",3077.8229560961145,3077.8229560961145,null,null,null,"F6131","Modular Bldg",null,null,null,null,"105",481]
["099","F613D",{"$f":"_xlfn.IFNA(VLOOKUP(Table1[[#This Row],[Building]],$K$17:$L$50,2,FALSE),\"\")","v":"Capital Court"},2.9400363053702351E-4,"Campus Contracts CSM (bldg)",469.22832431893681,469.22832431893681,null,null,null,"F6132","Isabella Bush",null,null,null,null,"107",1423]
["100","F6125",{"$f":"_xlfn.IFNA(VLOOKUP(Table1[[#This Row],[Building]],$K$17:$L$50,2,FALSE),\"\")","v":"HLB"},2.23E-2,"Campus Contracts CSM (bldg)",{"$f":"VLOOKUP(E34,K:M,2,FALSE)*D34","v":35590.688500000004},{"$f":"VLOOKUP(E34,K:M,3,FALSE)*D34","v":35590.688500000004},null,null,null,"F6133","1007 Washington",null,null,null,null,"110",87]
["101","F613D",{"$f":"_xlfn.IFNA(VLOOKUP(Table1[[#This Row],[Building]],$K$17:$L$50,2,FALSE),\"\")","v":"Capital Court"},2.2761001787520922E-3,"Campus Contracts CSM (bldg)",3632.6445047874454,3632.6445047874454,null,null,null,"F6134","120 E Union Avenue",null,null,null,null,"116",76]
["105","F613D",{"$f":"_xlfn.IFNA(VLOOKUP(Table1[[#This Row],[Building]],$K$17:$L$50,2,FALSE),\"\")","v":"Capital Court"},3.0857164415399853E-4,"Campus Contracts CSM (bldg)",492.47880121156089,492.47880121156089,null,null,null,"F6137","Conservatory",null,null,null,null,"117",46]
["105","F612E",{"$f":"_xlfn.IFNA(VLOOKUP(Table1[[#This Row],[Building]],$K$17:$L$50,2,FALSE),\"\")","v":"Insurance"},1.1744648059428436E-2,"Campus Contracts CSM (bldg)",18744.399579607485,18744.399579607485,null,null,null,"F613D","Capital Court",null,null,null,null,"118",2]
["118","F613D",{"$f":"_xlfn.IFNA(VLOOKUP(Table1[[#This Row],[Building]],$K$17:$L$50,2,FALSE),\"\")","v":"Capital Court"},3.8096866839857556E-4,"Campus Contracts CSM (bldg)",608.0240899207846,608.0240899207846,null,null,null,"F613E","James Dolliver Building",null,null,null,null,"119",3]
["119","F613D",{"$f":"_xlfn.IFNA(VLOOKUP(Table1[[#This Row],[Building]],$K$17:$L$50,2,FALSE),\"\")","v":"Capital Court"},3.8096866839857556E-4,"Campus Contracts CSM (bldg)",608.0240899207846,608.0240899207846,null,null,null,"F613F","Undeveloped Properties",null,null,null,null,"120",19]
["142","F613D",{"$f":"_xlfn.IFNA(VLOOKUP(Table1[[#This Row],[Building]],$K$17:$L$50,2,FALSE),\"\")","v":"Capital Court"},2.0615569889007508E-3,"Campus Contracts CSM (bldg)",3290.2346465006535,3290.2346465006535,null,null,null,"F613G","1068 WA Street SE (ST Farm)",null,null,null,null,"124",266]
["147","F613D",{"$f":"_xlfn.IFNA(VLOOKUP(Table1[[#This Row],[Building]],$K$17:$L$50,2,FALSE),\"\")","v":"Capital Court"},2.1273325759127875E-3,"Campus Contracts CSM (bldg)",3395.2121544939291,3395.2121544939291,null,null,null,"F613H","232 Perry Street",null,null,null,null,"126",88]
["160","F612E",{"$f":"_xlfn.IFNA(VLOOKUP(Table1[[#This Row],[Building]],$K$17:$L$50,2,FALSE),\"\")","v":"Insurance"},2.1020044682842276E-3,"Campus Contracts CSM (bldg)",3354.7886213592856,3354.7886213592856,null,null,null,"F613i","208 11th Avenue SE (Pro Arts)",null,null,null,null,"140",624]
["163","F6126",{"$f":"_xlfn.IFNA(VLOOKUP(Table1[[#This Row],[Building]],$K$17:$L$50,2,FALSE),\"\")","v":"OB2"},1.1309015452031532E-4,"Campus Contracts CSM (bldg)",180.49132116365064,180.49132116365064,null,null,null,"F613L","Visitor Center",null,null,null,null,"142",16]
["179","F613D",{"$f":"_xlfn.IFNA(VLOOKUP(Table1[[#This Row],[Building]],$K$17:$L$50,2,FALSE),\"\")","v":"Capital Court"},2.3741013889311E-3,"Campus Contracts CSM (bldg)",3789.0539462270908,3789.0539462270908,null,null,null,"F613M","Helen Sommers",null,null,null,null,"147",32]
["179","F613M",{"$f":"_xlfn.IFNA(VLOOKUP(Table1[[#This Row],[Building]],$K$17:$L$50,2,FALSE),\"\")","v":"Helen Sommers"},9.1327290504422115E-5,"Campus Contracts CSM (bldg)",145.75789900860516,145.75789900860516,null,null,null,"F6141","Kelso Building",null,null,null,null,"160",216]
["179","F6123",{"$f":"_xlfn.IFNA(VLOOKUP(Table1[[#This Row],[Building]],$K$17:$L$50,2,FALSE),\"\")","v":"Legislative"},6.7124814903462475E-4,"Campus Contracts CSM (bldg)",1071.3086896185159,1071.3086896185159,null,null,null,"F6142","Yakima Building",null,null,null,null,"163",270]
["179","F6126",{"$f":"_xlfn.IFNA(VLOOKUP(Table1[[#This Row],[Building]],$K$17:$L$50,2,FALSE),\"\")","v":"OB2"},6.979224963669854E-3,"Campus Contracts CSM (bldg)",11138.808145892268,11138.808145892268,null,null,null,"F6143","Alaska Street",null,null,null,null,"165",8]
["225","F613M",{"$f":"_xlfn.IFNA(VLOOKUP(Table1[[#This Row],[Building]],$K$17:$L$50,2,FALSE),\"\")","v":"Helen Sommers"},4.5160431881531696E-2,"Campus Contracts CSM (bldg)",72075.823480765175,72075.823480765175,null,null,null,null,null,null,null,null,null,"166",8]
["225","F6123",{"$f":"_xlfn.IFNA(VLOOKUP(Table1[[#This Row],[Building]],$K$17:$L$50,2,FALSE),\"\")","v":"Legislative"},2.1980417978463782E-4,"Campus Contracts CSM (bldg)",350.80637191538301,350.80637191538301,null,null,null,null,null,null,null,null,null,"167",0]
["235","F6141",{"$f":"_xlfn.IFNA(VLOOKUP(Table1[[#This Row],[Building]],$K$17:$L$50,2,FALSE),\"\")","v":"Kelso Building"},9.8161519919831575E-4,"Campus Contracts CSM (bldg)",1566.6529498445159,1566.6529498445159,null,null,null,null,null,null,null,null,null,"179",729]
["240","F6125",{"$f":"_xlfn.IFNA(VLOOKUP(Table1[[#This Row],[Building]],$K$17:$L$50,2,FALSE),\"\")","v":"HLB"},3.1993660580202532E-2,"Campus Contracts CSM (bldg)",51061.72231770034,51061.72231770034,null,null,null,null,null,null,null,null,null,"185",2]
["300","F6141",{"$f":"_xlfn.IFNA(VLOOKUP(Table1[[#This Row],[Building]],$K$17:$L$50,2,FALSE),\"\")","v":"Kelso Building"},2.7577082623220341E-3,"Campus Contracts CSM (bldg)",4401.2885981246545,4401.2885981246545,null,null,null,null,null,null,null,null,null,"190",94]
["300","F6126",{"$f":"_xlfn.IFNA(VLOOKUP(Table1[[#This Row],[Building]],$K$17:$L$50,2,FALSE),\"\")","v":"OB2"},6.9746120757881044E-2,"Campus Contracts CSM (bldg)",111314.45999897436,111314.45999897436,null,null,null,null,null,null,null,null,null,"195",228]
["300","F6142",{"$f":"_xlfn.IFNA(VLOOKUP(Table1[[#This Row],[Building]],$K$17:$L$50,2,FALSE),\"\")","v":"Yakima Building"},8.0901692592093757E-3,"Campus Contracts CSM (bldg)",12911.869686851867,12911.869686851867,null,null,null,null,null,null,null,null,null,"205",0]
["307","F6141",{"$f":"_xlfn.IFNA(VLOOKUP(Table1[[#This Row],[Building]],$K$17:$L$50,2,FALSE),\"\")","v":"Kelso Building"},2.0213304552318704E-3,"Campus Contracts CSM (bldg)",3226.0332998977892,3226.0332998977892,null,null,null,null,null,null,null,null,null,"215",127]
["307","F6126",{"$f":"_xlfn.IFNA(VLOOKUP(Table1[[#This Row],[Building]],$K$17:$L$50,2,FALSE),\"\")","v":"OB2"},1.8390914371779039E-2,"Campus Contracts CSM (bldg)",29351.807382787487,29351.807382787487,null,null,null,null,null,null,null,null,null,"220",4]
["307","F6142",{"$f":"_xlfn.IFNA(VLOOKUP(Table1[[#This Row],[Building]],$K$17:$L$50,2,FALSE),\"\")","v":"Yakima Building"},3.4311385742950644E-3,"Campus Contracts CSM (bldg)",5476.0800088820515,5476.0800088820515,null,null,null,null,null,null,null,null,null,"225",549]
["315","F6125",{"$f":"_xlfn.IFNA(VLOOKUP(Table1[[#This Row],[Building]],$K$17:$L$50,2,FALSE),\"\")","v":"HLB"},2.6661127853626403E-4,"Campus Contracts CSM (bldg)",425.51026748748473,425.51026748748473,null,null,null,null,null,null,null,null,null,"227",4]
["315","F6123",{"$f":"_xlfn.IFNA(VLOOKUP(Table1[[#This Row],[Building]],$K$17:$L$50,2,FALSE),\"\")","v":"Legislative"},2.4981590433215573E-4,"Campus Contracts CSM (bldg)",398.70493423459891,398.70493423459891,null,null,null,null,null,null,null,null,null,"228",23]
["315","F6129",{"$f":"_xlfn.IFNA(VLOOKUP(Table1[[#This Row],[Building]],$K$17:$L$50,2,FALSE),\"\")","v":"NRB"},9.2573578628399398E-4,"Campus Contracts CSM (bldg)",1477.4696862303231,1477.4696862303231,null,null,null,null,null,null,null,null,null,"235",2095]
["315","F6126",{"$f":"_xlfn.IFNA(VLOOKUP(Table1[[#This Row],[Building]],$K$17:$L$50,2,FALSE),\"\")","v":"OB2"},9.9511895836132706E-4,"Campus Contracts CSM (bldg)",1588.2048819498862,1588.2048819498862,null,null,null,null,null,null,null,null,null,"240",848]
["315","F612C",{"$f":"_xlfn.IFNA(VLOOKUP(Table1[[#This Row],[Building]],$K$17:$L$50,2,FALSE),\"\")","v":"Transportation"},4.3805860423585803E-4,"Campus Contracts CSM (bldg)",699.13934206740828,699.13934206740828,null,null,null,null,null,null,null,null,null,"245",0]
["350","F613G",{"$f":"_xlfn.IFNA(VLOOKUP(Table1[[#This Row],[Building]],$K$17:$L$50,2,FALSE),\"\")","v":"1068 WA Street SE (ST Farm)"},2.5024941678112472E-4,"Campus Contracts CSM (bldg)",399.39681793559112,399.39681793559112,null,null,null,null,null,null,null,null,null,"275",21]
["350","F612H",{"$f":"_xlfn.IFNA(VLOOKUP(Table1[[#This Row],[Building]],$K$17:$L$50,2,FALSE),\"\")","v":"Old Cap"},3.1115262366608162E-2,"Campus Contracts CSM (bldg)",49659.803160794792,49659.803160794792,null,null,null,null,null,null,null,null,null,"300",2756]
["355","F613D",{"$f":"_xlfn.IFNA(VLOOKUP(Table1[[#This Row],[Building]],$K$17:$L$50,2,FALSE),\"\")","v":"Capital Court"},4.1213481902307083E-3,"Campus Contracts CSM (bldg)",6577.6511048672592,6577.6511048672592,null,null,null,null,null,null,null,null,null,"303",2097]
["405","F612C",{"$f":"_xlfn.IFNA(VLOOKUP(Table1[[#This Row],[Building]],$K$17:$L$50,2,FALSE),\"\")","v":"Transportation"},5.5900737911389373E-2,"Campus Contracts CSM (bldg)",{"$f":"VLOOKUP(E66,K:M,2,FALSE)*D66","v":89217.298202887876},{"$f":"VLOOKUP(E66,K:M,3,FALSE)*D66","v":89217.298202887876},null,null,null,null,null,null,null,null,null,"305",97]
["467","F6129",{"$f":"_xlfn.IFNA(VLOOKUP(Table1[[#This Row],[Building]],$K$17:$L$50,2,FALSE),\"\")","v":"NRB"},3.6205397942059969E-3,"Campus Contracts CSM (bldg)",5778.3634088538001,5778.3634088538001,null,null,null,null,null,null,null,null,null,"307",924]
["477","F6129",{"$f":"_xlfn.IFNA(VLOOKUP(Table1[[#This Row],[Building]],$K$17:$L$50,2,FALSE),\"\")","v":"NRB"},4.2928163516444004E-2,"Campus Contracts CSM (bldg)",68513.134331427049,68513.134331427049,null,null,null,null,null,null,null,null,null,"310",1159]
["478","F613D",{"$f":"_xlfn.IFNA(VLOOKUP(Table1[[#This Row],[Building]],$K$17:$L$50,2,FALSE),\"\")","v":"Capital Court"},6.1007960570895882E-4,"Campus Contracts CSM (bldg)",973.68400031346971,973.68400031346971,null,null,null,null,null,null,null,null,null,"315",18]
["490","F6129",{"$f":"_xlfn.IFNA(VLOOKUP(Table1[[#This Row],[Building]],$K$17:$L$50,2,FALSE),\"\")","v":"NRB"},4.6881686368125411E-2,"Campus Contracts CSM (bldg)",74822.937035096315,74822.937035096315,null,null,null,null,null,null,null,null,null,"340",105]
["495","F6129",{"$f":"_xlfn.IFNA(VLOOKUP(Table1[[#This Row],[Building]],$K$17:$L$50,2,FALSE),\"\")","v":"NRB"},1.4748055491348977E-2,"Campus Contracts CSM (bldg)",23537.822823915511,23537.822823915511,null,null,null,null,null,null,null,null,null,"341",8]
["540","F612A",{"$f":"_xlfn.IFNA(VLOOKUP(Table1[[#This Row],[Building]],$K$17:$L$50,2,FALSE),\"\")","v":"Emp Sec"},3.7075445211005677E-2,"Campus Contracts CSM (bldg)",59172.225179539004,59172.225179539004,null,null,null,null,null,null,null,null,null,"350",454]
["037","F6133",{"$f":"_xlfn.IFNA(VLOOKUP(Table1[[#This Row],[Building]],$K$17:$L$50,2,FALSE),\"\")","v":"1007 Washington"},1.9321392615399527E-3,"Campus Contracts CSM (Parking)",{"$f":"VLOOKUP(E73,K:M,2,FALSE)*D73","v":3083.6846007214567},{"$f":"VLOOKUP(E73,K:M,3,FALSE)*D73","v":3083.6846007214567},null,null,null,null,null,null,null,null,null,"351",2]
["350","F613G",{"$f":"_xlfn.IFNA(VLOOKUP(Table1[[#This Row],[Building]],$K$17:$L$50,2,FALSE),\"\")","v":"1068 WA Street SE (ST Farm)"},2.0782515540326997E-4,"Campus Contracts CSM (Parking)",331.68790889784185,331.68790889784185,null,null,null,null,null,null,null,null,null,"353",0]
["085","F6127",{"$f":"_xlfn.IFNA(VLOOKUP(Table1[[#This Row],[Building]],$K$17:$L$50,2,FALSE),\"\")","v":"Archives"},6.4127361792010954E-3,"Campus Contracts CSM (Parking)",10234.694878324051,10234.694878324051,null,null,null,null,null,null,null,null,null,"354",24]
["050","F613D",{"$f":"_xlfn.IFNA(VLOOKUP(Table1[[#This Row],[Building]],$K$17:$L$50,2,FALSE),\"\")","v":"Capital Court"},6.9882727694082017E-4,"Campus Contracts CSM (Parking)",1115.3248398611643,1115.3248398611643,null,null,null,null,null,null,null,null,null,"355",21]
["086","F613D",{"$f":"_xlfn.IFNA(VLOOKUP(Table1[[#This Row],[Building]],$K$17:$L$50,2,FALSE),\"\")","v":"Capital Court"},1.7717128257900599E-4,"Campus Contracts CSM (Parking)",282.76448113968064,282.76448113968064,null,null,null,null,null,null,null,null,null,"357",0]
["087","F613D",{"$f":"_xlfn.IFNA(VLOOKUP(Table1[[#This Row],[Building]],$K$17:$L$50,2,FALSE),\"\")","v":"Capital Court"},1.165387323671358E-4,"Campus Contracts CSM (Parking)",185.9952341642869,185.9952341642869,null,null,null,null,null,null,null,null,null,"359",0]
["099","F613D",{"$f":"_xlfn.IFNA(VLOOKUP(Table1[[#This Row],[Building]],$K$17:$L$50,2,FALSE),\"\")","v":"Capital Court"},8.9936032162818593E-5,"Campus Contracts CSM (Parking)",143.53745765169765,143.53745765169765,null,null,null,null,null,null,null,null,null,"360",101]
["101","F613D",{"$f":"_xlfn.IFNA(VLOOKUP(Table1[[#This Row],[Building]],$K$17:$L$50,2,FALSE),\"\")","v":"Capital Court"},6.9626153428152049E-4,"Campus Contracts CSM (Parking)",1111.2299274056354,1111.2299274056354,null,null,null,null,null,null,null,null,null,"365",49]
["105","F613D",{"$f":"_xlfn.IFNA(VLOOKUP(Table1[[#This Row],[Building]],$K$17:$L$50,2,FALSE),\"\")","v":"Capital Court"},9.4392322044760068E-5,"Campus Contracts CSM (Parking)",150.64967402182685,150.64967402182685,null,null,null,null,null,null,null,null,null,"370",0]
["118","F613D",{"$f":"_xlfn.IFNA(VLOOKUP(Table1[[#This Row],[Building]],$K$17:$L$50,2,FALSE),\"\")","v":"Capital Court"},1.34E-4,"Campus Contracts CSM (Parking)",213.86333000000002,213.86333000000002,null,null,null,null,null,null,null,null,null,"375",0]
["119","F613D",{"$f":"_xlfn.IFNA(VLOOKUP(Table1[[#This Row],[Building]],$K$17:$L$50,2,FALSE),\"\")","v":"Capital Court"},1.165387323671358E-4,"Campus Contracts CSM (Parking)",185.9952341642869,185.9952341642869,null,null,null,null,null,null,null,null,null,"376",546]
["142","F613D",{"$f":"_xlfn.IFNA(VLOOKUP(Table1[[#This Row],[Building]],$K$17:$L$50,2,FALSE),\"\")","v":"Capital Court"},6.3063253783838267E-4,"Campus Contracts CSM (Parking)",1006.4863772273695,1006.4863772273695,null,null,null,null,null,null,null,null,null,"380",0]
["147","F613D",{"$f":"_xlfn.IFNA(VLOOKUP(Table1[[#This Row],[Building]],$K$17:$L$50,2,FALSE),\"\")","v":"Capital Court"},6.6049999999999995E-4,"Campus Contracts CSM (Parking)",1054.1546974999999,1054.1546974999999,null,null,null,null,null,null,null,null,null,"387",26]
["179","F613D",{"$f":"_xlfn.IFNA(VLOOKUP(Table1[[#This Row],[Building]],$K$17:$L$50,2,FALSE),\"\")","v":"Capital Court"},7.2624021166912685E-4,"Campus Contracts CSM (Parking)",1159.0757466228681,1159.0757466228681,null,null,null,null,null,null,null,null,null,"390",0]
["355","F613D",{"$f":"_xlfn.IFNA(VLOOKUP(Table1[[#This Row],[Building]],$K$17:$L$50,2,FALSE),\"\")","v":"Capital Court"},1.260724919327439E-3,"Campus Contracts CSM (Parking)",2012.1106676219961,2012.1106676219961,null,null,null,null,null,null,null,null,null,"395",0]
["478","F613D",{"$f":"_xlfn.IFNA(VLOOKUP(Table1[[#This Row],[Building]],$K$17:$L$50,2,FALSE),\"\")","v":"Capital Court"},1.8662401869221516E-4,"Campus Contracts CSM (Parking)",297.85100071268192,297.85100071268192,null,null,null,null,null,null,null,null,null,"405",1596]
["012","F6121",{"$f":"_xlfn.IFNA(VLOOKUP(Table1[[#This Row],[Building]],$K$17:$L$50,2,FALSE),\"\")","v":"Cherberg"},1.0435955708070247E-2,"Campus Contracts CSM (Parking)",16655.733130301574,16655.733130301574,null,null,null,null,null,null,null,null,null,"406",15]
["540","F612A",{"$f":"_xlfn.IFNA(VLOOKUP(Table1[[#This Row],[Building]],$K$17:$L$50,2,FALSE),\"\")","v":"Emp Sec"},1.2507185229561705E-2,"Campus Contracts CSM (Parking)",19961.405090454333,19961.405090454333,null,null,null,null,null,null,null,null,null,"407",10]
["014","F613M",{"$f":"_xlfn.IFNA(VLOOKUP(Table1[[#This Row],[Building]],$K$17:$L$50,2,FALSE),\"\")","v":"Helen Sommers"},1.2000923691155689E-3,"Campus Contracts CSM (Parking)",1915.3414206466023,1915.3414206466023,null,null,null,null,null,null,null,null,null,"410",6]
["020","F613M",{"$f":"_xlfn.IFNA(VLOOKUP(Table1[[#This Row],[Building]],$K$17:$L$50,2,FALSE),\"\")","v":"Helen Sommers"},5.729708475478068E-4,"Campus Contracts CSM (Parking)",914.45860783206194,914.45860783206194,null,null,null,null,null,null,null,null,null,"411",2]
["038","F613M",{"$f":"_xlfn.IFNA(VLOOKUP(Table1[[#This Row],[Building]],$K$17:$L$50,2,FALSE),\"\")","v":"Helen Sommers"},1.6162828362714353E-3,"Campus Contracts CSM (Parking)",2579.5793252750295,2579.5793252750295,null,null,null,null,null,null,null,null,null,"460",0]
["075","F613M",{"$f":"_xlfn.IFNA(VLOOKUP(Table1[[#This Row],[Building]],$K$17:$L$50,2,FALSE),\"\")","v":"Helen Sommers"},1.8812295256159545E-3,"Campus Contracts CSM (Parking)",3002.4329167354354,3002.4329167354354,null,null,null,null,null,null,null,null,null,"461",1016]
["090","F613M",{"$f":"_xlfn.IFNA(VLOOKUP(Table1[[#This Row],[Building]],$K$17:$L$50,2,FALSE),\"\")","v":"Helen Sommers"},1.7440298128870903E-3,"Campus Contracts CSM (Parking)",2783.4628612187316,2783.4628612187316,null,null,null,null,null,null,null,null,null,"462",21]
["179","F613M",{"$f":"_xlfn.IFNA(VLOOKUP(Table1[[#This Row],[Building]],$K$17:$L$50,2,FALSE),\"\")","v":"Helen Sommers"},4.0511726199467834E-5,"Campus Contracts CSM (Parking)",64.656512455719664,64.656512455719664,null,null,null,null,null,null,null,null,null,"465",206]
["225","F613M",{"$f":"_xlfn.IFNA(VLOOKUP(Table1[[#This Row],[Building]],$K$17:$L$50,2,FALSE),\"\")","v":"Helen Sommers"},2.003264348837485E-2,"Campus Contracts CSM (Parking)",{"$f":"VLOOKUP(E97,K:M,2,FALSE)*D97","v":31971.99884422882},31971.99884422882,null,null,null,null,null,null,null,null,null,"467",68]
["100","F6125",{"$f":"_xlfn.IFNA(VLOOKUP(Table1[[#This Row],[Building]],$K$17:$L$50,2,FALSE),\"\")","v":"HLB"},9.8091042646771473E-3,"Campus Contracts CSM (Parking)",15655.281360903404,15655.281360903404,null,null,null,null,null,null,null,null,null,"468",10]
["240","F6125",{"$f":"_xlfn.IFNA(VLOOKUP(Table1[[#This Row],[Building]],$K$17:$L$50,2,FALSE),\"\")","v":"HLB"},1.4065806375542564E-2,"Campus Contracts CSM (Parking)",22448.956646334056,22448.956646334056,null,null,null,null,null,null,null,null,null,"471",16]
["315","F6125",{"$f":"_xlfn.IFNA(VLOOKUP(Table1[[#This Row],[Building]],$K$17:$L$50,2,FALSE),\"\")","v":"HLB"},1.172139278037936E-4,"Campus Contracts CSM (Parking)",187.07284270521555,187.07284270521555,null,null,null,null,null,null,null,null,null,"477",821]
["095","F612E",{"$f":"_xlfn.IFNA(VLOOKUP(Table1[[#This Row],[Building]],$K$17:$L$50,2,FALSE),\"\")","v":"Insurance"},8.6587062796995927E-4,"Campus Contracts CSM (Parking)",1381.9251928869151,1381.9251928869151,null,null,null,null,null,null,null,null,null,"478",26]
["105","F612E",{"$f":"_xlfn.IFNA(VLOOKUP(Table1[[#This Row],[Building]],$K$17:$L$50,2,FALSE),\"\")","v":"Insurance"},{"$f":"0.536767184354359%-D81","v":5.2732795214988299E-3},"Campus Contracts CSM (Parking)",8416.1277499145253,8416.1277499145253,null,null,null,null,null,null,null,null,null,"490",740]
["075","F612E",{"$f":"_xlfn.IFNA(VLOOKUP(Table1[[#This Row],[Building]],$K$17:$L$50,2,FALSE),\"\")","v":"Insurance"},{"$f":"0.457040060239837%-D94-D110","v":3.5880154670169494E-4},"Campus Contracts CSM (Parking)",572.64547452817158,572.64547452817158,null,null,null,null,null,null,null,null,null,"495",243]
["160","F612E",{"$f":"_xlfn.IFNA(VLOOKUP(Table1[[#This Row],[Building]],$K$17:$L$50,2,FALSE),\"\")","v":"Insurance"},9.4378818136026902E-4,"Campus Contracts CSM (Parking)",{"$f":"VLOOKUP(E104,K:M,2,FALSE)*D104","v":1506.2812185100825},{"$f":"VLOOKUP(E104,K:M,3,FALSE)*D104","v":1506.2812185100825},null,null,null,null,null,null,null,null,null,"540",1388]
["085","F613E",{"$f":"_xlfn.IFNA(VLOOKUP(Table1[[#This Row],[Building]],$K$17:$L$50,2,FALSE),\"\")","v":"James Dolliver Building"},2.2956644846365108E-3,"Campus Contracts CSM (Parking)",3663.8690391574482,3663.8690391574482,null,null,null,null,null,null,null,null,null,"699",0]
["011","F6123",{"$f":"_xlfn.IFNA(VLOOKUP(Table1[[#This Row],[Building]],$K$17:$L$50,2,FALSE),\"\")","v":"Legislative"},6.1178108124689693E-3,"Campus Contracts CSM (Parking)",9763.9954676464131,9763.9954676464131]
["012","F6123",{"$f":"_xlfn.IFNA(VLOOKUP(Table1[[#This Row],[Building]],$K$17:$L$50,2,FALSE),\"\")","v":"Legislative"},5.111094416412193E-3,"Campus Contracts CSM (Parking)",8157.2811331217781,8157.2811331217781]
["037","F6123",{"$f":"_xlfn.IFNA(VLOOKUP(Table1[[#This Row],[Building]],$K$17:$L$50,2,FALSE),\"\")","v":"Legislative"},6.723596158238345E-4,"Campus Contracts CSM (Parking)",1073.0825850567608,1073.0825850567608]
["038","F6123",{"$f":"_xlfn.IFNA(VLOOKUP(Table1[[#This Row],[Building]],$K$17:$L$50,2,FALSE),\"\")","v":"Legislative"},1.5434967681997246E-4,"Campus Contracts CSM (Parking)",246.34131245629194,246.34131245629194]
["075","F6123",{"$f":"_xlfn.IFNA(VLOOKUP(Table1[[#This Row],[Building]],$K$17:$L$50,2,FALSE),\"\")","v":"Legislative"},2.3303695300807212E-3,"Campus Contracts CSM (Parking)",3719.2581181611804,3719.2581181611804]
["080","F6123",{"$f":"_xlfn.IFNA(VLOOKUP(Table1[[#This Row],[Building]],$K$17:$L$50,2,FALSE),\"\")","v":"Legislative"},1.1983368609802586E-3,"Campus Contracts CSM (Parking)",1912.5396384401879,1912.5396384401879]
["085","F6123",{"$f":"_xlfn.IFNA(VLOOKUP(Table1[[#This Row],[Building]],$K$17:$L$50,2,FALSE),\"\")","v":"Legislative"},1.4381662800811081E-3,"Campus Contracts CSM (Parking)",2295.3061921780481,2295.3061921780481]
["090","F6123",{"$f":"_xlfn.IFNA(VLOOKUP(Table1[[#This Row],[Building]],$K$17:$L$50,2,FALSE),\"\")","v":"Legislative"},1.4469438207576596E-3,"Campus Contracts CSM (Parking)",2309.3151032101209,2309.3151032101209]
["179","F6123",{"$f":"_xlfn.IFNA(VLOOKUP(Table1[[#This Row],[Building]],$K$17:$L$50,2,FALSE),\"\")","v":"Legislative"},2.1444207068251642E-4,"Campus Contracts CSM (Parking)",342.24847259894278,342.24847259894278]
["225","F6123",{"$f":"_xlfn.IFNA(VLOOKUP(Table1[[#This Row],[Building]],$K$17:$L$50,2,FALSE),\"\")","v":"Legislative"},7.0220325412410914E-5,"Campus Contracts CSM (Parking)",112.07128825658076,112.07128825658076]
["315","F6123",{"$f":"_xlfn.IFNA(VLOOKUP(Table1[[#This Row],[Building]],$K$17:$L$50,2,FALSE),\"\")","v":"Legislative"},7.9808100612951624E-5,"Campus Contracts CSM (Parking)",127.37332953776773,127.37332953776773]
["012","F612K",{"$f":"_xlfn.IFNA(VLOOKUP(Table1[[#This Row],[Building]],$K$17:$L$50,2,FALSE),\"\")","v":"Newhouse"},2.9751811720889181E-3,"Campus Contracts CSM (Parking)",4748.3742747480528,4748.3742747480528]
["315","F6129",{"$f":"_xlfn.IFNA(VLOOKUP(Table1[[#This Row],[Building]],$K$17:$L$50,2,FALSE),\"\")","v":"NRB"},4.0808812191597262E-4,"Campus Contracts CSM (Parking)",651.30660213728277,651.30660213728277]
["467","F6129",{"$f":"_xlfn.IFNA(VLOOKUP(Table1[[#This Row],[Building]],$K$17:$L$50,2,FALSE),\"\")","v":"NRB"},1.5960269731717012E-3,"Campus Contracts CSM (Parking)",2547.251069047169,2547.251069047169]
["477","F6129",{"$f":"_xlfn.IFNA(VLOOKUP(Table1[[#This Row],[Building]],$K$17:$L$50,2,FALSE),\"\")","v":"NRB"},1.8923837542295416E-2,"Campus Contracts CSM (Parking)",30202.350098315772,30202.350098315772]
["490","F6129",{"$f":"_xlfn.IFNA(VLOOKUP(Table1[[#This Row],[Building]],$K$17:$L$50,2,FALSE),\"\")","v":"NRB"},2.0666652003396523E-2,"Campus Contracts CSM (Parking)",32983.873264160837,32983.873264160837]
["495","F6129",{"$f":"_xlfn.IFNA(VLOOKUP(Table1[[#This Row],[Building]],$K$17:$L$50,2,FALSE),\"\")","v":"NRB"},6.5013218204905982E-3,"Campus Contracts CSM (Parking)",10376.077118893892,10376.077118893892]
["163","F6126",{"$f":"_xlfn.IFNA(VLOOKUP(Table1[[#This Row],[Building]],$K$17:$L$50,2,FALSE),\"\")","v":"OB2"},4.1051882548794073E-5,"Campus Contracts CSM (Parking)",65.518599288462596,65.518599288462596]
["179","F6126",{"$f":"_xlfn.IFNA(VLOOKUP(Table1[[#This Row],[Building]],$K$17:$L$50,2,FALSE),\"\")","v":"OB2"},2.533468317427387E-3,"Campus Contracts CSM (Parking)",4043.4027672725224,4043.4027672725224]
["300","F6126",{"$f":"_xlfn.IFNA(VLOOKUP(Table1[[#This Row],[Building]],$K$17:$L$50,2,FALSE),\"\")","v":"OB2"},2.5317938327444754E-2,"Campus Contracts CSM (Parking)",40407.302980910186,40407.302980910186]
["307","F6126",{"$f":"_xlfn.IFNA(VLOOKUP(Table1[[#This Row],[Building]],$K$17:$L$50,2,FALSE),\"\")","v":"OB2"},6.6759273604103048E-3,"Campus Contracts CSM (Parking)",10654.746687578045,10654.746687578045]
["315","F6126",{"$f":"_xlfn.IFNA(VLOOKUP(Table1[[#This Row],[Building]],$K$17:$L$50,2,FALSE),\"\")","v":"OB2"},3.6122955861192144E-4,"Campus Contracts CSM (Parking)",576.52056939683359,576.52056939683359]
["011","F6122",{"$f":"_xlfn.IFNA(VLOOKUP(Table1[[#This Row],[Building]],$K$17:$L$50,2,FALSE),\"\")","v":"O'Brien"},1.0613262029736583E-2,"Campus Contracts CSM (Parking)",16938.713133149438,16938.713133149438]
["350","F612H",{"$f":"_xlfn.IFNA(VLOOKUP(Table1[[#This Row],[Building]],$K$17:$L$50,2,FALSE),\"\")","v":"Old Cap"},1.3206822741026514E-2,"Campus Contracts CSM (Parking)",21078.02306056461,21078.02306056461]
["037","F6124",{"$f":"_xlfn.IFNA(VLOOKUP(Table1[[#This Row],[Building]],$K$17:$L$50,2,FALSE),\"\")","v":"Pritchard"},5.3651029396828561E-4,"Campus Contracts CSM (Parking)",856.26774662191394,856.26774662191394]
["038","F6124",{"$f":"_xlfn.IFNA(VLOOKUP(Table1[[#This Row],[Building]],$K$17:$L$50,2,FALSE),\"\")","v":"Pritchard"},1.0369651516190452E-3,"Campus Contracts CSM (Parking)",1654.991197158238,1654.991197158238]
["040","F6124",{"$f":"_xlfn.IFNA(VLOOKUP(Table1[[#This Row],[Building]],$K$17:$L$50,2,FALSE),\"\")","v":"Pritchard"},1.6526083507636246E-3,"Campus Contracts CSM (Parking)",2637.5546647769911,2637.5546647769911]
["045","F612J",{"$f":"_xlfn.IFNA(VLOOKUP(Table1[[#This Row],[Building]],$K$17:$L$50,2,FALSE),\"\")","v":"TOJ"},4.5832266240331283E-3,"Campus Contracts CSM (Parking)",7314.8067758237521,7314.8067758237521]
["046","F612J",{"$f":"_xlfn.IFNA(VLOOKUP(Table1[[#This Row],[Building]],$K$17:$L$50,2,FALSE),\"\")","v":"TOJ"},2.0820326484779837E-3,"Campus Contracts CSM (Parking)",3322.9136968076195,3322.9136968076195]
["055","F612J",{"$f":"_xlfn.IFNA(VLOOKUP(Table1[[#This Row],[Building]],$K$17:$L$50,2,FALSE),\"\")","v":"TOJ"},5.7405116024645923E-4,"Campus Contracts CSM (Parking)",916.18278149754769,916.18278149754769]
["315","F612C",{"$f":"_xlfn.IFNA(VLOOKUP(Table1[[#This Row],[Building]],$K$17:$L$50,2,FALSE),\"\")","v":"Transportation"},1.9364605123345623E-4,"Campus Contracts CSM (Parking)",{"$f":"VLOOKUP(E136,K:M,2,FALSE)*D136","v":309.05812953833998},{"$f":"VLOOKUP(E136,K:M,3,FALSE)*D136","v":309.05812953833998}]
["405","F612C",{"$f":"_xlfn.IFNA(VLOOKUP(Table1[[#This Row],[Building]],$K$17:$L$50,2,FALSE),\"\")","v":"Transportation"},2.4711207708064061E-2,"Campus Contracts CSM (Parking)",39438.963946031705,39438.963946031705]
["011","PHF",{"$f":"_xlfn.IFNA(VLOOKUP(Table1[[#This Row],[Building]],$K$17:$L$50,2,FALSE),\"\")","v":""},8.3816602729850384E-4,"Campus Contracts CSM (PHF)",1337.7087887382756,1337.7087887382756]
["012","PHF",{"$f":"_xlfn.IFNA(VLOOKUP(Table1[[#This Row],[Building]],$K$17:$L$50,2,FALSE),\"\")","v":""},5.6212332369720011E-4,"Campus Contracts CSM (PHF)",897.14601400411289,897.14601400411289]
["013","PHF",{"$f":"_xlfn.IFNA(VLOOKUP(Table1[[#This Row],[Building]],$K$17:$L$50,2,FALSE),\"\")","v":""},1.0037916494592861E-5,"Campus Contracts CSM (PHF)",16.020464535787735,16.020464535787735]
["014","PHF",{"$f":"_xlfn.IFNA(VLOOKUP(Table1[[#This Row],[Building]],$K$17:$L$50,2,FALSE),\"\")","v":""},6.7755936338501814E-5,"Campus Contracts CSM (PHF)",108.1381356165672,108.1381356165672]
["020","PHF",{"$f":"_xlfn.IFNA(VLOOKUP(Table1[[#This Row],[Building]],$K$17:$L$50,2,FALSE),\"\")","v":""},2.7604270360130366E-5,"Campus Contracts CSM (PHF)",44.056277473416266,44.056277473416266]
["035","PHF",{"$f":"_xlfn.IFNA(VLOOKUP(Table1[[#This Row],[Building]],$K$17:$L$50,2,FALSE),\"\")","v":""},4.7680103349316082E-5,"Campus Contracts CSM (PHF)",76.097206544991721,76.097206544991721]
["037","PHF",{"$f":"_xlfn.IFNA(VLOOKUP(Table1[[#This Row],[Building]],$K$17:$L$50,2,FALSE),\"\")","v":""},8.5322290204039314E-5,"Campus Contracts CSM (PHF)",136.17394855419573,136.17394855419573]
["038","PHF",{"$f":"_xlfn.IFNA(VLOOKUP(Table1[[#This Row],[Building]],$K$17:$L$50,2,FALSE),\"\")","v":""},1.3049291442970718E-4,"Campus Contracts CSM (PHF)",208.26603896524051,208.26603896524051]
["040","PHF",{"$f":"_xlfn.IFNA(VLOOKUP(Table1[[#This Row],[Building]],$K$17:$L$50,2,FALSE),\"\")","v":""},9.7869685822280389E-5,"Campus Contracts CSM (PHF)",156.1995292239304,156.1995292239304]
["045","PHF",{"$f":"_xlfn.IFNA(VLOOKUP(Table1[[#This Row],[Building]],$K$17:$L$50,2,FALSE),\"\")","v":""},1.505687474188929E-4,"Campus Contracts CSM (PHF)",240.30696803681599,240.30696803681599]
["046","PHF",{"$f":"_xlfn.IFNA(VLOOKUP(Table1[[#This Row],[Building]],$K$17:$L$50,2,FALSE),\"\")","v":""},2.0075832989185722E-5,"Campus Contracts CSM (PHF)",32.040929071575469,32.040929071575469]
["048","PHF",{"$f":"_xlfn.IFNA(VLOOKUP(Table1[[#This Row],[Building]],$K$17:$L$50,2,FALSE),\"\")","v":""},2.5094791236482153E-6,"Campus Contracts CSM (PHF)",4.0051161339469337,4.0051161339469337]
["050","PHF",{"$f":"_xlfn.IFNA(VLOOKUP(Table1[[#This Row],[Building]],$K$17:$L$50,2,FALSE),\"\")","v":""},1.7566353865537503E-5,"Campus Contracts CSM (PHF)",28.035812937628528,28.035812937628528]
["055","PHF",{"$f":"_xlfn.IFNA(VLOOKUP(Table1[[#This Row],[Building]],$K$17:$L$50,2,FALSE),\"\")","v":""},7.3276790410527876E-4,"Campus Contracts CSM (PHF)",1169.4939111125043,1169.4939111125043]
["056","PHF",{"$f":"_xlfn.IFNA(VLOOKUP(Table1[[#This Row],[Building]],$K$17:$L$50,2,FALSE),\"\")","v":""},7.5284373709446451E-5,"Campus Contracts CSM (PHF)",120.15348401840799,120.15348401840799]
["057","PHF",{"$f":"_xlfn.IFNA(VLOOKUP(Table1[[#This Row],[Building]],$K$17:$L$50,2,FALSE),\"\")","v":""},1.7566353865537503E-5,"Campus Contracts CSM (PHF)",28.035812937628528,28.035812937628528]
["075","PHF",{"$f":"_xlfn.IFNA(VLOOKUP(Table1[[#This Row],[Building]],$K$17:$L$50,2,FALSE),\"\")","v":""},1.4304031004794827E-4,"Campus Contracts CSM (PHF)",228.29161963497521,228.29161963497521]
["080","PHF",{"$f":"_xlfn.IFNA(VLOOKUP(Table1[[#This Row],[Building]],$K$17:$L$50,2,FALSE),\"\")","v":""},1.7566353865537503E-5,"Campus Contracts CSM (PHF)",28.035812937628528,28.035812937628528]
["082","PHF",{"$f":"_xlfn.IFNA(VLOOKUP(Table1[[#This Row],[Building]],$K$17:$L$50,2,FALSE),\"\")","v":""},7.2774894585798239E-5,"Campus Contracts CSM (PHF)",116.14836788446107,116.14836788446107]
["085","PHF",{"$f":"_xlfn.IFNA(VLOOKUP(Table1[[#This Row],[Building]],$K$17:$L$50,2,FALSE),\"\")","v":""},5.3702853246071804E-4,"Campus Contracts CSM (PHF)",857.09485266464367,857.09485266464367]
["086","PHF",{"$f":"_xlfn.IFNA(VLOOKUP(Table1[[#This Row],[Building]],$K$17:$L$50,2,FALSE),\"\")","v":""},5.0189582472964306E-6,"Campus Contracts CSM (PHF)",8.0102322678938673,8.0102322678938673]
["087","PHF",{"$f":"_xlfn.IFNA(VLOOKUP(Table1[[#This Row],[Building]],$K$17:$L$50,2,FALSE),\"\")","v":""},5.0189582472964306E-6,"Campus Contracts CSM (PHF)",8.0102322678938673,8.0102322678938673]
["090","PHF",{"$f":"_xlfn.IFNA(VLOOKUP(Table1[[#This Row],[Building]],$K$17:$L$50,2,FALSE),\"\")","v":""},1.5558770566618935E-4,"Campus Contracts CSM (PHF)",248.31720030470987,248.31720030470987]
["095","PHF",{"$f":"_xlfn.IFNA(VLOOKUP(Table1[[#This Row],[Building]],$K$17:$L$50,2,FALSE),\"\")","v":""},4.5672520050397513E-4,"Campus Contracts CSM (PHF)",728.93113637834176,728.93113637834176]
["099","PHF",{"$f":"_xlfn.IFNA(VLOOKUP(Table1[[#This Row],[Building]],$K$17:$L$50,2,FALSE),\"\")","v":""},5.0189582472964306E-6,"Campus Contracts CSM (PHF)",8.0102322678938673,8.0102322678938673]
["100","PHF",{"$f":"_xlfn.IFNA(VLOOKUP(Table1[[#This Row],[Building]],$K$17:$L$50,2,FALSE),\"\")","v":""},1.7516164283064542E-3,"Campus Contracts CSM (PHF)",2795.5710614949594,2795.5710614949594]
["101","PHF",{"$f":"_xlfn.IFNA(VLOOKUP(Table1[[#This Row],[Building]],$K$17:$L$50,2,FALSE),\"\")","v":""},3.0113749483778579E-5,"Campus Contracts CSM (PHF)",48.061393607363193,48.061393607363193]
["102","PHF",{"$f":"_xlfn.IFNA(VLOOKUP(Table1[[#This Row],[Building]],$K$17:$L$50,2,FALSE),\"\")","v":""},4.0151665978371441E-4,"Campus Contracts CSM (PHF)",640.8185814315093,640.8185814315093]
["103","PHF",{"$f":"_xlfn.IFNA(VLOOKUP(Table1[[#This Row],[Building]],$K$17:$L$50,2,FALSE),\"\")","v":""},9.6614946260456275E-4,"Campus Contracts CSM (PHF)",1541.9697115695692,1541.9697115695692]
["104","PHF",{"$f":"_xlfn.IFNA(VLOOKUP(Table1[[#This Row],[Building]],$K$17:$L$50,2,FALSE),\"\")","v":""},1.5056874741889289E-5,"Campus Contracts CSM (PHF)",24.030696803681597,24.030696803681597]
["105","PHF",{"$f":"_xlfn.IFNA(VLOOKUP(Table1[[#This Row],[Building]],$K$17:$L$50,2,FALSE),\"\")","v":""},1.2070594584747915E-3,"Campus Contracts CSM (PHF)",{"$f":"VLOOKUP(E168,K:M,2,FALSE)*D168","v":1926.4608604284747},{"$f":"VLOOKUP(E168,K:M,3,FALSE)*D168","v":1926.4608604284747}]
["107","PHF",{"$f":"_xlfn.IFNA(VLOOKUP(Table1[[#This Row],[Building]],$K$17:$L$50,2,FALSE),\"\")","v":""},3.57098879295141E-3,"Campus Contracts CSM (PHF)",5699.2802586064854,5699.2802586064854]
["110","PHF",{"$f":"_xlfn.IFNA(VLOOKUP(Table1[[#This Row],[Building]],$K$17:$L$50,2,FALSE),\"\")","v":""},2.1832468375739472E-4,"Campus Contracts CSM (PHF)",348.44510365338317,348.44510365338317]
["116","PHF",{"$f":"_xlfn.IFNA(VLOOKUP(Table1[[#This Row],[Building]],$K$17:$L$50,2,FALSE),\"\")","v":""},1.9072041339726433E-4,"Campus Contracts CSM (PHF)",304.38882617996688,304.38882617996688]
["117","PHF",{"$f":"_xlfn.IFNA(VLOOKUP(Table1[[#This Row],[Building]],$K$17:$L$50,2,FALSE),\"\")","v":""},1.154360396878179E-4,"Campus Contracts CSM (PHF)",184.23534216155895,184.23534216155895]
["118","PHF",{"$f":"_xlfn.IFNA(VLOOKUP(Table1[[#This Row],[Building]],$K$17:$L$50,2,FALSE),\"\")","v":""},5.0189582472964306E-6,"Campus Contracts CSM (PHF)",8.0102322678938673,8.0102322678938673]
["119","PHF",{"$f":"_xlfn.IFNA(VLOOKUP(Table1[[#This Row],[Building]],$K$17:$L$50,2,FALSE),\"\")","v":""},7.5284373709446446E-6,"Campus Contracts CSM (PHF)",12.015348401840798,12.015348401840798]
["120","PHF",{"$f":"_xlfn.IFNA(VLOOKUP(Table1[[#This Row],[Building]],$K$17:$L$50,2,FALSE),\"\")","v":""},4.7680103349316082E-5,"Campus Contracts CSM (PHF)",76.097206544991721,76.097206544991721]
["124","PHF",{"$f":"_xlfn.IFNA(VLOOKUP(Table1[[#This Row],[Building]],$K$17:$L$50,2,FALSE),\"\")","v":""},6.6752144689042529E-4,"Campus Contracts CSM (PHF)",1065.3608916298842,1065.3608916298842]
["126","PHF",{"$f":"_xlfn.IFNA(VLOOKUP(Table1[[#This Row],[Building]],$K$17:$L$50,2,FALSE),\"\")","v":""},2.2083416288104293E-4,"Campus Contracts CSM (PHF)",352.45021978733013,352.45021978733013]
["140","PHF",{"$f":"_xlfn.IFNA(VLOOKUP(Table1[[#This Row],[Building]],$K$17:$L$50,2,FALSE),\"\")","v":""},1.5659149731564862E-3,"Campus Contracts CSM (PHF)",2499.1924675828864,2499.1924675828864]
["142","PHF",{"$f":"_xlfn.IFNA(VLOOKUP(Table1[[#This Row],[Building]],$K$17:$L$50,2,FALSE),\"\")","v":""},4.0151665978371445E-5,"Campus Contracts CSM (PHF)",64.081858143150939,64.081858143150939]
["147","PHF",{"$f":"_xlfn.IFNA(VLOOKUP(Table1[[#This Row],[Building]],$K$17:$L$50,2,FALSE),\"\")","v":""},8.030333195674289E-5,"Campus Contracts CSM (PHF)",128.16371628630188,128.16371628630188]
["160","PHF",{"$f":"_xlfn.IFNA(VLOOKUP(Table1[[#This Row],[Building]],$K$17:$L$50,2,FALSE),\"\")","v":""},5.4204749070801451E-4,"Campus Contracts CSM (PHF)",865.10508493253758,865.10508493253758]
["163","PHF",{"$f":"_xlfn.IFNA(VLOOKUP(Table1[[#This Row],[Building]],$K$17:$L$50,2,FALSE),\"\")","v":""},6.7755936338501804E-4,"Campus Contracts CSM (PHF)",1081.3813561656718,1081.3813561656718]
["165","PHF",{"$f":"_xlfn.IFNA(VLOOKUP(Table1[[#This Row],[Building]],$K$17:$L$50,2,FALSE),\"\")","v":""},2.0075832989185722E-5,"Campus Contracts CSM (PHF)",32.040929071575469,32.040929071575469]
["166","PHF",{"$f":"_xlfn.IFNA(VLOOKUP(Table1[[#This Row],[Building]],$K$17:$L$50,2,FALSE),\"\")","v":""},2.0075832989185722E-5,"Campus Contracts CSM (PHF)",32.040929071575469,32.040929071575469]
["179","PHF",{"$f":"_xlfn.IFNA(VLOOKUP(Table1[[#This Row],[Building]],$K$17:$L$50,2,FALSE),\"\")","v":""},1.8294102811395488E-3,"Campus Contracts CSM (PHF)",2919.7296616473141,2919.7296616473141]
["185","PHF",{"$f":"_xlfn.IFNA(VLOOKUP(Table1[[#This Row],[Building]],$K$17:$L$50,2,FALSE),\"\")","v":""},5.0189582472964306E-6,"Campus Contracts CSM (PHF)",8.0102322678938673,8.0102322678938673]
["190","PHF",{"$f":"_xlfn.IFNA(VLOOKUP(Table1[[#This Row],[Building]],$K$17:$L$50,2,FALSE),\"\")","v":""},2.3589103762293223E-4,"Campus Contracts CSM (PHF)",376.48091659101175,376.48091659101175]
["195","PHF",{"$f":"_xlfn.IFNA(VLOOKUP(Table1[[#This Row],[Building]],$K$17:$L$50,2,FALSE),\"\")","v":""},5.7216124019179306E-4,"Campus Contracts CSM (PHF)",913.16647853990082,913.16647853990082]
["215","PHF",{"$f":"_xlfn.IFNA(VLOOKUP(Table1[[#This Row],[Building]],$K$17:$L$50,2,FALSE),\"\")","v":""},3.1870384870332332E-4,"Campus Contracts CSM (PHF)",508.6497490112605,508.6497490112605]
["220","PHF",{"$f":"_xlfn.IFNA(VLOOKUP(Table1[[#This Row],[Building]],$K$17:$L$50,2,FALSE),\"\")","v":""},1.0037916494592861E-5,"Campus Contracts CSM (PHF)",16.020464535787735,16.020464535787735]
["225","PHF",{"$f":"_xlfn.IFNA(VLOOKUP(Table1[[#This Row],[Building]],$K$17:$L$50,2,FALSE),\"\")","v":""},1.37770403888287E-3,"Campus Contracts CSM (PHF)",2198.8087575368663,2198.8087575368663]
["227","PHF",{"$f":"_xlfn.IFNA(VLOOKUP(Table1[[#This Row],[Building]],$K$17:$L$50,2,FALSE),\"\")","v":""},1.0037916494592861E-5,"Campus Contracts CSM (PHF)",16.020464535787735,16.020464535787735]
["228","PHF",{"$f":"_xlfn.IFNA(VLOOKUP(Table1[[#This Row],[Building]],$K$17:$L$50,2,FALSE),\"\")","v":""},5.7718019843908951E-5,"Campus Contracts CSM (PHF)",92.117671080779473,92.117671080779473]
["235","PHF",{"$f":"_xlfn.IFNA(VLOOKUP(Table1[[#This Row],[Building]],$K$17:$L$50,2,FALSE),\"\")","v":""},5.2573587640430105E-3,"Campus Contracts CSM (PHF)",8390.7183006188243,8390.7183006188243]
["240","PHF",{"$f":"_xlfn.IFNA(VLOOKUP(Table1[[#This Row],[Building]],$K$17:$L$50,2,FALSE),\"\")","v":""},2.1280382968536862E-3,"Campus Contracts CSM (PHF)",3396.338481586999,3396.338481586999]
["275","PHF",{"$f":"_xlfn.IFNA(VLOOKUP(Table1[[#This Row],[Building]],$K$17:$L$50,2,FALSE),\"\")","v":""},5.269906159661252E-5,"Campus Contracts CSM (PHF)",84.107438812885604,84.107438812885604]
["300","PHF",{"$f":"_xlfn.IFNA(VLOOKUP(Table1[[#This Row],[Building]],$K$17:$L$50,2,FALSE),\"\")","v":""},6.9161244647744811E-3,"Campus Contracts CSM (PHF)",11038.100065157749,11038.100065157749]
["303","PHF",{"$f":"_xlfn.IFNA(VLOOKUP(Table1[[#This Row],[Building]],$K$17:$L$50,2,FALSE),\"\")","v":""},5.2623777222903069E-3,"Campus Contracts CSM (PHF)",8398.7285328867183,8398.7285328867183]
["305","PHF",{"$f":"_xlfn.IFNA(VLOOKUP(Table1[[#This Row],[Building]],$K$17:$L$50,2,FALSE),\"\")","v":""},2.4341947499387687E-4,"Campus Contracts CSM (PHF)",388.4962649928525,388.4962649928525]
["307","PHF",{"$f":"_xlfn.IFNA(VLOOKUP(Table1[[#This Row],[Building]],$K$17:$L$50,2,FALSE),\"\")","v":""},2.3187587102509507E-3,"Campus Contracts CSM (PHF)",{"$f":"VLOOKUP(E200,K:M,2,FALSE)*D200","v":3700.7273077669661},{"$f":"VLOOKUP(E200,K:M,3,FALSE)*D200","v":3700.7273077669661}]
["310","PHF",{"$f":"_xlfn.IFNA(VLOOKUP(Table1[[#This Row],[Building]],$K$17:$L$50,2,FALSE),\"\")","v":""},2.9084863043082813E-3,"Campus Contracts CSM (PHF)",4641.9295992444959,4641.9295992444959]
["315","PHF",{"$f":"_xlfn.IFNA(VLOOKUP(Table1[[#This Row],[Building]],$K$17:$L$50,2,FALSE),\"\")","v":""},4.5170624225667876E-5,"Campus Contracts CSM (PHF)",72.092090411044808,72.092090411044808]
["340","PHF",{"$f":"_xlfn.IFNA(VLOOKUP(Table1[[#This Row],[Building]],$K$17:$L$50,2,FALSE),\"\")","v":""},2.6349530798306259E-4,"Campus Contracts CSM (PHF)",420.53719406442798,420.53719406442798]
["341","PHF",{"$f":"_xlfn.IFNA(VLOOKUP(Table1[[#This Row],[Building]],$K$17:$L$50,2,FALSE),\"\")","v":""},2.0075832989185722E-5,"Campus Contracts CSM (PHF)",32.040929071575469,32.040929071575469]
["350","PHF",{"$f":"_xlfn.IFNA(VLOOKUP(Table1[[#This Row],[Building]],$K$17:$L$50,2,FALSE),\"\")","v":""},1.1393035221362896E-3,"Campus Contracts CSM (PHF)",1818.3227248119076,1818.3227248119076]
["351","PHF",{"$f":"_xlfn.IFNA(VLOOKUP(Table1[[#This Row],[Building]],$K$17:$L$50,2,FALSE),\"\")","v":""},5.0189582472964306E-6,"Campus Contracts CSM (PHF)",8.0102322678938673,8.0102322678938673]
["354","PHF",{"$f":"_xlfn.IFNA(VLOOKUP(Table1[[#This Row],[Building]],$K$17:$L$50,2,FALSE),\"\")","v":""},6.0227498967557157E-5,"Campus Contracts CSM (PHF)",96.122787214726387,96.122787214726387]
["355","PHF",{"$f":"_xlfn.IFNA(VLOOKUP(Table1[[#This Row],[Building]],$K$17:$L$50,2,FALSE),\"\")","v":""},5.269906159661252E-5,"Campus Contracts CSM (PHF)",84.107438812885604,84.107438812885604]
["360","PHF",{"$f":"_xlfn.IFNA(VLOOKUP(Table1[[#This Row],[Building]],$K$17:$L$50,2,FALSE),\"\")","v":""},2.5345739148846969E-4,"Campus Contracts CSM (PHF)",404.51672952864016,404.51672952864016]
["365","PHF",{"$f":"_xlfn.IFNA(VLOOKUP(Table1[[#This Row],[Building]],$K$17:$L$50,2,FALSE),\"\")","v":""},1.2296447705876254E-4,"Campus Contracts CSM (PHF)",196.25069056339973,196.25069056339973]
["376","PHF",{"$f":"_xlfn.IFNA(VLOOKUP(Table1[[#This Row],[Building]],$K$17:$L$50,2,FALSE),\"\")","v":""},1.3701756015119253E-3,"Campus Contracts CSM (PHF)",2186.7934091350253,2186.7934091350253]
["387","PHF",{"$f":"_xlfn.IFNA(VLOOKUP(Table1[[#This Row],[Building]],$K$17:$L$50,2,FALSE),\"\")","v":""},6.5246457214853588E-5,"Campus Contracts CSM (PHF)",104.13301948262026,104.13301948262026]
["405","PHF",{"$f":"_xlfn.IFNA(VLOOKUP(Table1[[#This Row],[Building]],$K$17:$L$50,2,FALSE),\"\")","v":""},4.0051286813425511E-3,"Campus Contracts CSM (PHF)",6392.165349779305,6392.165349779305]
["406","PHF",{"$f":"_xlfn.IFNA(VLOOKUP(Table1[[#This Row],[Building]],$K$17:$L$50,2,FALSE),\"\")","v":""},3.7642186854723226E-5,"Campus Contracts CSM (PHF)",60.076742009203997,60.076742009203997]
["407","PHF",{"$f":"_xlfn.IFNA(VLOOKUP(Table1[[#This Row],[Building]],$K$17:$L$50,2,FALSE),\"\")","v":""},2.509479123648215E-5,"Campus Contracts CSM (PHF)",40.051161339469331,40.051161339469331]
["410","PHF",{"$f":"_xlfn.IFNA(VLOOKUP(Table1[[#This Row],[Building]],$K$17:$L$50,2,FALSE),\"\")","v":""},1.5056874741889289E-5,"Campus Contracts CSM (PHF)",24.030696803681597,24.030696803681597]
["411","PHF",{"$f":"_xlfn.IFNA(VLOOKUP(Table1[[#This Row],[Building]],$K$17:$L$50,2,FALSE),\"\")","v":""},5.0189582472964306E-6,"Campus Contracts CSM (PHF)",8.0102322678938673,8.0102322678938673]
["461","PHF",{"$f":"_xlfn.IFNA(VLOOKUP(Table1[[#This Row],[Building]],$K$17:$L$50,2,FALSE),\"\")","v":""},2.5496307896265866E-3,"Campus Contracts CSM (PHF)",4069.197992090084,4069.197992090084]
["462","PHF",{"$f":"_xlfn.IFNA(VLOOKUP(Table1[[#This Row],[Building]],$K$17:$L$50,2,FALSE),\"\")","v":""},5.269906159661252E-5,"Campus Contracts CSM (PHF)",84.107438812885604,84.107438812885604]
["465","PHF",{"$f":"_xlfn.IFNA(VLOOKUP(Table1[[#This Row],[Building]],$K$17:$L$50,2,FALSE),\"\")","v":""},5.1695269947153234E-4,"Campus Contracts CSM (PHF)",825.05392359306825,825.05392359306825]
["467","PHF",{"$f":"_xlfn.IFNA(VLOOKUP(Table1[[#This Row],[Building]],$K$17:$L$50,2,FALSE),\"\")","v":""},1.7064458040807863E-4,"Campus Contracts CSM (PHF)",272.34789710839146,272.34789710839146]
["468","PHF",{"$f":"_xlfn.IFNA(VLOOKUP(Table1[[#This Row],[Building]],$K$17:$L$50,2,FALSE),\"\")","v":""},2.509479123648215E-5,"Campus Contracts CSM (PHF)",40.051161339469331,40.051161339469331]
["471","PHF",{"$f":"_xlfn.IFNA(VLOOKUP(Table1[[#This Row],[Building]],$K$17:$L$50,2,FALSE),\"\")","v":""},4.0151665978371445E-5,"Campus Contracts CSM (PHF)",64.081858143150939,64.081858143150939]
["477","PHF",{"$f":"_xlfn.IFNA(VLOOKUP(Table1[[#This Row],[Building]],$K$17:$L$50,2,FALSE),\"\")","v":""},2.0602823605151846E-3,"Campus Contracts CSM (PHF)",3288.200345970432,3288.200345970432]
["478","PHF",{"$f":"_xlfn.IFNA(VLOOKUP(Table1[[#This Row],[Building]],$K$17:$L$50,2,FALSE),\"\")","v":""},6.5246457214853588E-5,"Campus Contracts CSM (PHF)",104.13301948262026,104.13301948262026]
["490","PHF",{"$f":"_xlfn.IFNA(VLOOKUP(Table1[[#This Row],[Building]],$K$17:$L$50,2,FALSE),\"\")","v":""},1.8570145514996792E-3,"Campus Contracts CSM (PHF)",2963.7859391207303,2963.7859391207303]
["495","PHF",{"$f":"_xlfn.IFNA(VLOOKUP(Table1[[#This Row],[Building]],$K$17:$L$50,2,FALSE),\"\")","v":""},6.0980342704651622E-4,"Campus Contracts CSM (PHF)",973.24322054910465,973.24322054910465]
["540","PHF",{"$f":"_xlfn.IFNA(VLOOKUP(Table1[[#This Row],[Building]],$K$17:$L$50,2,FALSE),\"\")","v":""},3.4831570236237225E-3,"Campus Contracts CSM (PHF)",5559.1011939183427,5559.1011939183427]
["037","F6133",{"$f":"_xlfn.IFNA(VLOOKUP(Table1[[#This Row],[Building]],$K$17:$L$50,2,FALSE),\"\")","v":"1007 Washington"},6.8722061187134016E-3,"Capital Project Surcharge",28952.597505933441,28959.497200876631]
["350","F613G",{"$f":"_xlfn.IFNA(VLOOKUP(Table1[[#This Row],[Building]],$K$17:$L$50,2,FALSE),\"\")","v":"1068 WA Street SE (ST Farm)"},7.3918962934721303E-4,"Capital Project Surcharge",3114.2051692501791,3114.9473156380436]
["085","F6127",{"$f":"_xlfn.IFNA(VLOOKUP(Table1[[#This Row],[Building]],$K$17:$L$50,2,FALSE),\"\")","v":"Archives"},2.2808731071111407E-2,"Capital Project Surcharge",96093.161193861291,96116.06115985669]
["050","F613D",{"$f":"_xlfn.IFNA(VLOOKUP(Table1[[#This Row],[Building]],$K$17:$L$50,2,FALSE),\"\")","v":"Capital Court"},2.9171033232543628E-3,"Capital Project Surcharge",{"$f":"VLOOKUP(E232,K:M,2,FALSE)*D232","v":12289.753383767307},{"$f":"VLOOKUP(E232,K:M,3,FALSE)*D232","v":12292.682155503855}]
["086","F613D",{"$f":"_xlfn.IFNA(VLOOKUP(Table1[[#This Row],[Building]],$K$17:$L$50,2,FALSE),\"\")","v":"Capital Court"},7.3956320002120267E-4,"Capital Project Surcharge",3115.7790221261266,3116.5215435789482]
["087","F613D",{"$f":"_xlfn.IFNA(VLOOKUP(Table1[[#This Row],[Building]],$K$17:$L$50,2,FALSE),\"\")","v":"Capital Court"},4.8646573294077589E-4,"Capital Project Surcharge",2049.4796464137557,2049.9680580096283]
["099","F613D",{"$f":"_xlfn.IFNA(VLOOKUP(Table1[[#This Row],[Building]],$K$17:$L$50,2,FALSE),\"\")","v":"Capital Court"},3.7541851464490929E-4,"Capital Project Surcharge",1581.6378267804882,1582.0147469691917]
["101","F613D",{"$f":"_xlfn.IFNA(VLOOKUP(Table1[[#This Row],[Building]],$K$17:$L$50,2,FALSE),\"\")","v":"Capital Court"},2.9063931854491775E-3,"Capital Project Surcharge",12244.6315839042,12247.54960266239]
["105","F613D",{"$f":"_xlfn.IFNA(VLOOKUP(Table1[[#This Row],[Building]],$K$17:$L$50,2,FALSE),\"\")","v":"Capital Court"},3.9402033293812555E-4,"Capital Project Surcharge",1660.00726864799,1660.4028650622599]
["118","F613D",{"$f":"_xlfn.IFNA(VLOOKUP(Table1[[#This Row],[Building]],$K$17:$L$50,2,FALSE),\"\")","v":"Capital Court"},4.8646573294077589E-4,"Capital Project Surcharge",2049.4796464137557,2049.9680580096283]
["119","F613D",{"$f":"_xlfn.IFNA(VLOOKUP(Table1[[#This Row],[Building]],$K$17:$L$50,2,FALSE),\"\")","v":"Capital Court"},4.8646573294077589E-4,"Capital Project Surcharge",2049.4796464137557,2049.9680580096283]
["142","F613D",{"$f":"_xlfn.IFNA(VLOOKUP(Table1[[#This Row],[Building]],$K$17:$L$50,2,FALSE),\"\")","v":"Capital Court"},2.6324391342218115E-3,"Capital Project Surcharge",11090.463440037358,11093.106408928117]
["147","F613D",{"$f":"_xlfn.IFNA(VLOOKUP(Table1[[#This Row],[Building]],$K$17:$L$50,2,FALSE),\"\")","v":"Capital Court"},2.716429162273E-3,"Capital Project Surcharge",11444.313344226986,11447.04063910591]
["179","F613D",{"$f":"_xlfn.IFNA(VLOOKUP(Table1[[#This Row],[Building]],$K$17:$L$50,2,FALSE),\"\")","v":"Capital Court"},3.0315326903308142E-3,"Capital Project Surcharge",12771.844192831029,12774.887851652122]
["355","F613D",{"$f":"_xlfn.IFNA(VLOOKUP(Table1[[#This Row],[Building]],$K$17:$L$50,2,FALSE),\"\")","v":"Capital Court"},5.2626235025899004E-3,"Capital Project Surcharge",22171.427553787747,22176.711227784348]
["478","F613D",{"$f":"_xlfn.IFNA(VLOOKUP(Table1[[#This Row],[Building]],$K$17:$L$50,2,FALSE),\"\")","v":"Capital Court"},7.7902160246135833E-4,"Capital Project Surcharge",3282.0172321481,3282.7993698369714]
["012","F6121",{"$f":"_xlfn.IFNA(VLOOKUP(Table1[[#This Row],[Building]],$K$17:$L$50,2,FALSE),\"\")","v":"Cherberg"},4.3562639985395252E-2,"Capital Project Surcharge",183529.35869583022,183573.09558637554]
["540","F612A",{"$f":"_xlfn.IFNA(VLOOKUP(Table1[[#This Row],[Building]],$K$17:$L$50,2,FALSE),\"\")","v":"Emp Sec"},4.4485382898316779E-2,"Capital Project Surcharge",187416.87366522569,187461.53698965561]
["014","F613M",{"$f":"_xlfn.IFNA(VLOOKUP(Table1[[#This Row],[Building]],$K$17:$L$50,2,FALSE),\"\")","v":"Helen Sommers"},2.7863635937153278E-3,"Capital Project Surcharge",11738.947033959083,11741.744543007173]
["020","F613M",{"$f":"_xlfn.IFNA(VLOOKUP(Table1[[#This Row],[Building]],$K$17:$L$50,2,FALSE),\"\")","v":"Helen Sommers"},1.3303185246015682E-3,"Capital Project Surcharge",5604.6306138278824,5605.9662536265823]
["038","F613M",{"$f":"_xlfn.IFNA(VLOOKUP(Table1[[#This Row],[Building]],$K$17:$L$50,2,FALSE),\"\")","v":"Helen Sommers"},3.7526708510384563E-3,"Capital Project Surcharge",15809.998542754165,15813.766224288609]
["075","F613M",{"$f":"_xlfn.IFNA(VLOOKUP(Table1[[#This Row],[Building]],$K$17:$L$50,2,FALSE),\"\")","v":"Helen Sommers"},4.367821674811324E-3,"Capital Project Surcharge",18401.628348158432,18406.013641119946]
["090","F613M",{"$f":"_xlfn.IFNA(VLOOKUP(Table1[[#This Row],[Building]],$K$17:$L$50,2,FALSE),\"\")","v":"Helen Sommers"},4.0492726243764442E-3,"Capital Project Surcharge",17059.581517225335,17063.64698694021]
["179","F613M",{"$f":"_xlfn.IFNA(VLOOKUP(Table1[[#This Row],[Building]],$K$17:$L$50,2,FALSE),\"\")","v":"Helen Sommers"},9.4059758986677003E-5,"Capital Project Surcharge",396.27367055111125,396.36810654913387]
["225","F613M",{"$f":"_xlfn.IFNA(VLOOKUP(Table1[[#This Row],[Building]],$K$17:$L$50,2,FALSE),\"\")","v":"Helen Sommers"},4.6511610221321907E-2,"Capital Project Surcharge",195953.36735081897,196000.06500748117]
["100","F6125",{"$f":"_xlfn.IFNA(VLOOKUP(Table1[[#This Row],[Building]],$K$17:$L$50,2,FALSE),\"\")","v":"HLB"},3.4888885955914363E-2,"Capital Project Surcharge",146986.84164338125,147021.870084881]
["240","F6125",{"$f":"_xlfn.IFNA(VLOOKUP(Table1[[#This Row],[Building]],$K$17:$L$50,2,FALSE),\"\")","v":"HLB"},5.0029064965844743E-2,"Capital Project Surcharge",210772.40067203893,210822.62985326463]
["095","F612E",{"$f":"_xlfn.IFNA(VLOOKUP(Table1[[#This Row],[Building]],$K$17:$L$50,2,FALSE),\"\")","v":"Insurance"},3.6143896635182555E-3,"Capital Project Surcharge",15227.420038012748,15231.048885234919]
["105","F612E",{"$f":"_xlfn.IFNA(VLOOKUP(Table1[[#This Row],[Building]],$K$17:$L$50,2,FALSE),\"\")","v":"Insurance"},2.3509879865308159E-2,"Capital Project Surcharge",{"$f":"(VLOOKUP(E257,K:M,2,FALSE)*D257)*(39050/41707)","v":92737.172876543656},{"$f":"(VLOOKUP(E257,K:M,3,FALSE)*D257)*(39050/41707)","v":92759.27307679721}]
["075","F612E",{"$f":"_xlfn.IFNA(VLOOKUP(Table1[[#This Row],[Building]],$K$17:$L$50,2,FALSE),\"\")","v":"Insurance"},2.3509879865308159E-2,"Capital Project Surcharge",6309.9274861197537,6311.4312052509622]
["160","F612E",{"$f":"_xlfn.IFNA(VLOOKUP(Table1[[#This Row],[Building]],$K$17:$L$50,2,FALSE),\"\")","v":"Insurance"},3.9396396379178245E-3,"Capital Project Surcharge",{"$f":"VLOOKUP(E259,K:M,2,FALSE)*D259","v":16597.697854908158},{"$f":"VLOOKUP(E259,K:M,3,FALSE)*D259","v":16601.653253104625}]
["085","F6132",{"$f":"_xlfn.IFNA(VLOOKUP(Table1[[#This Row],[Building]],$K$17:$L$50,2,FALSE),\"\")","v":"Isabella Bush"},2.2670403187256959E-2,"Capital Project Surcharge",95510.385957510385,95533.147042310389]
["085","F613E",{"$f":"_xlfn.IFNA(VLOOKUP(Table1[[#This Row],[Building]],$K$17:$L$50,2,FALSE),\"\")","v":"James Dolliver Building"},8.1651875886306832E-3,"Capital Project Surcharge",34399.927145713482,34408.124994052465]
["011","F6123",{"$f":"_xlfn.IFNA(VLOOKUP(Table1[[#This Row],[Building]],$K$17:$L$50,2,FALSE),\"\")","v":"Legislative"},2.5537478059268724E-2,"Capital Project Surcharge",107589.36952622108,107615.00915419258]
["012","F6123",{"$f":"_xlfn.IFNA(VLOOKUP(Table1[[#This Row],[Building]],$K$17:$L$50,2,FALSE),\"\")","v":"Legislative"},2.1335158199392152E-2,"Capital Project Surcharge",89885.000158880939,89906.420657713126]
["037","F6123",{"$f":"_xlfn.IFNA(VLOOKUP(Table1[[#This Row],[Building]],$K$17:$L$50,2,FALSE),\"\")","v":"Legislative"},2.8066197964219273E-3,"Capital Project Surcharge",11824.286395705783,11827.104241981391]
["038","F6123",{"$f":"_xlfn.IFNA(VLOOKUP(Table1[[#This Row],[Building]],$K$17:$L$50,2,FALSE),\"\")","v":"Legislative"},6.4429934270139838E-4,"Capital Project Surcharge",2714.4324865016488,2715.0793630417211]
["075","F6123",{"$f":"_xlfn.IFNA(VLOOKUP(Table1[[#This Row],[Building]],$K$17:$L$50,2,FALSE),\"\")","v":"Legislative"},9.7276235844252247E-3,"Capital Project Surcharge",40982.468433559887,40992.234967638651]
["080","F6123",{"$f":"_xlfn.IFNA(VLOOKUP(Table1[[#This Row],[Building]],$K$17:$L$50,2,FALSE),\"\")","v":"Legislative"},5.0021980464848726E-3,"Capital Project Surcharge",21074.255367642723,21079.277574481392]
["085","F6123",{"$f":"_xlfn.IFNA(VLOOKUP(Table1[[#This Row],[Building]],$K$17:$L$50,2,FALSE),\"\")","v":"Legislative"},6.0033140855379648E-3,"Capital Project Surcharge",25291.956239057359,25297.983566399242]
["090","F6123",{"$f":"_xlfn.IFNA(VLOOKUP(Table1[[#This Row],[Building]],$K$17:$L$50,2,FALSE),\"\")","v":"Legislative"},6.0399540306609652E-3,"Capital Project Surcharge",25446.320291220614,25452.384405067398]
["179","F6123",{"$f":"_xlfn.IFNA(VLOOKUP(Table1[[#This Row],[Building]],$K$17:$L$50,2,FALSE),\"\")","v":"Legislative"},8.9514204392810207E-4,"Capital Project Surcharge",3771.2325359270503,3772.1312585391538]
["225","F6123",{"$f":"_xlfn.IFNA(VLOOKUP(Table1[[#This Row],[Building]],$K$17:$L$50,2,FALSE),\"\")","v":"Legislative"},2.9311956098401325E-4,"Capital Project Surcharge",1234.9124173060868,1235.2067093453147]
["085","F6131",{"$f":"_xlfn.IFNA(VLOOKUP(Table1[[#This Row],[Building]],$K$17:$L$50,2,FALSE),\"\")","v":"Modular Bldg"},3.0653074818024133E-3,"Capital Project Surcharge",12914.137355526085,12917.214924237815]
["179","F6131",{"$f":"_xlfn.IFNA(VLOOKUP(Table1[[#This Row],[Building]],$K$17:$L$50,2,FALSE),\"\")","v":"Modular Bldg"},4.2749079772852083E-2,"Capital Project Surcharge",180101.83033394604,180144.75041003799]
["012","F612K",{"$f":"_xlfn.IFNA(VLOOKUP(Table1[[#This Row],[Building]],$K$17:$L$50,2,FALSE),\"\")","v":"Newhouse"},6.907748699981558E-3,"Capital Project Surcharge",29102.338365273605,29109.273744968385]
["467","F6129",{"$f":"_xlfn.IFNA(VLOOKUP(Table1[[#This Row],[Building]],$K$17:$L$50,2,FALSE),\"\")","v":"NRB"},5.6767265947074153E-3,"Capital Project Surcharge",23916.043466775747,23921.742900276833]
["477","F6129",{"$f":"_xlfn.IFNA(VLOOKUP(Table1[[#This Row],[Building]],$K$17:$L$50,2,FALSE),\"\")","v":"NRB"},6.7308042818844088E-2,"Capital Project Surcharge",283568.7170877473,283636.29436273745]
["490","F6129",{"$f":"_xlfn.IFNA(VLOOKUP(Table1[[#This Row],[Building]],$K$17:$L$50,2,FALSE),\"\")","v":"NRB"},7.3506861114071592E-2,"Capital Project Surcharge",309684.33236672252,309758.13325528102]
["495","F6129",{"$f":"_xlfn.IFNA(VLOOKUP(Table1[[#This Row],[Building]],$K$17:$L$50,2,FALSE),\"\")","v":"NRB"},2.3123811251002099E-2,"Capital Project Surcharge",97420.593676660588,97443.809983156592]
["163","F6126",{"$f":"_xlfn.IFNA(VLOOKUP(Table1[[#This Row],[Building]],$K$17:$L$50,2,FALSE),\"\")","v":"OB2"},1.4601276629080752E-4,"Capital Project Surcharge",615.15163837040586,615.29823518776175]
["179","F6126",{"$f":"_xlfn.IFNA(VLOOKUP(Table1[[#This Row],[Building]],$K$17:$L$50,2,FALSE),\"\")","v":"OB2"},9.0110049617823686E-3,"Capital Project Surcharge",37963.354892984156,37972.401941965785]
["300","F6126",{"$f":"_xlfn.IFNA(VLOOKUP(Table1[[#This Row],[Building]],$K$17:$L$50,2,FALSE),\"\")","v":"OB2"},9.0050491778941893E-2,"Capital Project Surcharge",379382.63181419042,379473.04250793648]
["307","F6126",{"$f":"_xlfn.IFNA(VLOOKUP(Table1[[#This Row],[Building]],$K$17:$L$50,2,FALSE),\"\")","v":"OB2"},2.3744845812890301E-2,"Capital Project Surcharge",100037.01166486103,100060.85149005716]
["011","F6122",{"$f":"_xlfn.IFNA(VLOOKUP(Table1[[#This Row],[Building]],$K$17:$L$50,2,FALSE),\"\")","v":"O'Brien"},4.4302766876879882E-2,"Capital Project Surcharge",186647.51254952807,186691.99252747244]
["350","F612H",{"$f":"_xlfn.IFNA(VLOOKUP(Table1[[#This Row],[Building]],$K$17:$L$50,2,FALSE),\"\")","v":"Old Cap"},5.5129025123531732E-2,"Capital Project Surcharge",232258.52771641407,232313.87725763809]
["037","F6124",{"$f":"_xlfn.IFNA(VLOOKUP(Table1[[#This Row],[Building]],$K$17:$L$50,2,FALSE),\"\")","v":"Pritchard"},1.2456647415135589E-3,"Capital Project Surcharge",5247.9843103318826,5249.2349577323621]
["038","F6124",{"$f":"_xlfn.IFNA(VLOOKUP(Table1[[#This Row],[Building]],$K$17:$L$50,2,FALSE),\"\")","v":"Pritchard"},2.4076162975289754E-3,"Capital Project Surcharge",10143.285053873276,10145.702300635996]
["040","F6124",{"$f":"_xlfn.IFNA(VLOOKUP(Table1[[#This Row],[Building]],$K$17:$L$50,2,FALSE),\"\")","v":"Pritchard"},3.8370111015965103E-3,"Capital Project Surcharge",16165.323934014996,16169.176293160999]
["045","F612J",{"$f":"_xlfn.IFNA(VLOOKUP(Table1[[#This Row],[Building]],$K$17:$L$50,2,FALSE),\"\")","v":"TOJ"},1.9131688268841176E-2,"Capital Project Surcharge",80601.783544939608,80620.991759961515]
["046","F612J",{"$f":"_xlfn.IFNA(VLOOKUP(Table1[[#This Row],[Building]],$K$17:$L$50,2,FALSE),\"\")","v":"TOJ"},8.6909949831759925E-3,"Capital Project Surcharge",36615.153173125473,36623.878932088584]
["055","F612J",{"$f":"_xlfn.IFNA(VLOOKUP(Table1[[#This Row],[Building]],$K$17:$L$50,2,FALSE),\"\")","v":"TOJ"},2.3962524110443086E-3,"Capital Project Surcharge",10095.409011477261,10097.81484889795]
["405","F612C",{"$f":"_xlfn.IFNA(VLOOKUP(Table1[[#This Row],[Building]],$K$17:$L$50,2,FALSE),\"\")","v":"Transportation"},8.7892480729782035E-2,"Capital Project Surcharge",{"$f":"VLOOKUP(E291,K:M,2,FALSE)*D291","v":370290.93342209101},{"$f":"VLOOKUP(E291,K:M,3,FALSE)*D291","v":370379.17747274367}]
["315","F6143",{"$f":"_xlfn.IFNA(VLOOKUP(Table1[[#This Row],[Building]],$K$17:$L$50,2,FALSE),\"\")","v":"Alaska Street"},3.2568220637477184E-2,"Fin Cost Recovery CSM",227875.00016284114,227875.00016284114]
["085","F6127",{"$f":"_xlfn.IFNA(VLOOKUP(Table1[[#This Row],[Building]],$K$17:$L$50,2,FALSE),\"\")","v":"Archives"},5.8024804913739351E-3,"Fin Cost Recovery CSM",40599.093749542408,40599.093749542408]
["014","F613M",{"$f":"_xlfn.IFNA(VLOOKUP(Table1[[#This Row],[Building]],$K$17:$L$50,2,FALSE),\"\")","v":"Helen Sommers"},3.2393572467374968E-2,"Fin Cost Recovery CSM",226653.01286935402,226653.01286935402]
["020","F613M",{"$f":"_xlfn.IFNA(VLOOKUP(Table1[[#This Row],[Building]],$K$17:$L$50,2,FALSE),\"\")","v":"Helen Sommers"},1.5465953412745807E-2,"Fin Cost Recovery CSM",108212.97778830529,108212.97778830529]
["038","F613M",{"$f":"_xlfn.IFNA(VLOOKUP(Table1[[#This Row],[Building]],$K$17:$L$50,2,FALSE),\"\")","v":"Helen Sommers"},4.3627621116463483E-2,"Fin Cost Recovery CSM",305255.98188739712,305255.98188739712]
["075","F613M",{"$f":"_xlfn.IFNA(VLOOKUP(Table1[[#This Row],[Building]],$K$17:$L$50,2,FALSE),\"\")","v":"Helen Sommers"},5.0779212112411466E-2,"Fin Cost Recovery CSM",355294.60135962314,355294.60135962314]
["090","F613M",{"$f":"_xlfn.IFNA(VLOOKUP(Table1[[#This Row],[Building]],$K$17:$L$50,2,FALSE),\"\")","v":"Helen Sommers"},4.7075839812776833E-2,"Fin Cost Recovery CSM",329382.65570020332,329382.65570020332]
["179","F613M",{"$f":"_xlfn.IFNA(VLOOKUP(Table1[[#This Row],[Building]],$K$17:$L$50,2,FALSE),\"\")","v":"Helen Sommers"},3.0699195229447238E-5,"Fin Cost Recovery CSM",214.79770712003125,214.79770712003125]
["225","F613M",{"$f":"_xlfn.IFNA(VLOOKUP(Table1[[#This Row],[Building]],$K$17:$L$50,2,FALSE),\"\")","v":"Helen Sommers"},0.54073245131289238,"Fin Cost Recovery CSM",3783424.608994043,3783424.608994043]
["100","F6125",{"$f":"_xlfn.IFNA(VLOOKUP(Table1[[#This Row],[Building]],$K$17:$L$50,2,FALSE),\"\")","v":"HLB"},3.8171573234956268E-3,"Fin Cost Recovery CSM",26708.08256292063,26708.08256292063]
["240","F6125",{"$f":"_xlfn.IFNA(VLOOKUP(Table1[[#This Row],[Building]],$K$17:$L$50,2,FALSE),\"\")","v":"HLB"},5.4736288216058592E-3,"Fin Cost Recovery CSM",38298.167483533311,38298.167483533311]
["085","F6132",{"$f":"_xlfn.IFNA(VLOOKUP(Table1[[#This Row],[Building]],$K$17:$L$50,2,FALSE),\"\")","v":"Isabella Bush"},5.7672902458063037E-3,"Fin Cost Recovery CSM",40352.872830576183,40352.872830576183]
["235","F6141",{"$f":"_xlfn.IFNA(VLOOKUP(Table1[[#This Row],[Building]],$K$17:$L$50,2,FALSE),\"\")","v":"Kelso Building"},2.0596040390305119E-3,"Fin Cost Recovery CSM",14410.743403936292,14410.743403936292]
["300","F6141",{"$f":"_xlfn.IFNA(VLOOKUP(Table1[[#This Row],[Building]],$K$17:$L$50,2,FALSE),\"\")","v":"Kelso Building"},8.0598446749523198E-3,"Fin Cost Recovery CSM",56393.535497722689,56393.535497722689]
["307","F6141",{"$f":"_xlfn.IFNA(VLOOKUP(Table1[[#This Row],[Building]],$K$17:$L$50,2,FALSE),\"\")","v":"Kelso Building"},5.473194328444125E-3,"Fin Cost Recovery CSM",38295.127399446341,38295.127399446341]
["085","F6131",{"$f":"_xlfn.IFNA(VLOOKUP(Table1[[#This Row],[Building]],$K$17:$L$50,2,FALSE),\"\")","v":"Modular Bldg"},7.7980606671050482E-4,"Fin Cost Recovery CSM",5456.187169591889,5456.187169591889]
["179","F6131",{"$f":"_xlfn.IFNA(VLOOKUP(Table1[[#This Row],[Building]],$K$17:$L$50,2,FALSE),\"\")","v":"Modular Bldg"},9.1078372406724062E-3,"Fin Cost Recovery CSM",63726.183748370866,63726.183748370866]
["467","F6129",{"$f":"_xlfn.IFNA(VLOOKUP(Table1[[#This Row],[Building]],$K$17:$L$50,2,FALSE),\"\")","v":"NRB"},3.2538572082985288E-3,"Fin Cost Recovery CSM",22766.755363283653,22766.755363283653]
["477","F6129",{"$f":"_xlfn.IFNA(VLOOKUP(Table1[[#This Row],[Building]],$K$17:$L$50,2,FALSE),\"\")","v":"NRB"},3.8580466515113175E-2,"Fin Cost Recovery CSM",269941.79114892276,269941.79114892276]
["490","F6129",{"$f":"_xlfn.IFNA(VLOOKUP(Table1[[#This Row],[Building]],$K$17:$L$50,2,FALSE),\"\")","v":"NRB"},4.2133582779628004E-2,"Fin Cost Recovery CSM",294802.41765865608,294802.41765865608]
["495","F6129",{"$f":"_xlfn.IFNA(VLOOKUP(Table1[[#This Row],[Building]],$K$17:$L$50,2,FALSE),\"\")","v":"NRB"},1.3254395586456077E-2,"Fin Cost Recovery CSM",92739.036315249032,92739.036315249032]
["163","F6126",{"$f":"_xlfn.IFNA(VLOOKUP(Table1[[#This Row],[Building]],$K$17:$L$50,2,FALSE),\"\")","v":"OB2"},9.8082925973225072E-5,"Fin Cost Recovery CSM",686.27165791185621,686.27165791185621]
["179","F6126",{"$f":"_xlfn.IFNA(VLOOKUP(Table1[[#This Row],[Building]],$K$17:$L$50,2,FALSE),\"\")","v":"OB2"},1.9198253389988652E-3,"Fin Cost Recovery CSM",13432.732610929685,13432.732610929685]
["300","F6126",{"$f":"_xlfn.IFNA(VLOOKUP(Table1[[#This Row],[Building]],$K$17:$L$50,2,FALSE),\"\")","v":"OB2"},5.2105377012106838E-2,"Fin Cost Recovery CSM",364573.58009468758,364573.58009468758]
["307","F6126",{"$f":"_xlfn.IFNA(VLOOKUP(Table1[[#This Row],[Building]],$K$17:$L$50,2,FALSE),\"\")","v":"OB2"},1.2728903797115878E-2,"Fin Cost Recovery CSM",89062.248353315546,89062.248353315546]
["300","F6142",{"$f":"_xlfn.IFNA(VLOOKUP(Table1[[#This Row],[Building]],$K$17:$L$50,2,FALSE),\"\")","v":"Yakima Building"},1.9319893185361207E-2,"Fin Cost Recovery CSM",135178.42168184504,135178.42168184504]
["307","F6142",{"$f":"_xlfn.IFNA(VLOOKUP(Table1[[#This Row],[Building]],$K$17:$L$50,2,FALSE),\"\")","v":"Yakima Building"},7.5912023514850702E-3,"Fin Cost Recovery CSM",53114.514800671612,53114.514800671612]
["011",null,{"$f":"_xlfn.IFNA(VLOOKUP(Table1[[#This Row],[Building]],$K$17:$L$50,2,FALSE),\"\")","v":""},null,"Parking Surcharge",115872.7368813965,116319.94044640449]
["012",null,{"$f":"_xlfn.IFNA(VLOOKUP(Table1[[#This Row],[Building]],$K$17:$L$50,2,FALSE),\"\")","v":""},null,"Parking Surcharge",128277.58588618145,128772.66518837863]
["013",null,{"$f":"_xlfn.IFNA(VLOOKUP(Table1[[#This Row],[Building]],$K$17:$L$50,2,FALSE),\"\")","v":""},null,"Parking Surcharge",0,0]
["014",null,{"$f":"_xlfn.IFNA(VLOOKUP(Table1[[#This Row],[Building]],$K$17:$L$50,2,FALSE),\"\")","v":""},null,"Parking Surcharge",8311.3610604285113,8343.4382374791985]
["020",null,{"$f":"_xlfn.IFNA(VLOOKUP(Table1[[#This Row],[Building]],$K$17:$L$50,2,FALSE),\"\")","v":""},null,"Parking Surcharge",3968.1675457857787,3983.4824397011676]
["035",null,{"$f":"_xlfn.IFNA(VLOOKUP(Table1[[#This Row],[Building]],$K$17:$L$50,2,FALSE),\"\")","v":""},null,"Parking Surcharge",0,0]
["036",null,{"$f":"_xlfn.IFNA(VLOOKUP(Table1[[#This Row],[Building]],$K$17:$L$50,2,FALSE),\"\")","v":""},null,"Parking Surcharge",0,0]
["037",null,{"$f":"_xlfn.IFNA(VLOOKUP(Table1[[#This Row],[Building]],$K$17:$L$50,2,FALSE),\"\")","v":""},null,"Parking Surcharge",21753.376647413788,21837.332441067323]
["038",null,{"$f":"_xlfn.IFNA(VLOOKUP(Table1[[#This Row],[Building]],$K$17:$L$50,2,FALSE),\"\")","v":""},null,"Parking Surcharge",19444.301542406716,19519.345605426952]
["040",null,{"$f":"_xlfn.IFNA(VLOOKUP(Table1[[#This Row],[Building]],$K$17:$L$50,2,FALSE),\"\")","v":""},null,"Parking Surcharge",11445.306251549899,11489.478693627798]
["045",null,{"$f":"_xlfn.IFNA(VLOOKUP(Table1[[#This Row],[Building]],$K$17:$L$50,2,FALSE),\"\")","v":""},null,"Parking Surcharge",31741.599458866123,31864.10417239153]
["046",null,{"$f":"_xlfn.IFNA(VLOOKUP(Table1[[#This Row],[Building]],$K$17:$L$50,2,FALSE),\"\")","v":""},null,"Parking Surcharge",14419.327650465471,14474.978141718706]
["048",null,{"$f":"_xlfn.IFNA(VLOOKUP(Table1[[#This Row],[Building]],$K$17:$L$50,2,FALSE),\"\")","v":""},null,"Parking Surcharge",0,0]
["050",null,{"$f":"_xlfn.IFNA(VLOOKUP(Table1[[#This Row],[Building]],$K$17:$L$50,2,FALSE),\"\")","v":""},null,"Parking Surcharge",4839.7989746503272,4858.4778754309391]
["055",null,{"$f":"_xlfn.IFNA(VLOOKUP(Table1[[#This Row],[Building]],$K$17:$L$50,2,FALSE),\"\")","v":""},null,"Parking Surcharge",3975.6493606258027,3990.9931301366014]
["056",null,{"$f":"_xlfn.IFNA(VLOOKUP(Table1[[#This Row],[Building]],$K$17:$L$50,2,FALSE),\"\")","v":""},null,"Parking Surcharge",0,0]
["057",null,{"$f":"_xlfn.IFNA(VLOOKUP(Table1[[#This Row],[Building]],$K$17:$L$50,2,FALSE),\"\")","v":""},null,"Parking Surcharge",0,0]
["075",null,{"$f":"_xlfn.IFNA(VLOOKUP(Table1[[#This Row],[Building]],$K$17:$L$50,2,FALSE),\"\")","v":""},null,"Parking Surcharge",31707.448153892674,31829.821062597166]
["080",null,{"$f":"_xlfn.IFNA(VLOOKUP(Table1[[#This Row],[Building]],$K$17:$L$50,2,FALSE),\"\")","v":""},null,"Parking Surcharge",8299.2031113134417,8331.2333655215862]
["082",null,{"$f":"_xlfn.IFNA(VLOOKUP(Table1[[#This Row],[Building]],$K$17:$L$50,2,FALSE),\"\")","v":""},null,"Parking Surcharge",0,0]
["083",null,{"$f":"_xlfn.IFNA(VLOOKUP(Table1[[#This Row],[Building]],$K$17:$L$50,2,FALSE),\"\")","v":""},null,"Parking Surcharge",0,0]
["085",null,{"$f":"_xlfn.IFNA(VLOOKUP(Table1[[#This Row],[Building]],$K$17:$L$50,2,FALSE),\"\")","v":""},null,"Parking Surcharge",70271.075431357778,70542.282242343994]
["086",null,{"$f":"_xlfn.IFNA(VLOOKUP(Table1[[#This Row],[Building]],$K$17:$L$50,2,FALSE),\"\")","v":""},null,"Parking Surcharge",1227.0176337664234,1231.7532314136047]
["087",null,{"$f":"_xlfn.IFNA(VLOOKUP(Table1[[#This Row],[Building]],$K$17:$L$50,2,FALSE),\"\")","v":""},null,"Parking Surcharge",807.10077586922478,810.21573072403999]
["090",null,{"$f":"_xlfn.IFNA(VLOOKUP(Table1[[#This Row],[Building]],$K$17:$L$50,2,FALSE),\"\")","v":""},null,"Parking Surcharge",22099.410583765592,22184.701873706821]
["091",null,{"$f":"_xlfn.IFNA(VLOOKUP(Table1[[#This Row],[Building]],$K$17:$L$50,2,FALSE),\"\")","v":""},null,"Parking Surcharge",0,0]
["095",null,{"$f":"_xlfn.IFNA(VLOOKUP(Table1[[#This Row],[Building]],$K$17:$L$50,2,FALSE),\"\")","v":""},null,"Parking Surcharge",5996.6745942913958,6019.8183840122238]
["099",null,{"$f":"_xlfn.IFNA(VLOOKUP(Table1[[#This Row],[Building]],$K$17:$L$50,2,FALSE),\"\")","v":""},null,"Parking Surcharge",622.86108543326009,625.26497875111272]
["100",null,{"$f":"_xlfn.IFNA(VLOOKUP(Table1[[#This Row],[Building]],$K$17:$L$50,2,FALSE),\"\")","v":""},null,"Parking Surcharge",67933.943520700588,68196.130317570714]
["101",null,{"$f":"_xlfn.IFNA(VLOOKUP(Table1[[#This Row],[Building]],$K$17:$L$50,2,FALSE),\"\")","v":""},null,"Parking Surcharge",4822.0296644052469,4840.6399856467615]
["102",null,{"$f":"_xlfn.IFNA(VLOOKUP(Table1[[#This Row],[Building]],$K$17:$L$50,2,FALSE),\"\")","v":""},null,"Parking Surcharge",0,0]
["103",null,{"$f":"_xlfn.IFNA(VLOOKUP(Table1[[#This Row],[Building]],$K$17:$L$50,2,FALSE),\"\")","v":""},null,"Parking Surcharge",0,0]
["104",null,{"$f":"_xlfn.IFNA(VLOOKUP(Table1[[#This Row],[Building]],$K$17:$L$50,2,FALSE),\"\")","v":""},null,"Parking Surcharge",0,0]
["105",null,{"$f":"_xlfn.IFNA(VLOOKUP(Table1[[#This Row],[Building]],$K$17:$L$50,2,FALSE),\"\")","v":""},null,"Parking Surcharge",37115.023071648422,37258.266176797333]
["107",null,{"$f":"_xlfn.IFNA(VLOOKUP(Table1[[#This Row],[Building]],$K$17:$L$50,2,FALSE),\"\")","v":""},null,"Parking Surcharge",0,0]
["110",null,{"$f":"_xlfn.IFNA(VLOOKUP(Table1[[#This Row],[Building]],$K$17:$L$50,2,FALSE),\"\")","v":""},null,"Parking Surcharge",0,0]
["116",null,{"$f":"_xlfn.IFNA(VLOOKUP(Table1[[#This Row],[Building]],$K$17:$L$50,2,FALSE),\"\")","v":""},null,"Parking Surcharge",0,0]
["117",null,{"$f":"_xlfn.IFNA(VLOOKUP(Table1[[#This Row],[Building]],$K$17:$L$50,2,FALSE),\"\")","v":""},null,"Parking Surcharge",0,0]
["118",null,{"$f":"_xlfn.IFNA(VLOOKUP(Table1[[#This Row],[Building]],$K$17:$L$50,2,FALSE),\"\")","v":""},null,"Parking Surcharge",924.93935959984071,928.50910508235779]
["119",null,{"$f":"_xlfn.IFNA(VLOOKUP(Table1[[#This Row],[Building]],$K$17:$L$50,2,FALSE),\"\")","v":""},null,"Parking Surcharge",807.10077586922478,810.21573072403999]
["120",null,{"$f":"_xlfn.IFNA(VLOOKUP(Table1[[#This Row],[Building]],$K$17:$L$50,2,FALSE),\"\")","v":""},null,"Parking Surcharge",0,0]
["124",null,{"$f":"_xlfn.IFNA(VLOOKUP(Table1[[#This Row],[Building]],$K$17:$L$50,2,FALSE),\"\")","v":""},null,"Parking Surcharge",0,0]
["126",null,{"$f":"_xlfn.IFNA(VLOOKUP(Table1[[#This Row],[Building]],$K$17:$L$50,2,FALSE),\"\")","v":""},null,"Parking Surcharge",0,0]
["140",null,{"$f":"_xlfn.IFNA(VLOOKUP(Table1[[#This Row],[Building]],$K$17:$L$50,2,FALSE),\"\")","v":""},null,"Parking Surcharge",0,0]
["142",null,{"$f":"_xlfn.IFNA(VLOOKUP(Table1[[#This Row],[Building]],$K$17:$L$50,2,FALSE),\"\")","v":""},null,"Parking Surcharge",4367.5094128728579,4384.3655416932361]
["147",null,{"$f":"_xlfn.IFNA(VLOOKUP(Table1[[#This Row],[Building]],$K$17:$L$50,2,FALSE),\"\")","v":""},null,"Parking Surcharge",4574.1945478289408,4591.8483649725104]
["160",null,{"$f":"_xlfn.IFNA(VLOOKUP(Table1[[#This Row],[Building]],$K$17:$L$50,2,FALSE),\"\")","v":""},null,"Parking Surcharge",6536.3004896292105,6561.5269316689592]
["163",null,{"$f":"_xlfn.IFNA(VLOOKUP(Table1[[#This Row],[Building]],$K$17:$L$50,2,FALSE),\"\")","v":""},null,"Parking Surcharge",284.3089639214877,285.40623654705411]
["165",null,{"$f":"_xlfn.IFNA(VLOOKUP(Table1[[#This Row],[Building]],$K$17:$L$50,2,FALSE),\"\")","v":""},null,"Parking Surcharge",0,0]
["166",null,{"$f":"_xlfn.IFNA(VLOOKUP(Table1[[#This Row],[Building]],$K$17:$L$50,2,FALSE),\"\")","v":""},null,"Parking Surcharge",0,0]
["167",null,{"$f":"_xlfn.IFNA(VLOOKUP(Table1[[#This Row],[Building]],$K$17:$L$50,2,FALSE),\"\")","v":""},null,"Parking Surcharge",0,0]
["179",null,{"$f":"_xlfn.IFNA(VLOOKUP(Table1[[#This Row],[Building]],$K$17:$L$50,2,FALSE),\"\")","v":""},null,"Parking Surcharge",24341.149355212405,24435.092495428249]
["185",null,{"$f":"_xlfn.IFNA(VLOOKUP(Table1[[#This Row],[Building]],$K$17:$L$50,2,FALSE),\"\")","v":""},null,"Parking Surcharge",0,0]
["190",null,{"$f":"_xlfn.IFNA(VLOOKUP(Table1[[#This Row],[Building]],$K$17:$L$50,2,FALSE),\"\")","v":""},null,"Parking Surcharge",0,0]
["195",null,{"$f":"_xlfn.IFNA(VLOOKUP(Table1[[#This Row],[Building]],$K$17:$L$50,2,FALSE),\"\")","v":""},null,"Parking Surcharge",0,0]
["205",null,{"$f":"_xlfn.IFNA(VLOOKUP(Table1[[#This Row],[Building]],$K$17:$L$50,2,FALSE),\"\")","v":""},null,"Parking Surcharge",0,0]
["215",null,{"$f":"_xlfn.IFNA(VLOOKUP(Table1[[#This Row],[Building]],$K$17:$L$50,2,FALSE),\"\")","v":""},null,"Parking Surcharge",0,0]
["220",null,{"$f":"_xlfn.IFNA(VLOOKUP(Table1[[#This Row],[Building]],$K$17:$L$50,2,FALSE),\"\")","v":""},null,"Parking Surcharge",0,0]
["225",null,{"$f":"_xlfn.IFNA(VLOOKUP(Table1[[#This Row],[Building]],$K$17:$L$50,2,FALSE),\"\")","v":""},null,"Parking Surcharge",139224.41622401378,139761.74413174466]
["227",null,{"$f":"_xlfn.IFNA(VLOOKUP(Table1[[#This Row],[Building]],$K$17:$L$50,2,FALSE),\"\")","v":""},null,"Parking Surcharge",0,0]
["228",null,{"$f":"_xlfn.IFNA(VLOOKUP(Table1[[#This Row],[Building]],$K$17:$L$50,2,FALSE),\"\")","v":""},null,"Parking Surcharge",0,0]
["229",null,{"$f":"_xlfn.IFNA(VLOOKUP(Table1[[#This Row],[Building]],$K$17:$L$50,2,FALSE),\"\")","v":""},null,"Parking Surcharge",0,0]
["235",null,{"$f":"_xlfn.IFNA(VLOOKUP(Table1[[#This Row],[Building]],$K$17:$L$50,2,FALSE),\"\")","v":""},null,"Parking Surcharge",0,0]
["240",null,{"$f":"_xlfn.IFNA(VLOOKUP(Table1[[#This Row],[Building]],$K$17:$L$50,2,FALSE),\"\")","v":""},null,"Parking Surcharge",97414.164444164911,97790.128305847873]
["245",null,{"$f":"_xlfn.IFNA(VLOOKUP(Table1[[#This Row],[Building]],$K$17:$L$50,2,FALSE),\"\")","v":""},null,"Parking Surcharge",0,0]
["275",null,{"$f":"_xlfn.IFNA(VLOOKUP(Table1[[#This Row],[Building]],$K$17:$L$50,2,FALSE),\"\")","v":""},null,"Parking Surcharge",0,0]
["300",null,{"$f":"_xlfn.IFNA(VLOOKUP(Table1[[#This Row],[Building]],$K$17:$L$50,2,FALSE),\"\")","v":""},null,"Parking Surcharge",175341.9421374478,176018.66337256934]
["303",null,{"$f":"_xlfn.IFNA(VLOOKUP(Table1[[#This Row],[Building]],$K$17:$L$50,2,FALSE),\"\")","v":""},null,"Parking Surcharge",0,0]
["305",null,{"$f":"_xlfn.IFNA(VLOOKUP(Table1[[#This Row],[Building]],$K$17:$L$50,2,FALSE),\"\")","v":""},null,"Parking Surcharge",0,0]
["307",null,{"$f":"_xlfn.IFNA(VLOOKUP(Table1[[#This Row],[Building]],$K$17:$L$50,2,FALSE),\"\")","v":""},null,"Parking Surcharge",46234.810030877059,46413.250382160368]
["310",null,{"$f":"_xlfn.IFNA(VLOOKUP(Table1[[#This Row],[Building]],$K$17:$L$50,2,FALSE),\"\")","v":""},null,"Parking Surcharge",0,0]
["315",null,{"$f":"_xlfn.IFNA(VLOOKUP(Table1[[#This Row],[Building]],$K$17:$L$50,2,FALSE),\"\")","v":""},null,"Parking Surcharge",8033.5986844920526,8064.6038550631565]
["340",null,{"$f":"_xlfn.IFNA(VLOOKUP(Table1[[#This Row],[Building]],$K$17:$L$50,2,FALSE),\"\")","v":""},null,"Parking Surcharge",0,0]
["341",null,{"$f":"_xlfn.IFNA(VLOOKUP(Table1[[#This Row],[Building]],$K$17:$L$50,2,FALSE),\"\")","v":""},null,"Parking Surcharge",0,0]
["350",null,{"$f":"_xlfn.IFNA(VLOOKUP(Table1[[#This Row],[Building]],$K$17:$L$50,2,FALSE),\"\")","v":""},null,"Parking Surcharge",92904.500549331322,93263.05964588112]
["351",null,{"$f":"_xlfn.IFNA(VLOOKUP(Table1[[#This Row],[Building]],$K$17:$L$50,2,FALSE),\"\")","v":""},null,"Parking Surcharge",0,0]
["353",null,{"$f":"_xlfn.IFNA(VLOOKUP(Table1[[#This Row],[Building]],$K$17:$L$50,2,FALSE),\"\")","v":""},null,"Parking Surcharge",0,0]
["354",null,{"$f":"_xlfn.IFNA(VLOOKUP(Table1[[#This Row],[Building]],$K$17:$L$50,2,FALSE),\"\")","v":""},null,"Parking Surcharge",0,0]
["355",null,{"$f":"_xlfn.IFNA(VLOOKUP(Table1[[#This Row],[Building]],$K$17:$L$50,2,FALSE),\"\")","v":""},null,"Parking Surcharge",8731.2779183257026,8764.9757381687541]
["359",null,{"$f":"_xlfn.IFNA(VLOOKUP(Table1[[#This Row],[Building]],$K$17:$L$50,2,FALSE),\"\")","v":""},null,"Parking Surcharge",0,0]
["360",null,{"$f":"_xlfn.IFNA(VLOOKUP(Table1[[#This Row],[Building]],$K$17:$L$50,2,FALSE),\"\")","v":""},null,"Parking Surcharge",0,0]
["365",null,{"$f":"_xlfn.IFNA(VLOOKUP(Table1[[#This Row],[Building]],$K$17:$L$50,2,FALSE),\"\")","v":""},null,"Parking Surcharge",0,0]
["370",null,{"$f":"_xlfn.IFNA(VLOOKUP(Table1[[#This Row],[Building]],$K$17:$L$50,2,FALSE),\"\")","v":""},null,"Parking Surcharge",0,0]
["375",null,{"$f":"_xlfn.IFNA(VLOOKUP(Table1[[#This Row],[Building]],$K$17:$L$50,2,FALSE),\"\")","v":""},null,"Parking Surcharge",0,0]
["376",null,{"$f":"_xlfn.IFNA(VLOOKUP(Table1[[#This Row],[Building]],$K$17:$L$50,2,FALSE),\"\")","v":""},null,"Parking Surcharge",0,0]
["380",null,{"$f":"_xlfn.IFNA(VLOOKUP(Table1[[#This Row],[Building]],$K$17:$L$50,2,FALSE),\"\")","v":""},null,"Parking Surcharge",0,0]
["387",null,{"$f":"_xlfn.IFNA(VLOOKUP(Table1[[#This Row],[Building]],$K$17:$L$50,2,FALSE),\"\")","v":""},null,"Parking Surcharge",0,0]
["390",null,{"$f":"_xlfn.IFNA(VLOOKUP(Table1[[#This Row],[Building]],$K$17:$L$50,2,FALSE),\"\")","v":""},null,"Parking Surcharge",0,0]
["395",null,{"$f":"_xlfn.IFNA(VLOOKUP(Table1[[#This Row],[Building]],$K$17:$L$50,2,FALSE),\"\")","v":""},null,"Parking Surcharge",0,0]
["405",null,{"$f":"_xlfn.IFNA(VLOOKUP(Table1[[#This Row],[Building]],$K$17:$L$50,2,FALSE),\"\")","v":""},null,"Parking Surcharge",171139.96787791071,171800.4718567603]
["406",null,{"$f":"_xlfn.IFNA(VLOOKUP(Table1[[#This Row],[Building]],$K$17:$L$50,2,FALSE),\"\")","v":""},null,"Parking Surcharge",0,0]
["407",null,{"$f":"_xlfn.IFNA(VLOOKUP(Table1[[#This Row],[Building]],$K$17:$L$50,2,FALSE),\"\")","v":""},null,"Parking Surcharge",0,0]
["410",null,{"$f":"_xlfn.IFNA(VLOOKUP(Table1[[#This Row],[Building]],$K$17:$L$50,2,FALSE),\"\")","v":""},null,"Parking Surcharge",0,0]
["411",null,{"$f":"_xlfn.IFNA(VLOOKUP(Table1[[#This Row],[Building]],$K$17:$L$50,2,FALSE),\"\")","v":""},null,"Parking Surcharge",0,0]
["460",null,{"$f":"_xlfn.IFNA(VLOOKUP(Table1[[#This Row],[Building]],$K$17:$L$50,2,FALSE),\"\")","v":""},null,"Parking Surcharge",0,0]
["461",null,{"$f":"_xlfn.IFNA(VLOOKUP(Table1[[#This Row],[Building]],$K$17:$L$50,2,FALSE),\"\")","v":""},null,"Parking Surcharge",0,0]
["462",null,{"$f":"_xlfn.IFNA(VLOOKUP(Table1[[#This Row],[Building]],$K$17:$L$50,2,FALSE),\"\")","v":""},null,"Parking Surcharge",0,0]
["463",null,{"$f":"_xlfn.IFNA(VLOOKUP(Table1[[#This Row],[Building]],$K$17:$L$50,2,FALSE),\"\")","v":""},null,"Parking Surcharge",0,0]
["465",null,{"$f":"_xlfn.IFNA(VLOOKUP(Table1[[#This Row],[Building]],$K$17:$L$50,2,FALSE),\"\")","v":""},null,"Parking Surcharge",0,0]
["467",null,{"$f":"_xlfn.IFNA(VLOOKUP(Table1[[#This Row],[Building]],$K$17:$L$50,2,FALSE),\"\")","v":""},null,"Parking Surcharge",11053.446199302862,11096.106282071183]
["468",null,{"$f":"_xlfn.IFNA(VLOOKUP(Table1[[#This Row],[Building]],$K$17:$L$50,2,FALSE),\"\")","v":""},null,"Parking Surcharge",0,0]
["471",null,{"$f":"_xlfn.IFNA(VLOOKUP(Table1[[#This Row],[Building]],$K$17:$L$50,2,FALSE),\"\")","v":""},null,"Parking Surcharge",0,0]
["477",null,{"$f":"_xlfn.IFNA(VLOOKUP(Table1[[#This Row],[Building]],$K$17:$L$50,2,FALSE),\"\")","v":""},null,"Parking Surcharge",131058.95055296602,131564.76435775674]
["478",null,{"$f":"_xlfn.IFNA(VLOOKUP(Table1[[#This Row],[Building]],$K$17:$L$50,2,FALSE),\"\")","v":""},null,"Parking Surcharge",1292.483513616766,1297.4717727237819]
["490",null,{"$f":"_xlfn.IFNA(VLOOKUP(Table1[[#This Row],[Building]],$K$17:$L$50,2,FALSE),\"\")","v":""},null,"Parking Surcharge",143128.98834365918,143681.3857027445]
["495",null,{"$f":"_xlfn.IFNA(VLOOKUP(Table1[[#This Row],[Building]],$K$17:$L$50,2,FALSE),\"\")","v":""},null,"Parking Surcharge",45025.561707355657,45199.335040530881]
["540",null,{"$f":"_xlfn.IFNA(VLOOKUP(Table1[[#This Row],[Building]],$K$17:$L$50,2,FALSE),\"\")","v":""},null,"Parking Surcharge",86619.776083698438,86954.079680104143]
["541",null,{"$f":"_xlfn.IFNA(VLOOKUP(Table1[[#This Row],[Building]],$K$17:$L$50,2,FALSE),\"\")","v":""},null,"Parking Surcharge",0,0]
["542",null,{"$f":"_xlfn.IFNA(VLOOKUP(Table1[[#This Row],[Building]],$K$17:$L$50,2,FALSE),\"\")","v":""},null,"Parking Surcharge",0,0]
["543",null,{"$f":"_xlfn.IFNA(VLOOKUP(Table1[[#This Row],[Building]],$K$17:$L$50,2,FALSE),\"\")","v":""},null,"Parking Surcharge",0,0]
["544",null,{"$f":"_xlfn.IFNA(VLOOKUP(Table1[[#This Row],[Building]],$K$17:$L$50,2,FALSE),\"\")","v":""},null,"Parking Surcharge",0,0]
["699",null,{"$f":"_xlfn.IFNA(VLOOKUP(Table1[[#This Row],[Building]],$K$17:$L$50,2,FALSE),\"\")","v":""},null,"Parking Surcharge",0,0]
["037","F6133",{"$f":"_xlfn.IFNA(VLOOKUP(Table1[[#This Row],[Building]],$K$17:$L$50,2,FALSE),\"\")","v":"1007 Washington"},7.3766608184752669E-3,"Parking Surcharge",{"$f":"VLOOKUP(E431,K:M,2,FALSE)*D431","v":13381.225841410042},{"$f":"VLOOKUP(E431,K:M,3,FALSE)*D431","v":13432.869843800187}]
["350","F613G",{"$f":"_xlfn.IFNA(VLOOKUP(Table1[[#This Row],[Building]],$K$17:$L$50,2,FALSE),\"\")","v":"1068 WA Street SE (ST Farm)"},7.9344988814882824E-4,"Parking Surcharge",1439.3141298525336,1444.8690725194635]
["118","F6134","120 E Union Avenue",6.4960809556044422E-5,"Parking Surcharge",117.8385837306168,118.29337435831867]
["147","F6134",{"$f":"_xlfn.IFNA(VLOOKUP(Table1[[#This Row],[Building]],$K$17:$L$50,2,FALSE),\"\")","v":"120 E Union Avenue"},3.712046260345396E-5,"Parking Surcharge",67.336333560352472,67.596213919039243]
["085","F6127",{"$f":"_xlfn.IFNA(VLOOKUP(Table1[[#This Row],[Building]],$K$17:$L$50,2,FALSE),\"\")","v":"Archives"},2.44830073349003E-2,"Parking Surcharge",44412.052890472471,44583.458424824108]
["050","F613D",{"$f":"_xlfn.IFNA(VLOOKUP(Table1[[#This Row],[Building]],$K$17:$L$50,2,FALSE),\"\")","v":"Capital Court"},2.6680332496232533E-3,"Parking Surcharge",4839.7989746503335,4858.4778754309455]
["086","F613D",{"$f":"_xlfn.IFNA(VLOOKUP(Table1[[#This Row],[Building]],$K$17:$L$50,2,FALSE),\"\")","v":"Capital Court"},6.7641731855182761E-4,"Parking Surcharge",1227.0176337664225,1231.7532314136038]
["087","F613D",{"$f":"_xlfn.IFNA(VLOOKUP(Table1[[#This Row],[Building]],$K$17:$L$50,2,FALSE),\"\")","v":"Capital Court"},4.4492998926084392E-4,"Parking Surcharge",807.10077586922455,810.21573072403976]
["099","F613D",{"$f":"_xlfn.IFNA(VLOOKUP(Table1[[#This Row],[Building]],$K$17:$L$50,2,FALSE),\"\")","v":"Capital Court"},3.4336427908194909E-4,"Parking Surcharge",622.8610854332602,625.26497875111295]
["101","F613D",{"$f":"_xlfn.IFNA(VLOOKUP(Table1[[#This Row],[Building]],$K$17:$L$50,2,FALSE),\"\")","v":"Capital Court"},2.6582375719917859E-3,"Parking Surcharge",4822.0296644052396,4840.6399856467542]
["105","F613D",{"$f":"_xlfn.IFNA(VLOOKUP(Table1[[#This Row],[Building]],$K$17:$L$50,2,FALSE),\"\")","v":"Capital Court"},3.6037782444186552E-4,"Parking Surcharge",653.72357164842185,656.24657679733934]
["118","F613D",{"$f":"_xlfn.IFNA(VLOOKUP(Table1[[#This Row],[Building]],$K$17:$L$50,2,FALSE),\"\")","v":"Capital Court"},4.4492998926084392E-4,"Parking Surcharge",807.10077586922455,810.21573072403976]
["119","F613D",{"$f":"_xlfn.IFNA(VLOOKUP(Table1[[#This Row],[Building]],$K$17:$L$50,2,FALSE),\"\")","v":"Capital Court"},4.4492998926084392E-4,"Parking Surcharge",807.10077586922455,810.21573072403976]
["142","F613D",{"$f":"_xlfn.IFNA(VLOOKUP(Table1[[#This Row],[Building]],$K$17:$L$50,2,FALSE),\"\")","v":"Capital Court"},2.4076744494184719E-3,"Parking Surcharge",4367.5094128728606,4384.3655416932397]
["147","F613D",{"$f":"_xlfn.IFNA(VLOOKUP(Table1[[#This Row],[Building]],$K$17:$L$50,2,FALSE),\"\")","v":"Capital Court"},2.4844931845283977E-3,"Parking Surcharge",4506.8582142685909,4524.2521510534743]
["179","F613D",{"$f":"_xlfn.IFNA(VLOOKUP(Table1[[#This Row],[Building]],$K$17:$L$50,2,FALSE),\"\")","v":"Capital Court"},2.7726923316857693E-3,"Parking Surcharge",5029.6500262163272,5049.0616452304594]
["355","F613D",{"$f":"_xlfn.IFNA(VLOOKUP(Table1[[#This Row],[Building]],$K$17:$L$50,2,FALSE),\"\")","v":"Capital Court"},4.8132866509145297E-3,"Parking Surcharge",8731.2779183257026,8764.9757381687541]
["478","F613D",{"$f":"_xlfn.IFNA(VLOOKUP(Table1[[#This Row],[Building]],$K$17:$L$50,2,FALSE),\"\")","v":"Capital Court"},7.1250665719407456E-4,"Parking Surcharge",1292.4835136167653,1297.471772723781]
["012","F6121",{"$f":"_xlfn.IFNA(VLOOKUP(Table1[[#This Row],[Building]],$K$17:$L$50,2,FALSE),\"\")","v":"Cherberg"},3.9843145423021184E-2,"Parking Surcharge",72275.266581633317,72554.20844273988]
["540","F612A",{"$f":"_xlfn.IFNA(VLOOKUP(Table1[[#This Row],[Building]],$K$17:$L$50,2,FALSE),\"\")","v":"Emp Sec"},4.7750835081518082E-2,"Parking Surcharge",86619.776083698394,86954.0796801041]
["014","F613M",{"$f":"_xlfn.IFNA(VLOOKUP(Table1[[#This Row],[Building]],$K$17:$L$50,2,FALSE),\"\")","v":"Helen Sommers"},4.5817993216235456E-3,"Parking Surcharge",8311.3610604285041,8343.4382374791894]
["020","F613M",{"$f":"_xlfn.IFNA(VLOOKUP(Table1[[#This Row],[Building]],$K$17:$L$50,2,FALSE),\"\")","v":"Helen Sommers"},2.1875294837007658E-3,"Parking Surcharge",3968.1675457857705,3983.4824397011598]
["038","F613M",{"$f":"_xlfn.IFNA(VLOOKUP(Table1[[#This Row],[Building]],$K$17:$L$50,2,FALSE),\"\")","v":"Helen Sommers"},6.1707613458436171E-3,"Parking Surcharge",11193.730227553591,11236.931727735844]
["075","F613M",{"$f":"_xlfn.IFNA(VLOOKUP(Table1[[#This Row],[Building]],$K$17:$L$50,2,FALSE),\"\")","v":"Helen Sommers"},7.1822939517877365E-3,"Parking Surcharge",13028.645317073195,13078.928557029662]
["090","F613M",{"$f":"_xlfn.IFNA(VLOOKUP(Table1[[#This Row],[Building]],$K$17:$L$50,2,FALSE),\"\")","v":"Helen Sommers"},6.6584829794945535E-3,"Parking Surcharge",12078.454832388223,12125.070871727665]
["179","F613M",{"$f":"_xlfn.IFNA(VLOOKUP(Table1[[#This Row],[Building]],$K$17:$L$50,2,FALSE),\"\")","v":"Helen Sommers"},1.5466859418105815E-4,"Parking Surcharge",280.56805650146856,281.65089132933014]
["225","F613M",{"$f":"_xlfn.IFNA(VLOOKUP(Table1[[#This Row],[Building]],$K$17:$L$50,2,FALSE),\"\")","v":"Helen Sommers"},7.6482073136591444E-2,"Parking Surcharge",138738.0982594112,139273.54925344046]
["100","F6125",{"$f":"_xlfn.IFNA(VLOOKUP(Table1[[#This Row],[Building]],$K$17:$L$50,2,FALSE),\"\")","v":"HLB"},3.7449906709059608E-2,"Parking Surcharge",67933.943520700588,68196.130317570714]
["240","F6125",{"$f":"_xlfn.IFNA(VLOOKUP(Table1[[#This Row],[Building]],$K$17:$L$50,2,FALSE),\"\")","v":"HLB"},5.3701451461643991E-2,"Parking Surcharge",97414.164444164897,97790.128305847858]
["315","F6125",{"$f":"_xlfn.IFNA(VLOOKUP(Table1[[#This Row],[Building]],$K$17:$L$50,2,FALSE),\"\")","v":"HLB"},4.4750779916386153E-4,"Parking Surcharge",811.77691014424897,814.90991224619518]
["095","F612E",{"$f":"_xlfn.IFNA(VLOOKUP(Table1[[#This Row],[Building]],$K$17:$L$50,2,FALSE),\"\")","v":"Insurance"},3.3057834196298162E-3,"Parking Surcharge",5996.6745942913885,6019.8183840122165]
["105","F612E",{"$f":"_xlfn.IFNA(VLOOKUP(Table1[[#This Row],[Building]],$K$17:$L$50,2,FALSE),\"\")","v":"Insurance"},2.1502543525031306E-2,"Parking Surcharge",{"$f":"(VLOOKUP(E462,K:M,2,FALSE)*D462)*(39050/41707)","v":36520.60868794116},{"$f":"(VLOOKUP(E462,K:M,3,FALSE)*D462)*(39050/41707)","v":36661.557688034474}]
["075","F612E",{"$f":"_xlfn.IFNA(VLOOKUP(Table1[[#This Row],[Building]],$K$17:$L$50,2,FALSE),\"\")","v":"Insurance"},2.1502543525031306E-2,"Parking Surcharge",2484.8977537480055,2494.4880608734329]
["160","F612E",{"$f":"_xlfn.IFNA(VLOOKUP(Table1[[#This Row],[Building]],$K$17:$L$50,2,FALSE),\"\")","v":"Insurance"},3.6032626824380513E-3,"Parking Surcharge",{"$f":"VLOOKUP(E464,K:M,2,FALSE)*D464","v":6536.3004896292132},{"$f":"VLOOKUP(E464,K:M,3,FALSE)*D464","v":6561.5269316689619}]
["085","F613E",{"$f":"_xlfn.IFNA(VLOOKUP(Table1[[#This Row],[Building]],$K$17:$L$50,2,FALSE),\"\")","v":"James Dolliver Building"},8.7645536702599617E-3,"Parking Surcharge",15898.85653508322,15960.217175328709]
["011","F6123",{"$f":"_xlfn.IFNA(VLOOKUP(Table1[[#This Row],[Building]],$K$17:$L$50,2,FALSE),\"\")","v":"Legislative"},2.3357019969262195E-2,"Parking Surcharge",42369.517439141775,42533.039935946581]
["012","F6123",{"$f":"_xlfn.IFNA(VLOOKUP(Table1[[#This Row],[Building]],$K$17:$L$50,2,FALSE),\"\")","v":"Legislative"},1.9513505403862898E-2,"Parking Surcharge",35397.40123508028,35534.015286412723]
["037","F6123",{"$f":"_xlfn.IFNA(VLOOKUP(Table1[[#This Row],[Building]],$K$17:$L$50,2,FALSE),\"\")","v":"Legislative"},2.5669831014249619E-3,"Parking Surcharge",4656.4945110693734,4674.4659597624495]
["038","F6123",{"$f":"_xlfn.IFNA(VLOOKUP(Table1[[#This Row],[Building]],$K$17:$L$50,2,FALSE),\"\")","v":"Legislative"},5.8928734382983155E-4,"Parking Surcharge",1068.9642952705954,1073.0898959647479]
["075","F6123",{"$f":"_xlfn.IFNA(VLOOKUP(Table1[[#This Row],[Building]],$K$17:$L$50,2,FALSE),\"\")","v":"Legislative"},8.8970530992750676E-3,"Parking Surcharge",16139.209836819477,16201.498105567502]
["080","F6123",{"$f":"_xlfn.IFNA(VLOOKUP(Table1[[#This Row],[Building]],$K$17:$L$50,2,FALSE),\"\")","v":"Legislative"},4.5750970158757003E-3,"Parking Surcharge",8299.2031113134417,8331.2333655215862]
["085","F6123",{"$f":"_xlfn.IFNA(VLOOKUP(Table1[[#This Row],[Building]],$K$17:$L$50,2,FALSE),\"\")","v":"Legislative"},5.4907350934275644E-3,"Parking Surcharge",9960.1660058021353,9998.6066421912201]
["090","F6123",{"$f":"_xlfn.IFNA(VLOOKUP(Table1[[#This Row],[Building]],$K$17:$L$50,2,FALSE),\"\")","v":"Legislative"},5.5242466221667938E-3,"Parking Surcharge",10020.955751377453,10059.631001979244]
["179","F6123",{"$f":"_xlfn.IFNA(VLOOKUP(Table1[[#This Row],[Building]],$K$17:$L$50,2,FALSE),\"\")","v":"Legislative"},8.187124251984012E-4,"Parking Surcharge",1485.1402457477739,1490.8720514365878]
["225","F6123",{"$f":"_xlfn.IFNA(VLOOKUP(Table1[[#This Row],[Building]],$K$17:$L$50,2,FALSE),\"\")","v":"Legislative"},2.6809222991383411E-4,"Parking Surcharge",486.31796460254549,488.19487830417228]
["315","F6123",{"$f":"_xlfn.IFNA(VLOOKUP(Table1[[#This Row],[Building]],$K$17:$L$50,2,FALSE),\"\")","v":"Legislative"},3.0469713053668453E-4,"Parking Surcharge",552.71907130789305,554.85225591878043]
["012","F612K",{"$f":"_xlfn.IFNA(VLOOKUP(Table1[[#This Row],[Building]],$K$17:$L$50,2,FALSE),\"\")","v":"Newhouse"},1.1358861556656911E-2,"Parking Surcharge",20604.918069467854,20684.441459226007]
["315","F6129",{"$f":"_xlfn.IFNA(VLOOKUP(Table1[[#This Row],[Building]],$K$17:$L$50,2,FALSE),\"\")","v":"NRB"},1.558028305383859E-3,"Parking Surcharge",2826.2555558247932,2837.1633119907856]
["467","F6129",{"$f":"_xlfn.IFNA(VLOOKUP(Table1[[#This Row],[Building]],$K$17:$L$50,2,FALSE),\"\")","v":"NRB"},6.0934270487530877E-3,"Parking Surcharge",11053.446199302858,11096.106282071178]
["477","F6129",{"$f":"_xlfn.IFNA(VLOOKUP(Table1[[#This Row],[Building]],$K$17:$L$50,2,FALSE),\"\")","v":"NRB"},7.2248793713855883E-2,"Parking Surcharge",131058.95055296601,131564.76435775671]
["490","F6129",{"$f":"_xlfn.IFNA(VLOOKUP(Table1[[#This Row],[Building]],$K$17:$L$50,2,FALSE),\"\")","v":"NRB"},7.8902636635525006E-2,"Parking Surcharge",143128.98834365918,143681.3857027445]
["495","F6129",{"$f":"_xlfn.IFNA(VLOOKUP(Table1[[#This Row],[Building]],$K$17:$L$50,2,FALSE),\"\")","v":"NRB"},2.4821215994176211E-2,"Parking Surcharge",45025.561707355679,45199.335040530903]
["163","F6126",{"$f":"_xlfn.IFNA(VLOOKUP(Table1[[#This Row],[Building]],$K$17:$L$50,2,FALSE),\"\")","v":"OB2"},1.5673084210347227E-4,"Parking Surcharge",284.30896392148816,285.40623654705456]
["179","F6126",{"$f":"_xlfn.IFNA(VLOOKUP(Table1[[#This Row],[Building]],$K$17:$L$50,2,FALSE),\"\")","v":"OB2"},9.6724583181027734E-3,"Parking Surcharge",17545.79102674684,17613.507907431878]
["300","F6126",{"$f":"_xlfn.IFNA(VLOOKUP(Table1[[#This Row],[Building]],$K$17:$L$50,2,FALSE),\"\")","v":"OB2"},9.6660653495432888E-2,"Parking Surcharge",175341.94213744777,176018.66337256931]
["307","F6126",{"$f":"_xlfn.IFNA(VLOOKUP(Table1[[#This Row],[Building]],$K$17:$L$50,2,FALSE),\"\")","v":"OB2"},2.5487837635096572E-2,"Parking Surcharge",46234.810030877008,46413.250382160317]
["315","F6126",{"$f":"_xlfn.IFNA(VLOOKUP(Table1[[#This Row],[Building]],$K$17:$L$50,2,FALSE),\"\")","v":"OB2"},1.3791282981144349E-3,"Parking Surcharge",2501.7318371380943,2511.3871143531937]
["011","F6122",{"$f":"_xlfn.IFNA(VLOOKUP(Table1[[#This Row],[Building]],$K$17:$L$50,2,FALSE),\"\")","v":"O'Brien"},4.0520078303553614E-2,"Parking Surcharge",73503.219442254733,73786.900510457912]
["350","F612H",{"$f":"_xlfn.IFNA(VLOOKUP(Table1[[#This Row],[Building]],$K$17:$L$50,2,FALSE),\"\")","v":"Old Cap"},5.0421961703024959E-2,"Parking Surcharge",91465.186419478763,91818.190573361644]
["037","F6124",{"$f":"_xlfn.IFNA(VLOOKUP(Table1[[#This Row],[Building]],$K$17:$L$50,2,FALSE),\"\")","v":"Pritchard"},2.0483277489378132E-3,"Parking Surcharge",3715.6562949344484,3729.996637504762]
["038","F6124",{"$f":"_xlfn.IFNA(VLOOKUP(Table1[[#This Row],[Building]],$K$17:$L$50,2,FALSE),\"\")","v":"Pritchard"},3.9590004490544853E-3,"Parking Surcharge",7181.6070195825914,7209.3239817264212]
["040","F6124",{"$f":"_xlfn.IFNA(VLOOKUP(Table1[[#This Row],[Building]],$K$17:$L$50,2,FALSE),\"\")","v":"Pritchard"},6.3094475186259652E-3,"Parking Surcharge",11445.306251549908,11489.478693627809]
["045","F612J",{"$f":"_xlfn.IFNA(VLOOKUP(Table1[[#This Row],[Building]],$K$17:$L$50,2,FALSE),\"\")","v":"TOJ"},1.7498173621683714E-2,"Parking Surcharge",31741.599458866149,31864.104172391555]
["046","F612J",{"$f":"_xlfn.IFNA(VLOOKUP(Table1[[#This Row],[Building]],$K$17:$L$50,2,FALSE),\"\")","v":"TOJ"},7.948934616945182E-3,"Parking Surcharge",14419.327650465475,14474.978141718708]
["055","F612J",{"$f":"_xlfn.IFNA(VLOOKUP(Table1[[#This Row],[Building]],$K$17:$L$50,2,FALSE),\"\")","v":"TOJ"},2.1916539795455939E-3,"Parking Surcharge",3975.6493606258095,3990.9931301366082]
["315","F612C",{"$f":"_xlfn.IFNA(VLOOKUP(Table1[[#This Row],[Building]],$K$17:$L$50,2,FALSE),\"\")","v":"Transportation"},7.3931588018545788E-4,"Parking Surcharge",1341.1153100770196,1346.2912605541981]
["405","F612C",{"$f":"_xlfn.IFNA(VLOOKUP(Table1[[#This Row],[Building]],$K$17:$L$50,2,FALSE),\"\")","v":"Transportation"},9.434423351658125E-2,"Parking Surcharge",171139.96787791079,171800.47185676038]
["011",null,{"$f":"_xlfn.IFNA(VLOOKUP(Table1[[#This Row],[Building]],$K$17:$L$50,2,FALSE),\"\")","v":""},null,"Perry St. & Capitol Childcare",3634.2265577275448,3659.7942883323099]
["011",null,{"$f":"_xlfn.IFNA(VLOOKUP(Table1[[#This Row],[Building]],$K$17:$L$50,2,FALSE),\"\")","v":""},null,"Perry St. & Capitol Childcare",3251.5522296884496,3251.5522296884496]
["012",null,{"$f":"_xlfn.IFNA(VLOOKUP(Table1[[#This Row],[Building]],$K$17:$L$50,2,FALSE),\"\")","v":""},null,"Perry St. & Capitol Childcare",2437.3255956017101,2454.4728161270614]
["012",null,{"$f":"_xlfn.IFNA(VLOOKUP(Table1[[#This Row],[Building]],$K$17:$L$50,2,FALSE),\"\")","v":""},null,"Perry St. & Capitol Childcare",2180.6817348808795,2180.6817348808795]
["013",null,{"$f":"_xlfn.IFNA(VLOOKUP(Table1[[#This Row],[Building]],$K$17:$L$50,2,FALSE),\"\")","v":""},null,"Perry St. & Capitol Childcare",43.52367135003049,43.829871716554621]
["013",null,{"$f":"_xlfn.IFNA(VLOOKUP(Table1[[#This Row],[Building]],$K$17:$L$50,2,FALSE),\"\")","v":""},null,"Perry St. & Capitol Childcare",38.940745265729944,38.940745265729944]
["014",null,{"$f":"_xlfn.IFNA(VLOOKUP(Table1[[#This Row],[Building]],$K$17:$L$50,2,FALSE),\"\")","v":""},null,"Perry St. & Capitol Childcare",293.7847816127051,295.85163408674293]
["014",null,{"$f":"_xlfn.IFNA(VLOOKUP(Table1[[#This Row],[Building]],$K$17:$L$50,2,FALSE),\"\")","v":""},null,"Perry St. & Capitol Childcare",262.8500305436765,262.8500305436765]
["020",null,{"$f":"_xlfn.IFNA(VLOOKUP(Table1[[#This Row],[Building]],$K$17:$L$50,2,FALSE),\"\")","v":""},null,"Perry St. & Capitol Childcare",119.690096212584,120.53214722052535]
["020",null,{"$f":"_xlfn.IFNA(VLOOKUP(Table1[[#This Row],[Building]],$K$17:$L$50,2,FALSE),\"\")","v":""},null,"Perry St. & Capitol Childcare",107.08704948075749,107.08704948075749]
["035",null,{"$f":"_xlfn.IFNA(VLOOKUP(Table1[[#This Row],[Building]],$K$17:$L$50,2,FALSE),\"\")","v":""},null,"Perry St. & Capitol Childcare",206.73743891264499,208.1918906536346]
["035",null,{"$f":"_xlfn.IFNA(VLOOKUP(Table1[[#This Row],[Building]],$K$17:$L$50,2,FALSE),\"\")","v":""},null,"Perry St. & Capitol Childcare",184.96854001221737,184.96854001221737]
["036",null,{"$f":"_xlfn.IFNA(VLOOKUP(Table1[[#This Row],[Building]],$K$17:$L$50,2,FALSE),\"\")","v":""},null,"Perry St. & Capitol Childcare",0,0]
["036",null,{"$f":"_xlfn.IFNA(VLOOKUP(Table1[[#This Row],[Building]],$K$17:$L$50,2,FALSE),\"\")","v":""},null,"Perry St. & Capitol Childcare",0,0]
["037",null,{"$f":"_xlfn.IFNA(VLOOKUP(Table1[[#This Row],[Building]],$K$17:$L$50,2,FALSE),\"\")","v":""},null,"Perry St. & Capitol Childcare",369.95120647526062,372.55390959071576]
["037",null,{"$f":"_xlfn.IFNA(VLOOKUP(Table1[[#This Row],[Building]],$K$17:$L$50,2,FALSE),\"\")","v":""},null,"Perry St. & Capitol Childcare",330.99633475870587,330.99633475870587]
["038",null,{"$f":"_xlfn.IFNA(VLOOKUP(Table1[[#This Row],[Building]],$K$17:$L$50,2,FALSE),\"\")","v":""},null,"Perry St. & Capitol Childcare",565.80772755039641,569.78833231521003]
["038",null,{"$f":"_xlfn.IFNA(VLOOKUP(Table1[[#This Row],[Building]],$K$17:$L$50,2,FALSE),\"\")","v":""},null,"Perry St. & Capitol Childcare",506.22968845448929,506.22968845448929]
["040",null,{"$f":"_xlfn.IFNA(VLOOKUP(Table1[[#This Row],[Building]],$K$17:$L$50,2,FALSE),\"\")","v":""},null,"Perry St. & Capitol Childcare",424.3557956627966,427.34124923640684]
["040",null,{"$f":"_xlfn.IFNA(VLOOKUP(Table1[[#This Row],[Building]],$K$17:$L$50,2,FALSE),\"\")","v":""},null,"Perry St. & Capitol Childcare",379.67226634086632,379.67226634086632]
["045",null,{"$f":"_xlfn.IFNA(VLOOKUP(Table1[[#This Row],[Building]],$K$17:$L$50,2,FALSE),\"\")","v":""},null,"Perry St. & Capitol Childcare",652.8550702504574,657.4480757483193]
["045",null,{"$f":"_xlfn.IFNA(VLOOKUP(Table1[[#This Row],[Building]],$K$17:$L$50,2,FALSE),\"\")","v":""},null,"Perry St. & Capitol Childcare",584.11117898594921,584.11117898594921]
["046",null,{"$f":"_xlfn.IFNA(VLOOKUP(Table1[[#This Row],[Building]],$K$17:$L$50,2,FALSE),\"\")","v":""},null,"Perry St. & Capitol Childcare",87.04734270006098,87.659743433109242]
["046",null,{"$f":"_xlfn.IFNA(VLOOKUP(Table1[[#This Row],[Building]],$K$17:$L$50,2,FALSE),\"\")","v":""},null,"Perry St. & Capitol Childcare",77.881490531459889,77.881490531459889]
["048",null,{"$f":"_xlfn.IFNA(VLOOKUP(Table1[[#This Row],[Building]],$K$17:$L$50,2,FALSE),\"\")","v":""},null,"Perry St. & Capitol Childcare",0,0]
["048",null,{"$f":"_xlfn.IFNA(VLOOKUP(Table1[[#This Row],[Building]],$K$17:$L$50,2,FALSE),\"\")","v":""},null,"Perry St. & Capitol Childcare",0,0]
["050",null,{"$f":"_xlfn.IFNA(VLOOKUP(Table1[[#This Row],[Building]],$K$17:$L$50,2,FALSE),\"\")","v":""},null,"Perry St. & Capitol Childcare",76.166424862553512,76.702275503970739]
["050",null,{"$f":"_xlfn.IFNA(VLOOKUP(Table1[[#This Row],[Building]],$K$17:$L$50,2,FALSE),\"\")","v":""},null,"Perry St. & Capitol Childcare",68.146304215027541,68.146304215027541]
["055",null,{"$f":"_xlfn.IFNA(VLOOKUP(Table1[[#This Row],[Building]],$K$17:$L$50,2,FALSE),\"\")","v":""},null,"Perry St. & Capitol Childcare",3177.2280085522289,3199.5806353084904]
["055",null,{"$f":"_xlfn.IFNA(VLOOKUP(Table1[[#This Row],[Building]],$K$17:$L$50,2,FALSE),\"\")","v":""},null,"Perry St. & Capitol Childcare",2842.674404398289,2842.674404398289]
["056",null,{"$f":"_xlfn.IFNA(VLOOKUP(Table1[[#This Row],[Building]],$K$17:$L$50,2,FALSE),\"\")","v":""},null,"Perry St. & Capitol Childcare",326.42753512523012,328.72403787416113]
["056",null,{"$f":"_xlfn.IFNA(VLOOKUP(Table1[[#This Row],[Building]],$K$17:$L$50,2,FALSE),\"\")","v":""},null,"Perry St. & Capitol Childcare",292.05558949297591,292.05558949297591]
["057",null,{"$f":"_xlfn.IFNA(VLOOKUP(Table1[[#This Row],[Building]],$K$17:$L$50,2,FALSE),\"\")","v":""},null,"Perry St. & Capitol Childcare",76.166424862553512,76.702275503970739]
["057",null,{"$f":"_xlfn.IFNA(VLOOKUP(Table1[[#This Row],[Building]],$K$17:$L$50,2,FALSE),\"\")","v":""},null,"Perry St. & Capitol Childcare",68.146304215027541,68.146304215027541]
["075",null,{"$f":"_xlfn.IFNA(VLOOKUP(Table1[[#This Row],[Building]],$K$17:$L$50,2,FALSE),\"\")","v":""},null,"Perry St. & Capitol Childcare",620.21231673793523,624.57567196090406]
["075",null,{"$f":"_xlfn.IFNA(VLOOKUP(Table1[[#This Row],[Building]],$K$17:$L$50,2,FALSE),\"\")","v":""},null,"Perry St. & Capitol Childcare",554.90562003665241,554.90562003665241]
["080",null,{"$f":"_xlfn.IFNA(VLOOKUP(Table1[[#This Row],[Building]],$K$17:$L$50,2,FALSE),\"\")","v":""},null,"Perry St. & Capitol Childcare",76.166424862553512,76.702275503970739]
["080",null,{"$f":"_xlfn.IFNA(VLOOKUP(Table1[[#This Row],[Building]],$K$17:$L$50,2,FALSE),\"\")","v":""},null,"Perry St. & Capitol Childcare",68.146304215027541,68.146304215027541]
["082",null,{"$f":"_xlfn.IFNA(VLOOKUP(Table1[[#This Row],[Building]],$K$17:$L$50,2,FALSE),\"\")","v":""},null,"Perry St. & Capitol Childcare",315.5466172877218,317.76656994502173]
["082",null,{"$f":"_xlfn.IFNA(VLOOKUP(Table1[[#This Row],[Building]],$K$17:$L$50,2,FALSE),\"\")","v":""},null,"Perry St. & Capitol Childcare",282.32040317654275,282.32040317654275]
["083",null,{"$f":"_xlfn.IFNA(VLOOKUP(Table1[[#This Row],[Building]],$K$17:$L$50,2,FALSE),\"\")","v":""},null,"Perry St. & Capitol Childcare",21.761835675015277,21.914935858277342]
["083",null,{"$f":"_xlfn.IFNA(VLOOKUP(Table1[[#This Row],[Building]],$K$17:$L$50,2,FALSE),\"\")","v":""},null,"Perry St. & Capitol Childcare",19.470372632865001,19.470372632865001]
["085",null,{"$f":"_xlfn.IFNA(VLOOKUP(Table1[[#This Row],[Building]],$K$17:$L$50,2,FALSE),\"\")","v":""},null,"Perry St. & Capitol Childcare",2328.5164172266327,2344.8981368356735]
["085",null,{"$f":"_xlfn.IFNA(VLOOKUP(Table1[[#This Row],[Building]],$K$17:$L$50,2,FALSE),\"\")","v":""},null,"Perry St. & Capitol Childcare",2083.3298717165535,2083.3298717165535]
["086",null,{"$f":"_xlfn.IFNA(VLOOKUP(Table1[[#This Row],[Building]],$K$17:$L$50,2,FALSE),\"\")","v":""},null,"Perry St. & Capitol Childcare",21.761835675015277,21.914935858277342]
["086",null,{"$f":"_xlfn.IFNA(VLOOKUP(Table1[[#This Row],[Building]],$K$17:$L$50,2,FALSE),\"\")","v":""},null,"Perry St. & Capitol Childcare",19.470372632865001,19.470372632865001]
["087",null,{"$f":"_xlfn.IFNA(VLOOKUP(Table1[[#This Row],[Building]],$K$17:$L$50,2,FALSE),\"\")","v":""},null,"Perry St. & Capitol Childcare",21.761835675015277,21.914935858277342]
["087",null,{"$f":"_xlfn.IFNA(VLOOKUP(Table1[[#This Row],[Building]],$K$17:$L$50,2,FALSE),\"\")","v":""},null,"Perry St. & Capitol Childcare",19.470372632865001,19.470372632865001]
["090",null,{"$f":"_xlfn.IFNA(VLOOKUP(Table1[[#This Row],[Building]],$K$17:$L$50,2,FALSE),\"\")","v":""},null,"Perry St. & Capitol Childcare",674.61690592547404,679.36301160659809]
["090",null,{"$f":"_xlfn.IFNA(VLOOKUP(Table1[[#This Row],[Building]],$K$17:$L$50,2,FALSE),\"\")","v":""},null,"Perry St. & Capitol Childcare",603.58155161881541,603.58155161881541]
["091",null,{"$f":"_xlfn.IFNA(VLOOKUP(Table1[[#This Row],[Building]],$K$17:$L$50,2,FALSE),\"\")","v":""},null,"Perry St. & Capitol Childcare",0,0]
["091",null,{"$f":"_xlfn.IFNA(VLOOKUP(Table1[[#This Row],[Building]],$K$17:$L$50,2,FALSE),\"\")","v":""},null,"Perry St. & Capitol Childcare",0,0]
["095",null,{"$f":"_xlfn.IFNA(VLOOKUP(Table1[[#This Row],[Building]],$K$17:$L$50,2,FALSE),\"\")","v":""},null,"Perry St. & Capitol Childcare",1980.327046426389,1994.2591631032369]
["095",null,{"$f":"_xlfn.IFNA(VLOOKUP(Table1[[#This Row],[Building]],$K$17:$L$50,2,FALSE),\"\")","v":""},null,"Perry St. & Capitol Childcare",1771.8039095907141,1771.8039095907141]
["099",null,{"$f":"_xlfn.IFNA(VLOOKUP(Table1[[#This Row],[Building]],$K$17:$L$50,2,FALSE),\"\")","v":""},null,"Perry St. & Capitol Childcare",21.761835675015277,21.914935858277342]
["099",null,{"$f":"_xlfn.IFNA(VLOOKUP(Table1[[#This Row],[Building]],$K$17:$L$50,2,FALSE),\"\")","v":""},null,"Perry St. & Capitol Childcare",19.470372632865001,19.470372632865001]
["100",null,{"$f":"_xlfn.IFNA(VLOOKUP(Table1[[#This Row],[Building]],$K$17:$L$50,2,FALSE),\"\")","v":""},null,"Perry St. & Capitol Childcare",7594.8806505803395,7648.3126145388005]
["100",null,{"$f":"_xlfn.IFNA(VLOOKUP(Table1[[#This Row],[Building]],$K$17:$L$50,2,FALSE),\"\")","v":""},null,"Perry St. & Capitol Childcare",6795.1600488698923,6795.1600488698923]
["101",null,{"$f":"_xlfn.IFNA(VLOOKUP(Table1[[#This Row],[Building]],$K$17:$L$50,2,FALSE),\"\")","v":""},null,"Perry St. & Capitol Childcare",130.57101405009175,131.48961514966416]
["101",null,{"$f":"_xlfn.IFNA(VLOOKUP(Table1[[#This Row],[Building]],$K$17:$L$50,2,FALSE),\"\")","v":""},null,"Perry St. & Capitol Childcare",116.82223579719009,116.82223579719009]
["102",null,{"$f":"_xlfn.IFNA(VLOOKUP(Table1[[#This Row],[Building]],$K$17:$L$50,2,FALSE),\"\")","v":""},null,"Perry St. & Capitol Childcare",1740.9468540012226,1753.1948686621877]
["102",null,{"$f":"_xlfn.IFNA(VLOOKUP(Table1[[#This Row],[Building]],$K$17:$L$50,2,FALSE),\"\")","v":""},null,"Perry St. & Capitol Childcare",1557.6298106292004,1557.6298106292004]
["103",null,{"$f":"_xlfn.IFNA(VLOOKUP(Table1[[#This Row],[Building]],$K$17:$L$50,2,FALSE),\"\")","v":""},null,"Perry St. & Capitol Childcare",4189.1533674404527,4218.6251527184004]
["103",null,{"$f":"_xlfn.IFNA(VLOOKUP(Table1[[#This Row],[Building]],$K$17:$L$50,2,FALSE),\"\")","v":""},null,"Perry St. & Capitol Childcare",3748.0467318265237,3748.0467318265237]
["104",null,{"$f":"_xlfn.IFNA(VLOOKUP(Table1[[#This Row],[Building]],$K$17:$L$50,2,FALSE),\"\")","v":""},null,"Perry St. & Capitol Childcare",65.285507025045746,65.744807574831938]
["104",null,{"$f":"_xlfn.IFNA(VLOOKUP(Table1[[#This Row],[Building]],$K$17:$L$50,2,FALSE),\"\")","v":""},null,"Perry St. & Capitol Childcare",58.411117898594924,58.411117898594924]
["105",null,{"$f":"_xlfn.IFNA(VLOOKUP(Table1[[#This Row],[Building]],$K$17:$L$50,2,FALSE),\"\")","v":""},null,"Perry St. & Capitol Childcare",5233.7214798411787,5270.5420739157053]
["105",null,{"$f":"_xlfn.IFNA(VLOOKUP(Table1[[#This Row],[Building]],$K$17:$L$50,2,FALSE),\"\")","v":""},null,"Perry St. & Capitol Childcare",4682.6246182040368,4682.6246182040368]
["107",null,{"$f":"_xlfn.IFNA(VLOOKUP(Table1[[#This Row],[Building]],$K$17:$L$50,2,FALSE),\"\")","v":""},null,"Perry St. & Capitol Childcare",15483.54608277337,15592.476863164329]
["107",null,{"$f":"_xlfn.IFNA(VLOOKUP(Table1[[#This Row],[Building]],$K$17:$L$50,2,FALSE),\"\")","v":""},null,"Perry St. & Capitol Childcare",13853.170128283449,13853.170128283449]
["110",null,{"$f":"_xlfn.IFNA(VLOOKUP(Table1[[#This Row],[Building]],$K$17:$L$50,2,FALSE),\"\")","v":""},null,"Perry St. & Capitol Childcare",946.6398518631654,953.29970983506519]
["110",null,{"$f":"_xlfn.IFNA(VLOOKUP(Table1[[#This Row],[Building]],$K$17:$L$50,2,FALSE),\"\")","v":""},null,"Perry St. & Capitol Childcare",846.96120952962838,846.96120952962838]
["116",null,{"$f":"_xlfn.IFNA(VLOOKUP(Table1[[#This Row],[Building]],$K$17:$L$50,2,FALSE),\"\")","v":""},null,"Perry St. & Capitol Childcare",826.94975565057939,832.76756261453784]
["116",null,{"$f":"_xlfn.IFNA(VLOOKUP(Table1[[#This Row],[Building]],$K$17:$L$50,2,FALSE),\"\")","v":""},null,"Perry St. & Capitol Childcare",739.87416004886904,739.87416004886904]
["117",null,{"$f":"_xlfn.IFNA(VLOOKUP(Table1[[#This Row],[Building]],$K$17:$L$50,2,FALSE),\"\")","v":""},null,"Perry St. & Capitol Childcare",500.52222052535211,504.04352474037961]
["117",null,{"$f":"_xlfn.IFNA(VLOOKUP(Table1[[#This Row],[Building]],$K$17:$L$50,2,FALSE),\"\")","v":""},null,"Perry St. & Capitol Childcare",447.81857055589569,447.81857055589569]
["118",null,{"$f":"_xlfn.IFNA(VLOOKUP(Table1[[#This Row],[Building]],$K$17:$L$50,2,FALSE),\"\")","v":""},null,"Perry St. & Capitol Childcare",21.761835675015277,21.914935858277342]
["118",null,{"$f":"_xlfn.IFNA(VLOOKUP(Table1[[#This Row],[Building]],$K$17:$L$50,2,FALSE),\"\")","v":""},null,"Perry St. & Capitol Childcare",19.470372632865001,19.470372632865001]
["119",null,{"$f":"_xlfn.IFNA(VLOOKUP(Table1[[#This Row],[Building]],$K$17:$L$50,2,FALSE),\"\")","v":""},null,"Perry St. & Capitol Childcare",32.642753512523015,32.872403787416111]
["119",null,{"$f":"_xlfn.IFNA(VLOOKUP(Table1[[#This Row],[Building]],$K$17:$L$50,2,FALSE),\"\")","v":""},null,"Perry St. & Capitol Childcare",29.20555894929759,29.20555894929759]
["120",null,{"$f":"_xlfn.IFNA(VLOOKUP(Table1[[#This Row],[Building]],$K$17:$L$50,2,FALSE),\"\")","v":""},null,"Perry St. & Capitol Childcare",206.73743891264499,208.1918906536346]
["120",null,{"$f":"_xlfn.IFNA(VLOOKUP(Table1[[#This Row],[Building]],$K$17:$L$50,2,FALSE),\"\")","v":""},null,"Perry St. & Capitol Childcare",184.96854001221737,184.96854001221737]
["124",null,{"$f":"_xlfn.IFNA(VLOOKUP(Table1[[#This Row],[Building]],$K$17:$L$50,2,FALSE),\"\")","v":""},null,"Perry St. & Capitol Childcare",2894.3241447770292,2914.6864691508836]
["124",null,{"$f":"_xlfn.IFNA(VLOOKUP(Table1[[#This Row],[Building]],$K$17:$L$50,2,FALSE),\"\")","v":""},null,"Perry St. & Capitol Childcare",2589.5595601710429,2589.5595601710429]
["126",null,{"$f":"_xlfn.IFNA(VLOOKUP(Table1[[#This Row],[Building]],$K$17:$L$50,2,FALSE),\"\")","v":""},null,"Perry St. & Capitol Childcare",957.52076970067083,964.25717776420163]
["126",null,{"$f":"_xlfn.IFNA(VLOOKUP(Table1[[#This Row],[Building]],$K$17:$L$50,2,FALSE),\"\")","v":""},null,"Perry St. & Capitol Childcare",856.69639584605886,856.69639584605886]
["140",null,{"$f":"_xlfn.IFNA(VLOOKUP(Table1[[#This Row],[Building]],$K$17:$L$50,2,FALSE),\"\")","v":""},null,"Perry St. & Capitol Childcare",6789.6927306047628,6837.4599877825267]
["140",null,{"$f":"_xlfn.IFNA(VLOOKUP(Table1[[#This Row],[Building]],$K$17:$L$50,2,FALSE),\"\")","v":""},null,"Perry St. & Capitol Childcare",6074.7562614538774,6074.7562614538774]
["142",null,{"$f":"_xlfn.IFNA(VLOOKUP(Table1[[#This Row],[Building]],$K$17:$L$50,2,FALSE),\"\")","v":""},null,"Perry St. & Capitol Childcare",174.09468540012227,175.3194868662188]
["142",null,{"$f":"_xlfn.IFNA(VLOOKUP(Table1[[#This Row],[Building]],$K$17:$L$50,2,FALSE),\"\")","v":""},null,"Perry St. & Capitol Childcare",155.76298106292006,155.76298106292006]
["147",null,{"$f":"_xlfn.IFNA(VLOOKUP(Table1[[#This Row],[Building]],$K$17:$L$50,2,FALSE),\"\")","v":""},null,"Perry St. & Capitol Childcare",348.18937080024392,350.63897373243697]
["147",null,{"$f":"_xlfn.IFNA(VLOOKUP(Table1[[#This Row],[Building]],$K$17:$L$50,2,FALSE),\"\")","v":""},null,"Perry St. & Capitol Childcare",311.52596212583956,311.52596212583956]
["160",null,{"$f":"_xlfn.IFNA(VLOOKUP(Table1[[#This Row],[Building]],$K$17:$L$50,2,FALSE),\"\")","v":""},null,"Perry St. & Capitol Childcare",2350.2782529016495,2366.8130726939526]
["160",null,{"$f":"_xlfn.IFNA(VLOOKUP(Table1[[#This Row],[Building]],$K$17:$L$50,2,FALSE),\"\")","v":""},null,"Perry St. & Capitol Childcare",2102.8002443494197,2102.8002443494197]
["163",null,{"$f":"_xlfn.IFNA(VLOOKUP(Table1[[#This Row],[Building]],$K$17:$L$50,2,FALSE),\"\")","v":""},null,"Perry St. & Capitol Childcare",2937.8478161270514,2958.5163408674298]
["163",null,{"$f":"_xlfn.IFNA(VLOOKUP(Table1[[#This Row],[Building]],$K$17:$L$50,2,FALSE),\"\")","v":""},null,"Perry St. & Capitol Childcare",2628.5003054367653,2628.5003054367653]
["165",null,{"$f":"_xlfn.IFNA(VLOOKUP(Table1[[#This Row],[Building]],$K$17:$L$50,2,FALSE),\"\")","v":""},null,"Perry St. & Capitol Childcare",87.04734270006098,87.659743433109242]
["165",null,{"$f":"_xlfn.IFNA(VLOOKUP(Table1[[#This Row],[Building]],$K$17:$L$50,2,FALSE),\"\")","v":""},null,"Perry St. & Capitol Childcare",77.881490531459889,77.881490531459889]
["166",null,{"$f":"_xlfn.IFNA(VLOOKUP(Table1[[#This Row],[Building]],$K$17:$L$50,2,FALSE),\"\")","v":""},null,"Perry St. & Capitol Childcare",87.04734270006098,87.659743433109242]
["166",null,{"$f":"_xlfn.IFNA(VLOOKUP(Table1[[#This Row],[Building]],$K$17:$L$50,2,FALSE),\"\")","v":""},null,"Perry St. & Capitol Childcare",77.881490531459889,77.881490531459889]
["167",null,{"$f":"_xlfn.IFNA(VLOOKUP(Table1[[#This Row],[Building]],$K$17:$L$50,2,FALSE),\"\")","v":""},null,"Perry St. & Capitol Childcare",0,0]
["167",null,{"$f":"_xlfn.IFNA(VLOOKUP(Table1[[#This Row],[Building]],$K$17:$L$50,2,FALSE),\"\")","v":""},null,"Perry St. & Capitol Childcare",0,0]
["179",null,{"$f":"_xlfn.IFNA(VLOOKUP(Table1[[#This Row],[Building]],$K$17:$L$50,2,FALSE),\"\")","v":""},null,"Perry St. & Capitol Childcare",7932.1891035430808,7987.9941203421031]
["179",null,{"$f":"_xlfn.IFNA(VLOOKUP(Table1[[#This Row],[Building]],$K$17:$L$50,2,FALSE),\"\")","v":""},null,"Perry St. & Capitol Childcare",7096.9508246793039,7096.9508246793039]
["185",null,{"$f":"_xlfn.IFNA(VLOOKUP(Table1[[#This Row],[Building]],$K$17:$L$50,2,FALSE),\"\")","v":""},null,"Perry St. & Capitol Childcare",21.761835675015277,21.914935858277342]
["185",null,{"$f":"_xlfn.IFNA(VLOOKUP(Table1[[#This Row],[Building]],$K$17:$L$50,2,FALSE),\"\")","v":""},null,"Perry St. & Capitol Childcare",19.470372632865001,19.470372632865001]
["190",null,{"$f":"_xlfn.IFNA(VLOOKUP(Table1[[#This Row],[Building]],$K$17:$L$50,2,FALSE),\"\")","v":""},null,"Perry St. & Capitol Childcare",1022.806276725718,1030.0019853390352]
["190",null,{"$f":"_xlfn.IFNA(VLOOKUP(Table1[[#This Row],[Building]],$K$17:$L$50,2,FALSE),\"\")","v":""},null,"Perry St. & Capitol Childcare",915.10751374465508,915.10751374465508]
["195",null,{"$f":"_xlfn.IFNA(VLOOKUP(Table1[[#This Row],[Building]],$K$17:$L$50,2,FALSE),\"\")","v":""},null,"Perry St. & Capitol Childcare",2480.8492669517409,2498.3026878436162]
["195",null,{"$f":"_xlfn.IFNA(VLOOKUP(Table1[[#This Row],[Building]],$K$17:$L$50,2,FALSE),\"\")","v":""},null,"Perry St. & Capitol Childcare",2219.6224801466096,2219.6224801466096]
["205",null,{"$f":"_xlfn.IFNA(VLOOKUP(Table1[[#This Row],[Building]],$K$17:$L$50,2,FALSE),\"\")","v":""},null,"Perry St. & Capitol Childcare",0,0]
["205",null,{"$f":"_xlfn.IFNA(VLOOKUP(Table1[[#This Row],[Building]],$K$17:$L$50,2,FALSE),\"\")","v":""},null,"Perry St. & Capitol Childcare",0,0]
["215",null,{"$f":"_xlfn.IFNA(VLOOKUP(Table1[[#This Row],[Building]],$K$17:$L$50,2,FALSE),\"\")","v":""},null,"Perry St. & Capitol Childcare",1381.8765653634705,1391.5984270006115]
["215",null,{"$f":"_xlfn.IFNA(VLOOKUP(Table1[[#This Row],[Building]],$K$17:$L$50,2,FALSE),\"\")","v":""},null,"Perry St. & Capitol Childcare",1236.3686621869278,1236.3686621869278]
["220",null,{"$f":"_xlfn.IFNA(VLOOKUP(Table1[[#This Row],[Building]],$K$17:$L$50,2,FALSE),\"\")","v":""},null,"Perry St. & Capitol Childcare",43.52367135003049,43.829871716554621]
["220",null,{"$f":"_xlfn.IFNA(VLOOKUP(Table1[[#This Row],[Building]],$K$17:$L$50,2,FALSE),\"\")","v":""},null,"Perry St. & Capitol Childcare",38.940745265729944,38.940745265729944]
["225",null,{"$f":"_xlfn.IFNA(VLOOKUP(Table1[[#This Row],[Building]],$K$17:$L$50,2,FALSE),\"\")","v":""},null,"Perry St. & Capitol Childcare",5973.6238927916938,6015.6498930971311]
["225",null,{"$f":"_xlfn.IFNA(VLOOKUP(Table1[[#This Row],[Building]],$K$17:$L$50,2,FALSE),\"\")","v":""},null,"Perry St. & Capitol Childcare",5344.617287721444,5344.617287721444]
["227",null,{"$f":"_xlfn.IFNA(VLOOKUP(Table1[[#This Row],[Building]],$K$17:$L$50,2,FALSE),\"\")","v":""},null,"Perry St. & Capitol Childcare",43.52367135003049,43.829871716554621]
["227",null,{"$f":"_xlfn.IFNA(VLOOKUP(Table1[[#This Row],[Building]],$K$17:$L$50,2,FALSE),\"\")","v":""},null,"Perry St. & Capitol Childcare",38.940745265729944,38.940745265729944]
["228",null,{"$f":"_xlfn.IFNA(VLOOKUP(Table1[[#This Row],[Building]],$K$17:$L$50,2,FALSE),\"\")","v":""},null,"Perry St. & Capitol Childcare",250.26111026267574,252.02176237018949]
["228",null,{"$f":"_xlfn.IFNA(VLOOKUP(Table1[[#This Row],[Building]],$K$17:$L$50,2,FALSE),\"\")","v":""},null,"Perry St. & Capitol Childcare",223.90928527794759,223.90928527794759]
["229",null,{"$f":"_xlfn.IFNA(VLOOKUP(Table1[[#This Row],[Building]],$K$17:$L$50,2,FALSE),\"\")","v":""},null,"Perry St. & Capitol Childcare",65.285507025045746,65.744807574831938]
["229",null,{"$f":"_xlfn.IFNA(VLOOKUP(Table1[[#This Row],[Building]],$K$17:$L$50,2,FALSE),\"\")","v":""},null,"Perry St. & Capitol Childcare",58.411117898594924,58.411117898594924]
["235",null,{"$f":"_xlfn.IFNA(VLOOKUP(Table1[[#This Row],[Building]],$K$17:$L$50,2,FALSE),\"\")","v":""},null,"Perry St. & Capitol Childcare",22795.522869578512,22955.895311545522]
["235",null,{"$f":"_xlfn.IFNA(VLOOKUP(Table1[[#This Row],[Building]],$K$17:$L$50,2,FALSE),\"\")","v":""},null,"Perry St. & Capitol Childcare",20395.215332926095,20395.215332926095]
["240",null,{"$f":"_xlfn.IFNA(VLOOKUP(Table1[[#This Row],[Building]],$K$17:$L$50,2,FALSE),\"\")","v":""},null,"Perry St. & Capitol Childcare",9227.0183262064766,9291.9328039095908]
["240",null,{"$f":"_xlfn.IFNA(VLOOKUP(Table1[[#This Row],[Building]],$K$17:$L$50,2,FALSE),\"\")","v":""},null,"Perry St. & Capitol Childcare",8255.4379963347601,8255.4379963347601]
["245",null,{"$f":"_xlfn.IFNA(VLOOKUP(Table1[[#This Row],[Building]],$K$17:$L$50,2,FALSE),\"\")","v":""},null,"Perry St. & Capitol Childcare",0,0]
["245",null,{"$f":"_xlfn.IFNA(VLOOKUP(Table1[[#This Row],[Building]],$K$17:$L$50,2,FALSE),\"\")","v":""},null,"Perry St. & Capitol Childcare",0,0]
["275",null,{"$f":"_xlfn.IFNA(VLOOKUP(Table1[[#This Row],[Building]],$K$17:$L$50,2,FALSE),\"\")","v":""},null,"Perry St. & Capitol Childcare",228.49927458766024,230.10682651191192]
["275",null,{"$f":"_xlfn.IFNA(VLOOKUP(Table1[[#This Row],[Building]],$K$17:$L$50,2,FALSE),\"\")","v":""},null,"Perry St. & Capitol Childcare",204.43891264508238,204.43891264508238]
["300",null,{"$f":"_xlfn.IFNA(VLOOKUP(Table1[[#This Row],[Building]],$K$17:$L$50,2,FALSE),\"\")","v":""},null,"Perry St. & Capitol Childcare",29987.809560171048,30198.781612706174]
["300",null,{"$f":"_xlfn.IFNA(VLOOKUP(Table1[[#This Row],[Building]],$K$17:$L$50,2,FALSE),\"\")","v":""},null,"Perry St. & Capitol Childcare",26830.173488087967,26830.173488087967]
["303",null,{"$f":"_xlfn.IFNA(VLOOKUP(Table1[[#This Row],[Building]],$K$17:$L$50,2,FALSE),\"\")","v":""},null,"Perry St. & Capitol Childcare",22817.284705253522,22977.810247403795]
["303",null,{"$f":"_xlfn.IFNA(VLOOKUP(Table1[[#This Row],[Building]],$K$17:$L$50,2,FALSE),\"\")","v":""},null,"Perry St. & Capitol Childcare",20414.685705558957,20414.685705558957]
["305",null,{"$f":"_xlfn.IFNA(VLOOKUP(Table1[[#This Row],[Building]],$K$17:$L$50,2,FALSE),\"\")","v":""},null,"Perry St. & Capitol Childcare",1055.4490302382403,1062.8743891264503]
["305",null,{"$f":"_xlfn.IFNA(VLOOKUP(Table1[[#This Row],[Building]],$K$17:$L$50,2,FALSE),\"\")","v":""},null,"Perry St. & Capitol Childcare",944.31307269395199,944.31307269395199]
["307",null,{"$f":"_xlfn.IFNA(VLOOKUP(Table1[[#This Row],[Building]],$K$17:$L$50,2,FALSE),\"\")","v":""},null,"Perry St. & Capitol Childcare",10053.968081857065,10124.700366524139]
["307",null,{"$f":"_xlfn.IFNA(VLOOKUP(Table1[[#This Row],[Building]],$K$17:$L$50,2,FALSE),\"\")","v":""},null,"Perry St. & Capitol Childcare",8995.3121563836357,8995.3121563836357]
["310",null,{"$f":"_xlfn.IFNA(VLOOKUP(Table1[[#This Row],[Building]],$K$17:$L$50,2,FALSE),\"\")","v":""},null,"Perry St. & Capitol Childcare",12610.983773671353,12699.705329871718]
["310",null,{"$f":"_xlfn.IFNA(VLOOKUP(Table1[[#This Row],[Building]],$K$17:$L$50,2,FALSE),\"\")","v":""},null,"Perry St. & Capitol Childcare",11283.080940745267,11283.080940745267]
["315",null,{"$f":"_xlfn.IFNA(VLOOKUP(Table1[[#This Row],[Building]],$K$17:$L$50,2,FALSE),\"\")","v":""},null,"Perry St. & Capitol Childcare",195.85652107513749,197.23442272449608]
["315",null,{"$f":"_xlfn.IFNA(VLOOKUP(Table1[[#This Row],[Building]],$K$17:$L$50,2,FALSE),\"\")","v":""},null,"Perry St. & Capitol Childcare",175.23335369578501,175.23335369578501]
["340",null,{"$f":"_xlfn.IFNA(VLOOKUP(Table1[[#This Row],[Building]],$K$17:$L$50,2,FALSE),\"\")","v":""},null,"Perry St. & Capitol Childcare",1142.4963729383012,1150.5341325595596]
["340",null,{"$f":"_xlfn.IFNA(VLOOKUP(Table1[[#This Row],[Building]],$K$17:$L$50,2,FALSE),\"\")","v":""},null,"Perry St. & Capitol Childcare",1022.1945632254119,1022.1945632254119]
["341",null,{"$f":"_xlfn.IFNA(VLOOKUP(Table1[[#This Row],[Building]],$K$17:$L$50,2,FALSE),\"\")","v":""},null,"Perry St. & Capitol Childcare",87.04734270006098,87.659743433109242]
["341",null,{"$f":"_xlfn.IFNA(VLOOKUP(Table1[[#This Row],[Building]],$K$17:$L$50,2,FALSE),\"\")","v":""},null,"Perry St. & Capitol Childcare",77.881490531459889,77.881490531459889]
["350",null,{"$f":"_xlfn.IFNA(VLOOKUP(Table1[[#This Row],[Building]],$K$17:$L$50,2,FALSE),\"\")","v":""},null,"Perry St. & Capitol Childcare",4939.9366982284591,4974.690439828948]
["350",null,{"$f":"_xlfn.IFNA(VLOOKUP(Table1[[#This Row],[Building]],$K$17:$L$50,2,FALSE),\"\")","v":""},null,"Perry St. & Capitol Childcare",4419.7745876603476,4419.7745876603476]
["351",null,{"$f":"_xlfn.IFNA(VLOOKUP(Table1[[#This Row],[Building]],$K$17:$L$50,2,FALSE),\"\")","v":""},null,"Perry St. & Capitol Childcare",21.761835675015277,21.914935858277342]
["351",null,{"$f":"_xlfn.IFNA(VLOOKUP(Table1[[#This Row],[Building]],$K$17:$L$50,2,FALSE),\"\")","v":""},null,"Perry St. & Capitol Childcare",19.470372632865001,19.470372632865001]
["353",null,{"$f":"_xlfn.IFNA(VLOOKUP(Table1[[#This Row],[Building]],$K$17:$L$50,2,FALSE),\"\")","v":""},null,"Perry St. & Capitol Childcare",0,0]
["353",null,{"$f":"_xlfn.IFNA(VLOOKUP(Table1[[#This Row],[Building]],$K$17:$L$50,2,FALSE),\"\")","v":""},null,"Perry St. & Capitol Childcare",0,0]
["354",null,{"$f":"_xlfn.IFNA(VLOOKUP(Table1[[#This Row],[Building]],$K$17:$L$50,2,FALSE),\"\")","v":""},null,"Perry St. & Capitol Childcare",261.14202810018327,262.97923029932804]
["354",null,{"$f":"_xlfn.IFNA(VLOOKUP(Table1[[#This Row],[Building]],$K$17:$L$50,2,FALSE),\"\")","v":""},null,"Perry St. & Capitol Childcare",233.64447159437995,233.64447159437995]
["355",null,{"$f":"_xlfn.IFNA(VLOOKUP(Table1[[#This Row],[Building]],$K$17:$L$50,2,FALSE),\"\")","v":""},null,"Perry St. & Capitol Childcare",228.49927458766024,230.10682651191192]
["355",null,{"$f":"_xlfn.IFNA(VLOOKUP(Table1[[#This Row],[Building]],$K$17:$L$50,2,FALSE),\"\")","v":""},null,"Perry St. & Capitol Childcare",204.43891264508238,204.43891264508238]
["359",null,{"$f":"_xlfn.IFNA(VLOOKUP(Table1[[#This Row],[Building]],$K$17:$L$50,2,FALSE),\"\")","v":""},null,"Perry St. & Capitol Childcare",0,0]
["359",null,{"$f":"_xlfn.IFNA(VLOOKUP(Table1[[#This Row],[Building]],$K$17:$L$50,2,FALSE),\"\")","v":""},null,"Perry St. & Capitol Childcare",0,0]
["360",null,{"$f":"_xlfn.IFNA(VLOOKUP(Table1[[#This Row],[Building]],$K$17:$L$50,2,FALSE),\"\")","v":""},null,"Perry St. & Capitol Childcare",1098.9727015882706,1106.7042608430049]
["360",null,{"$f":"_xlfn.IFNA(VLOOKUP(Table1[[#This Row],[Building]],$K$17:$L$50,2,FALSE),\"\")","v":""},null,"Perry St. & Capitol Childcare",983.2538179596819,983.2538179596819]
["365",null,{"$f":"_xlfn.IFNA(VLOOKUP(Table1[[#This Row],[Building]],$K$17:$L$50,2,FALSE),\"\")","v":""},null,"Perry St. & Capitol Childcare",533.16497403787423,536.91592852779479]
["365",null,{"$f":"_xlfn.IFNA(VLOOKUP(Table1[[#This Row],[Building]],$K$17:$L$50,2,FALSE),\"\")","v":""},null,"Perry St. & Capitol Childcare",477.02412950519249,477.02412950519249]
["370",null,{"$f":"_xlfn.IFNA(VLOOKUP(Table1[[#This Row],[Building]],$K$17:$L$50,2,FALSE),\"\")","v":""},null,"Perry St. & Capitol Childcare",0,0]
["370",null,{"$f":"_xlfn.IFNA(VLOOKUP(Table1[[#This Row],[Building]],$K$17:$L$50,2,FALSE),\"\")","v":""},null,"Perry St. & Capitol Childcare",0,0]
["375",null,{"$f":"_xlfn.IFNA(VLOOKUP(Table1[[#This Row],[Building]],$K$17:$L$50,2,FALSE),\"\")","v":""},null,"Perry St. & Capitol Childcare",0,0]
["375",null,{"$f":"_xlfn.IFNA(VLOOKUP(Table1[[#This Row],[Building]],$K$17:$L$50,2,FALSE),\"\")","v":""},null,"Perry St. & Capitol Childcare",0,0]
["376",null,{"$f":"_xlfn.IFNA(VLOOKUP(Table1[[#This Row],[Building]],$K$17:$L$50,2,FALSE),\"\")","v":""},null,"Perry St. & Capitol Childcare",5940.9811392791644,5982.7774893097076]
["376",null,{"$f":"_xlfn.IFNA(VLOOKUP(Table1[[#This Row],[Building]],$K$17:$L$50,2,FALSE),\"\")","v":""},null,"Perry St. & Capitol Childcare",5315.4117287721392,5315.4117287721392]
["380",null,{"$f":"_xlfn.IFNA(VLOOKUP(Table1[[#This Row],[Building]],$K$17:$L$50,2,FALSE),\"\")","v":""},null,"Perry St. & Capitol Childcare",0,0]
["380",null,{"$f":"_xlfn.IFNA(VLOOKUP(Table1[[#This Row],[Building]],$K$17:$L$50,2,FALSE),\"\")","v":""},null,"Perry St. & Capitol Childcare",0,0]
["387",null,{"$f":"_xlfn.IFNA(VLOOKUP(Table1[[#This Row],[Building]],$K$17:$L$50,2,FALSE),\"\")","v":""},null,"Perry St. & Capitol Childcare",0,0]
["387",null,{"$f":"_xlfn.IFNA(VLOOKUP(Table1[[#This Row],[Building]],$K$17:$L$50,2,FALSE),\"\")","v":""},null,"Perry St. & Capitol Childcare",0,0]
["390",null,{"$f":"_xlfn.IFNA(VLOOKUP(Table1[[#This Row],[Building]],$K$17:$L$50,2,FALSE),\"\")","v":""},null,"Perry St. & Capitol Childcare",282.90386377519849,284.89416615760535]
["390",null,{"$f":"_xlfn.IFNA(VLOOKUP(Table1[[#This Row],[Building]],$K$17:$L$50,2,FALSE),\"\")","v":""},null,"Perry St. & Capitol Childcare",253.11484422724493,253.11484422724493]
["395",null,{"$f":"_xlfn.IFNA(VLOOKUP(Table1[[#This Row],[Building]],$K$17:$L$50,2,FALSE),\"\")","v":""},null,"Perry St. & Capitol Childcare",0,0]
["395",null,{"$f":"_xlfn.IFNA(VLOOKUP(Table1[[#This Row],[Building]],$K$17:$L$50,2,FALSE),\"\")","v":""},null,"Perry St. & Capitol Childcare",0,0]
["405",null,{"$f":"_xlfn.IFNA(VLOOKUP(Table1[[#This Row],[Building]],$K$17:$L$50,2,FALSE),\"\")","v":""},null,"Perry St. & Capitol Childcare",17365.944868662176,17488.118814905301]
["405",null,{"$f":"_xlfn.IFNA(VLOOKUP(Table1[[#This Row],[Building]],$K$17:$L$50,2,FALSE),\"\")","v":""},null,"Perry St. & Capitol Childcare",15537.357361026257,15537.357361026257]
["406",null,{"$f":"_xlfn.IFNA(VLOOKUP(Table1[[#This Row],[Building]],$K$17:$L$50,2,FALSE),\"\")","v":""},null,"Perry St. & Capitol Childcare",163.21376756261449,164.36201893707999]
["406",null,{"$f":"_xlfn.IFNA(VLOOKUP(Table1[[#This Row],[Building]],$K$17:$L$50,2,FALSE),\"\")","v":""},null,"Perry St. & Capitol Childcare",146.02779474648744,146.02779474648744]
["407",null,{"$f":"_xlfn.IFNA(VLOOKUP(Table1[[#This Row],[Building]],$K$17:$L$50,2,FALSE),\"\")","v":""},null,"Perry St. & Capitol Childcare",108.80917837507624,109.57467929138656]
["407",null,{"$f":"_xlfn.IFNA(VLOOKUP(Table1[[#This Row],[Building]],$K$17:$L$50,2,FALSE),\"\")","v":""},null,"Perry St. & Capitol Childcare",97.351863164324882,97.351863164324882]
["410",null,{"$f":"_xlfn.IFNA(VLOOKUP(Table1[[#This Row],[Building]],$K$17:$L$50,2,FALSE),\"\")","v":""},null,"Perry St. & Capitol Childcare",65.285507025045746,65.744807574831938]
["410",null,{"$f":"_xlfn.IFNA(VLOOKUP(Table1[[#This Row],[Building]],$K$17:$L$50,2,FALSE),\"\")","v":""},null,"Perry St. & Capitol Childcare",58.411117898594924,58.411117898594924]
["411",null,{"$f":"_xlfn.IFNA(VLOOKUP(Table1[[#This Row],[Building]],$K$17:$L$50,2,FALSE),\"\")","v":""},null,"Perry St. & Capitol Childcare",21.761835675015277,21.914935858277342]
["411",null,{"$f":"_xlfn.IFNA(VLOOKUP(Table1[[#This Row],[Building]],$K$17:$L$50,2,FALSE),\"\")","v":""},null,"Perry St. & Capitol Childcare",19.470372632865001,19.470372632865001]
["460",null,{"$f":"_xlfn.IFNA(VLOOKUP(Table1[[#This Row],[Building]],$K$17:$L$50,2,FALSE),\"\")","v":""},null,"Perry St. & Capitol Childcare",0,0]
["460",null,{"$f":"_xlfn.IFNA(VLOOKUP(Table1[[#This Row],[Building]],$K$17:$L$50,2,FALSE),\"\")","v":""},null,"Perry St. & Capitol Childcare",0,0]
["461",null,{"$f":"_xlfn.IFNA(VLOOKUP(Table1[[#This Row],[Building]],$K$17:$L$50,2,FALSE),\"\")","v":""},null,"Perry St. & Capitol Childcare",11055.012522907768,11132.787416004896]
["461",null,{"$f":"_xlfn.IFNA(VLOOKUP(Table1[[#This Row],[Building]],$K$17:$L$50,2,FALSE),\"\")","v":""},null,"Perry St. & Capitol Childcare",9890.9492974954264,9890.9492974954264]
["462",null,{"$f":"_xlfn.IFNA(VLOOKUP(Table1[[#This Row],[Building]],$K$17:$L$50,2,FALSE),\"\")","v":""},null,"Perry St. & Capitol Childcare",228.49927458766024,230.10682651191192]
["462",null,{"$f":"_xlfn.IFNA(VLOOKUP(Table1[[#This Row],[Building]],$K$17:$L$50,2,FALSE),\"\")","v":""},null,"Perry St. & Capitol Childcare",204.43891264508238,204.43891264508238]
["463",null,{"$f":"_xlfn.IFNA(VLOOKUP(Table1[[#This Row],[Building]],$K$17:$L$50,2,FALSE),\"\")","v":""},null,"Perry St. & Capitol Childcare",108.80917837507624,109.57467929138656]
["463",null,{"$f":"_xlfn.IFNA(VLOOKUP(Table1[[#This Row],[Building]],$K$17:$L$50,2,FALSE),\"\")","v":""},null,"Perry St. & Capitol Childcare",97.351863164324882,97.351863164324882]
["465",null,{"$f":"_xlfn.IFNA(VLOOKUP(Table1[[#This Row],[Building]],$K$17:$L$50,2,FALSE),\"\")","v":""},null,"Perry St. & Capitol Childcare",2241.4690745265721,2257.2383934025647]
["465",null,{"$f":"_xlfn.IFNA(VLOOKUP(Table1[[#This Row],[Building]],$K$17:$L$50,2,FALSE),\"\")","v":""},null,"Perry St. & Capitol Childcare",2005.4483811850937,2005.4483811850937]
["467",null,{"$f":"_xlfn.IFNA(VLOOKUP(Table1[[#This Row],[Building]],$K$17:$L$50,2,FALSE),\"\")","v":""},null,"Perry St. & Capitol Childcare",739.9024129505184,745.10781918142868]
["467",null,{"$f":"_xlfn.IFNA(VLOOKUP(Table1[[#This Row],[Building]],$K$17:$L$50,2,FALSE),\"\")","v":""},null,"Perry St. & Capitol Childcare",661.99266951740913,661.99266951740913]
["468",null,{"$f":"_xlfn.IFNA(VLOOKUP(Table1[[#This Row],[Building]],$K$17:$L$50,2,FALSE),\"\")","v":""},null,"Perry St. & Capitol Childcare",108.80917837507624,109.57467929138656]
["468",null,{"$f":"_xlfn.IFNA(VLOOKUP(Table1[[#This Row],[Building]],$K$17:$L$50,2,FALSE),\"\")","v":""},null,"Perry St. & Capitol Childcare",97.351863164324882,97.351863164324882]
["471",null,{"$f":"_xlfn.IFNA(VLOOKUP(Table1[[#This Row],[Building]],$K$17:$L$50,2,FALSE),\"\")","v":""},null,"Perry St. & Capitol Childcare",174.09468540012227,175.3194868662188]
["471",null,{"$f":"_xlfn.IFNA(VLOOKUP(Table1[[#This Row],[Building]],$K$17:$L$50,2,FALSE),\"\")","v":""},null,"Perry St. & Capitol Childcare",155.76298106292006,155.76298106292006]
["477",null,{"$f":"_xlfn.IFNA(VLOOKUP(Table1[[#This Row],[Building]],$K$17:$L$50,2,FALSE),\"\")","v":""},null,"Perry St. & Capitol Childcare",8933.233544593757,8996.0811698228335]
["477",null,{"$f":"_xlfn.IFNA(VLOOKUP(Table1[[#This Row],[Building]],$K$17:$L$50,2,FALSE),\"\")","v":""},null,"Perry St. & Capitol Childcare",7992.58796579107,7992.58796579107]
["478",null,{"$f":"_xlfn.IFNA(VLOOKUP(Table1[[#This Row],[Building]],$K$17:$L$50,2,FALSE),\"\")","v":""},null,"Perry St. & Capitol Childcare",282.90386377519849,284.89416615760535]
["478",null,{"$f":"_xlfn.IFNA(VLOOKUP(Table1[[#This Row],[Building]],$K$17:$L$50,2,FALSE),\"\")","v":""},null,"Perry St. & Capitol Childcare",253.11484422724493,253.11484422724493]
["490",null,{"$f":"_xlfn.IFNA(VLOOKUP(Table1[[#This Row],[Building]],$K$17:$L$50,2,FALSE),\"\")","v":""},null,"Perry St. & Capitol Childcare",8051.8791997556555,8108.5262675626191]
["490",null,{"$f":"_xlfn.IFNA(VLOOKUP(Table1[[#This Row],[Building]],$K$17:$L$50,2,FALSE),\"\")","v":""},null,"Perry St. & Capitol Childcare",7204.0378741600525,7204.0378741600525]
["495",null,{"$f":"_xlfn.IFNA(VLOOKUP(Table1[[#This Row],[Building]],$K$17:$L$50,2,FALSE),\"\")","v":""},null,"Perry St. & Capitol Childcare",2644.0630345143545,2662.6647067806953]
["495",null,{"$f":"_xlfn.IFNA(VLOOKUP(Table1[[#This Row],[Building]],$K$17:$L$50,2,FALSE),\"\")","v":""},null,"Perry St. & Capitol Childcare",2365.6502748930961,2365.6502748930961]
["540",null,{"$f":"_xlfn.IFNA(VLOOKUP(Table1[[#This Row],[Building]],$K$17:$L$50,2,FALSE),\"\")","v":""},null,"Perry St. & Capitol Childcare",15102.713958460607,15208.965485644481]
["540",null,{"$f":"_xlfn.IFNA(VLOOKUP(Table1[[#This Row],[Building]],$K$17:$L$50,2,FALSE),\"\")","v":""},null,"Perry St. & Capitol Childcare",13512.438607208316,13512.438607208316]
["541",null,{"$f":"_xlfn.IFNA(VLOOKUP(Table1[[#This Row],[Building]],$K$17:$L$50,2,FALSE),\"\")","v":""},null,"Perry St. & Capitol Childcare",0,0]
["541",null,{"$f":"_xlfn.IFNA(VLOOKUP(Table1[[#This Row],[Building]],$K$17:$L$50,2,FALSE),\"\")","v":""},null,"Perry St. & Capitol Childcare",0,0]
["542",null,{"$f":"_xlfn.IFNA(VLOOKUP(Table1[[#This Row],[Building]],$K$17:$L$50,2,FALSE),\"\")","v":""},null,"Perry St. & Capitol Childcare",0,0]
["542",null,{"$f":"_xlfn.IFNA(VLOOKUP(Table1[[#This Row],[Building]],$K$17:$L$50,2,FALSE),\"\")","v":""},null,"Perry St. & Capitol Childcare",0,0]
["543",null,{"$f":"_xlfn.IFNA(VLOOKUP(Table1[[#This Row],[Building]],$K$17:$L$50,2,FALSE),\"\")","v":""},null,"Perry St. & Capitol Childcare",0,0]
["543",null,{"$f":"_xlfn.IFNA(VLOOKUP(Table1[[#This Row],[Building]],$K$17:$L$50,2,FALSE),\"\")","v":""},null,"Perry St. & Capitol Childcare",0,0]
["544",null,{"$f":"_xlfn.IFNA(VLOOKUP(Table1[[#This Row],[Building]],$K$17:$L$50,2,FALSE),\"\")","v":""},null,"Perry St. & Capitol Childcare",0,0]
["544",null,{"$f":"_xlfn.IFNA(VLOOKUP(Table1[[#This Row],[Building]],$K$17:$L$50,2,FALSE),\"\")","v":""},null,"Perry St. & Capitol Childcare",0,0]
["699",null,{"$f":"_xlfn.IFNA(VLOOKUP(Table1[[#This Row],[Building]],$K$17:$L$50,2,FALSE),\"\")","v":""},null,"Perry St. & Capitol Childcare",2687.5867058643848,2706.4945784972501]
["699",null,{"$f":"_xlfn.IFNA(VLOOKUP(Table1[[#This Row],[Building]],$K$17:$L$50,2,FALSE),\"\")","v":""},null,"Perry St. & Capitol Childcare",2404.5910201588263,2404.5910201588263]
["011",null,{"$f":"_xlfn.IFNA(VLOOKUP(Table1[[#This Row],[Building]],$K$17:$L$50,2,FALSE),\"\")","v":""},null,"Public Historic Facilities",64892.417761148346,65835.97541233954]
["012",null,{"$f":"_xlfn.IFNA(VLOOKUP(Table1[[#This Row],[Building]],$K$17:$L$50,2,FALSE),\"\")","v":""},null,"Public Historic Facilities",43520.663408674402,44153.468540012218]
["013",null,{"$f":"_xlfn.IFNA(VLOOKUP(Table1[[#This Row],[Building]],$K$17:$L$50,2,FALSE),\"\")","v":""},null,"Public Historic Facilities",777.15470372632774,788.45479535736013]
["014",null,{"$f":"_xlfn.IFNA(VLOOKUP(Table1[[#This Row],[Building]],$K$17:$L$50,2,FALSE),\"\")","v":""},null,"Public Historic Facilities",5245.7942501526995,5322.0698686621672]
["020",null,{"$f":"_xlfn.IFNA(VLOOKUP(Table1[[#This Row],[Building]],$K$17:$L$50,2,FALSE),\"\")","v":""},null,"Public Historic Facilities",2137.1754352474036,2168.2506872327426]
["035",null,{"$f":"_xlfn.IFNA(VLOOKUP(Table1[[#This Row],[Building]],$K$17:$L$50,2,FALSE),\"\")","v":""},null,"Public Historic Facilities",3691.4848427000593,3745.1602779474633]
["036",null,{"$f":"_xlfn.IFNA(VLOOKUP(Table1[[#This Row],[Building]],$K$17:$L$50,2,FALSE),\"\")","v":""},null,"Public Historic Facilities",0,0]
["037",null,{"$f":"_xlfn.IFNA(VLOOKUP(Table1[[#This Row],[Building]],$K$17:$L$50,2,FALSE),\"\")","v":""},null,"Public Historic Facilities",6605.8149816738114,6701.8657605375874]
["038",null,{"$f":"_xlfn.IFNA(VLOOKUP(Table1[[#This Row],[Building]],$K$17:$L$50,2,FALSE),\"\")","v":""},null,"Public Historic Facilities",10103.01114844226,10249.912339645682]
["040",null,{"$f":"_xlfn.IFNA(VLOOKUP(Table1[[#This Row],[Building]],$K$17:$L$50,2,FALSE),\"\")","v":""},null,"Public Historic Facilities",7577.258361331682,7687.4342547342476]
["045",null,{"$f":"_xlfn.IFNA(VLOOKUP(Table1[[#This Row],[Building]],$K$17:$L$50,2,FALSE),\"\")","v":""},null,"Public Historic Facilities",11657.320555894916,11826.821930360402]
["046",null,{"$f":"_xlfn.IFNA(VLOOKUP(Table1[[#This Row],[Building]],$K$17:$L$50,2,FALSE),\"\")","v":""},null,"Public Historic Facilities",1554.3094074526555,1576.9095907147203]
["048",null,{"$f":"_xlfn.IFNA(VLOOKUP(Table1[[#This Row],[Building]],$K$17:$L$50,2,FALSE),\"\")","v":""},null,"Public Historic Facilities",0,0]
["050",null,{"$f":"_xlfn.IFNA(VLOOKUP(Table1[[#This Row],[Building]],$K$17:$L$50,2,FALSE),\"\")","v":""},null,"Public Historic Facilities",1360.0207315210762,1379.7958918753827]
["055",null,{"$f":"_xlfn.IFNA(VLOOKUP(Table1[[#This Row],[Building]],$K$17:$L$50,2,FALSE),\"\")","v":""},null,"Public Historic Facilities",56732.293372021981,57557.200061087344]
["056",null,{"$f":"_xlfn.IFNA(VLOOKUP(Table1[[#This Row],[Building]],$K$17:$L$50,2,FALSE),\"\")","v":""},null,"Public Historic Facilities",5828.6602779474833,5913.4109651802264]
["057",null,{"$f":"_xlfn.IFNA(VLOOKUP(Table1[[#This Row],[Building]],$K$17:$L$50,2,FALSE),\"\")","v":""},null,"Public Historic Facilities",1360.0207315210762,1379.7958918753827]
["075",null,{"$f":"_xlfn.IFNA(VLOOKUP(Table1[[#This Row],[Building]],$K$17:$L$50,2,FALSE),\"\")","v":""},null,"Public Historic Facilities",11074.454528100183,11235.480833842394]
["080",null,{"$f":"_xlfn.IFNA(VLOOKUP(Table1[[#This Row],[Building]],$K$17:$L$50,2,FALSE),\"\")","v":""},null,"Public Historic Facilities",1360.0207315210762,1379.7958918753827]
["082",null,{"$f":"_xlfn.IFNA(VLOOKUP(Table1[[#This Row],[Building]],$K$17:$L$50,2,FALSE),\"\")","v":""},null,"Public Historic Facilities",5634.371602015889,5716.2972663408736]
["083",null,{"$f":"_xlfn.IFNA(VLOOKUP(Table1[[#This Row],[Building]],$K$17:$L$50,2,FALSE),\"\")","v":""},null,"Public Historic Facilities",388.57735186316438,394.22739767868057]
["085",null,{"$f":"_xlfn.IFNA(VLOOKUP(Table1[[#This Row],[Building]],$K$17:$L$50,2,FALSE),\"\")","v":""},null,"Public Historic Facilities",41577.776649358559,42182.331551618787]
["086",null,{"$f":"_xlfn.IFNA(VLOOKUP(Table1[[#This Row],[Building]],$K$17:$L$50,2,FALSE),\"\")","v":""},null,"Public Historic Facilities",388.57735186316438,394.22739767868057]
["087",null,{"$f":"_xlfn.IFNA(VLOOKUP(Table1[[#This Row],[Building]],$K$17:$L$50,2,FALSE),\"\")","v":""},null,"Public Historic Facilities",388.57735186316438,394.22739767868057]
["090",null,{"$f":"_xlfn.IFNA(VLOOKUP(Table1[[#This Row],[Building]],$K$17:$L$50,2,FALSE),\"\")","v":""},null,"Public Historic Facilities",12045.897907758104,12221.049328039107]
["091",null,{"$f":"_xlfn.IFNA(VLOOKUP(Table1[[#This Row],[Building]],$K$17:$L$50,2,FALSE),\"\")","v":""},null,"Public Historic Facilities",0,0]
["095",null,{"$f":"_xlfn.IFNA(VLOOKUP(Table1[[#This Row],[Building]],$K$17:$L$50,2,FALSE),\"\")","v":""},null,"Public Historic Facilities",35360.539019547941,35874.693188759913]
["099",null,{"$f":"_xlfn.IFNA(VLOOKUP(Table1[[#This Row],[Building]],$K$17:$L$50,2,FALSE),\"\")","v":""},null,"Public Historic Facilities",388.57735186316438,394.22739767868057]
["100",null,{"$f":"_xlfn.IFNA(VLOOKUP(Table1[[#This Row],[Building]],$K$17:$L$50,2,FALSE),\"\")","v":""},null,"Public Historic Facilities",135613.49580024453,137585.36178985969]
["101",null,{"$f":"_xlfn.IFNA(VLOOKUP(Table1[[#This Row],[Building]],$K$17:$L$50,2,FALSE),\"\")","v":""},null,"Public Historic Facilities",2331.4641111789883,2365.3643860720854]
["102",null,{"$f":"_xlfn.IFNA(VLOOKUP(Table1[[#This Row],[Building]],$K$17:$L$50,2,FALSE),\"\")","v":""},null,"Public Historic Facilities",31086.18814905316,31538.191814294456]
["103",null,{"$f":"_xlfn.IFNA(VLOOKUP(Table1[[#This Row],[Building]],$K$17:$L$50,2,FALSE),\"\")","v":""},null,"Public Historic Facilities",74801.14023365936,75888.774053146233]
["104",null,{"$f":"_xlfn.IFNA(VLOOKUP(Table1[[#This Row],[Building]],$K$17:$L$50,2,FALSE),\"\")","v":""},null,"Public Historic Facilities",1165.7320555894917,1182.6821930360402]
["105",null,{"$f":"_xlfn.IFNA(VLOOKUP(Table1[[#This Row],[Building]],$K$17:$L$50,2,FALSE),\"\")","v":""},null,"Public Historic Facilities",93452.853123091132,94811.689141722774]
["107",null,{"$f":"_xlfn.IFNA(VLOOKUP(Table1[[#This Row],[Building]],$K$17:$L$50,2,FALSE),\"\")","v":""},null,"Public Historic Facilities",276472.78585064149,280492.79344838124]
["110",null,{"$f":"_xlfn.IFNA(VLOOKUP(Table1[[#This Row],[Building]],$K$17:$L$50,2,FALSE),\"\")","v":""},null,"Public Historic Facilities",16903.114806047666,17148.891799022622]
["116",null,{"$f":"_xlfn.IFNA(VLOOKUP(Table1[[#This Row],[Building]],$K$17:$L$50,2,FALSE),\"\")","v":""},null,"Public Historic Facilities",14765.939370800226,14980.641111789842]
["117",null,{"$f":"_xlfn.IFNA(VLOOKUP(Table1[[#This Row],[Building]],$K$17:$L$50,2,FALSE),\"\")","v":""},null,"Public Historic Facilities",8937.2790928527957,9067.2301466096669]
["118",null,{"$f":"_xlfn.IFNA(VLOOKUP(Table1[[#This Row],[Building]],$K$17:$L$50,2,FALSE),\"\")","v":""},null,"Public Historic Facilities",388.57735186316438,394.22739767868057]
["119",null,{"$f":"_xlfn.IFNA(VLOOKUP(Table1[[#This Row],[Building]],$K$17:$L$50,2,FALSE),\"\")","v":""},null,"Public Historic Facilities",582.86602779474833,591.34109651802271]
["120",null,{"$f":"_xlfn.IFNA(VLOOKUP(Table1[[#This Row],[Building]],$K$17:$L$50,2,FALSE),\"\")","v":""},null,"Public Historic Facilities",3691.4848427000593,3745.1602779474633]
["124",null,{"$f":"_xlfn.IFNA(VLOOKUP(Table1[[#This Row],[Building]],$K$17:$L$50,2,FALSE),\"\")","v":""},null,"Public Historic Facilities",51680.787797800818,52432.243891264472]
["126",null,{"$f":"_xlfn.IFNA(VLOOKUP(Table1[[#This Row],[Building]],$K$17:$L$50,2,FALSE),\"\")","v":""},null,"Public Historic Facilities",17097.40348197921,17346.005497861923]
["140",null,{"$f":"_xlfn.IFNA(VLOOKUP(Table1[[#This Row],[Building]],$K$17:$L$50,2,FALSE),\"\")","v":""},null,"Public Historic Facilities",121236.13378130723,122998.94807574828]
["142",null,{"$f":"_xlfn.IFNA(VLOOKUP(Table1[[#This Row],[Building]],$K$17:$L$50,2,FALSE),\"\")","v":""},null,"Public Historic Facilities",3108.6188149053164,3153.819181429446]
["147",null,{"$f":"_xlfn.IFNA(VLOOKUP(Table1[[#This Row],[Building]],$K$17:$L$50,2,FALSE),\"\")","v":""},null,"Public Historic Facilities",6217.2376298106219,6307.638362858881]
["160",null,{"$f":"_xlfn.IFNA(VLOOKUP(Table1[[#This Row],[Building]],$K$17:$L$50,2,FALSE),\"\")","v":""},null,"Public Historic Facilities",41966.354001221749,42576.558949297498]
["163",null,{"$f":"_xlfn.IFNA(VLOOKUP(Table1[[#This Row],[Building]],$K$17:$L$50,2,FALSE),\"\")","v":""},null,"Public Historic Facilities",52457.942501526995,53220.698686621683]
["165",null,{"$f":"_xlfn.IFNA(VLOOKUP(Table1[[#This Row],[Building]],$K$17:$L$50,2,FALSE),\"\")","v":""},null,"Public Historic Facilities",1554.3094074526555,1576.9095907147203]
["166",null,{"$f":"_xlfn.IFNA(VLOOKUP(Table1[[#This Row],[Building]],$K$17:$L$50,2,FALSE),\"\")","v":""},null,"Public Historic Facilities",1554.3094074526555,1576.9095907147203]
["167",null,{"$f":"_xlfn.IFNA(VLOOKUP(Table1[[#This Row],[Building]],$K$17:$L$50,2,FALSE),\"\")","v":""},null,"Public Historic Facilities",0,0]
["179",null,{"$f":"_xlfn.IFNA(VLOOKUP(Table1[[#This Row],[Building]],$K$17:$L$50,2,FALSE),\"\")","v":""},null,"Public Historic Facilities",141636.44475412366,143695.8864538793]
["185",null,{"$f":"_xlfn.IFNA(VLOOKUP(Table1[[#This Row],[Building]],$K$17:$L$50,2,FALSE),\"\")","v":""},null,"Public Historic Facilities",388.57735186316438,394.22739767868057]
["190",null,{"$f":"_xlfn.IFNA(VLOOKUP(Table1[[#This Row],[Building]],$K$17:$L$50,2,FALSE),\"\")","v":""},null,"Public Historic Facilities",18263.135537568727,18528.68769089799]
["195",null,{"$f":"_xlfn.IFNA(VLOOKUP(Table1[[#This Row],[Building]],$K$17:$L$50,2,FALSE),\"\")","v":""},null,"Public Historic Facilities",44297.818112400731,44941.923335369574]
["205",null,{"$f":"_xlfn.IFNA(VLOOKUP(Table1[[#This Row],[Building]],$K$17:$L$50,2,FALSE),\"\")","v":""},null,"Public Historic Facilities",0,0]
["215",null,{"$f":"_xlfn.IFNA(VLOOKUP(Table1[[#This Row],[Building]],$K$17:$L$50,2,FALSE),\"\")","v":""},null,"Public Historic Facilities",24674.661843310947,25033.439752596223]
["220",null,{"$f":"_xlfn.IFNA(VLOOKUP(Table1[[#This Row],[Building]],$K$17:$L$50,2,FALSE),\"\")","v":""},null,"Public Historic Facilities",777.15470372632774,788.45479535736013]
["225",null,{"$f":"_xlfn.IFNA(VLOOKUP(Table1[[#This Row],[Building]],$K$17:$L$50,2,FALSE),\"\")","v":""},null,"Public Historic Facilities",106664.48308643865,108215.42066279784]
["227",null,{"$f":"_xlfn.IFNA(VLOOKUP(Table1[[#This Row],[Building]],$K$17:$L$50,2,FALSE),\"\")","v":""},null,"Public Historic Facilities",777.15470372632774,788.45479535736013]
["228",null,{"$f":"_xlfn.IFNA(VLOOKUP(Table1[[#This Row],[Building]],$K$17:$L$50,2,FALSE),\"\")","v":""},null,"Public Historic Facilities",4468.6395464263924,4533.615073304828]
["229",null,{"$f":"_xlfn.IFNA(VLOOKUP(Table1[[#This Row],[Building]],$K$17:$L$50,2,FALSE),\"\")","v":""},null,"Public Historic Facilities",1165.7320555894917,1182.6821930360402]
["235",null,{"$f":"_xlfn.IFNA(VLOOKUP(Table1[[#This Row],[Building]],$K$17:$L$50,2,FALSE),\"\")","v":""},null,"Public Historic Facilities",407034.77607666486,412953.19906841806]
["240",null,{"$f":"_xlfn.IFNA(VLOOKUP(Table1[[#This Row],[Building]],$K$17:$L$50,2,FALSE),\"\")","v":""},null,"Public Historic Facilities",164756.79718998168,167152.41661576057]
["245",null,{"$f":"_xlfn.IFNA(VLOOKUP(Table1[[#This Row],[Building]],$K$17:$L$50,2,FALSE),\"\")","v":""},null,"Public Historic Facilities",0,0]
["275",null,{"$f":"_xlfn.IFNA(VLOOKUP(Table1[[#This Row],[Building]],$K$17:$L$50,2,FALSE),\"\")","v":""},null,"Public Historic Facilities",4080.0621945632233,4139.3876756261434]
["300",null,{"$f":"_xlfn.IFNA(VLOOKUP(Table1[[#This Row],[Building]],$K$17:$L$50,2,FALSE),\"\")","v":""},null,"Public Historic Facilities",535459.59086744045,543245.35400122183]
["303",null,{"$f":"_xlfn.IFNA(VLOOKUP(Table1[[#This Row],[Building]],$K$17:$L$50,2,FALSE),\"\")","v":""},null,"Public Historic Facilities",407423.35342852795,413347.42646609666]
["305",null,{"$f":"_xlfn.IFNA(VLOOKUP(Table1[[#This Row],[Building]],$K$17:$L$50,2,FALSE),\"\")","v":""},null,"Public Historic Facilities",18846.001565363462,19120.028787415995]
["307",null,{"$f":"_xlfn.IFNA(VLOOKUP(Table1[[#This Row],[Building]],$K$17:$L$50,2,FALSE),\"\")","v":""},null,"Public Historic Facilities",179522.73656078207,182133.05772755056]
["310",null,{"$f":"_xlfn.IFNA(VLOOKUP(Table1[[#This Row],[Building]],$K$17:$L$50,2,FALSE),\"\")","v":""},null,"Public Historic Facilities",225180.57540470376,228454.77695479541]
["315",null,{"$f":"_xlfn.IFNA(VLOOKUP(Table1[[#This Row],[Building]],$K$17:$L$50,2,FALSE),\"\")","v":""},null,"Public Historic Facilities",3497.19616676848,3548.0465791081256]
["340",null,{"$f":"_xlfn.IFNA(VLOOKUP(Table1[[#This Row],[Building]],$K$17:$L$50,2,FALSE),\"\")","v":""},null,"Public Historic Facilities",20400.310972816118,20696.938378130719]
["341",null,{"$f":"_xlfn.IFNA(VLOOKUP(Table1[[#This Row],[Building]],$K$17:$L$50,2,FALSE),\"\")","v":""},null,"Public Historic Facilities",1554.3094074526555,1576.9095907147203]
["350",null,{"$f":"_xlfn.IFNA(VLOOKUP(Table1[[#This Row],[Building]],$K$17:$L$50,2,FALSE),\"\")","v":""},null,"Public Historic Facilities",88207.058872938171,89489.619273060336]
["351",null,{"$f":"_xlfn.IFNA(VLOOKUP(Table1[[#This Row],[Building]],$K$17:$L$50,2,FALSE),\"\")","v":""},null,"Public Historic Facilities",388.57735186316438,394.22739767868057]
["353",null,{"$f":"_xlfn.IFNA(VLOOKUP(Table1[[#This Row],[Building]],$K$17:$L$50,2,FALSE),\"\")","v":""},null,"Public Historic Facilities",0,0]
["354",null,{"$f":"_xlfn.IFNA(VLOOKUP(Table1[[#This Row],[Building]],$K$17:$L$50,2,FALSE),\"\")","v":""},null,"Public Historic Facilities",4662.9282223579712,4730.7287721441653]
["355",null,{"$f":"_xlfn.IFNA(VLOOKUP(Table1[[#This Row],[Building]],$K$17:$L$50,2,FALSE),\"\")","v":""},null,"Public Historic Facilities",4080.0621945632233,4139.3876756261434]
["359",null,{"$f":"_xlfn.IFNA(VLOOKUP(Table1[[#This Row],[Building]],$K$17:$L$50,2,FALSE),\"\")","v":""},null,"Public Historic Facilities",0,0]
["360",null,{"$f":"_xlfn.IFNA(VLOOKUP(Table1[[#This Row],[Building]],$K$17:$L$50,2,FALSE),\"\")","v":""},null,"Public Historic Facilities",19623.156269089788,19908.483582773355]
["365",null,{"$f":"_xlfn.IFNA(VLOOKUP(Table1[[#This Row],[Building]],$K$17:$L$50,2,FALSE),\"\")","v":""},null,"Public Historic Facilities",9520.1451206475267,9658.5712431276734]
["370",null,{"$f":"_xlfn.IFNA(VLOOKUP(Table1[[#This Row],[Building]],$K$17:$L$50,2,FALSE),\"\")","v":""},null,"Public Historic Facilities",0,0]
["375",null,{"$f":"_xlfn.IFNA(VLOOKUP(Table1[[#This Row],[Building]],$K$17:$L$50,2,FALSE),\"\")","v":""},null,"Public Historic Facilities",0,0]
["376",null,{"$f":"_xlfn.IFNA(VLOOKUP(Table1[[#This Row],[Building]],$K$17:$L$50,2,FALSE),\"\")","v":""},null,"Public Historic Facilities",106081.61705864377,107624.07956627969]
["380",null,{"$f":"_xlfn.IFNA(VLOOKUP(Table1[[#This Row],[Building]],$K$17:$L$50,2,FALSE),\"\")","v":""},null,"Public Historic Facilities",0,0]
["387",null,{"$f":"_xlfn.IFNA(VLOOKUP(Table1[[#This Row],[Building]],$K$17:$L$50,2,FALSE),\"\")","v":""},null,"Public Historic Facilities",0,0]
["390",null,{"$f":"_xlfn.IFNA(VLOOKUP(Table1[[#This Row],[Building]],$K$17:$L$50,2,FALSE),\"\")","v":""},null,"Public Historic Facilities",5051.5055742211352,5124.9561698228463]
["395",null,{"$f":"_xlfn.IFNA(VLOOKUP(Table1[[#This Row],[Building]],$K$17:$L$50,2,FALSE),\"\")","v":""},null,"Public Historic Facilities",0,0]
["405",null,{"$f":"_xlfn.IFNA(VLOOKUP(Table1[[#This Row],[Building]],$K$17:$L$50,2,FALSE),\"\")","v":""},null,"Public Historic Facilities",310084.72678680491,314593.46334758686]
["406",null,{"$f":"_xlfn.IFNA(VLOOKUP(Table1[[#This Row],[Building]],$K$17:$L$50,2,FALSE),\"\")","v":""},null,"Public Historic Facilities",2914.3301389737317,2956.7054825901032]
["407",null,{"$f":"_xlfn.IFNA(VLOOKUP(Table1[[#This Row],[Building]],$K$17:$L$50,2,FALSE),\"\")","v":""},null,"Public Historic Facilities",1942.8867593158195,1971.1369883934003]
["410",null,{"$f":"_xlfn.IFNA(VLOOKUP(Table1[[#This Row],[Building]],$K$17:$L$50,2,FALSE),\"\")","v":""},null,"Public Historic Facilities",1165.7320555894917,1182.6821930360402]
["411",null,{"$f":"_xlfn.IFNA(VLOOKUP(Table1[[#This Row],[Building]],$K$17:$L$50,2,FALSE),\"\")","v":""},null,"Public Historic Facilities",388.57735186316438,394.22739767868057]
["460",null,{"$f":"_xlfn.IFNA(VLOOKUP(Table1[[#This Row],[Building]],$K$17:$L$50,2,FALSE),\"\")","v":""},null,"Public Historic Facilities",0,0]
["461",null,{"$f":"_xlfn.IFNA(VLOOKUP(Table1[[#This Row],[Building]],$K$17:$L$50,2,FALSE),\"\")","v":""},null,"Public Historic Facilities",197397.29474648763,200267.51802076987]
["462",null,{"$f":"_xlfn.IFNA(VLOOKUP(Table1[[#This Row],[Building]],$K$17:$L$50,2,FALSE),\"\")","v":""},null,"Public Historic Facilities",4080.0621945632233,4139.3876756261434]
["463",null,{"$f":"_xlfn.IFNA(VLOOKUP(Table1[[#This Row],[Building]],$K$17:$L$50,2,FALSE),\"\")","v":""},null,"Public Historic Facilities",1942.8867593158195,1971.1369883934003]
["465",null,{"$f":"_xlfn.IFNA(VLOOKUP(Table1[[#This Row],[Building]],$K$17:$L$50,2,FALSE),\"\")","v":""},null,"Public Historic Facilities",40023.467241905906,40605.421960904074]
["467",null,{"$f":"_xlfn.IFNA(VLOOKUP(Table1[[#This Row],[Building]],$K$17:$L$50,2,FALSE),\"\")","v":""},null,"Public Historic Facilities",13211.629963347572,13403.731521075122]
["468",null,{"$f":"_xlfn.IFNA(VLOOKUP(Table1[[#This Row],[Building]],$K$17:$L$50,2,FALSE),\"\")","v":""},null,"Public Historic Facilities",1942.8867593158195,1971.1369883934003]
["471",null,{"$f":"_xlfn.IFNA(VLOOKUP(Table1[[#This Row],[Building]],$K$17:$L$50,2,FALSE),\"\")","v":""},null,"Public Historic Facilities",3108.6188149053164,3153.819181429446]
["477",null,{"$f":"_xlfn.IFNA(VLOOKUP(Table1[[#This Row],[Building]],$K$17:$L$50,2,FALSE),\"\")","v":""},null,"Public Historic Facilities",159511.00293982873,161830.34674709811]
["478",null,{"$f":"_xlfn.IFNA(VLOOKUP(Table1[[#This Row],[Building]],$K$17:$L$50,2,FALSE),\"\")","v":""},null,"Public Historic Facilities",5051.5055742211352,5124.9561698228463]
["490",null,{"$f":"_xlfn.IFNA(VLOOKUP(Table1[[#This Row],[Building]],$K$17:$L$50,2,FALSE),\"\")","v":""},null,"Public Historic Facilities",143773.62018937088,145864.13714111186]
["495",null,{"$f":"_xlfn.IFNA(VLOOKUP(Table1[[#This Row],[Building]],$K$17:$L$50,2,FALSE),\"\")","v":""},null,"Public Historic Facilities",47212.148251374449,47898.62881795966]
["540",null,{"$f":"_xlfn.IFNA(VLOOKUP(Table1[[#This Row],[Building]],$K$17:$L$50,2,FALSE),\"\")","v":""},null,"Public Historic Facilities",269672.68219303619,273593.81398900441]
["541",null,{"$f":"_xlfn.IFNA(VLOOKUP(Table1[[#This Row],[Building]],$K$17:$L$50,2,FALSE),\"\")","v":""},null,"Public Historic Facilities",0,0]
["542",null,{"$f":"_xlfn.IFNA(VLOOKUP(Table1[[#This Row],[Building]],$K$17:$L$50,2,FALSE),\"\")","v":""},null,"Public Historic Facilities",0,0]
["543",null,{"$f":"_xlfn.IFNA(VLOOKUP(Table1[[#This Row],[Building]],$K$17:$L$50,2,FALSE),\"\")","v":""},null,"Public Historic Facilities",0,0]
["544",null,{"$f":"_xlfn.IFNA(VLOOKUP(Table1[[#This Row],[Building]],$K$17:$L$50,2,FALSE),\"\")","v":""},null,"Public Historic Facilities",0,0]
["699",null,{"$f":"_xlfn.IFNA(VLOOKUP(Table1[[#This Row],[Building]],$K$17:$L$50,2,FALSE),\"\")","v":""},null,"Public Historic Facilities",47989.302955100771,48687.083613317023]
["037","F6133",{"$f":"_xlfn.IFNA(VLOOKUP(Table1[[#This Row],[Building]],$K$17:$L$50,2,FALSE),\"\")","v":"1007 Washington"},5.9091838196490198E-3,"Rent CSM",{"$f":"VLOOKUP(E834,K:M,2,FALSE)*D834","v":161557.06790165274},{"$f":"VLOOKUP(E834,K:M,3,FALSE)*D834","v":163625.29405689755}]
["350","F613G",{"$f":"_xlfn.IFNA(VLOOKUP(Table1[[#This Row],[Building]],$K$17:$L$50,2,FALSE),\"\")","v":"1068 WA Street SE (ST Farm)"},1.2983190312002954E-3,"Rent CSM",35496.038418058983,35950.452675617147]
["315","F6143",{"$f":"_xlfn.IFNA(VLOOKUP(Table1[[#This Row],[Building]],$K$17:$L$50,2,FALSE),\"\")","v":"Alaska Street"},1.0772138777756351E-2,"Rent CSM",294510.24186744232,298280.51198393462]
["085","F6127",{"$f":"_xlfn.IFNA(VLOOKUP(Table1[[#This Row],[Building]],$K$17:$L$50,2,FALSE),\"\")","v":"Archives"},1.7633085530188424E-2,"Rent CSM",482088.50549609493,488260.12069783191]
["050","F613D",{"$f":"_xlfn.IFNA(VLOOKUP(Table1[[#This Row],[Building]],$K$17:$L$50,2,FALSE),\"\")","v":"Capital Court"},4.7412860258755751E-3,"Rent CSM",129626.74572358014,131286.20531520864]
["086","F613D",{"$f":"_xlfn.IFNA(VLOOKUP(Table1[[#This Row],[Building]],$K$17:$L$50,2,FALSE),\"\")","v":"Capital Court"},1.2020419837582132E-3,"Rent CSM",32863.8242298236,33284.541328222942]
["087","F613D",{"$f":"_xlfn.IFNA(VLOOKUP(Table1[[#This Row],[Building]],$K$17:$L$50,2,FALSE),\"\")","v":"Capital Court"},7.9067243291412975E-4,"Rent CSM",21616.981943855008,21893.71887671982]
["099","F613D",{"$f":"_xlfn.IFNA(VLOOKUP(Table1[[#This Row],[Building]],$K$17:$L$50,2,FALSE),\"\")","v":"Capital Court"},6.1018289724311739E-4,"Rent CSM",16682.398580078137,16895.963814479022]
["101","F613D",{"$f":"_xlfn.IFNA(VLOOKUP(Table1[[#This Row],[Building]],$K$17:$L$50,2,FALSE),\"\")","v":"Capital Court"},4.7238784056839542E-3,"Rent CSM",129150.8214397641,130804.18832951029]
["105","F613D",{"$f":"_xlfn.IFNA(VLOOKUP(Table1[[#This Row],[Building]],$K$17:$L$50,2,FALSE),\"\")","v":"Capital Court"},6.4041718494435313E-4,"Rent CSM",17509.003915127061,17733.151210691954]
["118","F613D",{"$f":"_xlfn.IFNA(VLOOKUP(Table1[[#This Row],[Building]],$K$17:$L$50,2,FALSE),\"\")","v":"Capital Court"},7.9067243291412975E-4,"Rent CSM",21616.981943855008,21893.71887671982]
["119","F613D",{"$f":"_xlfn.IFNA(VLOOKUP(Table1[[#This Row],[Building]],$K$17:$L$50,2,FALSE),\"\")","v":"Capital Court"},7.9067243291412975E-4,"Rent CSM",21616.981943855008,21893.71887671982]
["142","F613D",{"$f":"_xlfn.IFNA(VLOOKUP(Table1[[#This Row],[Building]],$K$17:$L$50,2,FALSE),\"\")","v":"Capital Court"},4.2786098049930306E-3,"Rent CSM",116977.17923268004,118474.70122164721]
["147","F613D",{"$f":"_xlfn.IFNA(VLOOKUP(Table1[[#This Row],[Building]],$K$17:$L$50,2,FALSE),\"\")","v":"Capital Court"},4.4151221949167915E-3,"Rent CSM",120709.42756365849,122254.72916212377]
["179","F613D",{"$f":"_xlfn.IFNA(VLOOKUP(Table1[[#This Row],[Building]],$K$17:$L$50,2,FALSE),\"\")","v":"Capital Court"},4.9272727047649928E-3,"Rent CSM",134711.6209664568,136436.17626766994]
["355","F613D",{"$f":"_xlfn.IFNA(VLOOKUP(Table1[[#This Row],[Building]],$K$17:$L$50,2,FALSE),\"\")","v":"Capital Court"},8.5535548478404572E-3,"Rent CSM",233854.16387929357,236847.92518314742]
["478","F613D",{"$f":"_xlfn.IFNA(VLOOKUP(Table1[[#This Row],[Building]],$K$17:$L$50,2,FALSE),\"\")","v":"Capital Court"},1.2661753213062889E-3,"Rent CSM",34617.229485987977,35060.393380795816]
["012","F6121",{"$f":"_xlfn.IFNA(VLOOKUP(Table1[[#This Row],[Building]],$K$17:$L$50,2,FALSE),\"\")","v":"Cherberg"},4.2326386332724591E-2,"Rent CSM",1157203.2753575314,1172017.5952267577]
["540","F612A",{"$f":"_xlfn.IFNA(VLOOKUP(Table1[[#This Row],[Building]],$K$17:$L$50,2,FALSE),\"\")","v":"Emp Sec"},3.7566707276895782E-2,"Rent CSM",1027073.6642502089,1040222.0869305369]
["014","F613M",{"$f":"_xlfn.IFNA(VLOOKUP(Table1[[#This Row],[Building]],$K$17:$L$50,2,FALSE),\"\")","v":"Helen Sommers"},2.700636544321483E-3,"Rent CSM",73835.395019839707,74780.623211625323]
["020","F613M",{"$f":"_xlfn.IFNA(VLOOKUP(Table1[[#This Row],[Building]],$K$17:$L$50,2,FALSE),\"\")","v":"Helen Sommers"},1.289389091657033E-3,"Rent CSM",35251.893897736009,35703.182658594153]
["038","F613M",{"$f":"_xlfn.IFNA(VLOOKUP(Table1[[#This Row],[Building]],$K$17:$L$50,2,FALSE),\"\")","v":"Helen Sommers"},3.6372137728124037E-3,"Rent CSM",99441.413637049802,100714.44573196169]
["075","F613M",{"$f":"_xlfn.IFNA(VLOOKUP(Table1[[#This Row],[Building]],$K$17:$L$50,2,FALSE),\"\")","v":"Helen Sommers"},4.2334384718062988E-3,"Rent CSM",115742.1951188688,117223.90705087794]
["090","F613M",{"$f":"_xlfn.IFNA(VLOOKUP(Table1[[#This Row],[Building]],$K$17:$L$50,2,FALSE),\"\")","v":"Helen Sommers"},3.9246901057625695E-3,"Rent CSM",107301.01571747834,108674.66510387545]
["179","F613M",{"$f":"_xlfn.IFNA(VLOOKUP(Table1[[#This Row],[Building]],$K$17:$L$50,2,FALSE),\"\")","v":"Helen Sommers"},9.1165856115274551E-5,"Rent CSM",2492.4742326940377,2524.382464666096]
["225","F613M",{"$f":"_xlfn.IFNA(VLOOKUP(Table1[[#This Row],[Building]],$K$17:$L$50,2,FALSE),\"\")","v":"Helen Sommers"},4.5080604190442117E-2,"Rent CSM",1232503.583324875,1248281.8849527379]
["100","F6125",{"$f":"_xlfn.IFNA(VLOOKUP(Table1[[#This Row],[Building]],$K$17:$L$50,2,FALSE),\"\")","v":"HLB"},3.1127191288525896E-2,"Rent CSM",851017.31644672411,861911.89565209078]
["240","F6125",{"$f":"_xlfn.IFNA(VLOOKUP(Table1[[#This Row],[Building]],$K$17:$L$50,2,FALSE),\"\")","v":"HLB"},4.4634967053568272E-2,"Rent CSM",1220319.8653396554,1235942.1930783384]
["315","F6125",{"$f":"_xlfn.IFNA(VLOOKUP(Table1[[#This Row],[Building]],$K$17:$L$50,2,FALSE),\"\")","v":"HLB"},3.7195448778810935E-4,"Rent CSM",10169.234580263446,10299.419394898261]
["095","F612E",{"$f":"_xlfn.IFNA(VLOOKUP(Table1[[#This Row],[Building]],$K$17:$L$50,2,FALSE),\"\")","v":"Insurance"},3.4717046808296543E-3,"Rent CSM",94916.395558768709,96131.499140468441]
["105","F612E",{"$f":"_xlfn.IFNA(VLOOKUP(Table1[[#This Row],[Building]],$K$17:$L$50,2,FALSE),\"\")","v":"Insurance"},1.8964721912400593E-2,"Rent CSM",{"$f":"(VLOOKUP(E864,K:M,2,FALSE)*D864)","v":518495.44019086647},{"$f":"(VLOOKUP(E864,K:M,3,FALSE)*D864)","v":525133.13078965049}]
["075","F612E",{"$f":"_xlfn.IFNA(VLOOKUP(Table1[[#This Row],[Building]],$K$17:$L$50,2,FALSE),\"\")","v":"Insurance"},3.6170602341000918E-3,"Rent CSM",{"$f":"(VLOOKUP(E865,K:M,2,FALSE)*D865)","v":98890.415949115806},{"$f":"(VLOOKUP(E865,K:M,3,FALSE)*D865)","v":100156.39426517132}]
["160","F612E",{"$f":"_xlfn.IFNA(VLOOKUP(Table1[[#This Row],[Building]],$K$17:$L$50,2,FALSE),\"\")","v":"Insurance"},3.7841147870116116E-3,"Rent CSM",{"$f":"VLOOKUP(E866,K:M,2,FALSE)*D866","v":103457.6869245531},{"$f":"VLOOKUP(E866,K:M,3,FALSE)*D866","v":104782.13466823674}]
["085","F6132",{"$f":"_xlfn.IFNA(VLOOKUP(Table1[[#This Row],[Building]],$K$17:$L$50,2,FALSE),\"\")","v":"Isabella Bush"},1.6575954454603477E-2,"Rent CSM",453186.54506099568,458988.16227201582]
["085","F613E",{"$f":"_xlfn.IFNA(VLOOKUP(Table1[[#This Row],[Building]],$K$17:$L$50,2,FALSE),\"\")","v":"James Dolliver Building"},1.6545585888962589E-2,"Rent CSM",452356.26856747951,458147.25671978819]
["235","F6141",{"$f":"_xlfn.IFNA(VLOOKUP(Table1[[#This Row],[Building]],$K$17:$L$50,2,FALSE),\"\")","v":"Kelso Building"},6.8974124723909305E-3,"Rent CSM",188575.23630293063,190989.34446309239]
["300","F6141",{"$f":"_xlfn.IFNA(VLOOKUP(Table1[[#This Row],[Building]],$K$17:$L$50,2,FALSE),\"\")","v":"Kelso Building"},1.9377299148678619E-2,"Rent CSM",529775.30059297604,536557.39404961176]
["307","F6141",{"$f":"_xlfn.IFNA(VLOOKUP(Table1[[#This Row],[Building]],$K$17:$L$50,2,FALSE),\"\")","v":"Kelso Building"},1.4203070514929189E-2,"Rent CSM",388311.90526895248,393283.00835531874]
["011","F6123",{"$f":"_xlfn.IFNA(VLOOKUP(Table1[[#This Row],[Building]],$K$17:$L$50,2,FALSE),\"\")","v":"Legislative"},3.5729311426427102E-2,"Rent CSM",976839.26721058274,989344.59766845498]
["012","F6123",{"$f":"_xlfn.IFNA(VLOOKUP(Table1[[#This Row],[Building]],$K$17:$L$50,2,FALSE),\"\")","v":"Legislative"},2.984987436382746E-2,"Rent CSM",816095.4755574197,826542.99128450803]
["037","F6123",{"$f":"_xlfn.IFNA(VLOOKUP(Table1[[#This Row],[Building]],$K$17:$L$50,2,FALSE),\"\")","v":"Legislative"},3.9267226203465603E-3,"Rent CSM",107356.5846601071,108730.94543067363]
["038","F6123",{"$f":"_xlfn.IFNA(VLOOKUP(Table1[[#This Row],[Building]],$K$17:$L$50,2,FALSE),\"\")","v":"Legislative"},9.01434817243647E-4,"Rent CSM",24645.225199136858,24960.729188041769]
["075","F6123",{"$f":"_xlfn.IFNA(VLOOKUP(Table1[[#This Row],[Building]],$K$17:$L$50,2,FALSE),\"\")","v":"Legislative"},1.3609851829548219E-2,"Rent CSM",372093.30819029285,376856.78355033835]
["080","F6123",{"$f":"_xlfn.IFNA(VLOOKUP(Table1[[#This Row],[Building]],$K$17:$L$50,2,FALSE),\"\")","v":"Legislative"},6.9985411795451639E-3,"Rent CSM",191340.09485314126,193789.5982630644]
["085","F6123",{"$f":"_xlfn.IFNA(VLOOKUP(Table1[[#This Row],[Building]],$K$17:$L$50,2,FALSE),\"\")","v":"Legislative"},8.3991958037137691E-3,"Rent CSM",229633.98807594704,232573.72340563845]
["090","F6123",{"$f":"_xlfn.IFNA(VLOOKUP(Table1[[#This Row],[Building]],$K$17:$L$50,2,FALSE),\"\")","v":"Legislative"},8.4504585011073285E-3,"Rent CSM",231035.51006889885,233993.18744520342]
["179","F6123",{"$f":"_xlfn.IFNA(VLOOKUP(Table1[[#This Row],[Building]],$K$17:$L$50,2,FALSE),\"\")","v":"Legislative"},1.2523871301687761E-3,"Rent CSM",34240.260381652952,34678.598381986281]
["225","F6123",{"$f":"_xlfn.IFNA(VLOOKUP(Table1[[#This Row],[Building]],$K$17:$L$50,2,FALSE),\"\")","v":"Legislative"},4.1010157914846574E-4,"Rent CSM",11212.175943614317,11355.712316519437]
["315","F6123",{"$f":"_xlfn.IFNA(VLOOKUP(Table1[[#This Row],[Building]],$K$17:$L$50,2,FALSE),\"\")","v":"Legislative"},4.6609621783989097E-4,"Rent CSM",12743.069197453966,12906.203805890364]
["085","F6131",{"$f":"_xlfn.IFNA(VLOOKUP(Table1[[#This Row],[Building]],$K$17:$L$50,2,FALSE),\"\")","v":"Modular Bldg"},1.561902668368713E-3,"Rent CSM",42702.414267492612,43249.083325226995]
["179","F6131",{"$f":"_xlfn.IFNA(VLOOKUP(Table1[[#This Row],[Building]],$K$17:$L$50,2,FALSE),\"\")","v":"Modular Bldg"},2.1782448307033679E-2,"Rent CSM",595532.07136695588,603155.97183931421]
["012","F612K",{"$f":"_xlfn.IFNA(VLOOKUP(Table1[[#This Row],[Building]],$K$17:$L$50,2,FALSE),\"\")","v":"Newhouse"},1.178369593340094E-2,"Rent CSM",322166.21146809391,326290.52861217607]
["315","F6129",{"$f":"_xlfn.IFNA(VLOOKUP(Table1[[#This Row],[Building]],$K$17:$L$50,2,FALSE),\"\")","v":"NRB"},1.0613793133030613E-3,"Rent CSM",29018.107241567755,29389.592123982457]
["467","F6129",{"$f":"_xlfn.IFNA(VLOOKUP(Table1[[#This Row],[Building]],$K$17:$L$50,2,FALSE),\"\")","v":"NRB"},4.1510397431928792E-3,"Rent CSM",113489.41412577408,114942.28633797108]
["477","F6129",{"$f":"_xlfn.IFNA(VLOOKUP(Table1[[#This Row],[Building]],$K$17:$L$50,2,FALSE),\"\")","v":"NRB"},4.9218216892467838E-2,"Rent CSM",1345625.90218542,1362852.3765342175]
["490","F6129",{"$f":"_xlfn.IFNA(VLOOKUP(Table1[[#This Row],[Building]],$K$17:$L$50,2,FALSE),\"\")","v":"NRB"},5.3751030068341206E-2,"Rent CSM",1469553.0008153585,1488365.9688413378]
["495","F6129",{"$f":"_xlfn.IFNA(VLOOKUP(Table1[[#This Row],[Building]],$K$17:$L$50,2,FALSE),\"\")","v":"NRB"},1.6909015770900922E-2,"Rent CSM",462292.44044938392,468210.62978723075]
["163","F6126",{"$f":"_xlfn.IFNA(VLOOKUP(Table1[[#This Row],[Building]],$K$17:$L$50,2,FALSE),\"\")","v":"OB2"},1.2098450663402649E-4,"Rent CSM",3307.7160484207643,3350.0608677116866]
["179","F6126",{"$f":"_xlfn.IFNA(VLOOKUP(Table1[[#This Row],[Building]],$K$17:$L$50,2,FALSE),\"\")","v":"OB2"},7.4664155557926676E-3,"Rent CSM",204131.77889612486,206745.03927348342]
["300","F6126",{"$f":"_xlfn.IFNA(VLOOKUP(Table1[[#This Row],[Building]],$K$17:$L$50,2,FALSE),\"\")","v":"OB2"},7.461480661443122E-2,"Rent CSM",2039968.5889941298,2066083.9205387938]
["307","F6126",{"$f":"_xlfn.IFNA(VLOOKUP(Table1[[#This Row],[Building]],$K$17:$L$50,2,FALSE),\"\")","v":"OB2"},1.967470741600779E-2,"Rent CSM",537906.44172953069,544792.62867454835]
["315","F6126",{"$f":"_xlfn.IFNA(VLOOKUP(Table1[[#This Row],[Building]],$K$17:$L$50,2,FALSE),\"\")","v":"OB2"},1.0645840633092792E-3,"Rent CSM",29105.725097123504,29478.331648449879]
["011","F6122",{"$f":"_xlfn.IFNA(VLOOKUP(Table1[[#This Row],[Building]],$K$17:$L$50,2,FALSE),\"\")","v":"O'Brien"},1.8514872625965254E-2,"Rent CSM",506196.56204927218,512676.80449810525]
["350","F612H",{"$f":"_xlfn.IFNA(VLOOKUP(Table1[[#This Row],[Building]],$K$17:$L$50,2,FALSE),\"\")","v":"Old Cap"},4.2898035006843423E-2,"Rent CSM",1172832.1483929942,1187846.5464414593]
["037","F6124",{"$f":"_xlfn.IFNA(VLOOKUP(Table1[[#This Row],[Building]],$K$17:$L$50,2,FALSE),\"\")","v":"Pritchard"},3.0406317869945375E-3,"Rent CSM",83130.8639345353,84195.091141246958]
["038","F6124",{"$f":"_xlfn.IFNA(VLOOKUP(Table1[[#This Row],[Building]],$K$17:$L$50,2,FALSE),\"\")","v":"Pritchard"},5.8769220972391279E-3,"Rent CSM",160675.03250775146,162731.96699562937]
["040","F6124",{"$f":"_xlfn.IFNA(VLOOKUP(Table1[[#This Row],[Building]],$K$17:$L$50,2,FALSE),\"\")","v":"Pritchard"},9.3660336796474071E-3,"Rent CSM",256067.33270345908,259345.46322340303]
["045","F612J",{"$f":"_xlfn.IFNA(VLOOKUP(Table1[[#This Row],[Building]],$K$17:$L$50,2,FALSE),\"\")","v":"TOJ"},1.897708303610084E-2,"Rent CSM",518833.39327574783,525475.41029254918]
["046","F612J",{"$f":"_xlfn.IFNA(VLOOKUP(Table1[[#This Row],[Building]],$K$17:$L$50,2,FALSE),\"\")","v":"TOJ"},8.6207621169888862E-3,"Rent CSM",235691.6104161898,238708.89439866014]
["055","F612J",{"$f":"_xlfn.IFNA(VLOOKUP(Table1[[#This Row],[Building]],$K$17:$L$50,2,FALSE),\"\")","v":"TOJ"},2.3768880373148111E-3,"Rent CSM",64984.111809522823,65816.027376359081]
["315","F612C",{"$f":"_xlfn.IFNA(VLOOKUP(Table1[[#This Row],[Building]],$K$17:$L$50,2,FALSE),\"\")","v":"Transportation"},5.5272023519414523E-4,"Rent CSM",15111.369572047224,15304.822759805646]
["405","F612C",{"$f":"_xlfn.IFNA(VLOOKUP(Table1[[#This Row],[Building]],$K$17:$L$50,2,FALSE),\"\")","v":"Transportation"},7.0532729427393456E-2,"Rent CSM",1928364.6109467489,1953051.2073117953]
["300","F6142",{"$f":"_xlfn.IFNA(VLOOKUP(Table1[[#This Row],[Building]],$K$17:$L$50,2,FALSE),\"\")","v":"Yakima Building"},3.6741886881862605E-2,"Rent CSM",1004523.0771244629,1017382.8110168887]
["307","F6142",{"$f":"_xlfn.IFNA(VLOOKUP(Table1[[#This Row],[Building]],$K$17:$L$50,2,FALSE),\"\")","v":"Yakima Building"},1.5582678351165257E-2,"Rent CSM",426030.37937282311,431484.34796108765]
["011","PHF",{"$f":"_xlfn.IFNA(VLOOKUP(Table1[[#This Row],[Building]],$K$17:$L$50,2,FALSE),\"\")","v":""},6.7237319634358295E-3,"Security on Campus",42157.765792082835,42198.141802523263]
["011",null,{"$f":"_xlfn.IFNA(VLOOKUP(Table1[[#This Row],[Building]],$K$17:$L$50,2,FALSE),\"\")","v":""},null,"Security on Campus",233627.25194718817,233851.00517951816]
["012","PHF",{"$f":"_xlfn.IFNA(VLOOKUP(Table1[[#This Row],[Building]],$K$17:$L$50,2,FALSE),\"\")","v":""},4.5093292209869035E-3,"Security on Campus",{"$f":"VLOOKUP(E910,K:M,2,FALSE)*D910","v":28273.47166894178},{"$f":"VLOOKUP(E910,K:M,3,FALSE)*D910","v":28300.550190913807}]
["012",null,{"$f":"_xlfn.IFNA(VLOOKUP(Table1[[#This Row],[Building]],$K$17:$L$50,2,FALSE),\"\")","v":""},null,"Security on Campus",240240.87759967963,240470.96493945998]
["013","PHF",{"$f":"_xlfn.IFNA(VLOOKUP(Table1[[#This Row],[Building]],$K$17:$L$50,2,FALSE),\"\")","v":""},8.0523736089051868E-5,"Security on Campus",{"$f":"VLOOKUP(E912,K:M,2,FALSE)*D912","v":504.88342265967475},{"$f":"VLOOKUP(E912,K:M,3,FALSE)*D912","v":505.36696769488952}]
["013",null,{"$f":"_xlfn.IFNA(VLOOKUP(Table1[[#This Row],[Building]],$K$17:$L$50,2,FALSE),\"\")","v":""},null,"Security on Campus",504.88342265967475,505.36696769488952]
["014","PHF",{"$f":"_xlfn.IFNA(VLOOKUP(Table1[[#This Row],[Building]],$K$17:$L$50,2,FALSE),\"\")","v":""},5.4353521860110005E-4,"Security on Campus",{"$f":"VLOOKUP(E914,K:M,2,FALSE)*D914","v":3407.9631029528041},{"$f":"VLOOKUP(E914,K:M,3,FALSE)*D914","v":3411.2270319405038}]
["014",null,{"$f":"_xlfn.IFNA(VLOOKUP(Table1[[#This Row],[Building]],$K$17:$L$50,2,FALSE),\"\")","v":""},null,"Security on Campus",17141.754798221664,17158.17207408286]
["020","PHF",{"$f":"_xlfn.IFNA(VLOOKUP(Table1[[#This Row],[Building]],$K$17:$L$50,2,FALSE),\"\")","v":""},2.214402742448926E-4,"Security on Campus",{"$f":"VLOOKUP(E916,K:M,2,FALSE)*D916","v":1388.4294123141053},{"$f":"VLOOKUP(E916,K:M,3,FALSE)*D916","v":1389.759161160946}]
["020",null,{"$f":"_xlfn.IFNA(VLOOKUP(Table1[[#This Row],[Building]],$K$17:$L$50,2,FALSE),\"\")","v":""},null,"Security on Campus",7945.4765781772512,7953.0862472203607]
["035","PHF",{"$f":"_xlfn.IFNA(VLOOKUP(Table1[[#This Row],[Building]],$K$17:$L$50,2,FALSE),\"\")","v":""},3.8248774642299631E-4,"Security on Campus",{"$f":"VLOOKUP(E918,K:M,2,FALSE)*D918","v":2398.1962576334549},{"$f":"VLOOKUP(E918,K:M,3,FALSE)*D918","v":2400.4930965507247}]
["035",null,{"$f":"_xlfn.IFNA(VLOOKUP(Table1[[#This Row],[Building]],$K$17:$L$50,2,FALSE),\"\")","v":""},null,"Security on Campus",2398.1962576334549,2400.4930965507247]
["036",null,{"$f":"_xlfn.IFNA(VLOOKUP(Table1[[#This Row],[Building]],$K$17:$L$50,2,FALSE),\"\")","v":""},null,"Security on Campus",0,0]
["037","PHF",{"$f":"_xlfn.IFNA(VLOOKUP(Table1[[#This Row],[Building]],$K$17:$L$50,2,FALSE),\"\")","v":""},6.8445175675694073E-4,"Security on Campus",{"$f":"VLOOKUP(E921,K:M,2,FALSE)*D921","v":4291.5090926072344},{"$f":"VLOOKUP(E921,K:M,3,FALSE)*D921","v":4295.61922540656}]
["037",null,{"$f":"_xlfn.IFNA(VLOOKUP(Table1[[#This Row],[Building]],$K$17:$L$50,2,FALSE),\"\")","v":""},null,"Security on Campus",40237.046937994171,40275.583406821126]
["038","PHF",{"$f":"_xlfn.IFNA(VLOOKUP(Table1[[#This Row],[Building]],$K$17:$L$50,2,FALSE),\"\")","v":""},1.0468085691576741E-3,"Security on Campus",{"$f":"VLOOKUP(E923,K:M,2,FALSE)*D923","v":6563.4844945757704},{"$f":"VLOOKUP(E923,K:M,3,FALSE)*D923","v":6569.7705800335625}]
["038",null,{"$f":"_xlfn.IFNA(VLOOKUP(Table1[[#This Row],[Building]],$K$17:$L$50,2,FALSE),\"\")","v":""},null,"Security on Campus",38693.479221292866,38730.537359732189]
["040","PHF",{"$f":"_xlfn.IFNA(VLOOKUP(Table1[[#This Row],[Building]],$K$17:$L$50,2,FALSE),\"\")","v":""},7.8510642686825563E-4,"Security on Campus",{"$f":"VLOOKUP(E925,K:M,2,FALSE)*D925","v":4922.6133709318283},{"$f":"VLOOKUP(E925,K:M,3,FALSE)*D925","v":4927.3279350251723}]
["040",null,{"$f":"_xlfn.IFNA(VLOOKUP(Table1[[#This Row],[Building]],$K$17:$L$50,2,FALSE),\"\")","v":""},null,"Security on Campus",23834.973308672379,23857.800920930218]
["045","PHF",{"$f":"_xlfn.IFNA(VLOOKUP(Table1[[#This Row],[Building]],$K$17:$L$50,2,FALSE),\"\")","v":""},1.2078560413357779E-3,"Security on Campus",{"$f":"VLOOKUP(E927,K:M,2,FALSE)*D927","v":7573.2513398951205},{"$f":"VLOOKUP(E927,K:M,3,FALSE)*D927","v":7580.5045154233421}]
["045",null,{"$f":"_xlfn.IFNA(VLOOKUP(Table1[[#This Row],[Building]],$K$17:$L$50,2,FALSE),\"\")","v":""},null,"Security on Campus",60023.447146964449,60080.933763798675]
["046","PHF",{"$f":"_xlfn.IFNA(VLOOKUP(Table1[[#This Row],[Building]],$K$17:$L$50,2,FALSE),\"\")","v":""},1.6104747217810374E-4,"Security on Campus",{"$f":"VLOOKUP(E929,K:M,2,FALSE)*D929","v":1009.7668453193495},{"$f":"VLOOKUP(E929,K:M,3,FALSE)*D929","v":1010.733935389779}]
["046",null,{"$f":"_xlfn.IFNA(VLOOKUP(Table1[[#This Row],[Building]],$K$17:$L$50,2,FALSE),\"\")","v":""},null,"Security on Campus",24836.435052549608,24860.221800783147]
["048","PHF",{"$f":"_xlfn.IFNA(VLOOKUP(Table1[[#This Row],[Building]],$K$17:$L$50,2,FALSE),\"\")","v":""},2.0130934022262967E-5,"Security on Campus",{"$f":"VLOOKUP(E931,K:M,2,FALSE)*D931","v":126.22085566491869},{"$f":"VLOOKUP(E931,K:M,3,FALSE)*D931","v":126.34174192372238}]
["048",null,{"$f":"_xlfn.IFNA(VLOOKUP(Table1[[#This Row],[Building]],$K$17:$L$50,2,FALSE),\"\")","v":""},null,"Security on Campus",126.22085566491869,126.34174192372238]
["050","PHF",{"$f":"_xlfn.IFNA(VLOOKUP(Table1[[#This Row],[Building]],$K$17:$L$50,2,FALSE),\"\")","v":""},1.4091653815584074E-4,"Security on Campus",{"$f":"VLOOKUP(E933,K:M,2,FALSE)*D933","v":883.54598965443063},{"$f":"VLOOKUP(E933,K:M,3,FALSE)*D933","v":884.39219346605648}]
["050",null,{"$f":"_xlfn.IFNA(VLOOKUP(Table1[[#This Row],[Building]],$K$17:$L$50,2,FALSE),\"\")","v":""},null,"Security on Campus",8880.8872772673876,8889.3928228220484]
["055","PHF",{"$f":"_xlfn.IFNA(VLOOKUP(Table1[[#This Row],[Building]],$K$17:$L$50,2,FALSE),\"\")","v":""},5.8782327345007854E-3,"Security on Campus",{"$f":"VLOOKUP(E935,K:M,2,FALSE)*D935","v":36856.489854156251},{"$f":"VLOOKUP(E935,K:M,3,FALSE)*D935","v":36891.788641726933}]
["055",null,{"$f":"_xlfn.IFNA(VLOOKUP(Table1[[#This Row],[Building]],$K$17:$L$50,2,FALSE),\"\")","v":""},null,"Security on Campus",43425.90005969107,43467.490607986314]
["056","PHF",{"$f":"_xlfn.IFNA(VLOOKUP(Table1[[#This Row],[Building]],$K$17:$L$50,2,FALSE),\"\")","v":""},6.0392802066788894E-4,"Security on Campus",{"$f":"VLOOKUP(E937,K:M,2,FALSE)*D937","v":3786.6256699475603},{"$f":"VLOOKUP(E937,K:M,3,FALSE)*D937","v":3790.2522577116711}]
["056",null,{"$f":"_xlfn.IFNA(VLOOKUP(Table1[[#This Row],[Building]],$K$17:$L$50,2,FALSE),\"\")","v":""},null,"Security on Campus",3786.6256699475603,3790.2522577116711]
["057","PHF",{"$f":"_xlfn.IFNA(VLOOKUP(Table1[[#This Row],[Building]],$K$17:$L$50,2,FALSE),\"\")","v":""},1.4091653815584074E-4,"Security on Campus",{"$f":"VLOOKUP(E939,K:M,2,FALSE)*D939","v":883.54598965443063},{"$f":"VLOOKUP(E939,K:M,3,FALSE)*D939","v":884.39219346605648}]
["057",null,{"$f":"_xlfn.IFNA(VLOOKUP(Table1[[#This Row],[Building]],$K$17:$L$50,2,FALSE),\"\")","v":""},null,"Security on Campus",883.54598965443063,884.39219346605648]
["075","PHF",{"$f":"_xlfn.IFNA(VLOOKUP(Table1[[#This Row],[Building]],$K$17:$L$50,2,FALSE),\"\")","v":""},1.147463239268989E-3,"Security on Campus",{"$f":"VLOOKUP(E941,K:M,2,FALSE)*D941","v":7194.5887729003643},{"$f":"VLOOKUP(E941,K:M,3,FALSE)*D941","v":7201.4792896521749}]
["075",null,{"$f":"_xlfn.IFNA(VLOOKUP(Table1[[#This Row],[Building]],$K$17:$L$50,2,FALSE),\"\")","v":""},null,"Security on Campus",115738.98633026438,115849.83372534416]
["080","PHF",{"$f":"_xlfn.IFNA(VLOOKUP(Table1[[#This Row],[Building]],$K$17:$L$50,2,FALSE),\"\")","v":""},1.4091653815584074E-4,"Security on Campus",{"$f":"VLOOKUP(E943,K:M,2,FALSE)*D943","v":883.54598965443063},{"$f":"VLOOKUP(E943,K:M,3,FALSE)*D943","v":884.39219346605648}]
["080",null,{"$f":"_xlfn.IFNA(VLOOKUP(Table1[[#This Row],[Building]],$K$17:$L$50,2,FALSE),\"\")","v":""},null,"Security on Campus",14597.247745456822,14611.22805528346]
["082","PHF",{"$f":"_xlfn.IFNA(VLOOKUP(Table1[[#This Row],[Building]],$K$17:$L$50,2,FALSE),\"\")","v":""},5.8379708664562594E-4,"Security on Campus",{"$f":"VLOOKUP(E945,K:M,2,FALSE)*D945","v":3660.4048142826414},{"$f":"VLOOKUP(E945,K:M,3,FALSE)*D945","v":3663.9105157879485}]
["082",null,{"$f":"_xlfn.IFNA(VLOOKUP(Table1[[#This Row],[Building]],$K$17:$L$50,2,FALSE),\"\")","v":""},null,"Security on Campus",3660.4048142826414,3663.9105157879485]
["083",null,{"$f":"_xlfn.IFNA(VLOOKUP(Table1[[#This Row],[Building]],$K$17:$L$50,2,FALSE),\"\")","v":""},null,"Security on Campus",0,0]
["085","PHF",{"$f":"_xlfn.IFNA(VLOOKUP(Table1[[#This Row],[Building]],$K$17:$L$50,2,FALSE),\"\")","v":""},4.3080198807642738E-3,"Security on Campus",{"$f":"VLOOKUP(E948,K:M,2,FALSE)*D948","v":27011.263112292592},{"$f":"VLOOKUP(E948,K:M,3,FALSE)*D948","v":27037.132771676581}]
["085",null,{"$f":"_xlfn.IFNA(VLOOKUP(Table1[[#This Row],[Building]],$K$17:$L$50,2,FALSE),\"\")","v":""},null,"Security on Campus",143128.02246855586,143265.10132985059]
["086","PHF",{"$f":"_xlfn.IFNA(VLOOKUP(Table1[[#This Row],[Building]],$K$17:$L$50,2,FALSE),\"\")","v":""},4.0261868044525934E-5,"Security on Campus",{"$f":"VLOOKUP(E950,K:M,2,FALSE)*D950","v":252.44171132983737},{"$f":"VLOOKUP(E950,K:M,3,FALSE)*D950","v":252.68348384744476}]
["086",null,{"$f":"_xlfn.IFNA(VLOOKUP(Table1[[#This Row],[Building]],$K$17:$L$50,2,FALSE),\"\")","v":""},null,"Security on Campus",2279.9802174840788,2282.1638366426255]
["087","PHF",{"$f":"_xlfn.IFNA(VLOOKUP(Table1[[#This Row],[Building]],$K$17:$L$50,2,FALSE),\"\")","v":""},4.0261868044525934E-5,"Security on Campus",{"$f":"VLOOKUP(E952,K:M,2,FALSE)*D952","v":252.44171132983737},{"$f":"VLOOKUP(E952,K:M,3,FALSE)*D952","v":252.68348384744476}]
["087",null,{"$f":"_xlfn.IFNA(VLOOKUP(Table1[[#This Row],[Building]],$K$17:$L$50,2,FALSE),\"\")","v":""},null,"Security on Campus",1586.1046159114762,1587.6236854192746]
["090","PHF",{"$f":"_xlfn.IFNA(VLOOKUP(Table1[[#This Row],[Building]],$K$17:$L$50,2,FALSE),\"\")","v":""},1.2481179093803039E-3,"Security on Campus",{"$f":"VLOOKUP(E954,K:M,2,FALSE)*D954","v":7825.6930512249583},{"$f":"VLOOKUP(E954,K:M,3,FALSE)*D954","v":7833.1879992707873},null,null,null,{"$f":"39050/41707","v":0.93629366772963774}]
["090",null,{"$f":"_xlfn.IFNA(VLOOKUP(Table1[[#This Row],[Building]],$K$17:$L$50,2,FALSE),\"\")","v":""},null,"Security on Campus",44343.021481426731,44385.490389933984,null,null,null,6.3706332270362265E-2]
["091",null,{"$f":"_xlfn.IFNA(VLOOKUP(Table1[[#This Row],[Building]],$K$17:$L$50,2,FALSE),\"\")","v":""},null,"Security on Campus",0,0]
["095","PHF",{"$f":"_xlfn.IFNA(VLOOKUP(Table1[[#This Row],[Building]],$K$17:$L$50,2,FALSE),\"\")","v":""},3.6638299920518595E-3,"Security on Campus",{"$f":"VLOOKUP(E957,K:M,2,FALSE)*D957","v":22972.195731015199},{"$f":"VLOOKUP(E957,K:M,3,FALSE)*D957","v":22994.19703011747}]
["095",null,{"$f":"_xlfn.IFNA(VLOOKUP(Table1[[#This Row],[Building]],$K$17:$L$50,2,FALSE),\"\")","v":""},null,"Security on Campus",32881.17202786047,32912.663510393919]
["099","PHF",{"$f":"_xlfn.IFNA(VLOOKUP(Table1[[#This Row],[Building]],$K$17:$L$50,2,FALSE),\"\")","v":""},4.0261868044525934E-5,"Security on Campus",{"$f":"VLOOKUP(E959,K:M,2,FALSE)*D959","v":252.44171132983737},{"$f":"VLOOKUP(E959,K:M,3,FALSE)*D959","v":252.68348384744476}]
["099",null,{"$f":"_xlfn.IFNA(VLOOKUP(Table1[[#This Row],[Building]],$K$17:$L$50,2,FALSE),\"\")","v":""},null,"Security on Campus",1281.6647639965486,1282.8922604949985]
["100","PHF",{"$f":"_xlfn.IFNA(VLOOKUP(Table1[[#This Row],[Building]],$K$17:$L$50,2,FALSE),\"\")","v":""},1.405139194753955E-2,"Security on Campus",{"$f":"VLOOKUP(E961,K:M,2,FALSE)*D961","v":88102.157254113248},{"$f":"VLOOKUP(E961,K:M,3,FALSE)*D961","v":88186.535862758217}]
["100",null,{"$f":"_xlfn.IFNA(VLOOKUP(Table1[[#This Row],[Building]],$K$17:$L$50,2,FALSE),\"\")","v":""},null,"Security on Campus",204463.08664389202,204658.90830488165]
["101","PHF",{"$f":"_xlfn.IFNA(VLOOKUP(Table1[[#This Row],[Building]],$K$17:$L$50,2,FALSE),\"\")","v":""},2.4157120826715555E-4,"Security on Campus",{"$f":"VLOOKUP(E963,K:M,2,FALSE)*D963","v":1514.650267979024},{"$f":"VLOOKUP(E963,K:M,3,FALSE)*D963","v":1516.1009030846683}]
["101",null,{"$f":"_xlfn.IFNA(VLOOKUP(Table1[[#This Row],[Building]],$K$17:$L$50,2,FALSE),\"\")","v":""},null,"Security on Campus",9482.6293363717596,9491.7111919657291]
["102","PHF",{"$f":"_xlfn.IFNA(VLOOKUP(Table1[[#This Row],[Building]],$K$17:$L$50,2,FALSE),\"\")","v":""},3.2209494435620745E-3,"Security on Campus",{"$f":"VLOOKUP(E965,K:M,2,FALSE)*D965","v":20195.33690638699},{"$f":"VLOOKUP(E965,K:M,3,FALSE)*D965","v":20214.678707795581}]
["102",null,{"$f":"_xlfn.IFNA(VLOOKUP(Table1[[#This Row],[Building]],$K$17:$L$50,2,FALSE),\"\")","v":""},null,"Security on Campus",20195.33690638699,20214.678707795581]
["103","PHF",{"$f":"_xlfn.IFNA(VLOOKUP(Table1[[#This Row],[Building]],$K$17:$L$50,2,FALSE),\"\")","v":""},7.750409598571241E-3,"Security on Campus",{"$f":"VLOOKUP(E967,K:M,2,FALSE)*D967","v":48595.029430993687},{"$f":"VLOOKUP(E967,K:M,3,FALSE)*D967","v":48641.570640633108}]
["103",null,{"$f":"_xlfn.IFNA(VLOOKUP(Table1[[#This Row],[Building]],$K$17:$L$50,2,FALSE),\"\")","v":""},null,"Security on Campus",48595.029430993687,48641.570640633108]
["104","PHF",{"$f":"_xlfn.IFNA(VLOOKUP(Table1[[#This Row],[Building]],$K$17:$L$50,2,FALSE),\"\")","v":""},1.2078560413357778E-4,"Security on Campus",{"$f":"VLOOKUP(E969,K:M,2,FALSE)*D969","v":757.32513398951198},{"$f":"VLOOKUP(E969,K:M,3,FALSE)*D969","v":758.05045154233414}]
["104",null,{"$f":"_xlfn.IFNA(VLOOKUP(Table1[[#This Row],[Building]],$K$17:$L$50,2,FALSE),\"\")","v":""},null,"Security on Campus",757.32513398951198,758.05045154233414]
["105","PHF",{"$f":"_xlfn.IFNA(VLOOKUP(Table1[[#This Row],[Building]],$K$17:$L$50,2,FALSE),\"\")","v":""},9.6829792647084873E-3,"Security on Campus",{"$f":"VLOOKUP(E971,K:M,2,FALSE)*D971","v":60712.231574825892},{"$f":"VLOOKUP(E971,K:M,3,FALSE)*D971","v":60770.377865310467}]
["105",null,{"$f":"_xlfn.IFNA(VLOOKUP(Table1[[#This Row],[Building]],$K$17:$L$50,2,FALSE),\"\")","v":""},null,"Security on Campus",61792.452166138246,61851.633022782895]
["107","PHF",{"$f":"_xlfn.IFNA(VLOOKUP(Table1[[#This Row],[Building]],$K$17:$L$50,2,FALSE),\"\")","v":""},2.8646319113680201E-2,"Security on Campus",{"$f":"VLOOKUP(E973,K:M,2,FALSE)*D973","v":179612.27761117928},{"$f":"VLOOKUP(E973,K:M,3,FALSE)*D973","v":179784.29875745694}]
["107",null,{"$f":"_xlfn.IFNA(VLOOKUP(Table1[[#This Row],[Building]],$K$17:$L$50,2,FALSE),\"\")","v":""},null,"Security on Campus",179612.27761117928,179784.29875745694]
["110","PHF",{"$f":"_xlfn.IFNA(VLOOKUP(Table1[[#This Row],[Building]],$K$17:$L$50,2,FALSE),\"\")","v":""},1.7513912599368779E-3,"Security on Campus",{"$f":"VLOOKUP(E975,K:M,2,FALSE)*D975","v":10981.214442847924},{"$f":"VLOOKUP(E975,K:M,3,FALSE)*D975","v":10991.731547363846}]
["110",null,{"$f":"_xlfn.IFNA(VLOOKUP(Table1[[#This Row],[Building]],$K$17:$L$50,2,FALSE),\"\")","v":""},null,"Security on Campus",10981.214442847924,10991.731547363846]
["116","PHF",{"$f":"_xlfn.IFNA(VLOOKUP(Table1[[#This Row],[Building]],$K$17:$L$50,2,FALSE),\"\")","v":""},1.5299509856919853E-3,"Security on Campus",{"$f":"VLOOKUP(E977,K:M,2,FALSE)*D977","v":9592.7850305338197},{"$f":"VLOOKUP(E977,K:M,3,FALSE)*D977","v":9601.9723862028986}]
["116",null,{"$f":"_xlfn.IFNA(VLOOKUP(Table1[[#This Row],[Building]],$K$17:$L$50,2,FALSE),\"\")","v":""},null,"Security on Campus",9592.7850305338197,9601.9723862028986]
["117","PHF",{"$f":"_xlfn.IFNA(VLOOKUP(Table1[[#This Row],[Building]],$K$17:$L$50,2,FALSE),\"\")","v":""},9.2602296502409642E-4,"Security on Campus",{"$f":"VLOOKUP(E979,K:M,2,FALSE)*D979","v":5806.159360586259},{"$f":"VLOOKUP(E979,K:M,3,FALSE)*D979","v":5811.7201284912289}]
["117",null,{"$f":"_xlfn.IFNA(VLOOKUP(Table1[[#This Row],[Building]],$K$17:$L$50,2,FALSE),\"\")","v":""},null,"Security on Campus",5806.159360586259,5811.7201284912289]
["118","PHF",{"$f":"_xlfn.IFNA(VLOOKUP(Table1[[#This Row],[Building]],$K$17:$L$50,2,FALSE),\"\")","v":""},4.0261868044525934E-5,"Security on Campus",{"$f":"VLOOKUP(E981,K:M,2,FALSE)*D981","v":252.44171132983737},{"$f":"VLOOKUP(E981,K:M,3,FALSE)*D981","v":252.68348384744476}]
["118",null,{"$f":"_xlfn.IFNA(VLOOKUP(Table1[[#This Row],[Building]],$K$17:$L$50,2,FALSE),\"\")","v":""},null,"Security on Campus",1780.8224907403135,1782.528048568812]
["119","PHF",{"$f":"_xlfn.IFNA(VLOOKUP(Table1[[#This Row],[Building]],$K$17:$L$50,2,FALSE),\"\")","v":""},6.0392802066788888E-5,"Security on Campus",{"$f":"VLOOKUP(E983,K:M,2,FALSE)*D983","v":378.66256699475599},{"$f":"VLOOKUP(E983,K:M,3,FALSE)*D983","v":379.02522577116707}]
["119",null,{"$f":"_xlfn.IFNA(VLOOKUP(Table1[[#This Row],[Building]],$K$17:$L$50,2,FALSE),\"\")","v":""},null,"Security on Campus",1712.3254715763949,1713.9654273429969]
["120","PHF",{"$f":"_xlfn.IFNA(VLOOKUP(Table1[[#This Row],[Building]],$K$17:$L$50,2,FALSE),\"\")","v":""},3.8248774642299631E-4,"Security on Campus",{"$f":"VLOOKUP(E985,K:M,2,FALSE)*D985","v":2398.1962576334549},{"$f":"VLOOKUP(E985,K:M,3,FALSE)*D985","v":2400.4930965507247}]
["120",null,{"$f":"_xlfn.IFNA(VLOOKUP(Table1[[#This Row],[Building]],$K$17:$L$50,2,FALSE),\"\")","v":""},null,"Security on Campus",2398.1962576334549,2400.4930965507247]
["124","PHF",{"$f":"_xlfn.IFNA(VLOOKUP(Table1[[#This Row],[Building]],$K$17:$L$50,2,FALSE),\"\")","v":""},5.3548284499219485E-3,"Security on Campus",{"$f":"VLOOKUP(E987,K:M,2,FALSE)*D987","v":33574.747606868368},{"$f":"VLOOKUP(E987,K:M,3,FALSE)*D987","v":33606.903351710149}]
["124",null,{"$f":"_xlfn.IFNA(VLOOKUP(Table1[[#This Row],[Building]],$K$17:$L$50,2,FALSE),\"\")","v":""},null,"Security on Campus",33574.747606868368,33606.903351710149]
["126","PHF",{"$f":"_xlfn.IFNA(VLOOKUP(Table1[[#This Row],[Building]],$K$17:$L$50,2,FALSE),\"\")","v":""},1.7715221939591408E-3,"Security on Campus",{"$f":"VLOOKUP(E989,K:M,2,FALSE)*D989","v":11107.435298512843},{"$f":"VLOOKUP(E989,K:M,3,FALSE)*D989","v":11118.073289287568}]
["126",null,{"$f":"_xlfn.IFNA(VLOOKUP(Table1[[#This Row],[Building]],$K$17:$L$50,2,FALSE),\"\")","v":""},null,"Security on Campus",11107.435298512843,11118.073289287568]
["140","PHF",{"$f":"_xlfn.IFNA(VLOOKUP(Table1[[#This Row],[Building]],$K$17:$L$50,2,FALSE),\"\")","v":""},1.256170282989209E-2,"Security on Campus",{"$f":"VLOOKUP(E991,K:M,2,FALSE)*D991","v":78761.813934909253},{"$f":"VLOOKUP(E991,K:M,3,FALSE)*D991","v":78837.246960402757}]
["140",null,{"$f":"_xlfn.IFNA(VLOOKUP(Table1[[#This Row],[Building]],$K$17:$L$50,2,FALSE),\"\")","v":""},null,"Security on Campus",78761.813934909253,78837.246960402757]
["142","PHF",{"$f":"_xlfn.IFNA(VLOOKUP(Table1[[#This Row],[Building]],$K$17:$L$50,2,FALSE),\"\")","v":""},3.2209494435620747E-4,"Security on Campus",{"$f":"VLOOKUP(E993,K:M,2,FALSE)*D993","v":2019.533690638699},{"$f":"VLOOKUP(E993,K:M,3,FALSE)*D993","v":2021.4678707795581}]
["142",null,{"$f":"_xlfn.IFNA(VLOOKUP(Table1[[#This Row],[Building]],$K$17:$L$50,2,FALSE),\"\")","v":""},null,"Security on Campus",9236.4580989773494,9245.3041875124054]
["147","PHF",{"$f":"_xlfn.IFNA(VLOOKUP(Table1[[#This Row],[Building]],$K$17:$L$50,2,FALSE),\"\")","v":""},6.4418988871241495E-4,"Security on Campus",{"$f":"VLOOKUP(E995,K:M,2,FALSE)*D995","v":4039.067381277398},{"$f":"VLOOKUP(E995,K:M,3,FALSE)*D995","v":4042.9357415591162}]
["147",null,{"$f":"_xlfn.IFNA(VLOOKUP(Table1[[#This Row],[Building]],$K$17:$L$50,2,FALSE),\"\")","v":""},null,"Security on Campus",11597.520760545991,11608.62812381615]
["160","PHF",{"$f":"_xlfn.IFNA(VLOOKUP(Table1[[#This Row],[Building]],$K$17:$L$50,2,FALSE),\"\")","v":""},4.3482817488088004E-3,"Security on Campus",{"$f":"VLOOKUP(E997,K:M,2,FALSE)*D997","v":27263.704823622433},{"$f":"VLOOKUP(E997,K:M,3,FALSE)*D997","v":27289.816255524031}]
["160",null,{"$f":"_xlfn.IFNA(VLOOKUP(Table1[[#This Row],[Building]],$K$17:$L$50,2,FALSE),\"\")","v":""},null,"Security on Campus",38064.365356787064,38100.820970223358]
["163","PHF",{"$f":"_xlfn.IFNA(VLOOKUP(Table1[[#This Row],[Building]],$K$17:$L$50,2,FALSE),\"\")","v":""},5.4353521860110001E-3,"Security on Campus",{"$f":"VLOOKUP(E999,K:M,2,FALSE)*D999","v":34079.631029528042},{"$f":"VLOOKUP(E999,K:M,3,FALSE)*D999","v":34112.270319405034}]
["163",null,{"$f":"_xlfn.IFNA(VLOOKUP(Table1[[#This Row],[Building]],$K$17:$L$50,2,FALSE),\"\")","v":""},null,"Security on Campus",34549.426537051586,34582.515767003919]
["165","PHF",{"$f":"_xlfn.IFNA(VLOOKUP(Table1[[#This Row],[Building]],$K$17:$L$50,2,FALSE),\"\")","v":""},1.6104747217810374E-4,"Security on Campus",{"$f":"VLOOKUP(E1001,K:M,2,FALSE)*D1001","v":1009.7668453193495},{"$f":"VLOOKUP(E1001,K:M,3,FALSE)*D1001","v":1010.733935389779}]
["165",null,{"$f":"_xlfn.IFNA(VLOOKUP(Table1[[#This Row],[Building]],$K$17:$L$50,2,FALSE),\"\")","v":""},null,"Security on Campus",1009.7668453193495,1010.733935389779]
["166","PHF",{"$f":"_xlfn.IFNA(VLOOKUP(Table1[[#This Row],[Building]],$K$17:$L$50,2,FALSE),\"\")","v":""},1.6104747217810374E-4,"Security on Campus",{"$f":"VLOOKUP(E1003,K:M,2,FALSE)*D1003","v":1009.7668453193495},{"$f":"VLOOKUP(E1003,K:M,3,FALSE)*D1003","v":1010.733935389779}]
["166",null,{"$f":"_xlfn.IFNA(VLOOKUP(Table1[[#This Row],[Building]],$K$17:$L$50,2,FALSE),\"\")","v":""},null,"Security on Campus",1009.7668453193495,1010.733935389779]
["167","PHF",{"$f":"_xlfn.IFNA(VLOOKUP(Table1[[#This Row],[Building]],$K$17:$L$50,2,FALSE),\"\")","v":""},0,"Security on Campus",{"$f":"VLOOKUP(E1005,K:M,2,FALSE)*D1005","v":0},{"$f":"VLOOKUP(E1005,K:M,3,FALSE)*D1005","v":0}]
["167",null,{"$f":"_xlfn.IFNA(VLOOKUP(Table1[[#This Row],[Building]],$K$17:$L$50,2,FALSE),\"\")","v":""},null,"Security on Campus",0,0]
["179","PHF",{"$f":"_xlfn.IFNA(VLOOKUP(Table1[[#This Row],[Building]],$K$17:$L$50,2,FALSE),\"\")","v":""},1.4675450902229702E-2,"Security on Campus",{"$f":"VLOOKUP(E1007,K:M,2,FALSE)*D1007","v":92015.003779725725},{"$f":"VLOOKUP(E1007,K:M,3,FALSE)*D1007","v":92103.129862393616}]
["179",null,{"$f":"_xlfn.IFNA(VLOOKUP(Table1[[#This Row],[Building]],$K$17:$L$50,2,FALSE),\"\")","v":""},null,"Security on Campus",132236.60797155226,132363.25573297299]
["185","PHF",{"$f":"_xlfn.IFNA(VLOOKUP(Table1[[#This Row],[Building]],$K$17:$L$50,2,FALSE),\"\")","v":""},4.0261868044525934E-5,"Security on Campus",{"$f":"VLOOKUP(E1009,K:M,2,FALSE)*D1009","v":252.44171132983737},{"$f":"VLOOKUP(E1009,K:M,3,FALSE)*D1009","v":252.68348384744476}]
["185",null,{"$f":"_xlfn.IFNA(VLOOKUP(Table1[[#This Row],[Building]],$K$17:$L$50,2,FALSE),\"\")","v":""},null,"Security on Campus",252.44171132983737,252.68348384744476]
["190","PHF",{"$f":"_xlfn.IFNA(VLOOKUP(Table1[[#This Row],[Building]],$K$17:$L$50,2,FALSE),\"\")","v":""},1.8923077980927188E-3,"Security on Campus",{"$f":"VLOOKUP(E1011,K:M,2,FALSE)*D1011","v":11864.760432502357},{"$f":"VLOOKUP(E1011,K:M,3,FALSE)*D1011","v":11876.123740829904}]
["190",null,{"$f":"_xlfn.IFNA(VLOOKUP(Table1[[#This Row],[Building]],$K$17:$L$50,2,FALSE),\"\")","v":""},null,"Security on Campus",11864.760432502357,11876.123740829904]
["195","PHF",{"$f":"_xlfn.IFNA(VLOOKUP(Table1[[#This Row],[Building]],$K$17:$L$50,2,FALSE),\"\")","v":""},4.589852957075956E-3,"Security on Campus",{"$f":"VLOOKUP(E1013,K:M,2,FALSE)*D1013","v":28778.355091601457},{"$f":"VLOOKUP(E1013,K:M,3,FALSE)*D1013","v":28805.9171586087}]
["195",null,{"$f":"_xlfn.IFNA(VLOOKUP(Table1[[#This Row],[Building]],$K$17:$L$50,2,FALSE),\"\")","v":""},null,"Security on Campus",28778.355091601457,28805.9171586087]
["205","PHF",{"$f":"_xlfn.IFNA(VLOOKUP(Table1[[#This Row],[Building]],$K$17:$L$50,2,FALSE),\"\")","v":""},0,"Security on Campus",{"$f":"VLOOKUP(E1015,K:M,2,FALSE)*D1015","v":0},{"$f":"VLOOKUP(E1015,K:M,3,FALSE)*D1015","v":0}]
["205",null,{"$f":"_xlfn.IFNA(VLOOKUP(Table1[[#This Row],[Building]],$K$17:$L$50,2,FALSE),\"\")","v":""},null,"Security on Campus",0,0]
["215","PHF",{"$f":"_xlfn.IFNA(VLOOKUP(Table1[[#This Row],[Building]],$K$17:$L$50,2,FALSE),\"\")","v":""},2.5566286208273965E-3,"Security on Campus",{"$f":"VLOOKUP(E1017,K:M,2,FALSE)*D1017","v":16030.048669444672},{"$f":"VLOOKUP(E1017,K:M,3,FALSE)*D1017","v":16045.40122431274}]
["215",null,{"$f":"_xlfn.IFNA(VLOOKUP(Table1[[#This Row],[Building]],$K$17:$L$50,2,FALSE),\"\")","v":""},null,"Security on Campus",16030.048669444672,16045.40122431274]
["220","PHF",{"$f":"_xlfn.IFNA(VLOOKUP(Table1[[#This Row],[Building]],$K$17:$L$50,2,FALSE),\"\")","v":""},8.0523736089051868E-5,"Security on Campus",{"$f":"VLOOKUP(E1019,K:M,2,FALSE)*D1019","v":504.88342265967475},{"$f":"VLOOKUP(E1019,K:M,3,FALSE)*D1019","v":505.36696769488952}]
["220",null,{"$f":"_xlfn.IFNA(VLOOKUP(Table1[[#This Row],[Building]],$K$17:$L$50,2,FALSE),\"\")","v":""},null,"Security on Campus",504.88342265967475,505.36696769488952]
["225","PHF",{"$f":"_xlfn.IFNA(VLOOKUP(Table1[[#This Row],[Building]],$K$17:$L$50,2,FALSE),\"\")","v":""},1.1051882778222367E-2,"Security on Campus",{"$f":"VLOOKUP(E1021,K:M,2,FALSE)*D1021","v":69295.249760040359},{"$f":"VLOOKUP(E1021,K:M,3,FALSE)*D1021","v":69361.616316123575}]
["225",null,{"$f":"_xlfn.IFNA(VLOOKUP(Table1[[#This Row],[Building]],$K$17:$L$50,2,FALSE),\"\")","v":""},null,"Security on Campus",299351.3281103936,299638.02765725175]
["227","PHF",{"$f":"_xlfn.IFNA(VLOOKUP(Table1[[#This Row],[Building]],$K$17:$L$50,2,FALSE),\"\")","v":""},8.0523736089051868E-5,"Security on Campus",{"$f":"VLOOKUP(E1023,K:M,2,FALSE)*D1023","v":504.88342265967475},{"$f":"VLOOKUP(E1023,K:M,3,FALSE)*D1023","v":505.36696769488952}]
["227",null,{"$f":"_xlfn.IFNA(VLOOKUP(Table1[[#This Row],[Building]],$K$17:$L$50,2,FALSE),\"\")","v":""},null,"Security on Campus",504.88342265967475,505.36696769488952]
["228","PHF",{"$f":"_xlfn.IFNA(VLOOKUP(Table1[[#This Row],[Building]],$K$17:$L$50,2,FALSE),\"\")","v":""},4.6301148251204821E-4,"Security on Campus",{"$f":"VLOOKUP(E1025,K:M,2,FALSE)*D1025","v":2903.0796802931295},{"$f":"VLOOKUP(E1025,K:M,3,FALSE)*D1025","v":2905.8600642456145}]
["228",null,{"$f":"_xlfn.IFNA(VLOOKUP(Table1[[#This Row],[Building]],$K$17:$L$50,2,FALSE),\"\")","v":""},null,"Security on Campus",2903.0796802931295,2905.8600642456145]
["229",null,{"$f":"_xlfn.IFNA(VLOOKUP(Table1[[#This Row],[Building]],$K$17:$L$50,2,FALSE),\"\")","v":""},null,"Security on Campus",0,0]
["235","PHF",{"$f":"_xlfn.IFNA(VLOOKUP(Table1[[#This Row],[Building]],$K$17:$L$50,2,FALSE),\"\")","v":""},4.2174306776640906E-2,"Security on Campus",{"$f":"VLOOKUP(E1028,K:M,2,FALSE)*D1028","v":264432.69261800457},{"$f":"VLOOKUP(E1028,K:M,3,FALSE)*D1028","v":264685.94933019835}]
["235",null,{"$f":"_xlfn.IFNA(VLOOKUP(Table1[[#This Row],[Building]],$K$17:$L$50,2,FALSE),\"\")","v":""},null,"Security on Campus",264432.69261800457,264685.94933019835]
["240","PHF",{"$f":"_xlfn.IFNA(VLOOKUP(Table1[[#This Row],[Building]],$K$17:$L$50,2,FALSE),\"\")","v":""},1.7071032050878992E-2,"Security on Campus",{"$f":"VLOOKUP(E1030,K:M,2,FALSE)*D1030","v":107035.28560385102},{"$f":"VLOOKUP(E1030,K:M,3,FALSE)*D1030","v":107137.79715131655}]
["240",null,{"$f":"_xlfn.IFNA(VLOOKUP(Table1[[#This Row],[Building]],$K$17:$L$50,2,FALSE),\"\")","v":""},null,"Security on Campus",268003.60750898207,268260.2842149589]
["245","PHF",{"$f":"_xlfn.IFNA(VLOOKUP(Table1[[#This Row],[Building]],$K$17:$L$50,2,FALSE),\"\")","v":""},0,"Security on Campus",{"$f":"VLOOKUP(E1032,K:M,2,FALSE)*D1032","v":0},{"$f":"VLOOKUP(E1032,K:M,3,FALSE)*D1032","v":0}]
["245",null,{"$f":"_xlfn.IFNA(VLOOKUP(Table1[[#This Row],[Building]],$K$17:$L$50,2,FALSE),\"\")","v":""},null,"Security on Campus",0,0]
["275","PHF",{"$f":"_xlfn.IFNA(VLOOKUP(Table1[[#This Row],[Building]],$K$17:$L$50,2,FALSE),\"\")","v":""},4.2274961446752226E-4,"Security on Campus",{"$f":"VLOOKUP(E1034,K:M,2,FALSE)*D1034","v":2650.6379689632922},{"$f":"VLOOKUP(E1034,K:M,3,FALSE)*D1034","v":2653.1765803981698}]
["275",null,{"$f":"_xlfn.IFNA(VLOOKUP(Table1[[#This Row],[Building]],$K$17:$L$50,2,FALSE),\"\")","v":""},null,"Security on Campus",2650.6379689632922,2653.1765803981698]
["300","PHF",{"$f":"_xlfn.IFNA(VLOOKUP(Table1[[#This Row],[Building]],$K$17:$L$50,2,FALSE),\"\")","v":""},5.5480854165356731E-2,"Security on Campus",{"$f":"VLOOKUP(E1036,K:M,2,FALSE)*D1036","v":347864.67821251589},{"$f":"VLOOKUP(E1036,K:M,3,FALSE)*D1036","v":348197.84074177884}]
["300",null,{"$f":"_xlfn.IFNA(VLOOKUP(Table1[[#This Row],[Building]],$K$17:$L$50,2,FALSE),\"\")","v":""},null,"Security on Campus",637601.78519790771,638212.43938824022]
["303","PHF",{"$f":"_xlfn.IFNA(VLOOKUP(Table1[[#This Row],[Building]],$K$17:$L$50,2,FALSE),\"\")","v":""},4.2214568644685438E-2,"Security on Campus",{"$f":"VLOOKUP(E1038,K:M,2,FALSE)*D1038","v":264685.13432933448},{"$f":"VLOOKUP(E1038,K:M,3,FALSE)*D1038","v":264938.63281404582}]
["303",null,{"$f":"_xlfn.IFNA(VLOOKUP(Table1[[#This Row],[Building]],$K$17:$L$50,2,FALSE),\"\")","v":""},null,"Security on Campus",264685.13432933448,264938.63281404582]
["305","PHF",{"$f":"_xlfn.IFNA(VLOOKUP(Table1[[#This Row],[Building]],$K$17:$L$50,2,FALSE),\"\")","v":""},1.9527006001595075E-3,"Security on Campus",{"$f":"VLOOKUP(E1040,K:M,2,FALSE)*D1040","v":12243.422999497112},{"$f":"VLOOKUP(E1040,K:M,3,FALSE)*D1040","v":12255.148966601069}]
["305",null,{"$f":"_xlfn.IFNA(VLOOKUP(Table1[[#This Row],[Building]],$K$17:$L$50,2,FALSE),\"\")","v":""},null,"Security on Campus",12243.422999497112,12255.148966601069]
["307","PHF",{"$f":"_xlfn.IFNA(VLOOKUP(Table1[[#This Row],[Building]],$K$17:$L$50,2,FALSE),\"\")","v":""},1.860098303657098E-2,"Security on Campus",{"$f":"VLOOKUP(E1042,K:M,2,FALSE)*D1042","v":116628.07063438486},{"$f":"VLOOKUP(E1042,K:M,3,FALSE)*D1042","v":116739.76953751947}]
["307",null,{"$f":"_xlfn.IFNA(VLOOKUP(Table1[[#This Row],[Building]],$K$17:$L$50,2,FALSE),\"\")","v":""},null,"Security on Campus",193027.0196654422,193211.88859326288]
["310","PHF",{"$f":"_xlfn.IFNA(VLOOKUP(Table1[[#This Row],[Building]],$K$17:$L$50,2,FALSE),\"\")","v":""},2.3331752531802776E-2,"Security on Campus",{"$f":"VLOOKUP(E1044,K:M,2,FALSE)*D1044","v":146289.97171564074},{"$f":"VLOOKUP(E1044,K:M,3,FALSE)*D1044","v":146430.07888959421}]
["310",null,{"$f":"_xlfn.IFNA(VLOOKUP(Table1[[#This Row],[Building]],$K$17:$L$50,2,FALSE),\"\")","v":""},null,"Security on Campus",146289.97171564074,146430.07888959421]
["315","PHF",{"$f":"_xlfn.IFNA(VLOOKUP(Table1[[#This Row],[Building]],$K$17:$L$50,2,FALSE),\"\")","v":""},3.6235681240073337E-4,"Security on Campus",{"$f":"VLOOKUP(E1046,K:M,2,FALSE)*D1046","v":2271.9754019685361},{"$f":"VLOOKUP(E1046,K:M,3,FALSE)*D1046","v":2274.1513546270025}]
["315",null,{"$f":"_xlfn.IFNA(VLOOKUP(Table1[[#This Row],[Building]],$K$17:$L$50,2,FALSE),\"\")","v":""},null,"Security on Campus",15546.789249426563,15561.678969345448]
["340","PHF",{"$f":"_xlfn.IFNA(VLOOKUP(Table1[[#This Row],[Building]],$K$17:$L$50,2,FALSE),\"\")","v":""},2.1137480723376111E-3,"Security on Campus",{"$f":"VLOOKUP(E1048,K:M,2,FALSE)*D1048","v":13253.189844816459},{"$f":"VLOOKUP(E1048,K:M,3,FALSE)*D1048","v":13265.882901990848}]
["340",null,{"$f":"_xlfn.IFNA(VLOOKUP(Table1[[#This Row],[Building]],$K$17:$L$50,2,FALSE),\"\")","v":""},null,"Security on Campus",13253.189844816459,13265.882901990848]
["341","PHF",{"$f":"_xlfn.IFNA(VLOOKUP(Table1[[#This Row],[Building]],$K$17:$L$50,2,FALSE),\"\")","v":""},1.6104747217810374E-4,"Security on Campus",{"$f":"VLOOKUP(E1050,K:M,2,FALSE)*D1050","v":1009.7668453193495},{"$f":"VLOOKUP(E1050,K:M,3,FALSE)*D1050","v":1010.733935389779}]
["341",null,{"$f":"_xlfn.IFNA(VLOOKUP(Table1[[#This Row],[Building]],$K$17:$L$50,2,FALSE),\"\")","v":""},null,"Security on Campus",1009.7668453193495,1010.733935389779]
["350","PHF",{"$f":"_xlfn.IFNA(VLOOKUP(Table1[[#This Row],[Building]],$K$17:$L$50,2,FALSE),\"\")","v":""},9.139444046107387E-3,"Security on Campus",{"$f":"VLOOKUP(E1052,K:M,2,FALSE)*D1052","v":57304.268471873089},{"$f":"VLOOKUP(E1052,K:M,3,FALSE)*D1052","v":57359.15083336996}]
["350",null,{"$f":"_xlfn.IFNA(VLOOKUP(Table1[[#This Row],[Building]],$K$17:$L$50,2,FALSE),\"\")","v":""},null,"Security on Campus",210820.76821490371,211022.67885648005]
["351","PHF",{"$f":"_xlfn.IFNA(VLOOKUP(Table1[[#This Row],[Building]],$K$17:$L$50,2,FALSE),\"\")","v":""},4.0261868044525934E-5,"Security on Campus",{"$f":"VLOOKUP(E1054,K:M,2,FALSE)*D1054","v":252.44171132983737},{"$f":"VLOOKUP(E1054,K:M,3,FALSE)*D1054","v":252.68348384744476}]
["351",null,{"$f":"_xlfn.IFNA(VLOOKUP(Table1[[#This Row],[Building]],$K$17:$L$50,2,FALSE),\"\")","v":""},null,"Security on Campus",252.44171132983737,252.68348384744476]
["353","PHF",{"$f":"_xlfn.IFNA(VLOOKUP(Table1[[#This Row],[Building]],$K$17:$L$50,2,FALSE),\"\")","v":""},0,"Security on Campus",{"$f":"VLOOKUP(E1056,K:M,2,FALSE)*D1056","v":0},{"$f":"VLOOKUP(E1056,K:M,3,FALSE)*D1056","v":0}]
["353",null,{"$f":"_xlfn.IFNA(VLOOKUP(Table1[[#This Row],[Building]],$K$17:$L$50,2,FALSE),\"\")","v":""},null,"Security on Campus",0,0]
["354","PHF",{"$f":"_xlfn.IFNA(VLOOKUP(Table1[[#This Row],[Building]],$K$17:$L$50,2,FALSE),\"\")","v":""},4.831424165343111E-4,"Security on Campus",{"$f":"VLOOKUP(E1058,K:M,2,FALSE)*D1058","v":3029.3005359580479},{"$f":"VLOOKUP(E1058,K:M,3,FALSE)*D1058","v":3032.2018061693366}]
["354",null,{"$f":"_xlfn.IFNA(VLOOKUP(Table1[[#This Row],[Building]],$K$17:$L$50,2,FALSE),\"\")","v":""},null,"Security on Campus",3029.3005359580479,3032.2018061693366]
["355","PHF",{"$f":"_xlfn.IFNA(VLOOKUP(Table1[[#This Row],[Building]],$K$17:$L$50,2,FALSE),\"\")","v":""},4.2274961446752226E-4,"Security on Campus",{"$f":"VLOOKUP(E1060,K:M,2,FALSE)*D1060","v":2650.6379689632922},{"$f":"VLOOKUP(E1060,K:M,3,FALSE)*D1060","v":2653.1765803981698}]
["355",null,{"$f":"_xlfn.IFNA(VLOOKUP(Table1[[#This Row],[Building]],$K$17:$L$50,2,FALSE),\"\")","v":""},null,"Security on Campus",17078.305265804756,17094.661773763877]
["359",null,{"$f":"_xlfn.IFNA(VLOOKUP(Table1[[#This Row],[Building]],$K$17:$L$50,2,FALSE),\"\")","v":""},null,"Security on Campus",0,0]
["360","PHF",{"$f":"_xlfn.IFNA(VLOOKUP(Table1[[#This Row],[Building]],$K$17:$L$50,2,FALSE),\"\")","v":""},2.0332243362485595E-3,"Security on Campus",{"$f":"VLOOKUP(E1063,K:M,2,FALSE)*D1063","v":12748.306422156787},{"$f":"VLOOKUP(E1063,K:M,3,FALSE)*D1063","v":12760.51593429596}]
["360",null,{"$f":"_xlfn.IFNA(VLOOKUP(Table1[[#This Row],[Building]],$K$17:$L$50,2,FALSE),\"\")","v":""},null,"Security on Campus",12748.306422156787,12760.51593429596]
["365","PHF",{"$f":"_xlfn.IFNA(VLOOKUP(Table1[[#This Row],[Building]],$K$17:$L$50,2,FALSE),\"\")","v":""},9.864157670908852E-4,"Security on Campus",{"$f":"VLOOKUP(E1065,K:M,2,FALSE)*D1065","v":6184.8219275810152},{"$f":"VLOOKUP(E1065,K:M,3,FALSE)*D1065","v":6190.7453542623953}]
["365",null,{"$f":"_xlfn.IFNA(VLOOKUP(Table1[[#This Row],[Building]],$K$17:$L$50,2,FALSE),\"\")","v":""},null,"Security on Campus",6184.8219275810152,6190.7453542623953]
["370","PHF",{"$f":"_xlfn.IFNA(VLOOKUP(Table1[[#This Row],[Building]],$K$17:$L$50,2,FALSE),\"\")","v":""},0,"Security on Campus",{"$f":"VLOOKUP(E1067,K:M,2,FALSE)*D1067","v":0},{"$f":"VLOOKUP(E1067,K:M,3,FALSE)*D1067","v":0}]
["370",null,{"$f":"_xlfn.IFNA(VLOOKUP(Table1[[#This Row],[Building]],$K$17:$L$50,2,FALSE),\"\")","v":""},null,"Security on Campus",0,0]
["375","PHF",{"$f":"_xlfn.IFNA(VLOOKUP(Table1[[#This Row],[Building]],$K$17:$L$50,2,FALSE),\"\")","v":""},0,"Security on Campus",{"$f":"VLOOKUP(E1069,K:M,2,FALSE)*D1069","v":0},{"$f":"VLOOKUP(E1069,K:M,3,FALSE)*D1069","v":0}]
["375",null,{"$f":"_xlfn.IFNA(VLOOKUP(Table1[[#This Row],[Building]],$K$17:$L$50,2,FALSE),\"\")","v":""},null,"Security on Campus",0,0]
["376","PHF",{"$f":"_xlfn.IFNA(VLOOKUP(Table1[[#This Row],[Building]],$K$17:$L$50,2,FALSE),\"\")","v":""},1.0991489976155578E-2,"Security on Campus",{"$f":"VLOOKUP(E1071,K:M,2,FALSE)*D1071","v":68916.587193045591},{"$f":"VLOOKUP(E1071,K:M,3,FALSE)*D1071","v":68982.591090352405}]
["376",null,{"$f":"_xlfn.IFNA(VLOOKUP(Table1[[#This Row],[Building]],$K$17:$L$50,2,FALSE),\"\")","v":""},null,"Security on Campus",68916.587193045591,68982.591090352405]
["380","PHF",{"$f":"_xlfn.IFNA(VLOOKUP(Table1[[#This Row],[Building]],$K$17:$L$50,2,FALSE),\"\")","v":""},0,"Security on Campus",{"$f":"VLOOKUP(E1073,K:M,2,FALSE)*D1073","v":0},{"$f":"VLOOKUP(E1073,K:M,3,FALSE)*D1073","v":0}]
["380",null,{"$f":"_xlfn.IFNA(VLOOKUP(Table1[[#This Row],[Building]],$K$17:$L$50,2,FALSE),\"\")","v":""},null,"Security on Campus",0,0]
["387","PHF",{"$f":"_xlfn.IFNA(VLOOKUP(Table1[[#This Row],[Building]],$K$17:$L$50,2,FALSE),\"\")","v":""},5.2340428457883705E-4,"Security on Campus",{"$f":"VLOOKUP(E1075,K:M,2,FALSE)*D1075","v":3281.7422472878852},{"$f":"VLOOKUP(E1075,K:M,3,FALSE)*D1075","v":3284.8852900167813}]
["387",null,{"$f":"_xlfn.IFNA(VLOOKUP(Table1[[#This Row],[Building]],$K$17:$L$50,2,FALSE),\"\")","v":""},null,"Security on Campus",3281.7422472878852,3284.8852900167813]
["390","PHF",{"$f":"_xlfn.IFNA(VLOOKUP(Table1[[#This Row],[Building]],$K$17:$L$50,2,FALSE),\"\")","v":""},0,"Security on Campus",{"$f":"VLOOKUP(E1077,K:M,2,FALSE)*D1077","v":0},{"$f":"VLOOKUP(E1077,K:M,3,FALSE)*D1077","v":0}]
["390",null,{"$f":"_xlfn.IFNA(VLOOKUP(Table1[[#This Row],[Building]],$K$17:$L$50,2,FALSE),\"\")","v":""},null,"Security on Campus",0,0]
["395","PHF",{"$f":"_xlfn.IFNA(VLOOKUP(Table1[[#This Row],[Building]],$K$17:$L$50,2,FALSE),\"\")","v":""},0,"Security on Campus",{"$f":"VLOOKUP(E1079,K:M,2,FALSE)*D1079","v":0},{"$f":"VLOOKUP(E1079,K:M,3,FALSE)*D1079","v":0}]
["395",null,{"$f":"_xlfn.IFNA(VLOOKUP(Table1[[#This Row],[Building]],$K$17:$L$50,2,FALSE),\"\")","v":""},null,"Security on Campus",0,0]
["405","PHF",{"$f":"_xlfn.IFNA(VLOOKUP(Table1[[#This Row],[Building]],$K$17:$L$50,2,FALSE),\"\")","v":""},3.2128970699531689E-2,"Security on Campus",{"$f":"VLOOKUP(E1081,K:M,2,FALSE)*D1081","v":201448.48564121019},{"$f":"VLOOKUP(E1081,K:M,3,FALSE)*D1081","v":201641.42011026089}]
["405",null,{"$f":"_xlfn.IFNA(VLOOKUP(Table1[[#This Row],[Building]],$K$17:$L$50,2,FALSE),\"\")","v":""},null,"Security on Campus",484242.20047099917,484705.97666441376]
["406","PHF",{"$f":"_xlfn.IFNA(VLOOKUP(Table1[[#This Row],[Building]],$K$17:$L$50,2,FALSE),\"\")","v":""},3.0196401033394447E-4,"Security on Campus",{"$f":"VLOOKUP(E1083,K:M,2,FALSE)*D1083","v":1893.3128349737801},{"$f":"VLOOKUP(E1083,K:M,3,FALSE)*D1083","v":1895.1261288558355}]
["406",null,{"$f":"_xlfn.IFNA(VLOOKUP(Table1[[#This Row],[Building]],$K$17:$L$50,2,FALSE),\"\")","v":""},null,"Security on Campus",1893.3128349737801,1895.1261288558355]
["407","PHF",{"$f":"_xlfn.IFNA(VLOOKUP(Table1[[#This Row],[Building]],$K$17:$L$50,2,FALSE),\"\")","v":""},2.0130934022262966E-4,"Security on Campus",{"$f":"VLOOKUP(E1085,K:M,2,FALSE)*D1085","v":1262.2085566491869},{"$f":"VLOOKUP(E1085,K:M,3,FALSE)*D1085","v":1263.4174192372238}]
["407",null,{"$f":"_xlfn.IFNA(VLOOKUP(Table1[[#This Row],[Building]],$K$17:$L$50,2,FALSE),\"\")","v":""},null,"Security on Campus",1262.2085566491869,1263.4174192372238]
["410","PHF",{"$f":"_xlfn.IFNA(VLOOKUP(Table1[[#This Row],[Building]],$K$17:$L$50,2,FALSE),\"\")","v":""},1.2078560413357778E-4,"Security on Campus",{"$f":"VLOOKUP(E1087,K:M,2,FALSE)*D1087","v":757.32513398951198},{"$f":"VLOOKUP(E1087,K:M,3,FALSE)*D1087","v":758.05045154233414}]
["410",null,{"$f":"_xlfn.IFNA(VLOOKUP(Table1[[#This Row],[Building]],$K$17:$L$50,2,FALSE),\"\")","v":""},null,"Security on Campus",757.32513398951198,758.05045154233414]
["411","PHF",{"$f":"_xlfn.IFNA(VLOOKUP(Table1[[#This Row],[Building]],$K$17:$L$50,2,FALSE),\"\")","v":""},4.0261868044525934E-5,"Security on Campus",{"$f":"VLOOKUP(E1089,K:M,2,FALSE)*D1089","v":252.44171132983737},{"$f":"VLOOKUP(E1089,K:M,3,FALSE)*D1089","v":252.68348384744476}]
["411",null,{"$f":"_xlfn.IFNA(VLOOKUP(Table1[[#This Row],[Building]],$K$17:$L$50,2,FALSE),\"\")","v":""},null,"Security on Campus",252.44171132983737,252.68348384744476]
["460","PHF",{"$f":"_xlfn.IFNA(VLOOKUP(Table1[[#This Row],[Building]],$K$17:$L$50,2,FALSE),\"\")","v":""},0,"Security on Campus",{"$f":"VLOOKUP(E1091,K:M,2,FALSE)*D1091","v":0},{"$f":"VLOOKUP(E1091,K:M,3,FALSE)*D1091","v":0}]
["460",null,{"$f":"_xlfn.IFNA(VLOOKUP(Table1[[#This Row],[Building]],$K$17:$L$50,2,FALSE),\"\")","v":""},null,"Security on Campus",0,0]
["461","PHF",{"$f":"_xlfn.IFNA(VLOOKUP(Table1[[#This Row],[Building]],$K$17:$L$50,2,FALSE),\"\")","v":""},2.0453028966619172E-2,"Security on Campus",{"$f":"VLOOKUP(E1093,K:M,2,FALSE)*D1093","v":128240.38935555737},{"$f":"VLOOKUP(E1093,K:M,3,FALSE)*D1093","v":128363.20979450192}]
["461",null,{"$f":"_xlfn.IFNA(VLOOKUP(Table1[[#This Row],[Building]],$K$17:$L$50,2,FALSE),\"\")","v":""},null,"Security on Campus",128240.38935555737,128363.20979450192]
["462","PHF",{"$f":"_xlfn.IFNA(VLOOKUP(Table1[[#This Row],[Building]],$K$17:$L$50,2,FALSE),\"\")","v":""},4.2274961446752226E-4,"Security on Campus",{"$f":"VLOOKUP(E1095,K:M,2,FALSE)*D1095","v":2650.6379689632922},{"$f":"VLOOKUP(E1095,K:M,3,FALSE)*D1095","v":2653.1765803981698}]
["462",null,{"$f":"_xlfn.IFNA(VLOOKUP(Table1[[#This Row],[Building]],$K$17:$L$50,2,FALSE),\"\")","v":""},null,"Security on Campus",2650.6379689632922,2653.1765803981698]
["463",null,{"$f":"_xlfn.IFNA(VLOOKUP(Table1[[#This Row],[Building]],$K$17:$L$50,2,FALSE),\"\")","v":""},null,"Security on Campus",0,0]
["465","PHF",{"$f":"_xlfn.IFNA(VLOOKUP(Table1[[#This Row],[Building]],$K$17:$L$50,2,FALSE),\"\")","v":""},4.1469724085861715E-3,"Security on Campus",{"$f":"VLOOKUP(E1098,K:M,2,FALSE)*D1098","v":26001.496266973252},{"$f":"VLOOKUP(E1098,K:M,3,FALSE)*D1098","v":26026.398836286811}]
["465",null,{"$f":"_xlfn.IFNA(VLOOKUP(Table1[[#This Row],[Building]],$K$17:$L$50,2,FALSE),\"\")","v":""},null,"Security on Campus",26001.496266973252,26026.398836286811]
["467","PHF",{"$f":"_xlfn.IFNA(VLOOKUP(Table1[[#This Row],[Building]],$K$17:$L$50,2,FALSE),\"\")","v":""},1.3689035135138815E-3,"Security on Campus",{"$f":"VLOOKUP(E1100,K:M,2,FALSE)*D1100","v":8583.0181852144688},{"$f":"VLOOKUP(E1100,K:M,3,FALSE)*D1100","v":8591.2384508131199}]
["467",null,{"$f":"_xlfn.IFNA(VLOOKUP(Table1[[#This Row],[Building]],$K$17:$L$50,2,FALSE),\"\")","v":""},null,"Security on Campus",26847.863920151191,26873.577086244706]
["468","PHF",{"$f":"_xlfn.IFNA(VLOOKUP(Table1[[#This Row],[Building]],$K$17:$L$50,2,FALSE),\"\")","v":""},2.0130934022262966E-4,"Security on Campus",{"$f":"VLOOKUP(E1102,K:M,2,FALSE)*D1102","v":1262.2085566491869},{"$f":"VLOOKUP(E1102,K:M,3,FALSE)*D1102","v":1263.4174192372238}]
["468",null,{"$f":"_xlfn.IFNA(VLOOKUP(Table1[[#This Row],[Building]],$K$17:$L$50,2,FALSE),\"\")","v":""},null,"Security on Campus",1262.2085566491869,1263.4174192372238]
["471","PHF",{"$f":"_xlfn.IFNA(VLOOKUP(Table1[[#This Row],[Building]],$K$17:$L$50,2,FALSE),\"\")","v":""},3.2209494435620747E-4,"Security on Campus",{"$f":"VLOOKUP(E1104,K:M,2,FALSE)*D1104","v":2019.533690638699},{"$f":"VLOOKUP(E1104,K:M,3,FALSE)*D1104","v":2021.4678707795581}]
["471",null,{"$f":"_xlfn.IFNA(VLOOKUP(Table1[[#This Row],[Building]],$K$17:$L$50,2,FALSE),\"\")","v":""},null,"Security on Campus",2019.533690638699,2021.4678707795581]
["477","PHF",{"$f":"_xlfn.IFNA(VLOOKUP(Table1[[#This Row],[Building]],$K$17:$L$50,2,FALSE),\"\")","v":""},1.6527496832277892E-2,"Security on Campus",{"$f":"VLOOKUP(E1106,K:M,2,FALSE)*D1106","v":103627.32250089821},{"$f":"VLOOKUP(E1106,K:M,3,FALSE)*D1106","v":103726.57011937605}]
["477",null,{"$f":"_xlfn.IFNA(VLOOKUP(Table1[[#This Row],[Building]],$K$17:$L$50,2,FALSE),\"\")","v":""},null,"Security on Campus",320190.68842958019,320497.34658226126]
["478","PHF",{"$f":"_xlfn.IFNA(VLOOKUP(Table1[[#This Row],[Building]],$K$17:$L$50,2,FALSE),\"\")","v":""},5.2340428457883705E-4,"Security on Campus",{"$f":"VLOOKUP(E1108,K:M,2,FALSE)*D1108","v":3281.7422472878852},{"$f":"VLOOKUP(E1108,K:M,3,FALSE)*D1108","v":3284.8852900167813}]
["478",null,{"$f":"_xlfn.IFNA(VLOOKUP(Table1[[#This Row],[Building]],$K$17:$L$50,2,FALSE),\"\")","v":""},null,"Security on Campus",5417.4573505692588,5422.6458445617045]
["490","PHF",{"$f":"_xlfn.IFNA(VLOOKUP(Table1[[#This Row],[Building]],$K$17:$L$50,2,FALSE),\"\")","v":""},1.4896891176474594E-2,"Security on Campus",{"$f":"VLOOKUP(E1110,K:M,2,FALSE)*D1110","v":93403.433192039825},{"$f":"VLOOKUP(E1110,K:M,3,FALSE)*D1110","v":93492.889023554555}]
["490",null,{"$f":"_xlfn.IFNA(VLOOKUP(Table1[[#This Row],[Building]],$K$17:$L$50,2,FALSE),\"\")","v":""},null,"Security on Campus",329911.47287104698,330227.44096904236]
["495","PHF",{"$f":"_xlfn.IFNA(VLOOKUP(Table1[[#This Row],[Building]],$K$17:$L$50,2,FALSE),\"\")","v":""},4.8918169674098998E-3,"Security on Campus",{"$f":"VLOOKUP(E1112,K:M,2,FALSE)*D1112","v":30671.667926575235},{"$f":"VLOOKUP(E1112,K:M,3,FALSE)*D1112","v":30701.04328746453}]
["495",null,{"$f":"_xlfn.IFNA(VLOOKUP(Table1[[#This Row],[Building]],$K$17:$L$50,2,FALSE),\"\")","v":""},null,"Security on Campus",105072.44067069855,105173.07233088768]
["540","PHF",{"$f":"_xlfn.IFNA(VLOOKUP(Table1[[#This Row],[Building]],$K$17:$L$50,2,FALSE),\"\")","v":""},2.7941736422900997E-2,"Security on Campus",{"$f":"VLOOKUP(E1114,K:M,2,FALSE)*D1114","v":175194.54766290713},{"$f":"VLOOKUP(E1114,K:M,3,FALSE)*D1114","v":175362.33779012665}]
["540",null,{"$f":"_xlfn.IFNA(VLOOKUP(Table1[[#This Row],[Building]],$K$17:$L$50,2,FALSE),\"\")","v":""},null,"Security on Campus",318326.09408173314,318630.96644526144]
["541",null,{"$f":"_xlfn.IFNA(VLOOKUP(Table1[[#This Row],[Building]],$K$17:$L$50,2,FALSE),\"\")","v":""},null,"Security on Campus",0,0]
["542",null,{"$f":"_xlfn.IFNA(VLOOKUP(Table1[[#This Row],[Building]],$K$17:$L$50,2,FALSE),\"\")","v":""},null,"Security on Campus",0,0]
["543",null,{"$f":"_xlfn.IFNA(VLOOKUP(Table1[[#This Row],[Building]],$K$17:$L$50,2,FALSE),\"\")","v":""},null,"Security on Campus",0,0]
["544",null,{"$f":"_xlfn.IFNA(VLOOKUP(Table1[[#This Row],[Building]],$K$17:$L$50,2,FALSE),\"\")","v":""},null,"Security on Campus",0,0]
["699","PHF",{"$f":"_xlfn.IFNA(VLOOKUP(Table1[[#This Row],[Building]],$K$17:$L$50,2,FALSE),\"\")","v":""},0,"Security on Campus",{"$f":"VLOOKUP(E1120,K:M,2,FALSE)*D1120","v":0},{"$f":"VLOOKUP(E1120,K:M,3,FALSE)*D1120","v":0}]
["699",null,{"$f":"_xlfn.IFNA(VLOOKUP(Table1[[#This Row],[Building]],$K$17:$L$50,2,FALSE),\"\")","v":""},null,"Security on Campus",0,0]
["037","F6133",{"$f":"_xlfn.IFNA(VLOOKUP(Table1[[#This Row],[Building]],$K$17:$L$50,2,FALSE),\"\")","v":"1007 Washington"},3.5265253724740988E-3,"Security on Campus",{"$f":"VLOOKUP(E1122,K:M,2,FALSE)*D1122","v":22111.296452785737},{"$f":"VLOOKUP(E1122,K:M,3,FALSE)*D1122","v":22132.473237647446}]
["350","F613G",{"$f":"_xlfn.IFNA(VLOOKUP(Table1[[#This Row],[Building]],$K$17:$L$50,2,FALSE),\"\")","v":"1068 WA Street SE (ST Farm)"},3.7932083786955818E-4,"Security on Campus",2378.3397568379405,2380.6175784693473]
["118","F6134",{"$f":"_xlfn.IFNA(VLOOKUP(Table1[[#This Row],[Building]],$K$17:$L$50,2,FALSE),\"\")","v":"120 E Union Avenue"},3.1055507193998911E-5,"Security on Campus",194.71787482883721,194.90436314953718]
["147","F6134",{"$f":"_xlfn.IFNA(VLOOKUP(Table1[[#This Row],[Building]],$K$17:$L$50,2,FALSE),\"\")","v":"120 E Union Avenue"},1.7746004110856521E-5,"Security on Campus",111.26735704504983,111.37392179973553]
["085","F6127",{"$f":"_xlfn.IFNA(VLOOKUP(Table1[[#This Row],[Building]],$K$17:$L$50,2,FALSE),\"\")","v":"Archives"},1.1704475600227146E-2,"Security on Campus",73387.003491046213,73457.288867025578]
["050","F613D",{"$f":"_xlfn.IFNA(VLOOKUP(Table1[[#This Row],[Building]],$K$17:$L$50,2,FALSE),\"\")","v":"Capital Court"},1.2754940454678125E-3,"Security on Campus",7997.3412876129569,8005.0006293559918]
["086","F613D",{"$f":"_xlfn.IFNA(VLOOKUP(Table1[[#This Row],[Building]],$K$17:$L$50,2,FALSE),\"\")","v":"Capital Court"},3.2337163046449661E-4,"Security on Campus",2027.5385061542415,2029.4803527951808]
["087","F613D",{"$f":"_xlfn.IFNA(VLOOKUP(Table1[[#This Row],[Building]],$K$17:$L$50,2,FALSE),\"\")","v":"Capital Court"},2.127055770509608E-4,"Security on Campus",1333.6629045816389,1334.9402015718299]
["099","F613D",{"$f":"_xlfn.IFNA(VLOOKUP(Table1[[#This Row],[Building]],$K$17:$L$50,2,FALSE),\"\")","v":"Capital Court"},1.6415053802542283E-4,"Security on Campus",1029.2230526667111,1030.2087766475536]
["101","F613D",{"$f":"_xlfn.IFNA(VLOOKUP(Table1[[#This Row],[Building]],$K$17:$L$50,2,FALSE),\"\")","v":"Capital Court"},1.2708110721607808E-3,"Security on Campus",7967.9790683927349,7975.6102888810601]
["105","F613D",{"$f":"_xlfn.IFNA(VLOOKUP(Table1[[#This Row],[Building]],$K$17:$L$50,2,FALSE),\"\")","v":"Capital Court"},1.7228412324289872E-4,"Security on Campus",1080.2205913123587,1081.2551574724323]
["118","F613D",{"$f":"_xlfn.IFNA(VLOOKUP(Table1[[#This Row],[Building]],$K$17:$L$50,2,FALSE),\"\")","v":"Capital Court"},2.127055770509608E-4,"Security on Campus",1333.6629045816389,1334.9402015718299]
["119","F613D",{"$f":"_xlfn.IFNA(VLOOKUP(Table1[[#This Row],[Building]],$K$17:$L$50,2,FALSE),\"\")","v":"Capital Court"},2.127055770509608E-4,"Security on Campus",1333.6629045816389,1334.9402015718299]
["142","F613D",{"$f":"_xlfn.IFNA(VLOOKUP(Table1[[#This Row],[Building]],$K$17:$L$50,2,FALSE),\"\")","v":"Capital Court"},1.1510255444124994E-3,"Security on Campus",7216.9244083386493,7223.8363167328462]
["147","F613D",{"$f":"_xlfn.IFNA(VLOOKUP(Table1[[#This Row],[Building]],$K$17:$L$50,2,FALSE),\"\")","v":"Capital Court"},1.1877499140307995E-3,"Security on Campus",7447.1860222235427,7454.318460457298]
["179","F613D",{"$f":"_xlfn.IFNA(VLOOKUP(Table1[[#This Row],[Building]],$K$17:$L$50,2,FALSE),\"\")","v":"Capital Court"},1.325527918169255E-3,"Security on Campus",8311.0534192816376,8319.0132144302443]
["355","F613D",{"$f":"_xlfn.IFNA(VLOOKUP(Table1[[#This Row],[Building]],$K$17:$L$50,2,FALSE),\"\")","v":"Capital Court"},2.3010651997077288E-3,"Security on Campus",14427.66729684146,14441.485193365706]
["478","F613D",{"$f":"_xlfn.IFNA(VLOOKUP(Table1[[#This Row],[Building]],$K$17:$L$50,2,FALSE),\"\")","v":"Capital Court"},3.4062469001671823E-4,"Security on Campus",2135.7151032813731,2137.7605545449237]
["012","F6121",{"$f":"_xlfn.IFNA(VLOOKUP(Table1[[#This Row],[Building]],$K$17:$L$50,2,FALSE),\"\")","v":"Cherberg"},1.9047624217931984E-2,"Security on Campus",119428.50860831245,119542.88959174113]
["540","F612A",{"$f":"_xlfn.IFNA(VLOOKUP(Table1[[#This Row],[Building]],$K$17:$L$50,2,FALSE),\"\")","v":"Emp Sec"},2.2828016038103058E-2,"Security on Campus",143131.54641882598,143268.62865513479]
["014","F613M",{"$f":"_xlfn.IFNA(VLOOKUP(Table1[[#This Row],[Building]],$K$17:$L$50,2,FALSE),\"\")","v":"Helen Sommers"},2.1903991462941929E-3,"Security on Campus",13733.791695268857,13746.945042142355]
["020","F613M",{"$f":"_xlfn.IFNA(VLOOKUP(Table1[[#This Row],[Building]],$K$17:$L$50,2,FALSE),\"\")","v":"Helen Sommers"},1.0457818811439475E-3,"Security on Campus",6557.047165863145,6563.3270860594148]
["038","F613M",{"$f":"_xlfn.IFNA(VLOOKUP(Table1[[#This Row],[Building]],$K$17:$L$50,2,FALSE),\"\")","v":"Helen Sommers"},2.9500267111505795E-3,"Security on Campus",18496.652728780577,18514.367639181037]
["075","F613M",{"$f":"_xlfn.IFNA(VLOOKUP(Table1[[#This Row],[Building]],$K$17:$L$50,2,FALSE),\"\")","v":"Helen Sommers"},3.4336053231714195E-3,"Security on Campus",21528.688208258183,21549.30700822383]
["090","F613M",{"$f":"_xlfn.IFNA(VLOOKUP(Table1[[#This Row],[Building]],$K$17:$L$50,2,FALSE),\"\")","v":"Helen Sommers"},3.1831894873848884E-3,"Security on Campus",19958.582169955815,19977.697222827559]
["179","F613M",{"$f":"_xlfn.IFNA(VLOOKUP(Table1[[#This Row],[Building]],$K$17:$L$50,2,FALSE),\"\")","v":"Helen Sommers"},7.3941683795235497E-5,"Security on Campus",463.61398768770761,464.05800749889801]
["225","F613M",{"$f":"_xlfn.IFNA(VLOOKUP(Table1[[#This Row],[Building]],$K$17:$L$50,2,FALSE),\"\")","v":"Helen Sommers"},3.6563423219906008E-2,"Security on Campus",229252.48077169457,229472.0441281301]
["100","F6125",{"$f":"_xlfn.IFNA(VLOOKUP(Table1[[#This Row],[Building]],$K$17:$L$50,2,FALSE),\"\")","v":"HLB"},1.7903499897340372E-2,"Security on Campus",112254.85483882464,112362.36535570817]
["240","F6125",{"$f":"_xlfn.IFNA(VLOOKUP(Table1[[#This Row],[Building]],$K$17:$L$50,2,FALSE),\"\")","v":"HLB"},2.5672799085985083E-2,"Security on Campus",160968.32190513104,161122.48706364239]
["315","F6125",{"$f":"_xlfn.IFNA(VLOOKUP(Table1[[#This Row],[Building]],$K$17:$L$50,2,FALSE),\"\")","v":"HLB"},2.1393793844754806E-4,"Security on Campus",1341.3898043764341,1342.6745016968116]
["095","F612E",{"$f":"_xlfn.IFNA(VLOOKUP(Table1[[#This Row],[Building]],$K$17:$L$50,2,FALSE),\"\")","v":"Insurance"},1.5803802549835002E-3,"Security on Campus",9908.9762968452706,9918.4664802764473]
["105","F612E",{"$f":"_xlfn.IFNA(VLOOKUP(Table1[[#This Row],[Building]],$K$17:$L$50,2,FALSE),\"\")","v":"Insurance"},1.0279619353492957E-2,"Security on Campus",{"$f":"(VLOOKUP(E1153,K:M,2,FALSE)*D1153)*(39050/41707)","v":60347.087397349947},{"$f":"(VLOOKUP(E1153,K:M,3,FALSE)*D1153)*(39050/41707)","v":60404.883976106561}]
["075","F612E",{"$f":"_xlfn.IFNA(VLOOKUP(Table1[[#This Row],[Building]],$K$17:$L$50,2,FALSE),\"\")","v":"Insurance"},1.0279619353492957E-2,"Security on Campus",4106.0745509541293,4110.0070864152385]
["160","F612E",{"$f":"_xlfn.IFNA(VLOOKUP(Table1[[#This Row],[Building]],$K$17:$L$50,2,FALSE),\"\")","v":"Insurance"},1.7225947601496698E-3,"Security on Campus",{"$f":"VLOOKUP(E1155,K:M,2,FALSE)*D1155","v":10800.66053316463},{"$f":"VLOOKUP(E1155,K:M,3,FALSE)*D1155","v":10811.004714699327}]
["085","F613E",{"$f":"_xlfn.IFNA(VLOOKUP(Table1[[#This Row],[Building]],$K$17:$L$50,2,FALSE),\"\")","v":"James Dolliver Building"},4.1900287483966781E-3,"Security on Campus",26271.459302303429,26296.620424937551]
["011","F6123",{"$f":"_xlfn.IFNA(VLOOKUP(Table1[[#This Row],[Building]],$K$17:$L$50,2,FALSE),\"\")","v":"Legislative"},1.1166180142197831E-2,"Security on Campus",70011.893660679692,70078.94657243359]
["012","F6123",{"$f":"_xlfn.IFNA(VLOOKUP(Table1[[#This Row],[Building]],$K$17:$L$50,2,FALSE),\"\")","v":"Legislative"},9.3287292998862278E-3,"Security on Campus",58491.08606664015,58547.105086085969]
["037","F6123",{"$f":"_xlfn.IFNA(VLOOKUP(Table1[[#This Row],[Building]],$K$17:$L$50,2,FALSE),\"\")","v":"Legislative"},1.2271854787215919E-3,"Security on Campus",7694.4468156569874,7701.8160644567106]
["038","F6123",{"$f":"_xlfn.IFNA(VLOOKUP(Table1[[#This Row],[Building]],$K$17:$L$50,2,FALSE),\"\")","v":"Legislative"},2.8171781525984727E-4,"Security on Campus",1766.3692930901661,1768.0610085708015]
["075","F6123",{"$f":"_xlfn.IFNA(VLOOKUP(Table1[[#This Row],[Building]],$K$17:$L$50,2,FALSE),\"\")","v":"Legislative"},4.2533721241812634E-3,"Security on Campus",26668.6219517559,26694.163451361608]
["080","F6123",{"$f":"_xlfn.IFNA(VLOOKUP(Table1[[#This Row],[Building]],$K$17:$L$50,2,FALSE),\"\")","v":"Legislative"},2.1871950066630662E-3,"Security on Campus",13713.701755802393,13726.835861817404]
["085","F6123",{"$f":"_xlfn.IFNA(VLOOKUP(Table1[[#This Row],[Building]],$K$17:$L$50,2,FALSE),\"\")","v":"Legislative"},2.6249297747308604E-3,"Security on Campus",16458.29656291362,16474.059266210879]
["090","F6123",{"$f":"_xlfn.IFNA(VLOOKUP(Table1[[#This Row],[Building]],$K$17:$L$50,2,FALSE),\"\")","v":"Legislative"},2.6409504728864947E-3,"Security on Campus",16558.746260245956,16574.605167835642]
["179","F6123",{"$f":"_xlfn.IFNA(VLOOKUP(Table1[[#This Row],[Building]],$K$17:$L$50,2,FALSE),\"\")","v":"Legislative"},3.9139797955611323E-4,"Security on Campus",2454.063374826932,2456.4137196941665]
["225","F6123",{"$f":"_xlfn.IFNA(VLOOKUP(Table1[[#This Row],[Building]],$K$17:$L$50,2,FALSE),\"\")","v":"Legislative"},1.2816558524507486E-4,"Security on Campus",803.59757865869312,804.36721299808983]
["315","F6123",{"$f":"_xlfn.IFNA(VLOOKUP(Table1[[#This Row],[Building]],$K$17:$L$50,2,FALSE),\"\")","v":"Legislative"},1.4566511707661393E-4,"Security on Campus",913.319555744784,914.19427477282898]
["012","F612K",{"$f":"_xlfn.IFNA(VLOOKUP(Table1[[#This Row],[Building]],$K$17:$L$50,2,FALSE),\"\")","v":"Newhouse"},5.4302772579220959E-3,"Security on Campus",34047.811255785251,34080.420070719076]
["315","F6129",{"$f":"_xlfn.IFNA(VLOOKUP(Table1[[#This Row],[Building]],$K$17:$L$50,2,FALSE),\"\")","v":"NRB"},7.4483922809733905E-4,"Security on Campus",4670.1382359741756,4674.6109955389002]
["467","F6129",{"$f":"_xlfn.IFNA(VLOOKUP(Table1[[#This Row],[Building]],$K$17:$L$50,2,FALSE),\"\")","v":"NRB"},2.9130558692529616E-3,"Security on Campus",18264.845734936724,18282.338635431588]
["477","F6129",{"$f":"_xlfn.IFNA(VLOOKUP(Table1[[#This Row],[Building]],$K$17:$L$50,2,FALSE),\"\")","v":"NRB"},3.4539639334430411E-2,"Security on Campus",216563.365928682,216770.77646288526]
["490","F6129",{"$f":"_xlfn.IFNA(VLOOKUP(Table1[[#This Row],[Building]],$K$17:$L$50,2,FALSE),\"\")","v":"NRB"},3.7720610571301438E-2,"Security on Campus",236508.03967900717,236734.55194548782]
["495","F6129",{"$f":"_xlfn.IFNA(VLOOKUP(Table1[[#This Row],[Building]],$K$17:$L$50,2,FALSE),\"\")","v":"NRB"},1.1866161415459393E-2,"Security on Campus",74400.772744123315,74472.029043423143]
["163","F6126",{"$f":"_xlfn.IFNA(VLOOKUP(Table1[[#This Row],[Building]],$K$17:$L$50,2,FALSE),\"\")","v":"OB2"},7.4927572912505315E-5,"Security on Campus",469.79550752354379,470.24544759888335]
["179","F6126",{"$f":"_xlfn.IFNA(VLOOKUP(Table1[[#This Row],[Building]],$K$17:$L$50,2,FALSE),\"\")","v":"OB2"},4.6240664322747113E-3,"Security on Campus",28992.873410030279,29020.640928956087]
["300","F6126",{"$f":"_xlfn.IFNA(VLOOKUP(Table1[[#This Row],[Building]],$K$17:$L$50,2,FALSE),\"\")","v":"OB2"},4.6210101760111741E-2,"Security on Campus",289737.10698539182,290014.59864646127]
["307","F6126",{"$f":"_xlfn.IFNA(VLOOKUP(Table1[[#This Row],[Building]],$K$17:$L$50,2,FALSE),\"\")","v":"OB2"},1.2184850072616859E-2,"Security on Campus",76398.949031057346,76472.119055743402]
["315","F6126",{"$f":"_xlfn.IFNA(VLOOKUP(Table1[[#This Row],[Building]],$K$17:$L$50,2,FALSE),\"\")","v":"OB2"},6.5931334717418319E-4,"Security on Campus",4133.8913902153927,4137.8505668651733]
["011","F6122",{"$f":"_xlfn.IFNA(VLOOKUP(Table1[[#This Row],[Building]],$K$17:$L$50,2,FALSE),\"\")","v":"O'Brien"},1.9371242320675799E-2,"Security on Campus",121457.59249442565,121573.91680456132]
["350","F612H",{"$f":"_xlfn.IFNA(VLOOKUP(Table1[[#This Row],[Building]],$K$17:$L$50,2,FALSE),\"\")","v":"Old Cap"},2.4104988917246776E-2,"Security on Campus",151138.15998619271,151282.91044464076]
["037","F6124",{"$f":"_xlfn.IFNA(VLOOKUP(Table1[[#This Row],[Building]],$K$17:$L$50,2,FALSE),\"\")","v":"Pritchard"},9.7923436572823572E-4,"Security on Campus",6139.7945769442094,6145.6748793104071]
["038","F6124",{"$f":"_xlfn.IFNA(VLOOKUP(Table1[[#This Row],[Building]],$K$17:$L$50,2,FALSE),\"\")","v":"Pritchard"},1.8926606328787115E-3,"Security on Campus",11866.972704846357,11878.338131946794]
["040","F6124",{"$f":"_xlfn.IFNA(VLOOKUP(Table1[[#This Row],[Building]],$K$17:$L$50,2,FALSE),\"\")","v":"Pritchard"},3.0163277542869737E-3,"Security on Campus",18912.359937740552,18930.472985905046]
["045","F612J",{"$f":"_xlfn.IFNA(VLOOKUP(Table1[[#This Row],[Building]],$K$17:$L$50,2,FALSE),\"\")","v":"TOJ"},8.3652691600343103E-3,"Security on Campus",52450.195807069322,52500.429248375331]
["046","F612J",{"$f":"_xlfn.IFNA(VLOOKUP(Table1[[#This Row],[Building]],$K$17:$L$50,2,FALSE),\"\")","v":"TOJ"},3.8001096025164702E-3,"Security on Campus",23826.668207230254,23849.487865393367]
["055","F612J",{"$f":"_xlfn.IFNA(VLOOKUP(Table1[[#This Row],[Building]],$K$17:$L$50,2,FALSE),\"\")","v":"TOJ"},1.0477536593784871E-3,"Security on Campus",6569.4102055348176,6575.7019662593857]
["315","F612C",{"$f":"_xlfn.IFNA(VLOOKUP(Table1[[#This Row],[Building]],$K$17:$L$50,2,FALSE),\"\")","v":"Transportation"},3.5344124854122571E-4,"Security on Campus",2216.0748611472422,2218.1972758447328]
["405","F612C",{"$f":"_xlfn.IFNA(VLOOKUP(Table1[[#This Row],[Building]],$K$17:$L$50,2,FALSE),\"\")","v":"Transportation"},4.5102701809138439E-2,"Security on Campus",282793.71482978895,283064.55655415286]

{"sheet":"Instructions","index":7,"n_rows":0,"n_cols":0,"rows_kept":0,"cut":false,"hidden":true,"merged":[]}

{"sheet":"Agency List","index":8,"n_rows":105,"n_cols":1,"rows_kept":105,"cut":false,"hidden":true,"merged":[]}
["011 - House of Representatives"]
["012 - Senate"]
["013 - Joint Transportation Committee"]
["014 - Joint Legislative Audit and Review Committee"]
["020 - Legislative Evaluation and Accountability Program Committee"]
["035 - Office of the State Actuary"]
["037 - Office of Legislative Support Services"]
["038 - Joint Legislative Systems Committee"]
["040 - Statute Law Committee (Code Revisor)"]
["045 - Supreme Court"]
["046 - Law Library"]
["048 - Court of Appeals"]
["050 - Commission on Judicial Conduct"]
["055 - Administrative Office of the Courts"]
["056 - Office of Public Defense"]
["057 - Office of Civil Legal Aid"]
["075 - Office of the Governor"]
["080 - Office of Lieutenant Governor"]
["082 - Public Disclosure Commission"]
["085 - Office of the Secretary of State"]
["086 - Governor's Office of Indian Affairs"]
["087 - Commission on Asian Pacific American Affairs"]
["090 - Office of State Treasurer"]
["095 - Office of State Auditor"]
["099 - Citizens' Commission on Salaries for Elected Officials"]
["100 - Office of Attorney General"]
["101 - Caseload Forecast Council"]
["102 - Department of Financial Institutions"]
["103 - Department of Commerce"]
["104 - Economic and Revenue Forecast Council"]
["105 - Office of Financial Management"]
["107 - Washington State Health Care Authority"]
["110 - Office of Administrative Hearings"]
["116 - State Lottery"]
["117 - Washington State Gambling Commission"]
["118 - Commission on Hispanic Affairs"]
["119 - Commission on African-American Affairs"]
["120 - Human Rights Commission"]
["124 - Department of Retirement Systems"]
["126 - State Investment Board"]
["140 - Department of Revenue"]
["142 - Board of Tax Appeals"]
["147 - Office of Minority and Women's Business Enterprises"]
["160 - Office of Insurance Commissioner"]
["163 - Consolidated Technology Services"]
["165 - Board of Accountancy"]
["166 - Brd Prof Eng Land Surveyors"]
["167 - Forensic Investigations Council"]
["179 - Department of Enterprise Services"]
["185 - Horse Racing Commission"]
["190 - Board of Industrial Insurance Appeals"]
["195 - Liquor Control Board"]
["205 - Board of Pilotage Commissioners"]
["215 - Utilities and Transportation Commission"]
["220 - Board for Volunteer Firefighters and Reserve Officers"]
["225 - Washington State Patrol"]
["227 - Criminal Justice Training Commission"]
["228 - Traffic Safety Commission"]
["235 - Department of Labor and Industries"]
["240 - Department of Licensing"]
["245 - Military Department"]
["275 - Public Employment Relations Commission"]
["300 - Department of Social and Health Services"]
["303 - Department of Health"]
["305 - Department of Veterans Affairs"]
["307 - DCYF"]
["310 - Department of Corrections"]
["315 - Department of Services for the Blind"]
["340 - Student Achievement Council"]
["341 - Law Enforcement Officers' & Fire Fighters' Plan 2 Retirement Board"]
["350 - Superintendent of Public Instruction"]
["351 - State School For The Blind"]
["353 - State Center for Childhood Deafness and Hearing Loss"]
["354 - Workforce Training and Education Coordinating Board"]
["355 - Department of Archaeology and Historic Preservation"]
["357 - Department of Early Learning"]
["359 - WA Charter School Commission"]
["360 - University of Washington"]
["365 - Washington State University"]
["370 - Eastern Washington University"]
["375 - Central Washington University"]
["376 - The Evergreen State College"]
["380 - Western Washington University"]
["387 - Washington State Arts Commission"]
["390 - Washington State Historical Society"]
["395 - Eastern Washington State Historical Society"]
["405 - Department of Transportation"]
["406 - County Road Administration Board"]
["407 - Transportation Improvement Board"]
["410 - Transportation Commission"]
["411 - Freight Mobility Strategic Investment Board"]
["460 - Columbia River Gorge Commission"]
["461 - Department of Ecology"]
["462 - Pollution Liability Insurance Program"]
["465 - State Parks and Recreation Commission"]
["467 - Recreation and Conservation Funding Board"]
["468 - Environmental and Land Use Hearings Office"]
["471 - State Conservation Commission"]
["477 - Department of Fish and Wildlife"]
["478 - Puget Sound Partnership"]
["490 - Department of Natural Resources"]
["495 - Department of Agriculture"]
["540 - Employment Security Department"]
["699 - Community Colleges"]
["TOTAL"]

{"sheet":"CC Allocations","index":9,"n_rows":111,"n_cols":43,"rows_kept":111,"cut":false,"hidden":true,"merged":[[3,5,3,6],[4,4,5,4],[4,5,4,6]]}
[]
[]
[null,null,null,null,null,null,null,"CC By Building:",3295036.3899590364,3.6363967548430423E-2,3.2046375280960625E-2,8.5304128642872998E-2,1.4408637096514859E-2,9.8770366058120895E-2,0.16702302326358134,2.2384156106772846E-2,0.18510358778290584,5.894043038700976E-2,9.5756498465786266E-2,2.7365590558327428E-2,4.8185997937795683E-2,3.1955937672198675E-2,1.3887625606650295E-2,0,5.0099382732906065E-3,7.9443801169379862E-3,0,0,1.8191920041967968E-2,9.7165173208690683E-3,0,3.0974663905166782E-4,0,0,0,0,0,0,1.0019876546581213E-2,5.0099382732906065E-3,2.6301360380082614E-2,0,0]
[null,null,7259000,null,"Total","PHF Percentage",null,"Parking Percentage","Building Percentage",119820.59635536773,105593.97271704901,281080.20809201349,47476.983562730173,325451.95041108323,550346.93961447524,73756.608930340313,609923.0576566516,194210.86296504454,315521.14701982238,90170.616722408304,158774.61669152786,105295.9775051575,45760.231744039658,0,16507.928921941089,26177.021580977689,0,0,59943.038541509573,32016.278155930864,0,1020.6264473427523,0,0,0,0,0,0,33015.857843882179,16507.928921941089,86663.939557799051,0,0]
[null,null,null,null,"Total",0.45513419931527221,null,6.6496479256132238E-2,0.47836932142859556,"F6121","F6122","F6123","F6124","F6125","F6126","F6127","F6129","F612A","F612C","F612E","F612H","F612J","F612K","F6131","F6132","F6133","F6134","F6137","F613D","F613E","F613F","F613G","F613H","F613i","F613K","F613L","F613M","F6141","F6142","F6143","F6144","F614G","F6146"]
[null,null,"Agency #","Agency",null,"PHF Thurston FTEs","allocation","allocation","allocation","Cherberg","O'Brien","Legislative","Pritchard","HLB","OB2","Archives","NRB","Emp Sec","Transportation","Insurance","Old Cap","TOJ","Newhouse","Modular Bldg","Isabella Bush","1007 Washington","120 E Union Avenue","Conservatory","Capital Court","James Dolliver Building","Undeveloped Properties","1068 WA Street SE (ST Farm)","232 Perry Street","208 11th Avenue SE (Pro Arts)","Press Houses Ayer(White); Carlyon(Blue)","Visitor Center","Helen Sommers","Kelso Building","Yakima Building","Alaska Street","Tacoma Rhodes","Tacoma Rhodes Garage","North Cascades Gateway Center (NCGC)"]
[null,{"$f":"CONCATENATE(C7,\" - \",D7)","v":"011 - House of Representatives"},"011","House of Representatives",3.9303508046223901E-2,339,6.0096009023867447E-3,4.9680321250563193E-3,2.8325875018780835E-2,{"$f":"$I$5*'[2]21-23 Campus Contract Alloctns'!I5/SUM('[2]21-23 Campus Contract Alloctns'!$I$5:$AP$108)","v":0},{"$f":"$I$5*'[2]21-23 Campus Contract Alloctns'!J5/SUM('[2]21-23 Campus Contract Alloctns'!$I$5:$AP$108)","v":1.5330002797399255E-2},{"$f":"$I$5*'[2]21-23 Campus Contract Alloctns'!K5/SUM('[2]21-23 Campus Contract Alloctns'!$I$5:$AP$108)","v":1.2995872221381584E-2},{"$f":"$I$5*'[2]21-23 Campus Contract Alloctns'!L5/SUM('[2]21-23 Campus Contract Alloctns'!$I$5:$AP$108)","v":0},{"$f":"$I$5*'[2]21-23 Campus Contract Alloctns'!M5/SUM('[2]21-23 Campus Contract Alloctns'!$I$5:$AP$108)","v":0},{"$f":"$I$5*'[2]21-23 Campus Contract Alloctns'!N5/SUM('[2]21-23 Campus Contract Alloctns'!$I$5:$AP$108)","v":0},{"$f":"$I$5*'[2]21-23 Campus Contract Alloctns'!O5/SUM('[2]21-23 Campus Contract Alloctns'!$I$5:$AP$108)","v":0},{"$f":"$I$5*'[2]21-23 Campus Contract Alloctns'!P5/SUM('[2]21-23 Campus Contract Alloctns'!$I$5:$AP$108)","v":0},{"$f":"$I$5*'[2]21-23 Campus Contract Alloctns'!Q5/SUM('[2]21-23 Campus Contract Alloctns'!$I$5:$AP$108)","v":0},{"$f":"$I$5*'[2]21-23 Campus Contract Alloctns'!R5/SUM('[2]21-23 Campus Contract Alloctns'!$I$5:$AP$108)","v":0},{"$f":"$I$5*'[2]21-23 Campus Contract Alloctns'!S5/SUM('[2]21-23 Campus Contract Alloctns'!$I$5:$AP$108)","v":0},{"$f":"$I$5*'[2]21-23 Campus Contract Alloctns'!T5/SUM('[2]21-23 Campus Contract Alloctns'!$I$5:$AP$108)","v":0},{"$f":"$I$5*'[2]21-23 Campus Contract Alloctns'!U5/SUM('[2]21-23 Campus Contract Alloctns'!$I$5:$AP$108)","v":0},{"$f":"$I$5*'[2]21-23 Campus Contract Alloctns'!V5/SUM('[2]21-23 Campus Contract Alloctns'!$I$5:$AP$108)","v":0},{"$f":"$I$5*'[2]21-23 Campus Contract Alloctns'!W5/SUM('[2]21-23 Campus Contract Alloctns'!$I$5:$AP$108)","v":0},{"$f":"$I$5*'[2]21-23 Campus Contract Alloctns'!X5/SUM('[2]21-23 Campus Contract Alloctns'!$I$5:$AP$108)","v":0},{"$f":"$I$5*'[2]21-23 Campus Contract Alloctns'!Y5/SUM('[2]21-23 Campus Contract Alloctns'!$I$5:$AP$108)","v":0},{"$f":"$I$5*'[2]21-23 Campus Contract Alloctns'!Z5/SUM('[2]21-23 Campus Contract Alloctns'!$I$5:$AP$108)","v":0},{"$f":"$I$5*'[2]21-23 Campus Contract Alloctns'!AA5/SUM('[2]21-23 Campus Contract Alloctns'!$I$5:$AP$108)","v":0},{"$f":"$I$5*'[2]21-23 Campus Contract Alloctns'!AB5/SUM('[2]21-23 Campus Contract Alloctns'!$I$5:$AP$108)","v":0},{"$f":"$I$5*'[2]21-23 Campus Contract Alloctns'!AC5/SUM('[2]21-23 Campus Contract Alloctns'!$I$5:$AP$108)","v":0},{"$f":"$I$5*'[2]21-23 Campus Contract Alloctns'!AD5/SUM('[2]21-23 Campus Contract Alloctns'!$I$5:$AP$108)","v":0},{"$f":"$I$5*'[2]21-23 Campus Contract Alloctns'!AE5/SUM('[2]21-23 Campus Contract Alloctns'!$I$5:$AP$108)","v":0},{"$f":"$I$5*'[2]21-23 Campus Contract Alloctns'!AF5/SUM('[2]21-23 Campus Contract Alloctns'!$I$5:$AP$108)","v":0},{"$f":"$I$5*'[2]21-23 Campus Contract Alloctns'!AG5/SUM('[2]21-23 Campus Contract Alloctns'!$I$5:$AP$108)","v":0},{"$f":"$I$5*'[2]21-23 Campus Contract Alloctns'!AH5/SUM('[2]21-23 Campus Contract Alloctns'!$I$5:$AP$108)","v":0},{"$f":"$I$5*'[2]21-23 Campus Contract Alloctns'!AI5/SUM('[2]21-23 Campus Contract Alloctns'!$I$5:$AP$108)","v":0},{"$f":"$I$5*'[2]21-23 Campus Contract Alloctns'!AJ5/SUM('[2]21-23 Campus Contract Alloctns'!$I$5:$AP$108)","v":0},{"$f":"$I$5*'[2]21-23 Campus Contract Alloctns'!AK5/SUM('[2]21-23 Campus Contract Alloctns'!$I$5:$AP$108)","v":0},{"$f":"$I$5*'[2]21-23 Campus Contract Alloctns'!AL5/SUM('[2]21-23 Campus Contract Alloctns'!$I$5:$AP$108)","v":0},{"$f":"$I$5*'[2]21-23 Campus Contract Alloctns'!AM5/SUM('[2]21-23 Campus Contract Alloctns'!$I$5:$AP$108)","v":0},{"$f":"$I$5*'[2]21-23 Campus Contract Alloctns'!AN5/SUM('[2]21-23 Campus Contract Alloctns'!$I$5:$AP$108)","v":0},{"$f":"$I$5*'[2]21-23 Campus Contract Alloctns'!AO5/SUM('[2]21-23 Campus Contract Alloctns'!$I$5:$AP$108)","v":0},{"$f":"$I$5*'[2]21-23 Campus Contract Alloctns'!AP5/SUM('[2]21-23 Campus Contract Alloctns'!$I$5:$AP$108)","v":0}]
[null,{"$f":"CONCATENATE(C8,\" - \",D8)","v":"012 - Senate"},"012","Senate",4.3499430930582617E-2,222,3.9354908564302573E-3,5.3978400020880599E-3,3.4166100072064297E-2,{"$f":"$I$5*'[2]21-23 Campus Contract Alloctns'!I6/SUM('[2]21-23 Campus Contract Alloctns'!$I$5:$AP$108)","v":1.7395406480594136E-2},{"$f":"$I$5*'[2]21-23 Campus Contract Alloctns'!J6/SUM('[2]21-23 Campus Contract Alloctns'!$I$5:$AP$108)","v":0},{"$f":"$I$5*'[2]21-23 Campus Contract Alloctns'!K6/SUM('[2]21-23 Campus Contract Alloctns'!$I$5:$AP$108)","v":1.012727955376248E-2},{"$f":"$I$5*'[2]21-23 Campus Contract Alloctns'!L6/SUM('[2]21-23 Campus Contract Alloctns'!$I$5:$AP$108)","v":0},{"$f":"$I$5*'[2]21-23 Campus Contract Alloctns'!M6/SUM('[2]21-23 Campus Contract Alloctns'!$I$5:$AP$108)","v":0},{"$f":"$I$5*'[2]21-23 Campus Contract Alloctns'!N6/SUM('[2]21-23 Campus Contract Alloctns'!$I$5:$AP$108)","v":0},{"$f":"$I$5*'[2]21-23 Campus Contract Alloctns'!O6/SUM('[2]21-23 Campus Contract Alloctns'!$I$5:$AP$108)","v":0},{"$f":"$I$5*'[2]21-23 Campus Contract Alloctns'!P6/SUM('[2]21-23 Campus Contract Alloctns'!$I$5:$AP$108)","v":0},{"$f":"$I$5*'[2]21-23 Campus Contract Alloctns'!Q6/SUM('[2]21-23 Campus Contract Alloctns'!$I$5:$AP$108)","v":0},{"$f":"$I$5*'[2]21-23 Campus Contract Alloctns'!R6/SUM('[2]21-23 Campus Contract Alloctns'!$I$5:$AP$108)","v":0},{"$f":"$I$5*'[2]21-23 Campus Contract Alloctns'!S6/SUM('[2]21-23 Campus Contract Alloctns'!$I$5:$AP$108)","v":0},{"$f":"$I$5*'[2]21-23 Campus Contract Alloctns'!T6/SUM('[2]21-23 Campus Contract Alloctns'!$I$5:$AP$108)","v":0},{"$f":"$I$5*'[2]21-23 Campus Contract Alloctns'!U6/SUM('[2]21-23 Campus Contract Alloctns'!$I$5:$AP$108)","v":0},{"$f":"$I$5*'[2]21-23 Campus Contract Alloctns'!V6/SUM('[2]21-23 Campus Contract Alloctns'!$I$5:$AP$108)","v":6.6434140377076905E-3},{"$f":"$I$5*'[2]21-23 Campus Contract Alloctns'!W6/SUM('[2]21-23 Campus Contract Alloctns'!$I$5:$AP$108)","v":0},{"$f":"$I$5*'[2]21-23 Campus Contract Alloctns'!X6/SUM('[2]21-23 Campus Contract Alloctns'!$I$5:$AP$108)","v":0},{"$f":"$I$5*'[2]21-23 Campus Contract Alloctns'!Y6/SUM('[2]21-23 Campus Contract Alloctns'!$I$5:$AP$108)","v":0},{"$f":"$I$5*'[2]21-23 Campus Contract Alloctns'!Z6/SUM('[2]21-23 Campus Contract Alloctns'!$I$5:$AP$108)","v":0},{"$f":"$I$5*'[2]21-23 Campus Contract Alloctns'!AA6/SUM('[2]21-23 Campus Contract Alloctns'!$I$5:$AP$108)","v":0},{"$f":"$I$5*'[2]21-23 Campus Contract Alloctns'!AB6/SUM('[2]21-23 Campus Contract Alloctns'!$I$5:$AP$108)","v":0},{"$f":"$I$5*'[2]21-23 Campus Contract Alloctns'!AC6/SUM('[2]21-23 Campus Contract Alloctns'!$I$5:$AP$108)","v":0},{"$f":"$I$5*'[2]21-23 Campus Contract Alloctns'!AD6/SUM('[2]21-23 Campus Contract Alloctns'!$I$5:$AP$108)","v":0},{"$f":"$I$5*'[2]21-23 Campus Contract Alloctns'!AE6/SUM('[2]21-23 Campus Contract Alloctns'!$I$5:$AP$108)","v":0},{"$f":"$I$5*'[2]21-23 Campus Contract Alloctns'!AF6/SUM('[2]21-23 Campus Contract Alloctns'!$I$5:$AP$108)","v":0},{"$f":"$I$5*'[2]21-23 Campus Contract Alloctns'!AG6/SUM('[2]21-23 Campus Contract Alloctns'!$I$5:$AP$108)","v":0},{"$f":"$I$5*'[2]21-23 Campus Contract Alloctns'!AH6/SUM('[2]21-23 Campus Contract Alloctns'!$I$5:$AP$108)","v":0},{"$f":"$I$5*'[2]21-23 Campus Contract Alloctns'!AI6/SUM('[2]21-23 Campus Contract Alloctns'!$I$5:$AP$108)","v":0},{"$f":"$I$5*'[2]21-23 Campus Contract Alloctns'!AJ6/SUM('[2]21-23 Campus Contract Alloctns'!$I$5:$AP$108)","v":0},{"$f":"$I$5*'[2]21-23 Campus Contract Alloctns'!AK6/SUM('[2]21-23 Campus Contract Alloctns'!$I$5:$AP$108)","v":0},{"$f":"$I$5*'[2]21-23 Campus Contract Alloctns'!AL6/SUM('[2]21-23 Campus Contract Alloctns'!$I$5:$AP$108)","v":0},{"$f":"$I$5*'[2]21-23 Campus Contract Alloctns'!AM6/SUM('[2]21-23 Campus Contract Alloctns'!$I$5:$AP$108)","v":0},{"$f":"$I$5*'[2]21-23 Campus Contract Alloctns'!AN6/SUM('[2]21-23 Campus Contract Alloctns'!$I$5:$AP$108)","v":0},{"$f":"$I$5*'[2]21-23 Campus Contract Alloctns'!AO6/SUM('[2]21-23 Campus Contract Alloctns'!$I$5:$AP$108)","v":0},{"$f":"$I$5*'[2]21-23 Campus Contract Alloctns'!AP6/SUM('[2]21-23 Campus Contract Alloctns'!$I$5:$AP$108)","v":0}]
[null,"013 - Joint Transportation Committee","013","Joint Transportation Committee",7.0909745160905536E-5,4,7.0909745160905536E-5,0,0,{"$f":"$I$5*'[2]21-23 Campus Contract Alloctns'!I7/SUM('[2]21-23 Campus Contract Alloctns'!$I$5:$AP$108)","v":0},{"$f":"$I$5*'[2]21-23 Campus Contract Alloctns'!J7/SUM('[2]21-23 Campus Contract Alloctns'!$I$5:$AP$108)","v":0},{"$f":"$I$5*'[2]21-23 Campus Contract Alloctns'!K7/SUM('[2]21-23 Campus Contract Alloctns'!$I$5:$AP$108)","v":0},{"$f":"$I$5*'[2]21-23 Campus Contract Alloctns'!L7/SUM('[2]21-23 Campus Contract Alloctns'!$I$5:$AP$108)","v":0},{"$f":"$I$5*'[2]21-23 Campus Contract Alloctns'!M7/SUM('[2]21-23 Campus Contract Alloctns'!$I$5:$AP$108)","v":0},{"$f":"$I$5*'[2]21-23 Campus Contract Alloctns'!N7/SUM('[2]21-23 Campus Contract Alloctns'!$I$5:$AP$108)","v":0},{"$f":"$I$5*'[2]21-23 Campus Contract Alloctns'!O7/SUM('[2]21-23 Campus Contract Alloctns'!$I$5:$AP$108)","v":0},{"$f":"$I$5*'[2]21-23 Campus Contract Alloctns'!P7/SUM('[2]21-23 Campus Contract Alloctns'!$I$5:$AP$108)","v":0},{"$f":"$I$5*'[2]21-23 Campus Contract Alloctns'!Q7/SUM('[2]21-23 Campus Contract Alloctns'!$I$5:$AP$108)","v":0},{"$f":"$I$5*'[2]21-23 Campus Contract Alloctns'!R7/SUM('[2]21-23 Campus Contract Alloctns'!$I$5:$AP$108)","v":0},{"$f":"$I$5*'[2]21-23 Campus Contract Alloctns'!S7/SUM('[2]21-23 Campus Contract Alloctns'!$I$5:$AP$108)","v":0},{"$f":"$I$5*'[2]21-23 Campus Contract Alloctns'!T7/SUM('[2]21-23 Campus Contract Alloctns'!$I$5:$AP$108)","v":0},{"$f":"$I$5*'[2]21-23 Campus Contract Alloctns'!U7/SUM('[2]21-23 Campus Contract Alloctns'!$I$5:$AP$108)","v":0},{"$f":"$I$5*'[2]21-23 Campus Contract Alloctns'!V7/SUM('[2]21-23 Campus Contract Alloctns'!$I$5:$AP$108)","v":0},{"$f":"$I$5*'[2]21-23 Campus Contract Alloctns'!W7/SUM('[2]21-23 Campus Contract Alloctns'!$I$5:$AP$108)","v":0},{"$f":"$I$5*'[2]21-23 Campus Contract Alloctns'!X7/SUM('[2]21-23 Campus Contract Alloctns'!$I$5:$AP$108)","v":0},{"$f":"$I$5*'[2]21-23 Campus Contract Alloctns'!Y7/SUM('[2]21-23 Campus Contract Alloctns'!$I$5:$AP$108)","v":0},{"$f":"$I$5*'[2]21-23 Campus Contract Alloctns'!Z7/SUM('[2]21-23 Campus Contract Alloctns'!$I$5:$AP$108)","v":0},{"$f":"$I$5*'[2]21-23 Campus Contract Alloctns'!AA7/SUM('[2]21-23 Campus Contract Alloctns'!$I$5:$AP$108)","v":0},{"$f":"$I$5*'[2]21-23 Campus Contract Alloctns'!AB7/SUM('[2]21-23 Campus Contract Alloctns'!$I$5:$AP$108)","v":0},{"$f":"$I$5*'[2]21-23 Campus Contract Alloctns'!AC7/SUM('[2]21-23 Campus Contract Alloctns'!$I$5:$AP$108)","v":0},{"$f":"$I$5*'[2]21-23 Campus Contract Alloctns'!AD7/SUM('[2]21-23 Campus Contract Alloctns'!$I$5:$AP$108)","v":0},{"$f":"$I$5*'[2]21-23 Campus Contract Alloctns'!AE7/SUM('[2]21-23 Campus Contract Alloctns'!$I$5:$AP$108)","v":0},{"$f":"$I$5*'[2]21-23 Campus Contract Alloctns'!AF7/SUM('[2]21-23 Campus Contract Alloctns'!$I$5:$AP$108)","v":0},{"$f":"$I$5*'[2]21-23 Campus Contract Alloctns'!AG7/SUM('[2]21-23 Campus Contract Alloctns'!$I$5:$AP$108)","v":0},{"$f":"$I$5*'[2]21-23 Campus Contract Alloctns'!AH7/SUM('[2]21-23 Campus Contract Alloctns'!$I$5:$AP$108)","v":0},{"$f":"$I$5*'[2]21-23 Campus Contract Alloctns'!AI7/SUM('[2]21-23 Campus Contract Alloctns'!$I$5:$AP$108)","v":0},{"$f":"$I$5*'[2]21-23 Campus Contract Alloctns'!AJ7/SUM('[2]21-23 Campus Contract Alloctns'!$I$5:$AP$108)","v":0},{"$f":"$I$5*'[2]21-23 Campus Contract Alloctns'!AK7/SUM('[2]21-23 Campus Contract Alloctns'!$I$5:$AP$108)","v":0},{"$f":"$I$5*'[2]21-23 Campus Contract Alloctns'!AL7/SUM('[2]21-23 Campus Contract Alloctns'!$I$5:$AP$108)","v":0},{"$f":"$I$5*'[2]21-23 Campus Contract Alloctns'!AM7/SUM('[2]21-23 Campus Contract Alloctns'!$I$5:$AP$108)","v":0},{"$f":"$I$5*'[2]21-23 Campus Contract Alloctns'!AN7/SUM('[2]21-23 Campus Contract Alloctns'!$I$5:$AP$108)","v":0},{"$f":"$I$5*'[2]21-23 Campus Contract Alloctns'!AO7/SUM('[2]21-23 Campus Contract Alloctns'!$I$5:$AP$108)","v":0},{"$f":"$I$5*'[2]21-23 Campus Contract Alloctns'!AP7/SUM('[2]21-23 Campus Contract Alloctns'!$I$5:$AP$108)","v":0}]
[null,"014 - Joint Legislative Audit and Review Committee","014","Joint Legislative Audit and Review Committee",4.2545847096543324E-4,24,4.2545847096543324E-4,0,0,{"$f":"$I$5*'[2]21-23 Campus Contract Alloctns'!I8/SUM('[2]21-23 Campus Contract Alloctns'!$I$5:$AP$108)","v":0},{"$f":"$I$5*'[2]21-23 Campus Contract Alloctns'!J8/SUM('[2]21-23 Campus Contract Alloctns'!$I$5:$AP$108)","v":0},{"$f":"$I$5*'[2]21-23 Campus Contract Alloctns'!K8/SUM('[2]21-23 Campus Contract Alloctns'!$I$5:$AP$108)","v":0},{"$f":"$I$5*'[2]21-23 Campus Contract Alloctns'!L8/SUM('[2]21-23 Campus Contract Alloctns'!$I$5:$AP$108)","v":0},{"$f":"$I$5*'[2]21-23 Campus Contract Alloctns'!M8/SUM('[2]21-23 Campus Contract Alloctns'!$I$5:$AP$108)","v":0},{"$f":"$I$5*'[2]21-23 Campus Contract Alloctns'!N8/SUM('[2]21-23 Campus Contract Alloctns'!$I$5:$AP$108)","v":0},{"$f":"$I$5*'[2]21-23 Campus Contract Alloctns'!O8/SUM('[2]21-23 Campus Contract Alloctns'!$I$5:$AP$108)","v":0},{"$f":"$I$5*'[2]21-23 Campus Contract Alloctns'!P8/SUM('[2]21-23 Campus Contract Alloctns'!$I$5:$AP$108)","v":0},{"$f":"$I$5*'[2]21-23 Campus Contract Alloctns'!Q8/SUM('[2]21-23 Campus Contract Alloctns'!$I$5:$AP$108)","v":0},{"$f":"$I$5*'[2]21-23 Campus Contract Alloctns'!R8/SUM('[2]21-23 Campus Contract Alloctns'!$I$5:$AP$108)","v":0},{"$f":"$I$5*'[2]21-23 Campus Contract Alloctns'!S8/SUM('[2]21-23 Campus Contract Alloctns'!$I$5:$AP$108)","v":0},{"$f":"$I$5*'[2]21-23 Campus Contract Alloctns'!T8/SUM('[2]21-23 Campus Contract Alloctns'!$I$5:$AP$108)","v":0},{"$f":"$I$5*'[2]21-23 Campus Contract Alloctns'!U8/SUM('[2]21-23 Campus Contract Alloctns'!$I$5:$AP$108)","v":0},{"$f":"$I$5*'[2]21-23 Campus Contract Alloctns'!V8/SUM('[2]21-23 Campus Contract Alloctns'!$I$5:$AP$108)","v":0},{"$f":"$I$5*'[2]21-23 Campus Contract Alloctns'!W8/SUM('[2]21-23 Campus Contract Alloctns'!$I$5:$AP$108)","v":0},{"$f":"$I$5*'[2]21-23 Campus Contract Alloctns'!X8/SUM('[2]21-23 Campus Contract Alloctns'!$I$5:$AP$108)","v":0},{"$f":"$I$5*'[2]21-23 Campus Contract Alloctns'!Y8/SUM('[2]21-23 Campus Contract Alloctns'!$I$5:$AP$108)","v":0},{"$f":"$I$5*'[2]21-23 Campus Contract Alloctns'!Z8/SUM('[2]21-23 Campus Contract Alloctns'!$I$5:$AP$108)","v":0},{"$f":"$I$5*'[2]21-23 Campus Contract Alloctns'!AA8/SUM('[2]21-23 Campus Contract Alloctns'!$I$5:$AP$108)","v":0},{"$f":"$I$5*'[2]21-23 Campus Contract Alloctns'!AB8/SUM('[2]21-23 Campus Contract Alloctns'!$I$5:$AP$108)","v":0},{"$f":"$I$5*'[2]21-23 Campus Contract Alloctns'!AC8/SUM('[2]21-23 Campus Contract Alloctns'!$I$5:$AP$108)","v":0},{"$f":"$I$5*'[2]21-23 Campus Contract Alloctns'!AD8/SUM('[2]21-23 Campus Contract Alloctns'!$I$5:$AP$108)","v":0},{"$f":"$I$5*'[2]21-23 Campus Contract Alloctns'!AE8/SUM('[2]21-23 Campus Contract Alloctns'!$I$5:$AP$108)","v":0},{"$f":"$I$5*'[2]21-23 Campus Contract Alloctns'!AF8/SUM('[2]21-23 Campus Contract Alloctns'!$I$5:$AP$108)","v":0},{"$f":"$I$5*'[2]21-23 Campus Contract Alloctns'!AG8/SUM('[2]21-23 Campus Contract Alloctns'!$I$5:$AP$108)","v":0},{"$f":"$I$5*'[2]21-23 Campus Contract Alloctns'!AH8/SUM('[2]21-23 Campus Contract Alloctns'!$I$5:$AP$108)","v":0},{"$f":"$I$5*'[2]21-23 Campus Contract Alloctns'!AI8/SUM('[2]21-23 Campus Contract Alloctns'!$I$5:$AP$108)","v":0},{"$f":"$I$5*'[2]21-23 Campus Contract Alloctns'!AJ8/SUM('[2]21-23 Campus Contract Alloctns'!$I$5:$AP$108)","v":0},{"$f":"$I$5*'[2]21-23 Campus Contract Alloctns'!AK8/SUM('[2]21-23 Campus Contract Alloctns'!$I$5:$AP$108)","v":0},{"$f":"$I$5*'[2]21-23 Campus Contract Alloctns'!AL8/SUM('[2]21-23 Campus Contract Alloctns'!$I$5:$AP$108)","v":0},{"$f":"$I$5*'[2]21-23 Campus Contract Alloctns'!AM8/SUM('[2]21-23 Campus Contract Alloctns'!$I$5:$AP$108)","v":0},{"$f":"$I$5*'[2]21-23 Campus Contract Alloctns'!AN8/SUM('[2]21-23 Campus Contract Alloctns'!$I$5:$AP$108)","v":0},{"$f":"$I$5*'[2]21-23 Campus Contract Alloctns'!AO8/SUM('[2]21-23 Campus Contract Alloctns'!$I$5:$AP$108)","v":0},{"$f":"$I$5*'[2]21-23 Campus Contract Alloctns'!AP8/SUM('[2]21-23 Campus Contract Alloctns'!$I$5:$AP$108)","v":0}]
[null,"020 - Legislative Evaluation and Accountability Program Committee","020","Legislative Evaluation and Accountability Program Committee",1.7727436290226387E-4,10,1.7727436290226387E-4,0,0,{"$f":"$I$5*'[2]21-23 Campus Contract Alloctns'!I9/SUM('[2]21-23 Campus Contract Alloctns'!$I$5:$AP$108)","v":0},{"$f":"$I$5*'[2]21-23 Campus Contract Alloctns'!J9/SUM('[2]21-23 Campus Contract Alloctns'!$I$5:$AP$108)","v":0},{"$f":"$I$5*'[2]21-23 Campus Contract Alloctns'!K9/SUM('[2]21-23 Campus Contract Alloctns'!$I$5:$AP$108)","v":0},{"$f":"$I$5*'[2]21-23 Campus Contract Alloctns'!L9/SUM('[2]21-23 Campus Contract Alloctns'!$I$5:$AP$108)","v":0},{"$f":"$I$5*'[2]21-23 Campus Contract Alloctns'!M9/SUM('[2]21-23 Campus Contract Alloctns'!$I$5:$AP$108)","v":0},{"$f":"$I$5*'[2]21-23 Campus Contract Alloctns'!N9/SUM('[2]21-23 Campus Contract Alloctns'!$I$5:$AP$108)","v":0},{"$f":"$I$5*'[2]21-23 Campus Contract Alloctns'!O9/SUM('[2]21-23 Campus Contract Alloctns'!$I$5:$AP$108)","v":0},{"$f":"$I$5*'[2]21-23 Campus Contract Alloctns'!P9/SUM('[2]21-23 Campus Contract Alloctns'!$I$5:$AP$108)","v":0},{"$f":"$I$5*'[2]21-23 Campus Contract Alloctns'!Q9/SUM('[2]21-23 Campus Contract Alloctns'!$I$5:$AP$108)","v":0},{"$f":"$I$5*'[2]21-23 Campus Contract Alloctns'!R9/SUM('[2]21-23 Campus Contract Alloctns'!$I$5:$AP$108)","v":0},{"$f":"$I$5*'[2]21-23 Campus Contract Alloctns'!S9/SUM('[2]21-23 Campus Contract Alloctns'!$I$5:$AP$108)","v":0},{"$f":"$I$5*'[2]21-23 Campus Contract Alloctns'!T9/SUM('[2]21-23 Campus Contract Alloctns'!$I$5:$AP$108)","v":0},{"$f":"$I$5*'[2]21-23 Campus Contract Alloctns'!U9/SUM('[2]21-23 Campus Contract Alloctns'!$I$5:$AP$108)","v":0},{"$f":"$I$5*'[2]21-23 Campus Contract Alloctns'!V9/SUM('[2]21-23 Campus Contract Alloctns'!$I$5:$AP$108)","v":0},{"$f":"$I$5*'[2]21-23 Campus Contract Alloctns'!W9/SUM('[2]21-23 Campus Contract Alloctns'!$I$5:$AP$108)","v":0},{"$f":"$I$5*'[2]21-23 Campus Contract Alloctns'!X9/SUM('[2]21-23 Campus Contract Alloctns'!$I$5:$AP$108)","v":0},{"$f":"$I$5*'[2]21-23 Campus Contract Alloctns'!Y9/SUM('[2]21-23 Campus Contract Alloctns'!$I$5:$AP$108)","v":0},{"$f":"$I$5*'[2]21-23 Campus Contract Alloctns'!Z9/SUM('[2]21-23 Campus Contract Alloctns'!$I$5:$AP$108)","v":0},{"$f":"$I$5*'[2]21-23 Campus Contract Alloctns'!AA9/SUM('[2]21-23 Campus Contract Alloctns'!$I$5:$AP$108)","v":0},{"$f":"$I$5*'[2]21-23 Campus Contract Alloctns'!AB9/SUM('[2]21-23 Campus Contract Alloctns'!$I$5:$AP$108)","v":0},{"$f":"$I$5*'[2]21-23 Campus Contract Alloctns'!AC9/SUM('[2]21-23 Campus Contract Alloctns'!$I$5:$AP$108)","v":0},{"$f":"$I$5*'[2]21-23 Campus Contract Alloctns'!AD9/SUM('[2]21-23 Campus Contract Alloctns'!$I$5:$AP$108)","v":0},{"$f":"$I$5*'[2]21-23 Campus Contract Alloctns'!AE9/SUM('[2]21-23 Campus Contract Alloctns'!$I$5:$AP$108)","v":0},{"$f":"$I$5*'[2]21-23 Campus Contract Alloctns'!AF9/SUM('[2]21-23 Campus Contract Alloctns'!$I$5:$AP$108)","v":0},{"$f":"$I$5*'[2]21-23 Campus Contract Alloctns'!AG9/SUM('[2]21-23 Campus Contract Alloctns'!$I$5:$AP$108)","v":0},{"$f":"$I$5*'[2]21-23 Campus Contract Alloctns'!AH9/SUM('[2]21-23 Campus Contract Alloctns'!$I$5:$AP$108)","v":0},{"$f":"$I$5*'[2]21-23 Campus Contract Alloctns'!AI9/SUM('[2]21-23 Campus Contract Alloctns'!$I$5:$AP$108)","v":0},{"$f":"$I$5*'[2]21-23 Campus Contract Alloctns'!AJ9/SUM('[2]21-23 Campus Contract Alloctns'!$I$5:$AP$108)","v":0},{"$f":"$I$5*'[2]21-23 Campus Contract Alloctns'!AK9/SUM('[2]21-23 Campus Contract Alloctns'!$I$5:$AP$108)","v":0},{"$f":"$I$5*'[2]21-23 Campus Contract Alloctns'!AL9/SUM('[2]21-23 Campus Contract Alloctns'!$I$5:$AP$108)","v":0},{"$f":"$I$5*'[2]21-23 Campus Contract Alloctns'!AM9/SUM('[2]21-23 Campus Contract Alloctns'!$I$5:$AP$108)","v":0},{"$f":"$I$5*'[2]21-23 Campus Contract Alloctns'!AN9/SUM('[2]21-23 Campus Contract Alloctns'!$I$5:$AP$108)","v":0},{"$f":"$I$5*'[2]21-23 Campus Contract Alloctns'!AO9/SUM('[2]21-23 Campus Contract Alloctns'!$I$5:$AP$108)","v":0},{"$f":"$I$5*'[2]21-23 Campus Contract Alloctns'!AP9/SUM('[2]21-23 Campus Contract Alloctns'!$I$5:$AP$108)","v":0}]
[null,"035 - Office of the State Actuary","035","Office of the State Actuary",3.0136641693384852E-4,17,3.0136641693384852E-4,0,0,{"$f":"$I$5*'[2]21-23 Campus Contract Alloctns'!I10/SUM('[2]21-23 Campus Contract Alloctns'!$I$5:$AP$108)","v":0},{"$f":"$I$5*'[2]21-23 Campus Contract Alloctns'!J10/SUM('[2]21-23 Campus Contract Alloctns'!$I$5:$AP$108)","v":0},{"$f":"$I$5*'[2]21-23 Campus Contract Alloctns'!K10/SUM('[2]21-23 Campus Contract Alloctns'!$I$5:$AP$108)","v":0},{"$f":"$I$5*'[2]21-23 Campus Contract Alloctns'!L10/SUM('[2]21-23 Campus Contract Alloctns'!$I$5:$AP$108)","v":0},{"$f":"$I$5*'[2]21-23 Campus Contract Alloctns'!M10/SUM('[2]21-23 Campus Contract Alloctns'!$I$5:$AP$108)","v":0},{"$f":"$I$5*'[2]21-23 Campus Contract Alloctns'!N10/SUM('[2]21-23 Campus Contract Alloctns'!$I$5:$AP$108)","v":0},{"$f":"$I$5*'[2]21-23 Campus Contract Alloctns'!O10/SUM('[2]21-23 Campus Contract Alloctns'!$I$5:$AP$108)","v":0},{"$f":"$I$5*'[2]21-23 Campus Contract Alloctns'!P10/SUM('[2]21-23 Campus Contract Alloctns'!$I$5:$AP$108)","v":0},{"$f":"$I$5*'[2]21-23 Campus Contract Alloctns'!Q10/SUM('[2]21-23 Campus Contract Alloctns'!$I$5:$AP$108)","v":0},{"$f":"$I$5*'[2]21-23 Campus Contract Alloctns'!R10/SUM('[2]21-23 Campus Contract Alloctns'!$I$5:$AP$108)","v":0},{"$f":"$I$5*'[2]21-23 Campus Contract Alloctns'!S10/SUM('[2]21-23 Campus Contract Alloctns'!$I$5:$AP$108)","v":0},{"$f":"$I$5*'[2]21-23 Campus Contract Alloctns'!T10/SUM('[2]21-23 Campus Contract Alloctns'!$I$5:$AP$108)","v":0},{"$f":"$I$5*'[2]21-23 Campus Contract Alloctns'!U10/SUM('[2]21-23 Campus Contract Alloctns'!$I$5:$AP$108)","v":0},{"$f":"$I$5*'[2]21-23 Campus Contract Alloctns'!V10/SUM('[2]21-23 Campus Contract Alloctns'!$I$5:$AP$108)","v":0},{"$f":"$I$5*'[2]21-23 Campus Contract Alloctns'!W10/SUM('[2]21-23 Campus Contract Alloctns'!$I$5:$AP$108)","v":0},{"$f":"$I$5*'[2]21-23 Campus Contract Alloctns'!X10/SUM('[2]21-23 Campus Contract Alloctns'!$I$5:$AP$108)","v":0},{"$f":"$I$5*'[2]21-23 Campus Contract Alloctns'!Y10/SUM('[2]21-23 Campus Contract Alloctns'!$I$5:$AP$108)","v":0},{"$f":"$I$5*'[2]21-23 Campus Contract Alloctns'!Z10/SUM('[2]21-23 Campus Contract Alloctns'!$I$5:$AP$108)","v":0},{"$f":"$I$5*'[2]21-23 Campus Contract Alloctns'!AA10/SUM('[2]21-23 Campus Contract Alloctns'!$I$5:$AP$108)","v":0},{"$f":"$I$5*'[2]21-23 Campus Contract Alloctns'!AB10/SUM('[2]21-23 Campus Contract Alloctns'!$I$5:$AP$108)","v":0},{"$f":"$I$5*'[2]21-23 Campus Contract Alloctns'!AC10/SUM('[2]21-23 Campus Contract Alloctns'!$I$5:$AP$108)","v":0},{"$f":"$I$5*'[2]21-23 Campus Contract Alloctns'!AD10/SUM('[2]21-23 Campus Contract Alloctns'!$I$5:$AP$108)","v":0},{"$f":"$I$5*'[2]21-23 Campus Contract Alloctns'!AE10/SUM('[2]21-23 Campus Contract Alloctns'!$I$5:$AP$108)","v":0},{"$f":"$I$5*'[2]21-23 Campus Contract Alloctns'!AF10/SUM('[2]21-23 Campus Contract Alloctns'!$I$5:$AP$108)","v":0},{"$f":"$I$5*'[2]21-23 Campus Contract Alloctns'!AG10/SUM('[2]21-23 Campus Contract Alloctns'!$I$5:$AP$108)","v":0},{"$f":"$I$5*'[2]21-23 Campus Contract Alloctns'!AH10/SUM('[2]21-23 Campus Contract Alloctns'!$I$5:$AP$108)","v":0},{"$f":"$I$5*'[2]21-23 Campus Contract Alloctns'!AI10/SUM('[2]21-23 Campus Contract Alloctns'!$I$5:$AP$108)","v":0},{"$f":"$I$5*'[2]21-23 Campus Contract Alloctns'!AJ10/SUM('[2]21-23 Campus Contract Alloctns'!$I$5:$AP$108)","v":0},{"$f":"$I$5*'[2]21-23 Campus Contract Alloctns'!AK10/SUM('[2]21-23 Campus Contract Alloctns'!$I$5:$AP$108)","v":0},{"$f":"$I$5*'[2]21-23 Campus Contract Alloctns'!AL10/SUM('[2]21-23 Campus Contract Alloctns'!$I$5:$AP$108)","v":0},{"$f":"$I$5*'[2]21-23 Campus Contract Alloctns'!AM10/SUM('[2]21-23 Campus Contract Alloctns'!$I$5:$AP$108)","v":0},{"$f":"$I$5*'[2]21-23 Campus Contract Alloctns'!AN10/SUM('[2]21-23 Campus Contract Alloctns'!$I$5:$AP$108)","v":0},{"$f":"$I$5*'[2]21-23 Campus Contract Alloctns'!AO10/SUM('[2]21-23 Campus Contract Alloctns'!$I$5:$AP$108)","v":0},{"$f":"$I$5*'[2]21-23 Campus Contract Alloctns'!AP10/SUM('[2]21-23 Campus Contract Alloctns'!$I$5:$AP$108)","v":0}]
[null,"037 - Office of Legislative Support Services","037","Office of Legislative Support Services",7.2298538474794508E-3,30,5.3182308870679154E-4,3.5458448144338913E-4,6.3434462773292698E-3,{"$f":"$I$5*'[2]21-23 Campus Contract Alloctns'!I11/SUM('[2]21-23 Campus Contract Alloctns'!$I$5:$AP$108)","v":0},{"$f":"$I$5*'[2]21-23 Campus Contract Alloctns'!J11/SUM('[2]21-23 Campus Contract Alloctns'!$I$5:$AP$108)","v":0},{"$f":"$I$5*'[2]21-23 Campus Contract Alloctns'!K11/SUM('[2]21-23 Campus Contract Alloctns'!$I$5:$AP$108)","v":1.4282722892075513E-3},{"$f":"$I$5*'[2]21-23 Campus Contract Alloctns'!L11/SUM('[2]21-23 Campus Contract Alloctns'!$I$5:$AP$108)","v":1.1148262624112682E-3},{"$f":"$I$5*'[2]21-23 Campus Contract Alloctns'!M11/SUM('[2]21-23 Campus Contract Alloctns'!$I$5:$AP$108)","v":0},{"$f":"$I$5*'[2]21-23 Campus Contract Alloctns'!N11/SUM('[2]21-23 Campus Contract Alloctns'!$I$5:$AP$108)","v":0},{"$f":"$I$5*'[2]21-23 Campus Contract Alloctns'!O11/SUM('[2]21-23 Campus Contract Alloctns'!$I$5:$AP$108)","v":0},{"$f":"$I$5*'[2]21-23 Campus Contract Alloctns'!P11/SUM('[2]21-23 Campus Contract Alloctns'!$I$5:$AP$108)","v":0},{"$f":"$I$5*'[2]21-23 Campus Contract Alloctns'!Q11/SUM('[2]21-23 Campus Contract Alloctns'!$I$5:$AP$108)","v":0},{"$f":"$I$5*'[2]21-23 Campus Contract Alloctns'!R11/SUM('[2]21-23 Campus Contract Alloctns'!$I$5:$AP$108)","v":0},{"$f":"$I$5*'[2]21-23 Campus Contract Alloctns'!S11/SUM('[2]21-23 Campus Contract Alloctns'!$I$5:$AP$108)","v":0},{"$f":"$I$5*'[2]21-23 Campus Contract Alloctns'!T11/SUM('[2]21-23 Campus Contract Alloctns'!$I$5:$AP$108)","v":0},{"$f":"$I$5*'[2]21-23 Campus Contract Alloctns'!U11/SUM('[2]21-23 Campus Contract Alloctns'!$I$5:$AP$108)","v":0},{"$f":"$I$5*'[2]21-23 Campus Contract Alloctns'!V11/SUM('[2]21-23 Campus Contract Alloctns'!$I$5:$AP$108)","v":0},{"$f":"$I$5*'[2]21-23 Campus Contract Alloctns'!W11/SUM('[2]21-23 Campus Contract Alloctns'!$I$5:$AP$108)","v":0},{"$f":"$I$5*'[2]21-23 Campus Contract Alloctns'!X11/SUM('[2]21-23 Campus Contract Alloctns'!$I$5:$AP$108)","v":0},{"$f":"$I$5*'[2]21-23 Campus Contract Alloctns'!Y11/SUM('[2]21-23 Campus Contract Alloctns'!$I$5:$AP$108)","v":3.8003477257104517E-3},{"$f":"$I$5*'[2]21-23 Campus Contract Alloctns'!Z11/SUM('[2]21-23 Campus Contract Alloctns'!$I$5:$AP$108)","v":0},{"$f":"$I$5*'[2]21-23 Campus Contract Alloctns'!AA11/SUM('[2]21-23 Campus Contract Alloctns'!$I$5:$AP$108)","v":0},{"$f":"$I$5*'[2]21-23 Campus Contract Alloctns'!AB11/SUM('[2]21-23 Campus Contract Alloctns'!$I$5:$AP$108)","v":0},{"$f":"$I$5*'[2]21-23 Campus Contract Alloctns'!AC11/SUM('[2]21-23 Campus Contract Alloctns'!$I$5:$AP$108)","v":0},{"$f":"$I$5*'[2]21-23 Campus Contract Alloctns'!AD11/SUM('[2]21-23 Campus Contract Alloctns'!$I$5:$AP$108)","v":0},{"$f":"$I$5*'[2]21-23 Campus Contract Alloctns'!AE11/SUM('[2]21-23 Campus Contract Alloctns'!$I$5:$AP$108)","v":0},{"$f":"$I$5*'[2]21-23 Campus Contract Alloctns'!AF11/SUM('[2]21-23 Campus Contract Alloctns'!$I$5:$AP$108)","v":0},{"$f":"$I$5*'[2]21-23 Campus Contract Alloctns'!AG11/SUM('[2]21-23 Campus Contract Alloctns'!$I$5:$AP$108)","v":0},{"$f":"$I$5*'[2]21-23 Campus Contract Alloctns'!AH11/SUM('[2]21-23 Campus Contract Alloctns'!$I$5:$AP$108)","v":0},{"$f":"$I$5*'[2]21-23 Campus Contract Alloctns'!AI11/SUM('[2]21-23 Campus Contract Alloctns'!$I$5:$AP$108)","v":0},{"$f":"$I$5*'[2]21-23 Campus Contract Alloctns'!AJ11/SUM('[2]21-23 Campus Contract Alloctns'!$I$5:$AP$108)","v":0},{"$f":"$I$5*'[2]21-23 Campus Contract Alloctns'!AK11/SUM('[2]21-23 Campus Contract Alloctns'!$I$5:$AP$108)","v":0},{"$f":"$I$5*'[2]21-23 Campus Contract Alloctns'!AL11/SUM('[2]21-23 Campus Contract Alloctns'!$I$5:$AP$108)","v":0},{"$f":"$I$5*'[2]21-23 Campus Contract Alloctns'!AM11/SUM('[2]21-23 Campus Contract Alloctns'!$I$5:$AP$108)","v":0},{"$f":"$I$5*'[2]21-23 Campus Contract Alloctns'!AN11/SUM('[2]21-23 Campus Contract Alloctns'!$I$5:$AP$108)","v":0},{"$f":"$I$5*'[2]21-23 Campus Contract Alloctns'!AO11/SUM('[2]21-23 Campus Contract Alloctns'!$I$5:$AP$108)","v":0},{"$f":"$I$5*'[2]21-23 Campus Contract Alloctns'!AP11/SUM('[2]21-23 Campus Contract Alloctns'!$I$5:$AP$108)","v":0}]
[null,"038 - Joint Legislative Systems Committee","038","Joint Legislative Systems Committee",3.9430565468028924E-3,59,1.0459187411233568E-3,3.5374242850769866E-4,2.5433953771718367E-3,{"$f":"$I$5*'[2]21-23 Campus Contract Alloctns'!I12/SUM('[2]21-23 Campus Contract Alloctns'!$I$5:$AP$108)","v":0},{"$f":"$I$5*'[2]21-23 Campus Contract Alloctns'!J12/SUM('[2]21-23 Campus Contract Alloctns'!$I$5:$AP$108)","v":0},{"$f":"$I$5*'[2]21-23 Campus Contract Alloctns'!K12/SUM('[2]21-23 Campus Contract Alloctns'!$I$5:$AP$108)","v":3.2788014190886347E-4},{"$f":"$I$5*'[2]21-23 Campus Contract Alloctns'!L12/SUM('[2]21-23 Campus Contract Alloctns'!$I$5:$AP$108)","v":2.2155152352629735E-3},{"$f":"$I$5*'[2]21-23 Campus Contract Alloctns'!M12/SUM('[2]21-23 Campus Contract Alloctns'!$I$5:$AP$108)","v":0},{"$f":"$I$5*'[2]21-23 Campus Contract Alloctns'!N12/SUM('[2]21-23 Campus Contract Alloctns'!$I$5:$AP$108)","v":0},{"$f":"$I$5*'[2]21-23 Campus Contract Alloctns'!O12/SUM('[2]21-23 Campus Contract Alloctns'!$I$5:$AP$108)","v":0},{"$f":"$I$5*'[2]21-23 Campus Contract Alloctns'!P12/SUM('[2]21-23 Campus Contract Alloctns'!$I$5:$AP$108)","v":0},{"$f":"$I$5*'[2]21-23 Campus Contract Alloctns'!Q12/SUM('[2]21-23 Campus Contract Alloctns'!$I$5:$AP$108)","v":0},{"$f":"$I$5*'[2]21-23 Campus Contract Alloctns'!R12/SUM('[2]21-23 Campus Contract Alloctns'!$I$5:$AP$108)","v":0},{"$f":"$I$5*'[2]21-23 Campus Contract Alloctns'!S12/SUM('[2]21-23 Campus Contract Alloctns'!$I$5:$AP$108)","v":0},{"$f":"$I$5*'[2]21-23 Campus Contract Alloctns'!T12/SUM('[2]21-23 Campus Contract Alloctns'!$I$5:$AP$108)","v":0},{"$f":"$I$5*'[2]21-23 Campus Contract Alloctns'!U12/SUM('[2]21-23 Campus Contract Alloctns'!$I$5:$AP$108)","v":0},{"$f":"$I$5*'[2]21-23 Campus Contract Alloctns'!V12/SUM('[2]21-23 Campus Contract Alloctns'!$I$5:$AP$108)","v":0},{"$f":"$I$5*'[2]21-23 Campus Contract Alloctns'!W12/SUM('[2]21-23 Campus Contract Alloctns'!$I$5:$AP$108)","v":0},{"$f":"$I$5*'[2]21-23 Campus Contract Alloctns'!X12/SUM('[2]21-23 Campus Contract Alloctns'!$I$5:$AP$108)","v":0},{"$f":"$I$5*'[2]21-23 Campus Contract Alloctns'!Y12/SUM('[2]21-23 Campus Contract Alloctns'!$I$5:$AP$108)","v":0},{"$f":"$I$5*'[2]21-23 Campus Contract Alloctns'!Z12/SUM('[2]21-23 Campus Contract Alloctns'!$I$5:$AP$108)","v":0},{"$f":"$I$5*'[2]21-23 Campus Contract Alloctns'!AA12/SUM('[2]21-23 Campus Contract Alloctns'!$I$5:$AP$108)","v":0},{"$f":"$I$5*'[2]21-23 Campus Contract Alloctns'!AB12/SUM('[2]21-23 Campus Contract Alloctns'!$I$5:$AP$108)","v":0},{"$f":"$I$5*'[2]21-23 Campus Contract Alloctns'!AC12/SUM('[2]21-23 Campus Contract Alloctns'!$I$5:$AP$108)","v":0},{"$f":"$I$5*'[2]21-23 Campus Contract Alloctns'!AD12/SUM('[2]21-23 Campus Contract Alloctns'!$I$5:$AP$108)","v":0},{"$f":"$I$5*'[2]21-23 Campus Contract Alloctns'!AE12/SUM('[2]21-23 Campus Contract Alloctns'!$I$5:$AP$108)","v":0},{"$f":"$I$5*'[2]21-23 Campus Contract Alloctns'!AF12/SUM('[2]21-23 Campus Contract Alloctns'!$I$5:$AP$108)","v":0},{"$f":"$I$5*'[2]21-23 Campus Contract Alloctns'!AG12/SUM('[2]21-23 Campus Contract Alloctns'!$I$5:$AP$108)","v":0},{"$f":"$I$5*'[2]21-23 Campus Contract Alloctns'!AH12/SUM('[2]21-23 Campus Contract Alloctns'!$I$5:$AP$108)","v":0},{"$f":"$I$5*'[2]21-23 Campus Contract Alloctns'!AI12/SUM('[2]21-23 Campus Contract Alloctns'!$I$5:$AP$108)","v":0},{"$f":"$I$5*'[2]21-23 Campus Contract Alloctns'!AJ12/SUM('[2]21-23 Campus Contract Alloctns'!$I$5:$AP$108)","v":0},{"$f":"$I$5*'[2]21-23 Campus Contract Alloctns'!AK12/SUM('[2]21-23 Campus Contract Alloctns'!$I$5:$AP$108)","v":0},{"$f":"$I$5*'[2]21-23 Campus Contract Alloctns'!AL12/SUM('[2]21-23 Campus Contract Alloctns'!$I$5:$AP$108)","v":0},{"$f":"$I$5*'[2]21-23 Campus Contract Alloctns'!AM12/SUM('[2]21-23 Campus Contract Alloctns'!$I$5:$AP$108)","v":0},{"$f":"$I$5*'[2]21-23 Campus Contract Alloctns'!AN12/SUM('[2]21-23 Campus Contract Alloctns'!$I$5:$AP$108)","v":0},{"$f":"$I$5*'[2]21-23 Campus Contract Alloctns'!AO12/SUM('[2]21-23 Campus Contract Alloctns'!$I$5:$AP$108)","v":0},{"$f":"$I$5*'[2]21-23 Campus Contract Alloctns'!AP12/SUM('[2]21-23 Campus Contract Alloctns'!$I$5:$AP$108)","v":0}]
[null,"040 - Statute Law Committee (Code Revisor)","040","Statute Law Committee (Code Revisor)",4.7133106240620139E-3,37,6.5591514273837621E-4,4.9508702842717691E-4,3.5623084528964614E-3,{"$f":"$I$5*'[2]21-23 Campus Contract Alloctns'!I13/SUM('[2]21-23 Campus Contract Alloctns'!$I$5:$AP$108)","v":0},{"$f":"$I$5*'[2]21-23 Campus Contract Alloctns'!J13/SUM('[2]21-23 Campus Contract Alloctns'!$I$5:$AP$108)","v":0},{"$f":"$I$5*'[2]21-23 Campus Contract Alloctns'!K13/SUM('[2]21-23 Campus Contract Alloctns'!$I$5:$AP$108)","v":0},{"$f":"$I$5*'[2]21-23 Campus Contract Alloctns'!L13/SUM('[2]21-23 Campus Contract Alloctns'!$I$5:$AP$108)","v":3.5623084528964618E-3},{"$f":"$I$5*'[2]21-23 Campus Contract Alloctns'!M13/SUM('[2]21-23 Campus Contract Alloctns'!$I$5:$AP$108)","v":0},{"$f":"$I$5*'[2]21-23 Campus Contract Alloctns'!N13/SUM('[2]21-23 Campus Contract Alloctns'!$I$5:$AP$108)","v":0},{"$f":"$I$5*'[2]21-23 Campus Contract Alloctns'!O13/SUM('[2]21-23 Campus Contract Alloctns'!$I$5:$AP$108)","v":0},{"$f":"$I$5*'[2]21-23 Campus Contract Alloctns'!P13/SUM('[2]21-23 Campus Contract Alloctns'!$I$5:$AP$108)","v":0},{"$f":"$I$5*'[2]21-23 Campus Contract Alloctns'!Q13/SUM('[2]21-23 Campus Contract Alloctns'!$I$5:$AP$108)","v":0},{"$f":"$I$5*'[2]21-23 Campus Contract Alloctns'!R13/SUM('[2]21-23 Campus Contract Alloctns'!$I$5:$AP$108)","v":0},{"$f":"$I$5*'[2]21-23 Campus Contract Alloctns'!S13/SUM('[2]21-23 Campus Contract Alloctns'!$I$5:$AP$108)","v":0},{"$f":"$I$5*'[2]21-23 Campus Contract Alloctns'!T13/SUM('[2]21-23 Campus Contract Alloctns'!$I$5:$AP$108)","v":0},{"$f":"$I$5*'[2]21-23 Campus Contract Alloctns'!U13/SUM('[2]21-23 Campus Contract Alloctns'!$I$5:$AP$108)","v":0},{"$f":"$I$5*'[2]21-23 Campus Contract Alloctns'!V13/SUM('[2]21-23 Campus Contract Alloctns'!$I$5:$AP$108)","v":0},{"$f":"$I$5*'[2]21-23 Campus Contract Alloctns'!W13/SUM('[2]21-23 Campus Contract Alloctns'!$I$5:$AP$108)","v":0},{"$f":"$I$5*'[2]21-23 Campus Contract Alloctns'!X13/SUM('[2]21-23 Campus Contract Alloctns'!$I$5:$AP$108)","v":0},{"$f":"$I$5*'[2]21-23 Campus Contract Alloctns'!Y13/SUM('[2]21-23 Campus Contract Alloctns'!$I$5:$AP$108)","v":0},{"$f":"$I$5*'[2]21-23 Campus Contract Alloctns'!Z13/SUM('[2]21-23 Campus Contract Alloctns'!$I$5:$AP$108)","v":0},{"$f":"$I$5*'[2]21-23 Campus Contract Alloctns'!AA13/SUM('[2]21-23 Campus Contract Alloctns'!$I$5:$AP$108)","v":0},{"$f":"$I$5*'[2]21-23 Campus Contract Alloctns'!AB13/SUM('[2]21-23 Campus Contract Alloctns'!$I$5:$AP$108)","v":0},{"$f":"$I$5*'[2]21-23 Campus Contract Alloctns'!AC13/SUM('[2]21-23 Campus Contract Alloctns'!$I$5:$AP$108)","v":0},{"$f":"$I$5*'[2]21-23 Campus Contract Alloctns'!AD13/SUM('[2]21-23 Campus Contract Alloctns'!$I$5:$AP$108)","v":0},{"$f":"$I$5*'[2]21-23 Campus Contract Alloctns'!AE13/SUM('[2]21-23 Campus Contract Alloctns'!$I$5:$AP$108)","v":0},{"$f":"$I$5*'[2]21-23 Campus Contract Alloctns'!AF13/SUM('[2]21-23 Campus Contract Alloctns'!$I$5:$AP$108)","v":0},{"$f":"$I$5*'[2]21-23 Campus Contract Alloctns'!AG13/SUM('[2]21-23 Campus Contract Alloctns'!$I$5:$AP$108)","v":0},{"$f":"$I$5*'[2]21-23 Campus Contract Alloctns'!AH13/SUM('[2]21-23 Campus Contract Alloctns'!$I$5:$AP$108)","v":0},{"$f":"$I$5*'[2]21-23 Campus Contract Alloctns'!AI13/SUM('[2]21-23 Campus Contract Alloctns'!$I$5:$AP$108)","v":0},{"$f":"$I$5*'[2]21-23 Campus Contract Alloctns'!AJ13/SUM('[2]21-23 Campus Contract Alloctns'!$I$5:$AP$108)","v":0},{"$f":"$I$5*'[2]21-23 Campus Contract Alloctns'!AK13/SUM('[2]21-23 Campus Contract Alloctns'!$I$5:$AP$108)","v":0},{"$f":"$I$5*'[2]21-23 Campus Contract Alloctns'!AL13/SUM('[2]21-23 Campus Contract Alloctns'!$I$5:$AP$108)","v":0},{"$f":"$I$5*'[2]21-23 Campus Contract Alloctns'!AM13/SUM('[2]21-23 Campus Contract Alloctns'!$I$5:$AP$108)","v":0},{"$f":"$I$5*'[2]21-23 Campus Contract Alloctns'!AN13/SUM('[2]21-23 Campus Contract Alloctns'!$I$5:$AP$108)","v":0},{"$f":"$I$5*'[2]21-23 Campus Contract Alloctns'!AO13/SUM('[2]21-23 Campus Contract Alloctns'!$I$5:$AP$108)","v":0},{"$f":"$I$5*'[2]21-23 Campus Contract Alloctns'!AP13/SUM('[2]21-23 Campus Contract Alloctns'!$I$5:$AP$108)","v":0}]
[null,"045 - Supreme Court","045","Supreme Court",1.2120367302180895E-2,61,1.0813736137038096E-3,1.3609179351112323E-3,9.6780757533658536E-3,{"$f":"$I$5*'[2]21-23 Campus Contract Alloctns'!I14/SUM('[2]21-23 Campus Contract Alloctns'!$I$5:$AP$108)","v":0},{"$f":"$I$5*'[2]21-23 Campus Contract Alloctns'!J14/SUM('[2]21-23 Campus Contract Alloctns'!$I$5:$AP$108)","v":0},{"$f":"$I$5*'[2]21-23 Campus Contract Alloctns'!K14/SUM('[2]21-23 Campus Contract Alloctns'!$I$5:$AP$108)","v":0},{"$f":"$I$5*'[2]21-23 Campus Contract Alloctns'!L14/SUM('[2]21-23 Campus Contract Alloctns'!$I$5:$AP$108)","v":0},{"$f":"$I$5*'[2]21-23 Campus Contract Alloctns'!M14/SUM('[2]21-23 Campus Contract Alloctns'!$I$5:$AP$108)","v":0},{"$f":"$I$5*'[2]21-23 Campus Contract Alloctns'!N14/SUM('[2]21-23 Campus Contract Alloctns'!$I$5:$AP$108)","v":0},{"$f":"$I$5*'[2]21-23 Campus Contract Alloctns'!O14/SUM('[2]21-23 Campus Contract Alloctns'!$I$5:$AP$108)","v":0},{"$f":"$I$5*'[2]21-23 Campus Contract Alloctns'!P14/SUM('[2]21-23 Campus Contract Alloctns'!$I$5:$AP$108)","v":0},{"$f":"$I$5*'[2]21-23 Campus Contract Alloctns'!Q14/SUM('[2]21-23 Campus Contract Alloctns'!$I$5:$AP$108)","v":0},{"$f":"$I$5*'[2]21-23 Campus Contract Alloctns'!R14/SUM('[2]21-23 Campus Contract Alloctns'!$I$5:$AP$108)","v":0},{"$f":"$I$5*'[2]21-23 Campus Contract Alloctns'!S14/SUM('[2]21-23 Campus Contract Alloctns'!$I$5:$AP$108)","v":0},{"$f":"$I$5*'[2]21-23 Campus Contract Alloctns'!T14/SUM('[2]21-23 Campus Contract Alloctns'!$I$5:$AP$108)","v":0},{"$f":"$I$5*'[2]21-23 Campus Contract Alloctns'!U14/SUM('[2]21-23 Campus Contract Alloctns'!$I$5:$AP$108)","v":9.6780757533658553E-3},{"$f":"$I$5*'[2]21-23 Campus Contract Alloctns'!V14/SUM('[2]21-23 Campus Contract Alloctns'!$I$5:$AP$108)","v":0},{"$f":"$I$5*'[2]21-23 Campus Contract Alloctns'!W14/SUM('[2]21-23 Campus Contract Alloctns'!$I$5:$AP$108)","v":0},{"$f":"$I$5*'[2]21-23 Campus Contract Alloctns'!X14/SUM('[2]21-23 Campus Contract Alloctns'!$I$5:$AP$108)","v":0},{"$f":"$I$5*'[2]21-23 Campus Contract Alloctns'!Y14/SUM('[2]21-23 Campus Contract Alloctns'!$I$5:$AP$108)","v":0},{"$f":"$I$5*'[2]21-23 Campus Contract Alloctns'!Z14/SUM('[2]21-23 Campus Contract Alloctns'!$I$5:$AP$108)","v":0},{"$f":"$I$5*'[2]21-23 Campus Contract Alloctns'!AA14/SUM('[2]21-23 Campus Contract Alloctns'!$I$5:$AP$108)","v":0},{"$f":"$I$5*'[2]21-23 Campus Contract Alloctns'!AB14/SUM('[2]21-23 Campus Contract Alloctns'!$I$5:$AP$108)","v":0},{"$f":"$I$5*'[2]21-23 Campus Contract Alloctns'!AC14/SUM('[2]21-23 Campus Contract Alloctns'!$I$5:$AP$108)","v":0},{"$f":"$I$5*'[2]21-23 Campus Contract Alloctns'!AD14/SUM('[2]21-23 Campus Contract Alloctns'!$I$5:$AP$108)","v":0},{"$f":"$I$5*'[2]21-23 Campus Contract Alloctns'!AE14/SUM('[2]21-23 Campus Contract Alloctns'!$I$5:$AP$108)","v":0},{"$f":"$I$5*'[2]21-23 Campus Contract Alloctns'!AF14/SUM('[2]21-23 Campus Contract Alloctns'!$I$5:$AP$108)","v":0},{"$f":"$I$5*'[2]21-23 Campus Contract Alloctns'!AG14/SUM('[2]21-23 Campus Contract Alloctns'!$I$5:$AP$108)","v":0},{"$f":"$I$5*'[2]21-23 Campus Contract Alloctns'!AH14/SUM('[2]21-23 Campus Contract Alloctns'!$I$5:$AP$108)","v":0},{"$f":"$I$5*'[2]21-23 Campus Contract Alloctns'!AI14/SUM('[2]21-23 Campus Contract Alloctns'!$I$5:$AP$108)","v":0},{"$f":"$I$5*'[2]21-23 Campus Contract Alloctns'!AJ14/SUM('[2]21-23 Campus Contract Alloctns'!$I$5:$AP$108)","v":0},{"$f":"$I$5*'[2]21-23 Campus Contract Alloctns'!AK14/SUM('[2]21-23 Campus Contract Alloctns'!$I$5:$AP$108)","v":0},{"$f":"$I$5*'[2]21-23 Campus Contract Alloctns'!AL14/SUM('[2]21-23 Campus Contract Alloctns'!$I$5:$AP$108)","v":0},{"$f":"$I$5*'[2]21-23 Campus Contract Alloctns'!AM14/SUM('[2]21-23 Campus Contract Alloctns'!$I$5:$AP$108)","v":0},{"$f":"$I$5*'[2]21-23 Campus Contract Alloctns'!AN14/SUM('[2]21-23 Campus Contract Alloctns'!$I$5:$AP$108)","v":0},{"$f":"$I$5*'[2]21-23 Campus Contract Alloctns'!AO14/SUM('[2]21-23 Campus Contract Alloctns'!$I$5:$AP$108)","v":0},{"$f":"$I$5*'[2]21-23 Campus Contract Alloctns'!AP14/SUM('[2]21-23 Campus Contract Alloctns'!$I$5:$AP$108)","v":0}]
[null,"046 - Law Library","046","Law Library",5.1565279372558035E-3,8,1.4181949032181107E-4,6.1822724583220328E-4,4.3964812011017896E-3,{"$f":"$I$5*'[2]21-23 Campus Contract Alloctns'!I15/SUM('[2]21-23 Campus Contract Alloctns'!$I$5:$AP$108)","v":0},{"$f":"$I$5*'[2]21-23 Campus Contract Alloctns'!J15/SUM('[2]21-23 Campus Contract Alloctns'!$I$5:$AP$108)","v":0},{"$f":"$I$5*'[2]21-23 Campus Contract Alloctns'!K15/SUM('[2]21-23 Campus Contract Alloctns'!$I$5:$AP$108)","v":0},{"$f":"$I$5*'[2]21-23 Campus Contract Alloctns'!L15/SUM('[2]21-23 Campus Contract Alloctns'!$I$5:$AP$108)","v":0},{"$f":"$I$5*'[2]21-23 Campus Contract Alloctns'!M15/SUM('[2]21-23 Campus Contract Alloctns'!$I$5:$AP$108)","v":0},{"$f":"$I$5*'[2]21-23 Campus Contract Alloctns'!N15/SUM('[2]21-23 Campus Contract Alloctns'!$I$5:$AP$108)","v":0},{"$f":"$I$5*'[2]21-23 Campus Contract Alloctns'!O15/SUM('[2]21-23 Campus Contract Alloctns'!$I$5:$AP$108)","v":0},{"$f":"$I$5*'[2]21-23 Campus Contract Alloctns'!P15/SUM('[2]21-23 Campus Contract Alloctns'!$I$5:$AP$108)","v":0},{"$f":"$I$5*'[2]21-23 Campus Contract Alloctns'!Q15/SUM('[2]21-23 Campus Contract Alloctns'!$I$5:$AP$108)","v":0},{"$f":"$I$5*'[2]21-23 Campus Contract Alloctns'!R15/SUM('[2]21-23 Campus Contract Alloctns'!$I$5:$AP$108)","v":0},{"$f":"$I$5*'[2]21-23 Campus Contract Alloctns'!S15/SUM('[2]21-23 Campus Contract Alloctns'!$I$5:$AP$108)","v":0},{"$f":"$I$5*'[2]21-23 Campus Contract Alloctns'!T15/SUM('[2]21-23 Campus Contract Alloctns'!$I$5:$AP$108)","v":0},{"$f":"$I$5*'[2]21-23 Campus Contract Alloctns'!U15/SUM('[2]21-23 Campus Contract Alloctns'!$I$5:$AP$108)","v":4.3964812011017904E-3},{"$f":"$I$5*'[2]21-23 Campus Contract Alloctns'!V15/SUM('[2]21-23 Campus Contract Alloctns'!$I$5:$AP$108)","v":0},{"$f":"$I$5*'[2]21-23 Campus Contract Alloctns'!W15/SUM('[2]21-23 Campus Contract Alloctns'!$I$5:$AP$108)","v":0},{"$f":"$I$5*'[2]21-23 Campus Contract Alloctns'!X15/SUM('[2]21-23 Campus Contract Alloctns'!$I$5:$AP$108)","v":0},{"$f":"$I$5*'[2]21-23 Campus Contract Alloctns'!Y15/SUM('[2]21-23 Campus Contract Alloctns'!$I$5:$AP$108)","v":0},{"$f":"$I$5*'[2]21-23 Campus Contract Alloctns'!Z15/SUM('[2]21-23 Campus Contract Alloctns'!$I$5:$AP$108)","v":0},{"$f":"$I$5*'[2]21-23 Campus Contract Alloctns'!AA15/SUM('[2]21-23 Campus Contract Alloctns'!$I$5:$AP$108)","v":0},{"$f":"$I$5*'[2]21-23 Campus Contract Alloctns'!AB15/SUM('[2]21-23 Campus Contract Alloctns'!$I$5:$AP$108)","v":0},{"$f":"$I$5*'[2]21-23 Campus Contract Alloctns'!AC15/SUM('[2]21-23 Campus Contract Alloctns'!$I$5:$AP$108)","v":0},{"$f":"$I$5*'[2]21-23 Campus Contract Alloctns'!AD15/SUM('[2]21-23 Campus Contract Alloctns'!$I$5:$AP$108)","v":0},{"$f":"$I$5*'[2]21-23 Campus Contract Alloctns'!AE15/SUM('[2]21-23 Campus Contract Alloctns'!$I$5:$AP$108)","v":0},{"$f":"$I$5*'[2]21-23 Campus Contract Alloctns'!AF15/SUM('[2]21-23 Campus Contract Alloctns'!$I$5:$AP$108)","v":0},{"$f":"$I$5*'[2]21-23 Campus Contract Alloctns'!AG15/SUM('[2]21-23 Campus Contract Alloctns'!$I$5:$AP$108)","v":0},{"$f":"$I$5*'[2]21-23 Campus Contract Alloctns'!AH15/SUM('[2]21-23 Campus Contract Alloctns'!$I$5:$AP$108)","v":0},{"$f":"$I$5*'[2]21-23 Campus Contract Alloctns'!AI15/SUM('[2]21-23 Campus Contract Alloctns'!$I$5:$AP$108)","v":0},{"$f":"$I$5*'[2]21-23 Campus Contract Alloctns'!AJ15/SUM('[2]21-23 Campus Contract Alloctns'!$I$5:$AP$108)","v":0},{"$f":"$I$5*'[2]21-23 Campus Contract Alloctns'!AK15/SUM('[2]21-23 Campus Contract Alloctns'!$I$5:$AP$108)","v":0},{"$f":"$I$5*'[2]21-23 Campus Contract Alloctns'!AL15/SUM('[2]21-23 Campus Contract Alloctns'!$I$5:$AP$108)","v":0},{"$f":"$I$5*'[2]21-23 Campus Contract Alloctns'!AM15/SUM('[2]21-23 Campus Contract Alloctns'!$I$5:$AP$108)","v":0},{"$f":"$I$5*'[2]21-23 Campus Contract Alloctns'!AN15/SUM('[2]21-23 Campus Contract Alloctns'!$I$5:$AP$108)","v":0},{"$f":"$I$5*'[2]21-23 Campus Contract Alloctns'!AO15/SUM('[2]21-23 Campus Contract Alloctns'!$I$5:$AP$108)","v":0},{"$f":"$I$5*'[2]21-23 Campus Contract Alloctns'!AP15/SUM('[2]21-23 Campus Contract Alloctns'!$I$5:$AP$108)","v":0}]
[null,"048 - Court of Appeals","048","Court of Appeals",4.6427152425383752E-3,1,1.7727436290226384E-5,0,4.6249878062481486E-3,{"$f":"$I$5*'[2]21-23 Campus Contract Alloctns'!I16/SUM('[2]21-23 Campus Contract Alloctns'!$I$5:$AP$108)","v":0},{"$f":"$I$5*'[2]21-23 Campus Contract Alloctns'!J16/SUM('[2]21-23 Campus Contract Alloctns'!$I$5:$AP$108)","v":0},{"$f":"$I$5*'[2]21-23 Campus Contract Alloctns'!K16/SUM('[2]21-23 Campus Contract Alloctns'!$I$5:$AP$108)","v":0},{"$f":"$I$5*'[2]21-23 Campus Contract Alloctns'!L16/SUM('[2]21-23 Campus Contract Alloctns'!$I$5:$AP$108)","v":0},{"$f":"$I$5*'[2]21-23 Campus Contract Alloctns'!M16/SUM('[2]21-23 Campus Contract Alloctns'!$I$5:$AP$108)","v":0},{"$f":"$I$5*'[2]21-23 Campus Contract Alloctns'!N16/SUM('[2]21-23 Campus Contract Alloctns'!$I$5:$AP$108)","v":0},{"$f":"$I$5*'[2]21-23 Campus Contract Alloctns'!O16/SUM('[2]21-23 Campus Contract Alloctns'!$I$5:$AP$108)","v":0},{"$f":"$I$5*'[2]21-23 Campus Contract Alloctns'!P16/SUM('[2]21-23 Campus Contract Alloctns'!$I$5:$AP$108)","v":0},{"$f":"$I$5*'[2]21-23 Campus Contract Alloctns'!Q16/SUM('[2]21-23 Campus Contract Alloctns'!$I$5:$AP$108)","v":0},{"$f":"$I$5*'[2]21-23 Campus Contract Alloctns'!R16/SUM('[2]21-23 Campus Contract Alloctns'!$I$5:$AP$108)","v":0},{"$f":"$I$5*'[2]21-23 Campus Contract Alloctns'!S16/SUM('[2]21-23 Campus Contract Alloctns'!$I$5:$AP$108)","v":0},{"$f":"$I$5*'[2]21-23 Campus Contract Alloctns'!T16/SUM('[2]21-23 Campus Contract Alloctns'!$I$5:$AP$108)","v":0},{"$f":"$I$5*'[2]21-23 Campus Contract Alloctns'!U16/SUM('[2]21-23 Campus Contract Alloctns'!$I$5:$AP$108)","v":0},{"$f":"$I$5*'[2]21-23 Campus Contract Alloctns'!V16/SUM('[2]21-23 Campus Contract Alloctns'!$I$5:$AP$108)","v":0},{"$f":"$I$5*'[2]21-23 Campus Contract Alloctns'!W16/SUM('[2]21-23 Campus Contract Alloctns'!$I$5:$AP$108)","v":0},{"$f":"$I$5*'[2]21-23 Campus Contract Alloctns'!X16/SUM('[2]21-23 Campus Contract Alloctns'!$I$5:$AP$108)","v":0},{"$f":"$I$5*'[2]21-23 Campus Contract Alloctns'!Y16/SUM('[2]21-23 Campus Contract Alloctns'!$I$5:$AP$108)","v":0},{"$f":"$I$5*'[2]21-23 Campus Contract Alloctns'!Z16/SUM('[2]21-23 Campus Contract Alloctns'!$I$5:$AP$108)","v":0},{"$f":"$I$5*'[2]21-23 Campus Contract Alloctns'!AA16/SUM('[2]21-23 Campus Contract Alloctns'!$I$5:$AP$108)","v":0},{"$f":"$I$5*'[2]21-23 Campus Contract Alloctns'!AB16/SUM('[2]21-23 Campus Contract Alloctns'!$I$5:$AP$108)","v":0},{"$f":"$I$5*'[2]21-23 Campus Contract Alloctns'!AC16/SUM('[2]21-23 Campus Contract Alloctns'!$I$5:$AP$108)","v":0},{"$f":"$I$5*'[2]21-23 Campus Contract Alloctns'!AD16/SUM('[2]21-23 Campus Contract Alloctns'!$I$5:$AP$108)","v":0},{"$f":"$I$5*'[2]21-23 Campus Contract Alloctns'!AE16/SUM('[2]21-23 Campus Contract Alloctns'!$I$5:$AP$108)","v":0},{"$f":"$I$5*'[2]21-23 Campus Contract Alloctns'!AF16/SUM('[2]21-23 Campus Contract Alloctns'!$I$5:$AP$108)","v":0},{"$f":"$I$5*'[2]21-23 Campus Contract Alloctns'!AG16/SUM('[2]21-23 Campus Contract Alloctns'!$I$5:$AP$108)","v":0},{"$f":"$I$5*'[2]21-23 Campus Contract Alloctns'!AH16/SUM('[2]21-23 Campus Contract Alloctns'!$I$5:$AP$108)","v":0},{"$f":"$I$5*'[2]21-23 Campus Contract Alloctns'!AI16/SUM('[2]21-23 Campus Contract Alloctns'!$I$5:$AP$108)","v":0},{"$f":"$I$5*'[2]21-23 Campus Contract Alloctns'!AJ16/SUM('[2]21-23 Campus Contract Alloctns'!$I$5:$AP$108)","v":0},{"$f":"$I$5*'[2]21-23 Campus Contract Alloctns'!AK16/SUM('[2]21-23 Campus Contract Alloctns'!$I$5:$AP$108)","v":0},{"$f":"$I$5*'[2]21-23 Campus Contract Alloctns'!AL16/SUM('[2]21-23 Campus Contract Alloctns'!$I$5:$AP$108)","v":0},{"$f":"$I$5*'[2]21-23 Campus Contract Alloctns'!AM16/SUM('[2]21-23 Campus Contract Alloctns'!$I$5:$AP$108)","v":0},{"$f":"$I$5*'[2]21-23 Campus Contract Alloctns'!AN16/SUM('[2]21-23 Campus Contract Alloctns'!$I$5:$AP$108)","v":4.6249878062481495E-3},{"$f":"$I$5*'[2]21-23 Campus Contract Alloctns'!AO16/SUM('[2]21-23 Campus Contract Alloctns'!$I$5:$AP$108)","v":0},{"$f":"$I$5*'[2]21-23 Campus Contract Alloctns'!AP16/SUM('[2]21-23 Campus Contract Alloctns'!$I$5:$AP$108)","v":0}]
[null,"050 - Commission on Judicial Conduct","050","Commission on Judicial Conduct",1.2353318278276466E-3,8,1.4181949032181107E-4,0,1.0935123375058356E-3,{"$f":"$I$5*'[2]21-23 Campus Contract Alloctns'!I17/SUM('[2]21-23 Campus Contract Alloctns'!$I$5:$AP$108)","v":0},{"$f":"$I$5*'[2]21-23 Campus Contract Alloctns'!J17/SUM('[2]21-23 Campus Contract Alloctns'!$I$5:$AP$108)","v":0},{"$f":"$I$5*'[2]21-23 Campus Contract Alloctns'!K17/SUM('[2]21-23 Campus Contract Alloctns'!$I$5:$AP$108)","v":0},{"$f":"$I$5*'[2]21-23 Campus Contract Alloctns'!L17/SUM('[2]21-23 Campus Contract Alloctns'!$I$5:$AP$108)","v":0},{"$f":"$I$5*'[2]21-23 Campus Contract Alloctns'!M17/SUM('[2]21-23 Campus Contract Alloctns'!$I$5:$AP$108)","v":0},{"$f":"$I$5*'[2]21-23 Campus Contract Alloctns'!N17/SUM('[2]21-23 Campus Contract Alloctns'!$I$5:$AP$108)","v":0},{"$f":"$I$5*'[2]21-23 Campus Contract Alloctns'!O17/SUM('[2]21-23 Campus Contract Alloctns'!$I$5:$AP$108)","v":0},{"$f":"$I$5*'[2]21-23 Campus Contract Alloctns'!P17/SUM('[2]21-23 Campus Contract Alloctns'!$I$5:$AP$108)","v":0},{"$f":"$I$5*'[2]21-23 Campus Contract Alloctns'!Q17/SUM('[2]21-23 Campus Contract Alloctns'!$I$5:$AP$108)","v":0},{"$f":"$I$5*'[2]21-23 Campus Contract Alloctns'!R17/SUM('[2]21-23 Campus Contract Alloctns'!$I$5:$AP$108)","v":0},{"$f":"$I$5*'[2]21-23 Campus Contract Alloctns'!S17/SUM('[2]21-23 Campus Contract Alloctns'!$I$5:$AP$108)","v":0},{"$f":"$I$5*'[2]21-23 Campus Contract Alloctns'!T17/SUM('[2]21-23 Campus Contract Alloctns'!$I$5:$AP$108)","v":0},{"$f":"$I$5*'[2]21-23 Campus Contract Alloctns'!U17/SUM('[2]21-23 Campus Contract Alloctns'!$I$5:$AP$108)","v":0},{"$f":"$I$5*'[2]21-23 Campus Contract Alloctns'!V17/SUM('[2]21-23 Campus Contract Alloctns'!$I$5:$AP$108)","v":0},{"$f":"$I$5*'[2]21-23 Campus Contract Alloctns'!W17/SUM('[2]21-23 Campus Contract Alloctns'!$I$5:$AP$108)","v":0},{"$f":"$I$5*'[2]21-23 Campus Contract Alloctns'!X17/SUM('[2]21-23 Campus Contract Alloctns'!$I$5:$AP$108)","v":0},{"$f":"$I$5*'[2]21-23 Campus Contract Alloctns'!Y17/SUM('[2]21-23 Campus Contract Alloctns'!$I$5:$AP$108)","v":0},{"$f":"$I$5*'[2]21-23 Campus Contract Alloctns'!Z17/SUM('[2]21-23 Campus Contract Alloctns'!$I$5:$AP$108)","v":0},{"$f":"$I$5*'[2]21-23 Campus Contract Alloctns'!AA17/SUM('[2]21-23 Campus Contract Alloctns'!$I$5:$AP$108)","v":0},{"$f":"$I$5*'[2]21-23 Campus Contract Alloctns'!AB17/SUM('[2]21-23 Campus Contract Alloctns'!$I$5:$AP$108)","v":1.0935123375058358E-3},{"$f":"$I$5*'[2]21-23 Campus Contract Alloctns'!AC17/SUM('[2]21-23 Campus Contract Alloctns'!$I$5:$AP$108)","v":0},{"$f":"$I$5*'[2]21-23 Campus Contract Alloctns'!AD17/SUM('[2]21-23 Campus Contract Alloctns'!$I$5:$AP$108)","v":0},{"$f":"$I$5*'[2]21-23 Campus Contract Alloctns'!AE17/SUM('[2]21-23 Campus Contract Alloctns'!$I$5:$AP$108)","v":0},{"$f":"$I$5*'[2]21-23 Campus Contract Alloctns'!AF17/SUM('[2]21-23 Campus Contract Alloctns'!$I$5:$AP$108)","v":0},{"$f":"$I$5*'[2]21-23 Campus Contract Alloctns'!AG17/SUM('[2]21-23 Campus Contract Alloctns'!$I$5:$AP$108)","v":0},{"$f":"$I$5*'[2]21-23 Campus Contract Alloctns'!AH17/SUM('[2]21-23 Campus Contract Alloctns'!$I$5:$AP$108)","v":0},{"$f":"$I$5*'[2]21-23 Campus Contract Alloctns'!AI17/SUM('[2]21-23 Campus Contract Alloctns'!$I$5:$AP$108)","v":0},{"$f":"$I$5*'[2]21-23 Campus Contract Alloctns'!AJ17/SUM('[2]21-23 Campus Contract Alloctns'!$I$5:$AP$108)","v":0},{"$f":"$I$5*'[2]21-23 Campus Contract Alloctns'!AK17/SUM('[2]21-23 Campus Contract Alloctns'!$I$5:$AP$108)","v":0},{"$f":"$I$5*'[2]21-23 Campus Contract Alloctns'!AL17/SUM('[2]21-23 Campus Contract Alloctns'!$I$5:$AP$108)","v":0},{"$f":"$I$5*'[2]21-23 Campus Contract Alloctns'!AM17/SUM('[2]21-23 Campus Contract Alloctns'!$I$5:$AP$108)","v":0},{"$f":"$I$5*'[2]21-23 Campus Contract Alloctns'!AN17/SUM('[2]21-23 Campus Contract Alloctns'!$I$5:$AP$108)","v":0},{"$f":"$I$5*'[2]21-23 Campus Contract Alloctns'!AO17/SUM('[2]21-23 Campus Contract Alloctns'!$I$5:$AP$108)","v":0},{"$f":"$I$5*'[2]21-23 Campus Contract Alloctns'!AP17/SUM('[2]21-23 Campus Contract Alloctns'!$I$5:$AP$108)","v":0}]
[null,"055 - Administrative Office of the Courts","055","Administrative Office of the Courts",5.8322253470824174E-3,251,4.4495865088468225E-3,1.7045557283906448E-4,1.2121832653965304E-3,{"$f":"$I$5*'[2]21-23 Campus Contract Alloctns'!I18/SUM('[2]21-23 Campus Contract Alloctns'!$I$5:$AP$108)","v":0},{"$f":"$I$5*'[2]21-23 Campus Contract Alloctns'!J18/SUM('[2]21-23 Campus Contract Alloctns'!$I$5:$AP$108)","v":0},{"$f":"$I$5*'[2]21-23 Campus Contract Alloctns'!K18/SUM('[2]21-23 Campus Contract Alloctns'!$I$5:$AP$108)","v":0},{"$f":"$I$5*'[2]21-23 Campus Contract Alloctns'!L18/SUM('[2]21-23 Campus Contract Alloctns'!$I$5:$AP$108)","v":0},{"$f":"$I$5*'[2]21-23 Campus Contract Alloctns'!M18/SUM('[2]21-23 Campus Contract Alloctns'!$I$5:$AP$108)","v":0},{"$f":"$I$5*'[2]21-23 Campus Contract Alloctns'!N18/SUM('[2]21-23 Campus Contract Alloctns'!$I$5:$AP$108)","v":0},{"$f":"$I$5*'[2]21-23 Campus Contract Alloctns'!O18/SUM('[2]21-23 Campus Contract Alloctns'!$I$5:$AP$108)","v":0},{"$f":"$I$5*'[2]21-23 Campus Contract Alloctns'!P18/SUM('[2]21-23 Campus Contract Alloctns'!$I$5:$AP$108)","v":0},{"$f":"$I$5*'[2]21-23 Campus Contract Alloctns'!Q18/SUM('[2]21-23 Campus Contract Alloctns'!$I$5:$AP$108)","v":0},{"$f":"$I$5*'[2]21-23 Campus Contract Alloctns'!R18/SUM('[2]21-23 Campus Contract Alloctns'!$I$5:$AP$108)","v":0},{"$f":"$I$5*'[2]21-23 Campus Contract Alloctns'!S18/SUM('[2]21-23 Campus Contract Alloctns'!$I$5:$AP$108)","v":0},{"$f":"$I$5*'[2]21-23 Campus Contract Alloctns'!T18/SUM('[2]21-23 Campus Contract Alloctns'!$I$5:$AP$108)","v":0},{"$f":"$I$5*'[2]21-23 Campus Contract Alloctns'!U18/SUM('[2]21-23 Campus Contract Alloctns'!$I$5:$AP$108)","v":1.2121832653965306E-3},{"$f":"$I$5*'[2]21-23 Campus Contract Alloctns'!V18/SUM('[2]21-23 Campus Contract Alloctns'!$I$5:$AP$108)","v":0},{"$f":"$I$5*'[2]21-23 Campus Contract Alloctns'!W18/SUM('[2]21-23 Campus Contract Alloctns'!$I$5:$AP$108)","v":0},{"$f":"$I$5*'[2]21-23 Campus Contract Alloctns'!X18/SUM('[2]21-23 Campus Contract Alloctns'!$I$5:$AP$108)","v":0},{"$f":"$I$5*'[2]21-23 Campus Contract Alloctns'!Y18/SUM('[2]21-23 Campus Contract Alloctns'!$I$5:$AP$108)","v":0},{"$f":"$I$5*'[2]21-23 Campus Contract Alloctns'!Z18/SUM('[2]21-23 Campus Contract Alloctns'!$I$5:$AP$108)","v":0},{"$f":"$I$5*'[2]21-23 Campus Contract Alloctns'!AA18/SUM('[2]21-23 Campus Contract Alloctns'!$I$5:$AP$108)","v":0},{"$f":"$I$5*'[2]21-23 Campus Contract Alloctns'!AB18/SUM('[2]21-23 Campus Contract Alloctns'!$I$5:$AP$108)","v":0},{"$f":"$I$5*'[2]21-23 Campus Contract Alloctns'!AC18/SUM('[2]21-23 Campus Contract Alloctns'!$I$5:$AP$108)","v":0},{"$f":"$I$5*'[2]21-23 Campus Contract Alloctns'!AD18/SUM('[2]21-23 Campus Contract Alloctns'!$I$5:$AP$108)","v":0},{"$f":"$I$5*'[2]21-23 Campus Contract Alloctns'!AE18/SUM('[2]21-23 Campus Contract Alloctns'!$I$5:$AP$108)","v":0},{"$f":"$I$5*'[2]21-23 Campus Contract Alloctns'!AF18/SUM('[2]21-23 Campus Contract Alloctns'!$I$5:$AP$108)","v":0},{"$f":"$I$5*'[2]21-23 Campus Contract Alloctns'!AG18/SUM('[2]21-23 Campus Contract Alloctns'!$I$5:$AP$108)","v":0},{"$f":"$I$5*'[2]21-23 Campus Contract Alloctns'!AH18/SUM('[2]21-23 Campus Contract Alloctns'!$I$5:$AP$108)","v":0},{"$f":"$I$5*'[2]21-23 Campus Contract Alloctns'!AI18/SUM('[2]21-23 Campus Contract Alloctns'!$I$5:$AP$108)","v":0},{"$f":"$I$5*'[2]21-23 Campus Contract Alloctns'!AJ18/SUM('[2]21-23 Campus Contract Alloctns'!$I$5:$AP$108)","v":0},{"$f":"$I$5*'[2]21-23 Campus Contract Alloctns'!AK18/SUM('[2]21-23 Campus Contract Alloctns'!$I$5:$AP$108)","v":0},{"$f":"$I$5*'[2]21-23 Campus Contract Alloctns'!AL18/SUM('[2]21-23 Campus Contract Alloctns'!$I$5:$AP$108)","v":0},{"$f":"$I$5*'[2]21-23 Campus Contract Alloctns'!AM18/SUM('[2]21-23 Campus Contract Alloctns'!$I$5:$AP$108)","v":0},{"$f":"$I$5*'[2]21-23 Campus Contract Alloctns'!AN18/SUM('[2]21-23 Campus Contract Alloctns'!$I$5:$AP$108)","v":0},{"$f":"$I$5*'[2]21-23 Campus Contract Alloctns'!AO18/SUM('[2]21-23 Campus Contract Alloctns'!$I$5:$AP$108)","v":0},{"$f":"$I$5*'[2]21-23 Campus Contract Alloctns'!AP18/SUM('[2]21-23 Campus Contract Alloctns'!$I$5:$AP$108)","v":0}]
[null,"056 - Office of Public Defense","056","Office of Public Defense",3.3682128951430132E-4,19,3.3682128951430132E-4,0,0,{"$f":"$I$5*'[2]21-23 Campus Contract Alloctns'!I19/SUM('[2]21-23 Campus Contract Alloctns'!$I$5:$AP$108)","v":0},{"$f":"$I$5*'[2]21-23 Campus Contract Alloctns'!J19/SUM('[2]21-23 Campus Contract Alloctns'!$I$5:$AP$108)","v":0},{"$f":"$I$5*'[2]21-23 Campus Contract Alloctns'!K19/SUM('[2]21-23 Campus Contract Alloctns'!$I$5:$AP$108)","v":0},{"$f":"$I$5*'[2]21-23 Campus Contract Alloctns'!L19/SUM('[2]21-23 Campus Contract Alloctns'!$I$5:$AP$108)","v":0},{"$f":"$I$5*'[2]21-23 Campus Contract Alloctns'!M19/SUM('[2]21-23 Campus Contract Alloctns'!$I$5:$AP$108)","v":0},{"$f":"$I$5*'[2]21-23 Campus Contract Alloctns'!N19/SUM('[2]21-23 Campus Contract Alloctns'!$I$5:$AP$108)","v":0},{"$f":"$I$5*'[2]21-23 Campus Contract Alloctns'!O19/SUM('[2]21-23 Campus Contract Alloctns'!$I$5:$AP$108)","v":0},{"$f":"$I$5*'[2]21-23 Campus Contract Alloctns'!P19/SUM('[2]21-23 Campus Contract Alloctns'!$I$5:$AP$108)","v":0},{"$f":"$I$5*'[2]21-23 Campus Contract Alloctns'!Q19/SUM('[2]21-23 Campus Contract Alloctns'!$I$5:$AP$108)","v":0},{"$f":"$I$5*'[2]21-23 Campus Contract Alloctns'!R19/SUM('[2]21-23 Campus Contract Alloctns'!$I$5:$AP$108)","v":0},{"$f":"$I$5*'[2]21-23 Campus Contract Alloctns'!S19/SUM('[2]21-23 Campus Contract Alloctns'!$I$5:$AP$108)","v":0},{"$f":"$I$5*'[2]21-23 Campus Contract Alloctns'!T19/SUM('[2]21-23 Campus Contract Alloctns'!$I$5:$AP$108)","v":0},{"$f":"$I$5*'[2]21-23 Campus Contract Alloctns'!U19/SUM('[2]21-23 Campus Contract Alloctns'!$I$5:$AP$108)","v":0},{"$f":"$I$5*'[2]21-23 Campus Contract Alloctns'!V19/SUM('[2]21-23 Campus Contract Alloctns'!$I$5:$AP$108)","v":0},{"$f":"$I$5*'[2]21-23 Campus Contract Alloctns'!W19/SUM('[2]21-23 Campus Contract Alloctns'!$I$5:$AP$108)","v":0},{"$f":"$I$5*'[2]21-23 Campus Contract Alloctns'!X19/SUM('[2]21-23 Campus Contract Alloctns'!$I$5:$AP$108)","v":0},{"$f":"$I$5*'[2]21-23 Campus Contract Alloctns'!Y19/SUM('[2]21-23 Campus Contract Alloctns'!$I$5:$AP$108)","v":0},{"$f":"$I$5*'[2]21-23 Campus Contract Alloctns'!Z19/SUM('[2]21-23 Campus Contract Alloctns'!$I$5:$AP$108)","v":0},{"$f":"$I$5*'[2]21-23 Campus Contract Alloctns'!AA19/SUM('[2]21-23 Campus Contract Alloctns'!$I$5:$AP$108)","v":0},{"$f":"$I$5*'[2]21-23 Campus Contract Alloctns'!AB19/SUM('[2]21-23 Campus Contract Alloctns'!$I$5:$AP$108)","v":0},{"$f":"$I$5*'[2]21-23 Campus Contract Alloctns'!AC19/SUM('[2]21-23 Campus Contract Alloctns'!$I$5:$AP$108)","v":0},{"$f":"$I$5*'[2]21-23 Campus Contract Alloctns'!AD19/SUM('[2]21-23 Campus Contract Alloctns'!$I$5:$AP$108)","v":0},{"$f":"$I$5*'[2]21-23 Campus Contract Alloctns'!AE19/SUM('[2]21-23 Campus Contract Alloctns'!$I$5:$AP$108)","v":0},{"$f":"$I$5*'[2]21-23 Campus Contract Alloctns'!AF19/SUM('[2]21-23 Campus Contract Alloctns'!$I$5:$AP$108)","v":0},{"$f":"$I$5*'[2]21-23 Campus Contract Alloctns'!AG19/SUM('[2]21-23 Campus Contract Alloctns'!$I$5:$AP$108)","v":0},{"$f":"$I$5*'[2]21-23 Campus Contract Alloctns'!AH19/SUM('[2]21-23 Campus Contract Alloctns'!$I$5:$AP$108)","v":0},{"$f":"$I$5*'[2]21-23 Campus Contract Alloctns'!AI19/SUM('[2]21-23 Campus Contract Alloctns'!$I$5:$AP$108)","v":0},{"$f":"$I$5*'[2]21-23 Campus Contract Alloctns'!AJ19/SUM('[2]21-23 Campus Contract Alloctns'!$I$5:$AP$108)","v":0},{"$f":"$I$5*'[2]21-23 Campus Contract Alloctns'!AK19/SUM('[2]21-23 Campus Contract Alloctns'!$I$5:$AP$108)","v":0},{"$f":"$I$5*'[2]21-23 Campus Contract Alloctns'!AL19/SUM('[2]21-23 Campus Contract Alloctns'!$I$5:$AP$108)","v":0},{"$f":"$I$5*'[2]21-23 Campus Contract Alloctns'!AM19/SUM('[2]21-23 Campus Contract Alloctns'!$I$5:$AP$108)","v":0},{"$f":"$I$5*'[2]21-23 Campus Contract Alloctns'!AN19/SUM('[2]21-23 Campus Contract Alloctns'!$I$5:$AP$108)","v":0},{"$f":"$I$5*'[2]21-23 Campus Contract Alloctns'!AO19/SUM('[2]21-23 Campus Contract Alloctns'!$I$5:$AP$108)","v":0},{"$f":"$I$5*'[2]21-23 Campus Contract Alloctns'!AP19/SUM('[2]21-23 Campus Contract Alloctns'!$I$5:$AP$108)","v":0}]
[null,"057 - Office of Civil Legal Aid","057","Office of Civil Legal Aid",5.3182308870679155E-5,3,5.3182308870679155E-5,0,0,{"$f":"$I$5*'[2]21-23 Campus Contract Alloctns'!I20/SUM('[2]21-23 Campus Contract Alloctns'!$I$5:$AP$108)","v":0},{"$f":"$I$5*'[2]21-23 Campus Contract Alloctns'!J20/SUM('[2]21-23 Campus Contract Alloctns'!$I$5:$AP$108)","v":0},{"$f":"$I$5*'[2]21-23 Campus Contract Alloctns'!K20/SUM('[2]21-23 Campus Contract Alloctns'!$I$5:$AP$108)","v":0},{"$f":"$I$5*'[2]21-23 Campus Contract Alloctns'!L20/SUM('[2]21-23 Campus Contract Alloctns'!$I$5:$AP$108)","v":0},{"$f":"$I$5*'[2]21-23 Campus Contract Alloctns'!M20/SUM('[2]21-23 Campus Contract Alloctns'!$I$5:$AP$108)","v":0},{"$f":"$I$5*'[2]21-23 Campus Contract Alloctns'!N20/SUM('[2]21-23 Campus Contract Alloctns'!$I$5:$AP$108)","v":0},{"$f":"$I$5*'[2]21-23 Campus Contract Alloctns'!O20/SUM('[2]21-23 Campus Contract Alloctns'!$I$5:$AP$108)","v":0},{"$f":"$I$5*'[2]21-23 Campus Contract Alloctns'!P20/SUM('[2]21-23 Campus Contract Alloctns'!$I$5:$AP$108)","v":0},{"$f":"$I$5*'[2]21-23 Campus Contract Alloctns'!Q20/SUM('[2]21-23 Campus Contract Alloctns'!$I$5:$AP$108)","v":0},{"$f":"$I$5*'[2]21-23 Campus Contract Alloctns'!R20/SUM('[2]21-23 Campus Contract Alloctns'!$I$5:$AP$108)","v":0},{"$f":"$I$5*'[2]21-23 Campus Contract Alloctns'!S20/SUM('[2]21-23 Campus Contract Alloctns'!$I$5:$AP$108)","v":0},{"$f":"$I$5*'[2]21-23 Campus Contract Alloctns'!T20/SUM('[2]21-23 Campus Contract Alloctns'!$I$5:$AP$108)","v":0},{"$f":"$I$5*'[2]21-23 Campus Contract Alloctns'!U20/SUM('[2]21-23 Campus Contract Alloctns'!$I$5:$AP$108)","v":0},{"$f":"$I$5*'[2]21-23 Campus Contract Alloctns'!V20/SUM('[2]21-23 Campus Contract Alloctns'!$I$5:$AP$108)","v":0},{"$f":"$I$5*'[2]21-23 Campus Contract Alloctns'!W20/SUM('[2]21-23 Campus Contract Alloctns'!$I$5:$AP$108)","v":0},{"$f":"$I$5*'[2]21-23 Campus Contract Alloctns'!X20/SUM('[2]21-23 Campus Contract Alloctns'!$I$5:$AP$108)","v":0},{"$f":"$I$5*'[2]21-23 Campus Contract Alloctns'!Y20/SUM('[2]21-23 Campus Contract Alloctns'!$I$5:$AP$108)","v":0},{"$f":"$I$5*'[2]21-23 Campus Contract Alloctns'!Z20/SUM('[2]21-23 Campus Contract Alloctns'!$I$5:$AP$108)","v":0},{"$f":"$I$5*'[2]21-23 Campus Contract Alloctns'!AA20/SUM('[2]21-23 Campus Contract Alloctns'!$I$5:$AP$108)","v":0},{"$f":"$I$5*'[2]21-23 Campus Contract Alloctns'!AB20/SUM('[2]21-23 Campus Contract Alloctns'!$I$5:$AP$108)","v":0},{"$f":"$I$5*'[2]21-23 Campus Contract Alloctns'!AC20/SUM('[2]21-23 Campus Contract Alloctns'!$I$5:$AP$108)","v":0},{"$f":"$I$5*'[2]21-23 Campus Contract Alloctns'!AD20/SUM('[2]21-23 Campus Contract Alloctns'!$I$5:$AP$108)","v":0},{"$f":"$I$5*'[2]21-23 Campus Contract Alloctns'!AE20/SUM('[2]21-23 Campus Contract Alloctns'!$I$5:$AP$108)","v":0},{"$f":"$I$5*'[2]21-23 Campus Contract Alloctns'!AF20/SUM('[2]21-23 Campus Contract Alloctns'!$I$5:$AP$108)","v":0},{"$f":"$I$5*'[2]21-23 Campus Contract Alloctns'!AG20/SUM('[2]21-23 Campus Contract Alloctns'!$I$5:$AP$108)","v":0},{"$f":"$I$5*'[2]21-23 Campus Contract Alloctns'!AH20/SUM('[2]21-23 Campus Contract Alloctns'!$I$5:$AP$108)","v":0},{"$f":"$I$5*'[2]21-23 Campus Contract Alloctns'!AI20/SUM('[2]21-23 Campus Contract Alloctns'!$I$5:$AP$108)","v":0},{"$f":"$I$5*'[2]21-23 Campus Contract Alloctns'!AJ20/SUM('[2]21-23 Campus Contract Alloctns'!$I$5:$AP$108)","v":0},{"$f":"$I$5*'[2]21-23 Campus Contract Alloctns'!AK20/SUM('[2]21-23 Campus Contract Alloctns'!$I$5:$AP$108)","v":0},{"$f":"$I$5*'[2]21-23 Campus Contract Alloctns'!AL20/SUM('[2]21-23 Campus Contract Alloctns'!$I$5:$AP$108)","v":0},{"$f":"$I$5*'[2]21-23 Campus Contract Alloctns'!AM20/SUM('[2]21-23 Campus Contract Alloctns'!$I$5:$AP$108)","v":0},{"$f":"$I$5*'[2]21-23 Campus Contract Alloctns'!AN20/SUM('[2]21-23 Campus Contract Alloctns'!$I$5:$AP$108)","v":0},{"$f":"$I$5*'[2]21-23 Campus Contract Alloctns'!AO20/SUM('[2]21-23 Campus Contract Alloctns'!$I$5:$AP$108)","v":0},{"$f":"$I$5*'[2]21-23 Campus Contract Alloctns'!AP20/SUM('[2]21-23 Campus Contract Alloctns'!$I$5:$AP$108)","v":0}]
[null,"075 - Office of the Governor","075","Office of the Governor",6.794580749718386E-3,65,1.1522833588647151E-3,6.919670243433865E-4,4.950330366510285E-3,{"$f":"$I$5*'[2]21-23 Campus Contract Alloctns'!I21/SUM('[2]21-23 Campus Contract Alloctns'!$I$5:$AP$108)","v":0},{"$f":"$I$5*'[2]21-23 Campus Contract Alloctns'!J21/SUM('[2]21-23 Campus Contract Alloctns'!$I$5:$AP$108)","v":0},{"$f":"$I$5*'[2]21-23 Campus Contract Alloctns'!K21/SUM('[2]21-23 Campus Contract Alloctns'!$I$5:$AP$108)","v":4.9503303665102858E-3},{"$f":"$I$5*'[2]21-23 Campus Contract Alloctns'!L21/SUM('[2]21-23 Campus Contract Alloctns'!$I$5:$AP$108)","v":0},{"$f":"$I$5*'[2]21-23 Campus Contract Alloctns'!M21/SUM('[2]21-23 Campus Contract Alloctns'!$I$5:$AP$108)","v":0},{"$f":"$I$5*'[2]21-23 Campus Contract Alloctns'!N21/SUM('[2]21-23 Campus Contract Alloctns'!$I$5:$AP$108)","v":0},{"$f":"$I$5*'[2]21-23 Campus Contract Alloctns'!O21/SUM('[2]21-23 Campus Contract Alloctns'!$I$5:$AP$108)","v":0},{"$f":"$I$5*'[2]21-23 Campus Contract Alloctns'!P21/SUM('[2]21-23 Campus Contract Alloctns'!$I$5:$AP$108)","v":0},{"$f":"$I$5*'[2]21-23 Campus Contract Alloctns'!Q21/SUM('[2]21-23 Campus Contract Alloctns'!$I$5:$AP$108)","v":0},{"$f":"$I$5*'[2]21-23 Campus Contract Alloctns'!R21/SUM('[2]21-23 Campus Contract Alloctns'!$I$5:$AP$108)","v":0},{"$f":"$I$5*'[2]21-23 Campus Contract Alloctns'!S21/SUM('[2]21-23 Campus Contract Alloctns'!$I$5:$AP$108)","v":0},{"$f":"$I$5*'[2]21-23 Campus Contract Alloctns'!T21/SUM('[2]21-23 Campus Contract Alloctns'!$I$5:$AP$108)","v":0},{"$f":"$I$5*'[2]21-23 Campus Contract Alloctns'!U21/SUM('[2]21-23 Campus Contract Alloctns'!$I$5:$AP$108)","v":0},{"$f":"$I$5*'[2]21-23 Campus Contract Alloctns'!V21/SUM('[2]21-23 Campus Contract Alloctns'!$I$5:$AP$108)","v":0},{"$f":"$I$5*'[2]21-23 Campus Contract Alloctns'!W21/SUM('[2]21-23 Campus Contract Alloctns'!$I$5:$AP$108)","v":0},{"$f":"$I$5*'[2]21-23 Campus Contract Alloctns'!X21/SUM('[2]21-23 Campus Contract Alloctns'!$I$5:$AP$108)","v":0},{"$f":"$I$5*'[2]21-23 Campus Contract Alloctns'!Y21/SUM('[2]21-23 Campus Contract Alloctns'!$I$5:$AP$108)","v":0},{"$f":"$I$5*'[2]21-23 Campus Contract Alloctns'!Z21/SUM('[2]21-23 Campus Contract Alloctns'!$I$5:$AP$108)","v":0},{"$f":"$I$5*'[2]21-23 Campus Contract Alloctns'!AA21/SUM('[2]21-23 Campus Contract Alloctns'!$I$5:$AP$108)","v":0},{"$f":"$I$5*'[2]21-23 Campus Contract Alloctns'!AB21/SUM('[2]21-23 Campus Contract Alloctns'!$I$5:$AP$108)","v":0},{"$f":"$I$5*'[2]21-23 Campus Contract Alloctns'!AC21/SUM('[2]21-23 Campus Contract Alloctns'!$I$5:$AP$108)","v":0},{"$f":"$I$5*'[2]21-23 Campus Contract Alloctns'!AD21/SUM('[2]21-23 Campus Contract Alloctns'!$I$5:$AP$108)","v":0},{"$f":"$I$5*'[2]21-23 Campus Contract Alloctns'!AE21/SUM('[2]21-23 Campus Contract Alloctns'!$I$5:$AP$108)","v":0},{"$f":"$I$5*'[2]21-23 Campus Contract Alloctns'!AF21/SUM('[2]21-23 Campus Contract Alloctns'!$I$5:$AP$108)","v":0},{"$f":"$I$5*'[2]21-23 Campus Contract Alloctns'!AG21/SUM('[2]21-23 Campus Contract Alloctns'!$I$5:$AP$108)","v":0},{"$f":"$I$5*'[2]21-23 Campus Contract Alloctns'!AH21/SUM('[2]21-23 Campus Contract Alloctns'!$I$5:$AP$108)","v":0},{"$f":"$I$5*'[2]21-23 Campus Contract Alloctns'!AI21/SUM('[2]21-23 Campus Contract Alloctns'!$I$5:$AP$108)","v":0},{"$f":"$I$5*'[2]21-23 Campus Contract Alloctns'!AJ21/SUM('[2]21-23 Campus Contract Alloctns'!$I$5:$AP$108)","v":0},{"$f":"$I$5*'[2]21-23 Campus Contract Alloctns'!AK21/SUM('[2]21-23 Campus Contract Alloctns'!$I$5:$AP$108)","v":0},{"$f":"$I$5*'[2]21-23 Campus Contract Alloctns'!AL21/SUM('[2]21-23 Campus Contract Alloctns'!$I$5:$AP$108)","v":0},{"$f":"$I$5*'[2]21-23 Campus Contract Alloctns'!AM21/SUM('[2]21-23 Campus Contract Alloctns'!$I$5:$AP$108)","v":0},{"$f":"$I$5*'[2]21-23 Campus Contract Alloctns'!AN21/SUM('[2]21-23 Campus Contract Alloctns'!$I$5:$AP$108)","v":0},{"$f":"$I$5*'[2]21-23 Campus Contract Alloctns'!AO21/SUM('[2]21-23 Campus Contract Alloctns'!$I$5:$AP$108)","v":0},{"$f":"$I$5*'[2]21-23 Campus Contract Alloctns'!AP21/SUM('[2]21-23 Campus Contract Alloctns'!$I$5:$AP$108)","v":0}]
[null,"080 - Office of Lieutenant Governor","080","Office of Lieutenant Governor",3.0077812629540532E-3,6,1.0636461774135831E-4,3.5582751196750368E-4,2.5455891332451914E-3,{"$f":"$I$5*'[2]21-23 Campus Contract Alloctns'!I22/SUM('[2]21-23 Campus Contract Alloctns'!$I$5:$AP$108)","v":0},{"$f":"$I$5*'[2]21-23 Campus Contract Alloctns'!J22/SUM('[2]21-23 Campus Contract Alloctns'!$I$5:$AP$108)","v":0},{"$f":"$I$5*'[2]21-23 Campus Contract Alloctns'!K22/SUM('[2]21-23 Campus Contract Alloctns'!$I$5:$AP$108)","v":2.5455891332451918E-3},{"$f":"$I$5*'[2]21-23 Campus Contract Alloctns'!L22/SUM('[2]21-23 Campus Contract Alloctns'!$I$5:$AP$108)","v":0},{"$f":"$I$5*'[2]21-23 Campus Contract Alloctns'!M22/SUM('[2]21-23 Campus Contract Alloctns'!$I$5:$AP$108)","v":0},{"$f":"$I$5*'[2]21-23 Campus Contract Alloctns'!N22/SUM('[2]21-23 Campus Contract Alloctns'!$I$5:$AP$108)","v":0},{"$f":"$I$5*'[2]21-23 Campus Contract Alloctns'!O22/SUM('[2]21-23 Campus Contract Alloctns'!$I$5:$AP$108)","v":0},{"$f":"$I$5*'[2]21-23 Campus Contract Alloctns'!P22/SUM('[2]21-23 Campus Contract Alloctns'!$I$5:$AP$108)","v":0},{"$f":"$I$5*'[2]21-23 Campus Contract Alloctns'!Q22/SUM('[2]21-23 Campus Contract Alloctns'!$I$5:$AP$108)","v":0},{"$f":"$I$5*'[2]21-23 Campus Contract Alloctns'!R22/SUM('[2]21-23 Campus Contract Alloctns'!$I$5:$AP$108)","v":0},{"$f":"$I$5*'[2]21-23 Campus Contract Alloctns'!S22/SUM('[2]21-23 Campus Contract Alloctns'!$I$5:$AP$108)","v":0},{"$f":"$I$5*'[2]21-23 Campus Contract Alloctns'!T22/SUM('[2]21-23 Campus Contract Alloctns'!$I$5:$AP$108)","v":0},{"$f":"$I$5*'[2]21-23 Campus Contract Alloctns'!U22/SUM('[2]21-23 Campus Contract Alloctns'!$I$5:$AP$108)","v":0},{"$f":"$I$5*'[2]21-23 Campus Contract Alloctns'!V22/SUM('[2]21-23 Campus Contract Alloctns'!$I$5:$AP$108)","v":0},{"$f":"$I$5*'[2]21-23 Campus Contract Alloctns'!W22/SUM('[2]21-23 Campus Contract Alloctns'!$I$5:$AP$108)","v":0},{"$f":"$I$5*'[2]21-23 Campus Contract Alloctns'!X22/SUM('[2]21-23 Campus Contract Alloctns'!$I$5:$AP$108)","v":0},{"$f":"$I$5*'[2]21-23 Campus Contract Alloctns'!Y22/SUM('[2]21-23 Campus Contract Alloctns'!$I$5:$AP$108)","v":0},{"$f":"$I$5*'[2]21-23 Campus Contract Alloctns'!Z22/SUM('[2]21-23 Campus Contract Alloctns'!$I$5:$AP$108)","v":0},{"$f":"$I$5*'[2]21-23 Campus Contract Alloctns'!AA22/SUM('[2]21-23 Campus Contract Alloctns'!$I$5:$AP$108)","v":0},{"$f":"$I$5*'[2]21-23 Campus Contract Alloctns'!AB22/SUM('[2]21-23 Campus Contract Alloctns'!$I$5:$AP$108)","v":0},{"$f":"$I$5*'[2]21-23 Campus Contract Alloctns'!AC22/SUM('[2]21-23 Campus Contract Alloctns'!$I$5:$AP$108)","v":0},{"$f":"$I$5*'[2]21-23 Campus Contract Alloctns'!AD22/SUM('[2]21-23 Campus Contract Alloctns'!$I$5:$AP$108)","v":0},{"$f":"$I$5*'[2]21-23 Campus Contract Alloctns'!AE22/SUM('[2]21-23 Campus Contract Alloctns'!$I$5:$AP$108)","v":0},{"$f":"$I$5*'[2]21-23 Campus Contract Alloctns'!AF22/SUM('[2]21-23 Campus Contract Alloctns'!$I$5:$AP$108)","v":0},{"$f":"$I$5*'[2]21-23 Campus Contract Alloctns'!AG22/SUM('[2]21-23 Campus Contract Alloctns'!$I$5:$AP$108)","v":0},{"$f":"$I$5*'[2]21-23 Campus Contract Alloctns'!AH22/SUM('[2]21-23 Campus Contract Alloctns'!$I$5:$AP$108)","v":0},{"$f":"$I$5*'[2]21-23 Campus Contract Alloctns'!AI22/SUM('[2]21-23 Campus Contract Alloctns'!$I$5:$AP$108)","v":0},{"$f":"$I$5*'[2]21-23 Campus Contract Alloctns'!AJ22/SUM('[2]21-23 Campus Contract Alloctns'!$I$5:$AP$108)","v":0},{"$f":"$I$5*'[2]21-23 Campus Contract Alloctns'!AK22/SUM('[2]21-23 Campus Contract Alloctns'!$I$5:$AP$108)","v":0},{"$f":"$I$5*'[2]21-23 Campus Contract Alloctns'!AL22/SUM('[2]21-23 Campus Contract Alloctns'!$I$5:$AP$108)","v":0},{"$f":"$I$5*'[2]21-23 Campus Contract Alloctns'!AM22/SUM('[2]21-23 Campus Contract Alloctns'!$I$5:$AP$108)","v":0},{"$f":"$I$5*'[2]21-23 Campus Contract Alloctns'!AN22/SUM('[2]21-23 Campus Contract Alloctns'!$I$5:$AP$108)","v":0},{"$f":"$I$5*'[2]21-23 Campus Contract Alloctns'!AO22/SUM('[2]21-23 Campus Contract Alloctns'!$I$5:$AP$108)","v":0},{"$f":"$I$5*'[2]21-23 Campus Contract Alloctns'!AP22/SUM('[2]21-23 Campus Contract Alloctns'!$I$5:$AP$108)","v":0}]
[null,"082 - Public Disclosure Commission","082","Public Disclosure Commission",5.4955052499701786E-4,31,5.4955052499701786E-4,0,0,{"$f":"$I$5*'[2]21-23 Campus Contract Alloctns'!I23/SUM('[2]21-23 Campus Contract Alloctns'!$I$5:$AP$108)","v":0},{"$f":"$I$5*'[2]21-23 Campus Contract Alloctns'!J23/SUM('[2]21-23 Campus Contract Alloctns'!$I$5:$AP$108)","v":0},{"$f":"$I$5*'[2]21-23 Campus Contract Alloctns'!K23/SUM('[2]21-23 Campus Contract Alloctns'!$I$5:$AP$108)","v":0},{"$f":"$I$5*'[2]21-23 Campus Contract Alloctns'!L23/SUM('[2]21-23 Campus Contract Alloctns'!$I$5:$AP$108)","v":0},{"$f":"$I$5*'[2]21-23 Campus Contract Alloctns'!M23/SUM('[2]21-23 Campus Contract Alloctns'!$I$5:$AP$108)","v":0},{"$f":"$I$5*'[2]21-23 Campus Contract Alloctns'!N23/SUM('[2]21-23 Campus Contract Alloctns'!$I$5:$AP$108)","v":0},{"$f":"$I$5*'[2]21-23 Campus Contract Alloctns'!O23/SUM('[2]21-23 Campus Contract Alloctns'!$I$5:$AP$108)","v":0},{"$f":"$I$5*'[2]21-23 Campus Contract Alloctns'!P23/SUM('[2]21-23 Campus Contract Alloctns'!$I$5:$AP$108)","v":0},{"$f":"$I$5*'[2]21-23 Campus Contract Alloctns'!Q23/SUM('[2]21-23 Campus Contract Alloctns'!$I$5:$AP$108)","v":0},{"$f":"$I$5*'[2]21-23 Campus Contract Alloctns'!R23/SUM('[2]21-23 Campus Contract Alloctns'!$I$5:$AP$108)","v":0},{"$f":"$I$5*'[2]21-23 Campus Contract Alloctns'!S23/SUM('[2]21-23 Campus Contract Alloctns'!$I$5:$AP$108)","v":0},{"$f":"$I$5*'[2]21-23 Campus Contract Alloctns'!T23/SUM('[2]21-23 Campus Contract Alloctns'!$I$5:$AP$108)","v":0},{"$f":"$I$5*'[2]21-23 Campus Contract Alloctns'!U23/SUM('[2]21-23 Campus Contract Alloctns'!$I$5:$AP$108)","v":0},{"$f":"$I$5*'[2]21-23 Campus Contract Alloctns'!V23/SUM('[2]21-23 Campus Contract Alloctns'!$I$5:$AP$108)","v":0},{"$f":"$I$5*'[2]21-23 Campus Contract Alloctns'!W23/SUM('[2]21-23 Campus Contract Alloctns'!$I$5:$AP$108)","v":0},{"$f":"$I$5*'[2]21-23 Campus Contract Alloctns'!X23/SUM('[2]21-23 Campus Contract Alloctns'!$I$5:$AP$108)","v":0},{"$f":"$I$5*'[2]21-23 Campus Contract Alloctns'!Y23/SUM('[2]21-23 Campus Contract Alloctns'!$I$5:$AP$108)","v":0},{"$f":"$I$5*'[2]21-23 Campus Contract Alloctns'!Z23/SUM('[2]21-23 Campus Contract Alloctns'!$I$5:$AP$108)","v":0},{"$f":"$I$5*'[2]21-23 Campus Contract Alloctns'!AA23/SUM('[2]21-23 Campus Contract Alloctns'!$I$5:$AP$108)","v":0},{"$f":"$I$5*'[2]21-23 Campus Contract Alloctns'!AB23/SUM('[2]21-23 Campus Contract Alloctns'!$I$5:$AP$108)","v":0},{"$f":"$I$5*'[2]21-23 Campus Contract Alloctns'!AC23/SUM('[2]21-23 Campus Contract Alloctns'!$I$5:$AP$108)","v":0},{"$f":"$I$5*'[2]21-23 Campus Contract Alloctns'!AD23/SUM('[2]21-23 Campus Contract Alloctns'!$I$5:$AP$108)","v":0},{"$f":"$I$5*'[2]21-23 Campus Contract Alloctns'!AE23/SUM('[2]21-23 Campus Contract Alloctns'!$I$5:$AP$108)","v":0},{"$f":"$I$5*'[2]21-23 Campus Contract Alloctns'!AF23/SUM('[2]21-23 Campus Contract Alloctns'!$I$5:$AP$108)","v":0},{"$f":"$I$5*'[2]21-23 Campus Contract Alloctns'!AG23/SUM('[2]21-23 Campus Contract Alloctns'!$I$5:$AP$108)","v":0},{"$f":"$I$5*'[2]21-23 Campus Contract Alloctns'!AH23/SUM('[2]21-23 Campus Contract Alloctns'!$I$5:$AP$108)","v":0},{"$f":"$I$5*'[2]21-23 Campus Contract Alloctns'!AI23/SUM('[2]21-23 Campus Contract Alloctns'!$I$5:$AP$108)","v":0},{"$f":"$I$5*'[2]21-23 Campus Contract Alloctns'!AJ23/SUM('[2]21-23 Campus Contract Alloctns'!$I$5:$AP$108)","v":0},{"$f":"$I$5*'[2]21-23 Campus Contract Alloctns'!AK23/SUM('[2]21-23 Campus Contract Alloctns'!$I$5:$AP$108)","v":0},{"$f":"$I$5*'[2]21-23 Campus Contract Alloctns'!AL23/SUM('[2]21-23 Campus Contract Alloctns'!$I$5:$AP$108)","v":0},{"$f":"$I$5*'[2]21-23 Campus Contract Alloctns'!AM23/SUM('[2]21-23 Campus Contract Alloctns'!$I$5:$AP$108)","v":0},{"$f":"$I$5*'[2]21-23 Campus Contract Alloctns'!AN23/SUM('[2]21-23 Campus Contract Alloctns'!$I$5:$AP$108)","v":0},{"$f":"$I$5*'[2]21-23 Campus Contract Alloctns'!AO23/SUM('[2]21-23 Campus Contract Alloctns'!$I$5:$AP$108)","v":0},{"$f":"$I$5*'[2]21-23 Campus Contract Alloctns'!AP23/SUM('[2]21-23 Campus Contract Alloctns'!$I$5:$AP$108)","v":0}]
[null,"085 - Office of the Secretary of State","085","Office of the Secretary of State",2.730357320032533E-2,234,4.1482200919129748E-3,2.3477237802228242E-3,2.0807629328189532E-2,{"$f":"$I$5*'[2]21-23 Campus Contract Alloctns'!I24/SUM('[2]21-23 Campus Contract Alloctns'!$I$5:$AP$108)","v":0},{"$f":"$I$5*'[2]21-23 Campus Contract Alloctns'!J24/SUM('[2]21-23 Campus Contract Alloctns'!$I$5:$AP$108)","v":0},{"$f":"$I$5*'[2]21-23 Campus Contract Alloctns'!K24/SUM('[2]21-23 Campus Contract Alloctns'!$I$5:$AP$108)","v":3.0550511910143446E-3},{"$f":"$I$5*'[2]21-23 Campus Contract Alloctns'!L24/SUM('[2]21-23 Campus Contract Alloctns'!$I$5:$AP$108)","v":0},{"$f":"$I$5*'[2]21-23 Campus Contract Alloctns'!M24/SUM('[2]21-23 Campus Contract Alloctns'!$I$5:$AP$108)","v":0},{"$f":"$I$5*'[2]21-23 Campus Contract Alloctns'!N24/SUM('[2]21-23 Campus Contract Alloctns'!$I$5:$AP$108)","v":0},{"$f":"$I$5*'[2]21-23 Campus Contract Alloctns'!O24/SUM('[2]21-23 Campus Contract Alloctns'!$I$5:$AP$108)","v":1.0707893567548681E-2},{"$f":"$I$5*'[2]21-23 Campus Contract Alloctns'!P24/SUM('[2]21-23 Campus Contract Alloctns'!$I$5:$AP$108)","v":0},{"$f":"$I$5*'[2]21-23 Campus Contract Alloctns'!Q24/SUM('[2]21-23 Campus Contract Alloctns'!$I$5:$AP$108)","v":0},{"$f":"$I$5*'[2]21-23 Campus Contract Alloctns'!R24/SUM('[2]21-23 Campus Contract Alloctns'!$I$5:$AP$108)","v":0},{"$f":"$I$5*'[2]21-23 Campus Contract Alloctns'!S24/SUM('[2]21-23 Campus Contract Alloctns'!$I$5:$AP$108)","v":0},{"$f":"$I$5*'[2]21-23 Campus Contract Alloctns'!T24/SUM('[2]21-23 Campus Contract Alloctns'!$I$5:$AP$108)","v":0},{"$f":"$I$5*'[2]21-23 Campus Contract Alloctns'!U24/SUM('[2]21-23 Campus Contract Alloctns'!$I$5:$AP$108)","v":0},{"$f":"$I$5*'[2]21-23 Campus Contract Alloctns'!V24/SUM('[2]21-23 Campus Contract Alloctns'!$I$5:$AP$108)","v":0},{"$f":"$I$5*'[2]21-23 Campus Contract Alloctns'!W24/SUM('[2]21-23 Campus Contract Alloctns'!$I$5:$AP$108)","v":0},{"$f":"$I$5*'[2]21-23 Campus Contract Alloctns'!X24/SUM('[2]21-23 Campus Contract Alloctns'!$I$5:$AP$108)","v":2.3966007721931775E-3},{"$f":"$I$5*'[2]21-23 Campus Contract Alloctns'!Y24/SUM('[2]21-23 Campus Contract Alloctns'!$I$5:$AP$108)","v":0},{"$f":"$I$5*'[2]21-23 Campus Contract Alloctns'!Z24/SUM('[2]21-23 Campus Contract Alloctns'!$I$5:$AP$108)","v":0},{"$f":"$I$5*'[2]21-23 Campus Contract Alloctns'!AA24/SUM('[2]21-23 Campus Contract Alloctns'!$I$5:$AP$108)","v":0},{"$f":"$I$5*'[2]21-23 Campus Contract Alloctns'!AB24/SUM('[2]21-23 Campus Contract Alloctns'!$I$5:$AP$108)","v":0},{"$f":"$I$5*'[2]21-23 Campus Contract Alloctns'!AC24/SUM('[2]21-23 Campus Contract Alloctns'!$I$5:$AP$108)","v":4.6480837974333328E-3},{"$f":"$I$5*'[2]21-23 Campus Contract Alloctns'!AD24/SUM('[2]21-23 Campus Contract Alloctns'!$I$5:$AP$108)","v":0},{"$f":"$I$5*'[2]21-23 Campus Contract Alloctns'!AE24/SUM('[2]21-23 Campus Contract Alloctns'!$I$5:$AP$108)","v":0},{"$f":"$I$5*'[2]21-23 Campus Contract Alloctns'!AF24/SUM('[2]21-23 Campus Contract Alloctns'!$I$5:$AP$108)","v":0},{"$f":"$I$5*'[2]21-23 Campus Contract Alloctns'!AG24/SUM('[2]21-23 Campus Contract Alloctns'!$I$5:$AP$108)","v":0},{"$f":"$I$5*'[2]21-23 Campus Contract Alloctns'!AH24/SUM('[2]21-23 Campus Contract Alloctns'!$I$5:$AP$108)","v":0},{"$f":"$I$5*'[2]21-23 Campus Contract Alloctns'!AI24/SUM('[2]21-23 Campus Contract Alloctns'!$I$5:$AP$108)","v":0},{"$f":"$I$5*'[2]21-23 Campus Contract Alloctns'!AJ24/SUM('[2]21-23 Campus Contract Alloctns'!$I$5:$AP$108)","v":0},{"$f":"$I$5*'[2]21-23 Campus Contract Alloctns'!AK24/SUM('[2]21-23 Campus Contract Alloctns'!$I$5:$AP$108)","v":0},{"$f":"$I$5*'[2]21-23 Campus Contract Alloctns'!AL24/SUM('[2]21-23 Campus Contract Alloctns'!$I$5:$AP$108)","v":0},{"$f":"$I$5*'[2]21-23 Campus Contract Alloctns'!AM24/SUM('[2]21-23 Campus Contract Alloctns'!$I$5:$AP$108)","v":0},{"$f":"$I$5*'[2]21-23 Campus Contract Alloctns'!AN24/SUM('[2]21-23 Campus Contract Alloctns'!$I$5:$AP$108)","v":0},{"$f":"$I$5*'[2]21-23 Campus Contract Alloctns'!AO24/SUM('[2]21-23 Campus Contract Alloctns'!$I$5:$AP$108)","v":0},{"$f":"$I$5*'[2]21-23 Campus Contract Alloctns'!AP24/SUM('[2]21-23 Campus Contract Alloctns'!$I$5:$AP$108)","v":0}]
[null,"086 - Governor's Office of Indian Affairs","086","Governor's Office of Indian Affairs",2.9496186852358985E-4,1,1.7727436290226384E-5,0,2.7723443223336348E-4,{"$f":"$I$5*'[2]21-23 Campus Contract Alloctns'!I25/SUM('[2]21-23 Campus Contract Alloctns'!$I$5:$AP$108)","v":0},{"$f":"$I$5*'[2]21-23 Campus Contract Alloctns'!J25/SUM('[2]21-23 Campus Contract Alloctns'!$I$5:$AP$108)","v":0},{"$f":"$I$5*'[2]21-23 Campus Contract Alloctns'!K25/SUM('[2]21-23 Campus Contract Alloctns'!$I$5:$AP$108)","v":0},{"$f":"$I$5*'[2]21-23 Campus Contract Alloctns'!L25/SUM('[2]21-23 Campus Contract Alloctns'!$I$5:$AP$108)","v":0},{"$f":"$I$5*'[2]21-23 Campus Contract Alloctns'!M25/SUM('[2]21-23 Campus Contract Alloctns'!$I$5:$AP$108)","v":0},{"$f":"$I$5*'[2]21-23 Campus Contract Alloctns'!N25/SUM('[2]21-23 Campus Contract Alloctns'!$I$5:$AP$108)","v":0},{"$f":"$I$5*'[2]21-23 Campus Contract Alloctns'!O25/SUM('[2]21-23 Campus Contract Alloctns'!$I$5:$AP$108)","v":0},{"$f":"$I$5*'[2]21-23 Campus Contract Alloctns'!P25/SUM('[2]21-23 Campus Contract Alloctns'!$I$5:$AP$108)","v":0},{"$f":"$I$5*'[2]21-23 Campus Contract Alloctns'!Q25/SUM('[2]21-23 Campus Contract Alloctns'!$I$5:$AP$108)","v":0},{"$f":"$I$5*'[2]21-23 Campus Contract Alloctns'!R25/SUM('[2]21-23 Campus Contract Alloctns'!$I$5:$AP$108)","v":0},{"$f":"$I$5*'[2]21-23 Campus Contract Alloctns'!S25/SUM('[2]21-23 Campus Contract Alloctns'!$I$5:$AP$108)","v":0},{"$f":"$I$5*'[2]21-23 Campus Contract Alloctns'!T25/SUM('[2]21-23 Campus Contract Alloctns'!$I$5:$AP$108)","v":0},{"$f":"$I$5*'[2]21-23 Campus Contract Alloctns'!U25/SUM('[2]21-23 Campus Contract Alloctns'!$I$5:$AP$108)","v":0},{"$f":"$I$5*'[2]21-23 Campus Contract Alloctns'!V25/SUM('[2]21-23 Campus Contract Alloctns'!$I$5:$AP$108)","v":0},{"$f":"$I$5*'[2]21-23 Campus Contract Alloctns'!W25/SUM('[2]21-23 Campus Contract Alloctns'!$I$5:$AP$108)","v":0},{"$f":"$I$5*'[2]21-23 Campus Contract Alloctns'!X25/SUM('[2]21-23 Campus Contract Alloctns'!$I$5:$AP$108)","v":0},{"$f":"$I$5*'[2]21-23 Campus Contract Alloctns'!Y25/SUM('[2]21-23 Campus Contract Alloctns'!$I$5:$AP$108)","v":0},{"$f":"$I$5*'[2]21-23 Campus Contract Alloctns'!Z25/SUM('[2]21-23 Campus Contract Alloctns'!$I$5:$AP$108)","v":0},{"$f":"$I$5*'[2]21-23 Campus Contract Alloctns'!AA25/SUM('[2]21-23 Campus Contract Alloctns'!$I$5:$AP$108)","v":0},{"$f":"$I$5*'[2]21-23 Campus Contract Alloctns'!AB25/SUM('[2]21-23 Campus Contract Alloctns'!$I$5:$AP$108)","v":2.7723443223336353E-4},{"$f":"$I$5*'[2]21-23 Campus Contract Alloctns'!AC25/SUM('[2]21-23 Campus Contract Alloctns'!$I$5:$AP$108)","v":0},{"$f":"$I$5*'[2]21-23 Campus Contract Alloctns'!AD25/SUM('[2]21-23 Campus Contract Alloctns'!$I$5:$AP$108)","v":0},{"$f":"$I$5*'[2]21-23 Campus Contract Alloctns'!AE25/SUM('[2]21-23 Campus Contract Alloctns'!$I$5:$AP$108)","v":0},{"$f":"$I$5*'[2]21-23 Campus Contract Alloctns'!AF25/SUM('[2]21-23 Campus Contract Alloctns'!$I$5:$AP$108)","v":0},{"$f":"$I$5*'[2]21-23 Campus Contract Alloctns'!AG25/SUM('[2]21-23 Campus Contract Alloctns'!$I$5:$AP$108)","v":0},{"$f":"$I$5*'[2]21-23 Campus Contract Alloctns'!AH25/SUM('[2]21-23 Campus Contract Alloctns'!$I$5:$AP$108)","v":0},{"$f":"$I$5*'[2]21-23 Campus Contract Alloctns'!AI25/SUM('[2]21-23 Campus Contract Alloctns'!$I$5:$AP$108)","v":0},{"$f":"$I$5*'[2]21-23 Campus Contract Alloctns'!AJ25/SUM('[2]21-23 Campus Contract Alloctns'!$I$5:$AP$108)","v":0},{"$f":"$I$5*'[2]21-23 Campus Contract Alloctns'!AK25/SUM('[2]21-23 Campus Contract Alloctns'!$I$5:$AP$108)","v":0},{"$f":"$I$5*'[2]21-23 Campus Contract Alloctns'!AL25/SUM('[2]21-23 Campus Contract Alloctns'!$I$5:$AP$108)","v":0},{"$f":"$I$5*'[2]21-23 Campus Contract Alloctns'!AM25/SUM('[2]21-23 Campus Contract Alloctns'!$I$5:$AP$108)","v":0},{"$f":"$I$5*'[2]21-23 Campus Contract Alloctns'!AN25/SUM('[2]21-23 Campus Contract Alloctns'!$I$5:$AP$108)","v":0},{"$f":"$I$5*'[2]21-23 Campus Contract Alloctns'!AO25/SUM('[2]21-23 Campus Contract Alloctns'!$I$5:$AP$108)","v":0},{"$f":"$I$5*'[2]21-23 Campus Contract Alloctns'!AP25/SUM('[2]21-23 Campus Contract Alloctns'!$I$5:$AP$108)","v":0}]
[null,"087 - Commission on Asian Pacific American Affairs","087","Commission on Asian Pacific American Affairs",2.3554001848759433E-4,3,5.3182308870679155E-5,0,1.8235770961691519E-4,{"$f":"$I$5*'[2]21-23 Campus Contract Alloctns'!I26/SUM('[2]21-23 Campus Contract Alloctns'!$I$5:$AP$108)","v":0},{"$f":"$I$5*'[2]21-23 Campus Contract Alloctns'!J26/SUM('[2]21-23 Campus Contract Alloctns'!$I$5:$AP$108)","v":0},{"$f":"$I$5*'[2]21-23 Campus Contract Alloctns'!K26/SUM('[2]21-23 Campus Contract Alloctns'!$I$5:$AP$108)","v":0},{"$f":"$I$5*'[2]21-23 Campus Contract Alloctns'!L26/SUM('[2]21-23 Campus Contract Alloctns'!$I$5:$AP$108)","v":0},{"$f":"$I$5*'[2]21-23 Campus Contract Alloctns'!M26/SUM('[2]21-23 Campus Contract Alloctns'!$I$5:$AP$108)","v":0},{"$f":"$I$5*'[2]21-23 Campus Contract Alloctns'!N26/SUM('[2]21-23 Campus Contract Alloctns'!$I$5:$AP$108)","v":0},{"$f":"$I$5*'[2]21-23 Campus Contract Alloctns'!O26/SUM('[2]21-23 Campus Contract Alloctns'!$I$5:$AP$108)","v":0},{"$f":"$I$5*'[2]21-23 Campus Contract Alloctns'!P26/SUM('[2]21-23 Campus Contract Alloctns'!$I$5:$AP$108)","v":0},{"$f":"$I$5*'[2]21-23 Campus Contract Alloctns'!Q26/SUM('[2]21-23 Campus Contract Alloctns'!$I$5:$AP$108)","v":0},{"$f":"$I$5*'[2]21-23 Campus Contract Alloctns'!R26/SUM('[2]21-23 Campus Contract Alloctns'!$I$5:$AP$108)","v":0},{"$f":"$I$5*'[2]21-23 Campus Contract Alloctns'!S26/SUM('[2]21-23 Campus Contract Alloctns'!$I$5:$AP$108)","v":0},{"$f":"$I$5*'[2]21-23 Campus Contract Alloctns'!T26/SUM('[2]21-23 Campus Contract Alloctns'!$I$5:$AP$108)","v":0},{"$f":"$I$5*'[2]21-23 Campus Contract Alloctns'!U26/SUM('[2]21-23 Campus Contract Alloctns'!$I$5:$AP$108)","v":0},{"$f":"$I$5*'[2]21-23 Campus Contract Alloctns'!V26/SUM('[2]21-23 Campus Contract Alloctns'!$I$5:$AP$108)","v":0},{"$f":"$I$5*'[2]21-23 Campus Contract Alloctns'!W26/SUM('[2]21-23 Campus Contract Alloctns'!$I$5:$AP$108)","v":0},{"$f":"$I$5*'[2]21-23 Campus Contract Alloctns'!X26/SUM('[2]21-23 Campus Contract Alloctns'!$I$5:$AP$108)","v":0},{"$f":"$I$5*'[2]21-23 Campus Contract Alloctns'!Y26/SUM('[2]21-23 Campus Contract Alloctns'!$I$5:$AP$108)","v":0},{"$f":"$I$5*'[2]21-23 Campus Contract Alloctns'!Z26/SUM('[2]21-23 Campus Contract Alloctns'!$I$5:$AP$108)","v":0},{"$f":"$I$5*'[2]21-23 Campus Contract Alloctns'!AA26/SUM('[2]21-23 Campus Contract Alloctns'!$I$5:$AP$108)","v":0},{"$f":"$I$5*'[2]21-23 Campus Contract Alloctns'!AB26/SUM('[2]21-23 Campus Contract Alloctns'!$I$5:$AP$108)","v":1.8235770961691521E-4},{"$f":"$I$5*'[2]21-23 Campus Contract Alloctns'!AC26/SUM('[2]21-23 Campus Contract Alloctns'!$I$5:$AP$108)","v":0},{"$f":"$I$5*'[2]21-23 Campus Contract Alloctns'!AD26/SUM('[2]21-23 Campus Contract Alloctns'!$I$5:$AP$108)","v":0},{"$f":"$I$5*'[2]21-23 Campus Contract Alloctns'!AE26/SUM('[2]21-23 Campus Contract Alloctns'!$I$5:$AP$108)","v":0},{"$f":"$I$5*'[2]21-23 Campus Contract Alloctns'!AF26/SUM('[2]21-23 Campus Contract Alloctns'!$I$5:$AP$108)","v":0},{"$f":"$I$5*'[2]21-23 Campus Contract Alloctns'!AG26/SUM('[2]21-23 Campus Contract Alloctns'!$I$5:$AP$108)","v":0},{"$f":"$I$5*'[2]21-23 Campus Contract Alloctns'!AH26/SUM('[2]21-23 Campus Contract Alloctns'!$I$5:$AP$108)","v":0},{"$f":"$I$5*'[2]21-23 Campus Contract Alloctns'!AI26/SUM('[2]21-23 Campus Contract Alloctns'!$I$5:$AP$108)","v":0},{"$f":"$I$5*'[2]21-23 Campus Contract Alloctns'!AJ26/SUM('[2]21-23 Campus Contract Alloctns'!$I$5:$AP$108)","v":0},{"$f":"$I$5*'[2]21-23 Campus Contract Alloctns'!AK26/SUM('[2]21-23 Campus Contract Alloctns'!$I$5:$AP$108)","v":0},{"$f":"$I$5*'[2]21-23 Campus Contract Alloctns'!AL26/SUM('[2]21-23 Campus Contract Alloctns'!$I$5:$AP$108)","v":0},{"$f":"$I$5*'[2]21-23 Campus Contract Alloctns'!AM26/SUM('[2]21-23 Campus Contract Alloctns'!$I$5:$AP$108)","v":0},{"$f":"$I$5*'[2]21-23 Campus Contract Alloctns'!AN26/SUM('[2]21-23 Campus Contract Alloctns'!$I$5:$AP$108)","v":0},{"$f":"$I$5*'[2]21-23 Campus Contract Alloctns'!AO26/SUM('[2]21-23 Campus Contract Alloctns'!$I$5:$AP$108)","v":0},{"$f":"$I$5*'[2]21-23 Campus Contract Alloctns'!AP26/SUM('[2]21-23 Campus Contract Alloctns'!$I$5:$AP$108)","v":0}]
[null,"090 - Office of State Treasurer","090","Office of State Treasurer",4.5669907067638228E-3,60,1.0636461774135831E-3,4.2964748599637163E-4,3.0736970433538685E-3,{"$f":"$I$5*'[2]21-23 Campus Contract Alloctns'!I27/SUM('[2]21-23 Campus Contract Alloctns'!$I$5:$AP$108)","v":0},{"$f":"$I$5*'[2]21-23 Campus Contract Alloctns'!J27/SUM('[2]21-23 Campus Contract Alloctns'!$I$5:$AP$108)","v":0},{"$f":"$I$5*'[2]21-23 Campus Contract Alloctns'!K27/SUM('[2]21-23 Campus Contract Alloctns'!$I$5:$AP$108)","v":3.0736970433538689E-3},{"$f":"$I$5*'[2]21-23 Campus Contract Alloctns'!L27/SUM('[2]21-23 Campus Contract Alloctns'!$I$5:$AP$108)","v":0},{"$f":"$I$5*'[2]21-23 Campus Contract Alloctns'!M27/SUM('[2]21-23 Campus Contract Alloctns'!$I$5:$AP$108)","v":0},{"$f":"$I$5*'[2]21-23 Campus Contract Alloctns'!N27/SUM('[2]21-23 Campus Contract Alloctns'!$I$5:$AP$108)","v":0},{"$f":"$I$5*'[2]21-23 Campus Contract Alloctns'!O27/SUM('[2]21-23 Campus Contract Alloctns'!$I$5:$AP$108)","v":0},{"$f":"$I$5*'[2]21-23 Campus Contract Alloctns'!P27/SUM('[2]21-23 Campus Contract Alloctns'!$I$5:$AP$108)","v":0},{"$f":"$I$5*'[2]21-23 Campus Contract Alloctns'!Q27/SUM('[2]21-23 Campus Contract Alloctns'!$I$5:$AP$108)","v":0},{"$f":"$I$5*'[2]21-23 Campus Contract Alloctns'!R27/SUM('[2]21-23 Campus Contract Alloctns'!$I$5:$AP$108)","v":0},{"$f":"$I$5*'[2]21-23 Campus Contract Alloctns'!S27/SUM('[2]21-23 Campus Contract Alloctns'!$I$5:$AP$108)","v":0},{"$f":"$I$5*'[2]21-23 Campus Contract Alloctns'!T27/SUM('[2]21-23 Campus Contract Alloctns'!$I$5:$AP$108)","v":0},{"$f":"$I$5*'[2]21-23 Campus Contract Alloctns'!U27/SUM('[2]21-23 Campus Contract Alloctns'!$I$5:$AP$108)","v":0},{"$f":"$I$5*'[2]21-23 Campus Contract Alloctns'!V27/SUM('[2]21-23 Campus Contract Alloctns'!$I$5:$AP$108)","v":0},{"$f":"$I$5*'[2]21-23 Campus Contract Alloctns'!W27/SUM('[2]21-23 Campus Contract Alloctns'!$I$5:$AP$108)","v":0},{"$f":"$I$5*'[2]21-23 Campus Contract Alloctns'!X27/SUM('[2]21-23 Campus Contract Alloctns'!$I$5:$AP$108)","v":0},{"$f":"$I$5*'[2]21-23 Campus Contract Alloctns'!Y27/SUM('[2]21-23 Campus Contract Alloctns'!$I$5:$AP$108)","v":0},{"$f":"$I$5*'[2]21-23 Campus Contract Alloctns'!Z27/SUM('[2]21-23 Campus Contract Alloctns'!$I$5:$AP$108)","v":0},{"$f":"$I$5*'[2]21-23 Campus Contract Alloctns'!AA27/SUM('[2]21-23 Campus Contract Alloctns'!$I$5:$AP$108)","v":0},{"$f":"$I$5*'[2]21-23 Campus Contract Alloctns'!AB27/SUM('[2]21-23 Campus Contract Alloctns'!$I$5:$AP$108)","v":0},{"$f":"$I$5*'[2]21-23 Campus Contract Alloctns'!AC27/SUM('[2]21-23 Campus Contract Alloctns'!$I$5:$AP$108)","v":0},{"$f":"$I$5*'[2]21-23 Campus Contract Alloctns'!AD27/SUM('[2]21-23 Campus Contract Alloctns'!$I$5:$AP$108)","v":0},{"$f":"$I$5*'[2]21-23 Campus Contract Alloctns'!AE27/SUM('[2]21-23 Campus Contract Alloctns'!$I$5:$AP$108)","v":0},{"$f":"$I$5*'[2]21-23 Campus Contract Alloctns'!AF27/SUM('[2]21-23 Campus Contract Alloctns'!$I$5:$AP$108)","v":0},{"$f":"$I$5*'[2]21-23 Campus Contract Alloctns'!AG27/SUM('[2]21-23 Campus Contract Alloctns'!$I$5:$AP$108)","v":0},{"$f":"$I$5*'[2]21-23 Campus Contract Alloctns'!AH27/SUM('[2]21-23 Campus Contract Alloctns'!$I$5:$AP$108)","v":0},{"$f":"$I$5*'[2]21-23 Campus Contract Alloctns'!AI27/SUM('[2]21-23 Campus Contract Alloctns'!$I$5:$AP$108)","v":0},{"$f":"$I$5*'[2]21-23 Campus Contract Alloctns'!AJ27/SUM('[2]21-23 Campus Contract Alloctns'!$I$5:$AP$108)","v":0},{"$f":"$I$5*'[2]21-23 Campus Contract Alloctns'!AK27/SUM('[2]21-23 Campus Contract Alloctns'!$I$5:$AP$108)","v":0},{"$f":"$I$5*'[2]21-23 Campus Contract Alloctns'!AL27/SUM('[2]21-23 Campus Contract Alloctns'!$I$5:$AP$108)","v":0},{"$f":"$I$5*'[2]21-23 Campus Contract Alloctns'!AM27/SUM('[2]21-23 Campus Contract Alloctns'!$I$5:$AP$108)","v":0},{"$f":"$I$5*'[2]21-23 Campus Contract Alloctns'!AN27/SUM('[2]21-23 Campus Contract Alloctns'!$I$5:$AP$108)","v":0},{"$f":"$I$5*'[2]21-23 Campus Contract Alloctns'!AO27/SUM('[2]21-23 Campus Contract Alloctns'!$I$5:$AP$108)","v":0},{"$f":"$I$5*'[2]21-23 Campus Contract Alloctns'!AP27/SUM('[2]21-23 Campus Contract Alloctns'!$I$5:$AP$108)","v":0}]
[null,"095 - Office of State Auditor","095","Office of State Auditor",5.4261132564029551E-3,164,2.9072995515971273E-3,2.5710682969750211E-4,2.2617068751083257E-3,{"$f":"$I$5*'[2]21-23 Campus Contract Alloctns'!I28/SUM('[2]21-23 Campus Contract Alloctns'!$I$5:$AP$108)","v":0},{"$f":"$I$5*'[2]21-23 Campus Contract Alloctns'!J28/SUM('[2]21-23 Campus Contract Alloctns'!$I$5:$AP$108)","v":0},{"$f":"$I$5*'[2]21-23 Campus Contract Alloctns'!K28/SUM('[2]21-23 Campus Contract Alloctns'!$I$5:$AP$108)","v":0},{"$f":"$I$5*'[2]21-23 Campus Contract Alloctns'!L28/SUM('[2]21-23 Campus Contract Alloctns'!$I$5:$AP$108)","v":0},{"$f":"$I$5*'[2]21-23 Campus Contract Alloctns'!M28/SUM('[2]21-23 Campus Contract Alloctns'!$I$5:$AP$108)","v":0},{"$f":"$I$5*'[2]21-23 Campus Contract Alloctns'!N28/SUM('[2]21-23 Campus Contract Alloctns'!$I$5:$AP$108)","v":0},{"$f":"$I$5*'[2]21-23 Campus Contract Alloctns'!O28/SUM('[2]21-23 Campus Contract Alloctns'!$I$5:$AP$108)","v":0},{"$f":"$I$5*'[2]21-23 Campus Contract Alloctns'!P28/SUM('[2]21-23 Campus Contract Alloctns'!$I$5:$AP$108)","v":0},{"$f":"$I$5*'[2]21-23 Campus Contract Alloctns'!Q28/SUM('[2]21-23 Campus Contract Alloctns'!$I$5:$AP$108)","v":0},{"$f":"$I$5*'[2]21-23 Campus Contract Alloctns'!R28/SUM('[2]21-23 Campus Contract Alloctns'!$I$5:$AP$108)","v":0},{"$f":"$I$5*'[2]21-23 Campus Contract Alloctns'!S28/SUM('[2]21-23 Campus Contract Alloctns'!$I$5:$AP$108)","v":1.5231651995619832E-3},{"$f":"$I$5*'[2]21-23 Campus Contract Alloctns'!T28/SUM('[2]21-23 Campus Contract Alloctns'!$I$5:$AP$108)","v":0},{"$f":"$I$5*'[2]21-23 Campus Contract Alloctns'!U28/SUM('[2]21-23 Campus Contract Alloctns'!$I$5:$AP$108)","v":0},{"$f":"$I$5*'[2]21-23 Campus Contract Alloctns'!V28/SUM('[2]21-23 Campus Contract Alloctns'!$I$5:$AP$108)","v":0},{"$f":"$I$5*'[2]21-23 Campus Contract Alloctns'!W28/SUM('[2]21-23 Campus Contract Alloctns'!$I$5:$AP$108)","v":0},{"$f":"$I$5*'[2]21-23 Campus Contract Alloctns'!X28/SUM('[2]21-23 Campus Contract Alloctns'!$I$5:$AP$108)","v":0},{"$f":"$I$5*'[2]21-23 Campus Contract Alloctns'!Y28/SUM('[2]21-23 Campus Contract Alloctns'!$I$5:$AP$108)","v":0},{"$f":"$I$5*'[2]21-23 Campus Contract Alloctns'!Z28/SUM('[2]21-23 Campus Contract Alloctns'!$I$5:$AP$108)","v":0},{"$f":"$I$5*'[2]21-23 Campus Contract Alloctns'!AA28/SUM('[2]21-23 Campus Contract Alloctns'!$I$5:$AP$108)","v":0},{"$f":"$I$5*'[2]21-23 Campus Contract Alloctns'!AB28/SUM('[2]21-23 Campus Contract Alloctns'!$I$5:$AP$108)","v":0},{"$f":"$I$5*'[2]21-23 Campus Contract Alloctns'!AC28/SUM('[2]21-23 Campus Contract Alloctns'!$I$5:$AP$108)","v":0},{"$f":"$I$5*'[2]21-23 Campus Contract Alloctns'!AD28/SUM('[2]21-23 Campus Contract Alloctns'!$I$5:$AP$108)","v":0},{"$f":"$I$5*'[2]21-23 Campus Contract Alloctns'!AE28/SUM('[2]21-23 Campus Contract Alloctns'!$I$5:$AP$108)","v":0},{"$f":"$I$5*'[2]21-23 Campus Contract Alloctns'!AF28/SUM('[2]21-23 Campus Contract Alloctns'!$I$5:$AP$108)","v":0},{"$f":"$I$5*'[2]21-23 Campus Contract Alloctns'!AG28/SUM('[2]21-23 Campus Contract Alloctns'!$I$5:$AP$108)","v":0},{"$f":"$I$5*'[2]21-23 Campus Contract Alloctns'!AH28/SUM('[2]21-23 Campus Contract Alloctns'!$I$5:$AP$108)","v":0},{"$f":"$I$5*'[2]21-23 Campus Contract Alloctns'!AI28/SUM('[2]21-23 Campus Contract Alloctns'!$I$5:$AP$108)","v":0},{"$f":"$I$5*'[2]21-23 Campus Contract Alloctns'!AJ28/SUM('[2]21-23 Campus Contract Alloctns'!$I$5:$AP$108)","v":0},{"$f":"$I$5*'[2]21-23 Campus Contract Alloctns'!AK28/SUM('[2]21-23 Campus Contract Alloctns'!$I$5:$AP$108)","v":0},{"$f":"$I$5*'[2]21-23 Campus Contract Alloctns'!AL28/SUM('[2]21-23 Campus Contract Alloctns'!$I$5:$AP$108)","v":0},{"$f":"$I$5*'[2]21-23 Campus Contract Alloctns'!AM28/SUM('[2]21-23 Campus Contract Alloctns'!$I$5:$AP$108)","v":0},{"$f":"$I$5*'[2]21-23 Campus Contract Alloctns'!AN28/SUM('[2]21-23 Campus Contract Alloctns'!$I$5:$AP$108)","v":7.3854167554634261E-4},{"$f":"$I$5*'[2]21-23 Campus Contract Alloctns'!AO28/SUM('[2]21-23 Campus Contract Alloctns'!$I$5:$AP$108)","v":0},{"$f":"$I$5*'[2]21-23 Campus Contract Alloctns'!AP28/SUM('[2]21-23 Campus Contract Alloctns'!$I$5:$AP$108)","v":0}]
[null,"099 - Citizens' Commission on Salaries for Elected Officials","099","Citizens' Commission on Salaries for Elected Officials",1.9391259230621275E-4,3,5.3182308870679155E-5,0,1.407302834355336E-4,{"$f":"$I$5*'[2]21-23 Campus Contract Alloctns'!I29/SUM('[2]21-23 Campus Contract Alloctns'!$I$5:$AP$108)","v":0},{"$f":"$I$5*'[2]21-23 Campus Contract Alloctns'!J29/SUM('[2]21-23 Campus Contract Alloctns'!$I$5:$AP$108)","v":0},{"$f":"$I$5*'[2]21-23 Campus Contract Alloctns'!K29/SUM('[2]21-23 Campus Contract Alloctns'!$I$5:$AP$108)","v":0},{"$f":"$I$5*'[2]21-23 Campus Contract Alloctns'!L29/SUM('[2]21-23 Campus Contract Alloctns'!$I$5:$AP$108)","v":0},{"$f":"$I$5*'[2]21-23 Campus Contract Alloctns'!M29/SUM('[2]21-23 Campus Contract Alloctns'!$I$5:$AP$108)","v":0},{"$f":"$I$5*'[2]21-23 Campus Contract Alloctns'!N29/SUM('[2]21-23 Campus Contract Alloctns'!$I$5:$AP$108)","v":0},{"$f":"$I$5*'[2]21-23 Campus Contract Alloctns'!O29/SUM('[2]21-23 Campus Contract Alloctns'!$I$5:$AP$108)","v":0},{"$f":"$I$5*'[2]21-23 Campus Contract Alloctns'!P29/SUM('[2]21-23 Campus Contract Alloctns'!$I$5:$AP$108)","v":0},{"$f":"$I$5*'[2]21-23 Campus Contract Alloctns'!Q29/SUM('[2]21-23 Campus Contract Alloctns'!$I$5:$AP$108)","v":0},{"$f":"$I$5*'[2]21-23 Campus Contract Alloctns'!R29/SUM('[2]21-23 Campus Contract Alloctns'!$I$5:$AP$108)","v":0},{"$f":"$I$5*'[2]21-23 Campus Contract Alloctns'!S29/SUM('[2]21-23 Campus Contract Alloctns'!$I$5:$AP$108)","v":0},{"$f":"$I$5*'[2]21-23 Campus Contract Alloctns'!T29/SUM('[2]21-23 Campus Contract Alloctns'!$I$5:$AP$108)","v":0},{"$f":"$I$5*'[2]21-23 Campus Contract Alloctns'!U29/SUM('[2]21-23 Campus Contract Alloctns'!$I$5:$AP$108)","v":0},{"$f":"$I$5*'[2]21-23 Campus Contract Alloctns'!V29/SUM('[2]21-23 Campus Contract Alloctns'!$I$5:$AP$108)","v":0},{"$f":"$I$5*'[2]21-23 Campus Contract Alloctns'!W29/SUM('[2]21-23 Campus Contract Alloctns'!$I$5:$AP$108)","v":0},{"$f":"$I$5*'[2]21-23 Campus Contract Alloctns'!X29/SUM('[2]21-23 Campus Contract Alloctns'!$I$5:$AP$108)","v":0},{"$f":"$I$5*'[2]21-23 Campus Contract Alloctns'!Y29/SUM('[2]21-23 Campus Contract Alloctns'!$I$5:$AP$108)","v":0},{"$f":"$I$5*'[2]21-23 Campus Contract Alloctns'!Z29/SUM('[2]21-23 Campus Contract Alloctns'!$I$5:$AP$108)","v":0},{"$f":"$I$5*'[2]21-23 Campus Contract Alloctns'!AA29/SUM('[2]21-23 Campus Contract Alloctns'!$I$5:$AP$108)","v":0},{"$f":"$I$5*'[2]21-23 Campus Contract Alloctns'!AB29/SUM('[2]21-23 Campus Contract Alloctns'!$I$5:$AP$108)","v":1.4073028343553363E-4},{"$f":"$I$5*'[2]21-23 Campus Contract Alloctns'!AC29/SUM('[2]21-23 Campus Contract Alloctns'!$I$5:$AP$108)","v":0},{"$f":"$I$5*'[2]21-23 Campus Contract Alloctns'!AD29/SUM('[2]21-23 Campus Contract Alloctns'!$I$5:$AP$108)","v":0},{"$f":"$I$5*'[2]21-23 Campus Contract Alloctns'!AE29/SUM('[2]21-23 Campus Contract Alloctns'!$I$5:$AP$108)","v":0},{"$f":"$I$5*'[2]21-23 Campus Contract Alloctns'!AF29/SUM('[2]21-23 Campus Contract Alloctns'!$I$5:$AP$108)","v":0},{"$f":"$I$5*'[2]21-23 Campus Contract Alloctns'!AG29/SUM('[2]21-23 Campus Contract Alloctns'!$I$5:$AP$108)","v":0},{"$f":"$I$5*'[2]21-23 Campus Contract Alloctns'!AH29/SUM('[2]21-23 Campus Contract Alloctns'!$I$5:$AP$108)","v":0},{"$f":"$I$5*'[2]21-23 Campus Contract Alloctns'!AI29/SUM('[2]21-23 Campus Contract Alloctns'!$I$5:$AP$108)","v":0},{"$f":"$I$5*'[2]21-23 Campus Contract Alloctns'!AJ29/SUM('[2]21-23 Campus Contract Alloctns'!$I$5:$AP$108)","v":0},{"$f":"$I$5*'[2]21-23 Campus Contract Alloctns'!AK29/SUM('[2]21-23 Campus Contract Alloctns'!$I$5:$AP$108)","v":0},{"$f":"$I$5*'[2]21-23 Campus Contract Alloctns'!AL29/SUM('[2]21-23 Campus Contract Alloctns'!$I$5:$AP$108)","v":0},{"$f":"$I$5*'[2]21-23 Campus Contract Alloctns'!AM29/SUM('[2]21-23 Campus Contract Alloctns'!$I$5:$AP$108)","v":0},{"$f":"$I$5*'[2]21-23 Campus Contract Alloctns'!AN29/SUM('[2]21-23 Campus Contract Alloctns'!$I$5:$AP$108)","v":0},{"$f":"$I$5*'[2]21-23 Campus Contract Alloctns'!AO29/SUM('[2]21-23 Campus Contract Alloctns'!$I$5:$AP$108)","v":0},{"$f":"$I$5*'[2]21-23 Campus Contract Alloctns'!AP29/SUM('[2]21-23 Campus Contract Alloctns'!$I$5:$AP$108)","v":0}]
[null,"100 - Office of Attorney General","100","Office of Attorney General",3.4373441864601326E-2,685,1.2143293858805075E-2,2.9126611045534709E-3,1.9317486901242777E-2,{"$f":"$I$5*'[2]21-23 Campus Contract Alloctns'!I30/SUM('[2]21-23 Campus Contract Alloctns'!$I$5:$AP$108)","v":0},{"$f":"$I$5*'[2]21-23 Campus Contract Alloctns'!J30/SUM('[2]21-23 Campus Contract Alloctns'!$I$5:$AP$108)","v":0},{"$f":"$I$5*'[2]21-23 Campus Contract Alloctns'!K30/SUM('[2]21-23 Campus Contract Alloctns'!$I$5:$AP$108)","v":0},{"$f":"$I$5*'[2]21-23 Campus Contract Alloctns'!L30/SUM('[2]21-23 Campus Contract Alloctns'!$I$5:$AP$108)","v":0},{"$f":"$I$5*'[2]21-23 Campus Contract Alloctns'!M30/SUM('[2]21-23 Campus Contract Alloctns'!$I$5:$AP$108)","v":1.931748690124278E-2},{"$f":"$I$5*'[2]21-23 Campus Contract Alloctns'!N30/SUM('[2]21-23 Campus Contract Alloctns'!$I$5:$AP$108)","v":0},{"$f":"$I$5*'[2]21-23 Campus Contract Alloctns'!O30/SUM('[2]21-23 Campus Contract Alloctns'!$I$5:$AP$108)","v":0},{"$f":"$I$5*'[2]21-23 Campus Contract Alloctns'!P30/SUM('[2]21-23 Campus Contract Alloctns'!$I$5:$AP$108)","v":0},{"$f":"$I$5*'[2]21-23 Campus Contract Alloctns'!Q30/SUM('[2]21-23 Campus Contract Alloctns'!$I$5:$AP$108)","v":0},{"$f":"$I$5*'[2]21-23 Campus Contract Alloctns'!R30/SUM('[2]21-23 Campus Contract Alloctns'!$I$5:$AP$108)","v":0},{"$f":"$I$5*'[2]21-23 Campus Contract Alloctns'!S30/SUM('[2]21-23 Campus Contract Alloctns'!$I$5:$AP$108)","v":0},{"$f":"$I$5*'[2]21-23 Campus Contract Alloctns'!T30/SUM('[2]21-23 Campus Contract Alloctns'!$I$5:$AP$108)","v":0},{"$f":"$I$5*'[2]21-23 Campus Contract Alloctns'!U30/SUM('[2]21-23 Campus Contract Alloctns'!$I$5:$AP$108)","v":0},{"$f":"$I$5*'[2]21-23 Campus Contract Alloctns'!V30/SUM('[2]21-23 Campus Contract Alloctns'!$I$5:$AP$108)","v":0},{"$f":"$I$5*'[2]21-23 Campus Contract Alloctns'!W30/SUM('[2]21-23 Campus Contract Alloctns'!$I$5:$AP$108)","v":0},{"$f":"$I$5*'[2]21-23 Campus Contract Alloctns'!X30/SUM('[2]21-23 Campus Contract Alloctns'!$I$5:$AP$108)","v":0},{"$f":"$I$5*'[2]21-23 Campus Contract Alloctns'!Y30/SUM('[2]21-23 Campus Contract Alloctns'!$I$5:$AP$108)","v":0},{"$f":"$I$5*'[2]21-23 Campus Contract Alloctns'!Z30/SUM('[2]21-23 Campus Contract Alloctns'!$I$5:$AP$108)","v":0},{"$f":"$I$5*'[2]21-23 Campus Contract Alloctns'!AA30/SUM('[2]21-23 Campus Contract Alloctns'!$I$5:$AP$108)","v":0},{"$f":"$I$5*'[2]21-23 Campus Contract Alloctns'!AB30/SUM('[2]21-23 Campus Contract Alloctns'!$I$5:$AP$108)","v":0},{"$f":"$I$5*'[2]21-23 Campus Contract Alloctns'!AC30/SUM('[2]21-23 Campus Contract Alloctns'!$I$5:$AP$108)","v":0},{"$f":"$I$5*'[2]21-23 Campus Contract Alloctns'!AD30/SUM('[2]21-23 Campus Contract Alloctns'!$I$5:$AP$108)","v":0},{"$f":"$I$5*'[2]21-23 Campus Contract Alloctns'!AE30/SUM('[2]21-23 Campus Contract Alloctns'!$I$5:$AP$108)","v":0},{"$f":"$I$5*'[2]21-23 Campus Contract Alloctns'!AF30/SUM('[2]21-23 Campus Contract Alloctns'!$I$5:$AP$108)","v":0},{"$f":"$I$5*'[2]21-23 Campus Contract Alloctns'!AG30/SUM('[2]21-23 Campus Contract Alloctns'!$I$5:$AP$108)","v":0},{"$f":"$I$5*'[2]21-23 Campus Contract Alloctns'!AH30/SUM('[2]21-23 Campus Contract Alloctns'!$I$5:$AP$108)","v":0},{"$f":"$I$5*'[2]21-23 Campus Contract Alloctns'!AI30/SUM('[2]21-23 Campus Contract Alloctns'!$I$5:$AP$108)","v":0},{"$f":"$I$5*'[2]21-23 Campus Contract Alloctns'!AJ30/SUM('[2]21-23 Campus Contract Alloctns'!$I$5:$AP$108)","v":0},{"$f":"$I$5*'[2]21-23 Campus Contract Alloctns'!AK30/SUM('[2]21-23 Campus Contract Alloctns'!$I$5:$AP$108)","v":0},{"$f":"$I$5*'[2]21-23 Campus Contract Alloctns'!AL30/SUM('[2]21-23 Campus Contract Alloctns'!$I$5:$AP$108)","v":0},{"$f":"$I$5*'[2]21-23 Campus Contract Alloctns'!AM30/SUM('[2]21-23 Campus Contract Alloctns'!$I$5:$AP$108)","v":0},{"$f":"$I$5*'[2]21-23 Campus Contract Alloctns'!AN30/SUM('[2]21-23 Campus Contract Alloctns'!$I$5:$AP$108)","v":0},{"$f":"$I$5*'[2]21-23 Campus Contract Alloctns'!AO30/SUM('[2]21-23 Campus Contract Alloctns'!$I$5:$AP$108)","v":0},{"$f":"$I$5*'[2]21-23 Campus Contract Alloctns'!AP30/SUM('[2]21-23 Campus Contract Alloctns'!$I$5:$AP$108)","v":0}]
[null,"101 - Caseload Forecast Council","101","Caseload Forecast Council",1.2671944859660512E-3,10,1.7727436290226387E-4,0,1.0899201230637873E-3,{"$f":"$I$5*'[2]21-23 Campus Contract Alloctns'!I31/SUM('[2]21-23 Campus Contract Alloctns'!$I$5:$AP$108)","v":0},{"$f":"$I$5*'[2]21-23 Campus Contract Alloctns'!J31/SUM('[2]21-23 Campus Contract Alloctns'!$I$5:$AP$108)","v":0},{"$f":"$I$5*'[2]21-23 Campus Contract Alloctns'!K31/SUM('[2]21-23 Campus Contract Alloctns'!$I$5:$AP$108)","v":0},{"$f":"$I$5*'[2]21-23 Campus Contract Alloctns'!L31/SUM('[2]21-23 Campus Contract Alloctns'!$I$5:$AP$108)","v":0},{"$f":"$I$5*'[2]21-23 Campus Contract Alloctns'!M31/SUM('[2]21-23 Campus Contract Alloctns'!$I$5:$AP$108)","v":0},{"$f":"$I$5*'[2]21-23 Campus Contract Alloctns'!N31/SUM('[2]21-23 Campus Contract Alloctns'!$I$5:$AP$108)","v":0},{"$f":"$I$5*'[2]21-23 Campus Contract Alloctns'!O31/SUM('[2]21-23 Campus Contract Alloctns'!$I$5:$AP$108)","v":0},{"$f":"$I$5*'[2]21-23 Campus Contract Alloctns'!P31/SUM('[2]21-23 Campus Contract Alloctns'!$I$5:$AP$108)","v":0},{"$f":"$I$5*'[2]21-23 Campus Contract Alloctns'!Q31/SUM('[2]21-23 Campus Contract Alloctns'!$I$5:$AP$108)","v":0},{"$f":"$I$5*'[2]21-23 Campus Contract Alloctns'!R31/SUM('[2]21-23 Campus Contract Alloctns'!$I$5:$AP$108)","v":0},{"$f":"$I$5*'[2]21-23 Campus Contract Alloctns'!S31/SUM('[2]21-23 Campus Contract Alloctns'!$I$5:$AP$108)","v":0},{"$f":"$I$5*'[2]21-23 Campus Contract Alloctns'!T31/SUM('[2]21-23 Campus Contract Alloctns'!$I$5:$AP$108)","v":0},{"$f":"$I$5*'[2]21-23 Campus Contract Alloctns'!U31/SUM('[2]21-23 Campus Contract Alloctns'!$I$5:$AP$108)","v":0},{"$f":"$I$5*'[2]21-23 Campus Contract Alloctns'!V31/SUM('[2]21-23 Campus Contract Alloctns'!$I$5:$AP$108)","v":0},{"$f":"$I$5*'[2]21-23 Campus Contract Alloctns'!W31/SUM('[2]21-23 Campus Contract Alloctns'!$I$5:$AP$108)","v":0},{"$f":"$I$5*'[2]21-23 Campus Contract Alloctns'!X31/SUM('[2]21-23 Campus Contract Alloctns'!$I$5:$AP$108)","v":0},{"$f":"$I$5*'[2]21-23 Campus Contract Alloctns'!Y31/SUM('[2]21-23 Campus Contract Alloctns'!$I$5:$AP$108)","v":0},{"$f":"$I$5*'[2]21-23 Campus Contract Alloctns'!Z31/SUM('[2]21-23 Campus Contract Alloctns'!$I$5:$AP$108)","v":0},{"$f":"$I$5*'[2]21-23 Campus Contract Alloctns'!AA31/SUM('[2]21-23 Campus Contract Alloctns'!$I$5:$AP$108)","v":0},{"$f":"$I$5*'[2]21-23 Campus Contract Alloctns'!AB31/SUM('[2]21-23 Campus Contract Alloctns'!$I$5:$AP$108)","v":1.0899201230637875E-3},{"$f":"$I$5*'[2]21-23 Campus Contract Alloctns'!AC31/SUM('[2]21-23 Campus Contract Alloctns'!$I$5:$AP$108)","v":0},{"$f":"$I$5*'[2]21-23 Campus Contract Alloctns'!AD31/SUM('[2]21-23 Campus Contract Alloctns'!$I$5:$AP$108)","v":0},{"$f":"$I$5*'[2]21-23 Campus Contract Alloctns'!AE31/SUM('[2]21-23 Campus Contract Alloctns'!$I$5:$AP$108)","v":0},{"$f":"$I$5*'[2]21-23 Campus Contract Alloctns'!AF31/SUM('[2]21-23 Campus Contract Alloctns'!$I$5:$AP$108)","v":0},{"$f":"$I$5*'[2]21-23 Campus Contract Alloctns'!AG31/SUM('[2]21-23 Campus Contract Alloctns'!$I$5:$AP$108)","v":0},{"$f":"$I$5*'[2]21-23 Campus Contract Alloctns'!AH31/SUM('[2]21-23 Campus Contract Alloctns'!$I$5:$AP$108)","v":0},{"$f":"$I$5*'[2]21-23 Campus Contract Alloctns'!AI31/SUM('[2]21-23 Campus Contract Alloctns'!$I$5:$AP$108)","v":0},{"$f":"$I$5*'[2]21-23 Campus Contract Alloctns'!AJ31/SUM('[2]21-23 Campus Contract Alloctns'!$I$5:$AP$108)","v":0},{"$f":"$I$5*'[2]21-23 Campus Contract Alloctns'!AK31/SUM('[2]21-23 Campus Contract Alloctns'!$I$5:$AP$108)","v":0},{"$f":"$I$5*'[2]21-23 Campus Contract Alloctns'!AL31/SUM('[2]21-23 Campus Contract Alloctns'!$I$5:$AP$108)","v":0},{"$f":"$I$5*'[2]21-23 Campus Contract Alloctns'!AM31/SUM('[2]21-23 Campus Contract Alloctns'!$I$5:$AP$108)","v":0},{"$f":"$I$5*'[2]21-23 Campus Contract Alloctns'!AN31/SUM('[2]21-23 Campus Contract Alloctns'!$I$5:$AP$108)","v":0},{"$f":"$I$5*'[2]21-23 Campus Contract Alloctns'!AO31/SUM('[2]21-23 Campus Contract Alloctns'!$I$5:$AP$108)","v":0},{"$f":"$I$5*'[2]21-23 Campus Contract Alloctns'!AP31/SUM('[2]21-23 Campus Contract Alloctns'!$I$5:$AP$108)","v":0}]
[null,"102 - Department of Financial Institutions","102","Department of Financial Institutions",2.8541172427264481E-3,161,2.8541172427264481E-3,0,0,{"$f":"$I$5*'[2]21-23 Campus Contract Alloctns'!I32/SUM('[2]21-23 Campus Contract Alloctns'!$I$5:$AP$108)","v":0},{"$f":"$I$5*'[2]21-23 Campus Contract Alloctns'!J32/SUM('[2]21-23 Campus Contract Alloctns'!$I$5:$AP$108)","v":0},{"$f":"$I$5*'[2]21-23 Campus Contract Alloctns'!K32/SUM('[2]21-23 Campus Contract Alloctns'!$I$5:$AP$108)","v":0},{"$f":"$I$5*'[2]21-23 Campus Contract Alloctns'!L32/SUM('[2]21-23 Campus Contract Alloctns'!$I$5:$AP$108)","v":0},{"$f":"$I$5*'[2]21-23 Campus Contract Alloctns'!M32/SUM('[2]21-23 Campus Contract Alloctns'!$I$5:$AP$108)","v":0},{"$f":"$I$5*'[2]21-23 Campus Contract Alloctns'!N32/SUM('[2]21-23 Campus Contract Alloctns'!$I$5:$AP$108)","v":0},{"$f":"$I$5*'[2]21-23 Campus Contract Alloctns'!O32/SUM('[2]21-23 Campus Contract Alloctns'!$I$5:$AP$108)","v":0},{"$f":"$I$5*'[2]21-23 Campus Contract Alloctns'!P32/SUM('[2]21-23 Campus Contract Alloctns'!$I$5:$AP$108)","v":0},{"$f":"$I$5*'[2]21-23 Campus Contract Alloctns'!Q32/SUM('[2]21-23 Campus Contract Alloctns'!$I$5:$AP$108)","v":0},{"$f":"$I$5*'[2]21-23 Campus Contract Alloctns'!R32/SUM('[2]21-23 Campus Contract Alloctns'!$I$5:$AP$108)","v":0},{"$f":"$I$5*'[2]21-23 Campus Contract Alloctns'!S32/SUM('[2]21-23 Campus Contract Alloctns'!$I$5:$AP$108)","v":0},{"$f":"$I$5*'[2]21-23 Campus Contract Alloctns'!T32/SUM('[2]21-23 Campus Contract Alloctns'!$I$5:$AP$108)","v":0},{"$f":"$I$5*'[2]21-23 Campus Contract Alloctns'!U32/SUM('[2]21-23 Campus Contract Alloctns'!$I$5:$AP$108)","v":0},{"$f":"$I$5*'[2]21-23 Campus Contract Alloctns'!V32/SUM('[2]21-23 Campus Contract Alloctns'!$I$5:$AP$108)","v":0},{"$f":"$I$5*'[2]21-23 Campus Contract Alloctns'!W32/SUM('[2]21-23 Campus Contract Alloctns'!$I$5:$AP$108)","v":0},{"$f":"$I$5*'[2]21-23 Campus Contract Alloctns'!X32/SUM('[2]21-23 Campus Contract Alloctns'!$I$5:$AP$108)","v":0},{"$f":"$I$5*'[2]21-23 Campus Contract Alloctns'!Y32/SUM('[2]21-23 Campus Contract Alloctns'!$I$5:$AP$108)","v":0},{"$f":"$I$5*'[2]21-23 Campus Contract Alloctns'!Z32/SUM('[2]21-23 Campus Contract Alloctns'!$I$5:$AP$108)","v":0},{"$f":"$I$5*'[2]21-23 Campus Contract Alloctns'!AA32/SUM('[2]21-23 Campus Contract Alloctns'!$I$5:$AP$108)","v":0},{"$f":"$I$5*'[2]21-23 Campus Contract Alloctns'!AB32/SUM('[2]21-23 Campus Contract Alloctns'!$I$5:$AP$108)","v":0},{"$f":"$I$5*'[2]21-23 Campus Contract Alloctns'!AC32/SUM('[2]21-23 Campus Contract Alloctns'!$I$5:$AP$108)","v":0},{"$f":"$I$5*'[2]21-23 Campus Contract Alloctns'!AD32/SUM('[2]21-23 Campus Contract Alloctns'!$I$5:$AP$108)","v":0},{"$f":"$I$5*'[2]21-23 Campus Contract Alloctns'!AE32/SUM('[2]21-23 Campus Contract Alloctns'!$I$5:$AP$108)","v":0},{"$f":"$I$5*'[2]21-23 Campus Contract Alloctns'!AF32/SUM('[2]21-23 Campus Contract Alloctns'!$I$5:$AP$108)","v":0},{"$f":"$I$5*'[2]21-23 Campus Contract Alloctns'!AG32/SUM('[2]21-23 Campus Contract Alloctns'!$I$5:$AP$108)","v":0},{"$f":"$I$5*'[2]21-23 Campus Contract Alloctns'!AH32/SUM('[2]21-23 Campus Contract Alloctns'!$I$5:$AP$108)","v":0},{"$f":"$I$5*'[2]21-23 Campus Contract Alloctns'!AI32/SUM('[2]21-23 Campus Contract Alloctns'!$I$5:$AP$108)","v":0},{"$f":"$I$5*'[2]21-23 Campus Contract Alloctns'!AJ32/SUM('[2]21-23 Campus Contract Alloctns'!$I$5:$AP$108)","v":0},{"$f":"$I$5*'[2]21-23 Campus Contract Alloctns'!AK32/SUM('[2]21-23 Campus Contract Alloctns'!$I$5:$AP$108)","v":0},{"$f":"$I$5*'[2]21-23 Campus Contract Alloctns'!AL32/SUM('[2]21-23 Campus Contract Alloctns'!$I$5:$AP$108)","v":0},{"$f":"$I$5*'[2]21-23 Campus Contract Alloctns'!AM32/SUM('[2]21-23 Campus Contract Alloctns'!$I$5:$AP$108)","v":0},{"$f":"$I$5*'[2]21-23 Campus Contract Alloctns'!AN32/SUM('[2]21-23 Campus Contract Alloctns'!$I$5:$AP$108)","v":0},{"$f":"$I$5*'[2]21-23 Campus Contract Alloctns'!AO32/SUM('[2]21-23 Campus Contract Alloctns'!$I$5:$AP$108)","v":0},{"$f":"$I$5*'[2]21-23 Campus Contract Alloctns'!AP32/SUM('[2]21-23 Campus Contract Alloctns'!$I$5:$AP$108)","v":0}]
[null,"103 - Department of Commerce","103","Department of Commerce",5.4423229410994999E-3,307,5.4423229410994999E-3,0,0,{"$f":"$I$5*'[2]21-23 Campus Contract Alloctns'!I33/SUM('[2]21-23 Campus Contract Alloctns'!$I$5:$AP$108)","v":0},{"$f":"$I$5*'[2]21-23 Campus Contract Alloctns'!J33/SUM('[2]21-23 Campus Contract Alloctns'!$I$5:$AP$108)","v":0},{"$f":"$I$5*'[2]21-23 Campus Contract Alloctns'!K33/SUM('[2]21-23 Campus Contract Alloctns'!$I$5:$AP$108)","v":0},{"$f":"$I$5*'[2]21-23 Campus Contract Alloctns'!L33/SUM('[2]21-23 Campus Contract Alloctns'!$I$5:$AP$108)","v":0},{"$f":"$I$5*'[2]21-23 Campus Contract Alloctns'!M33/SUM('[2]21-23 Campus Contract Alloctns'!$I$5:$AP$108)","v":0},{"$f":"$I$5*'[2]21-23 Campus Contract Alloctns'!N33/SUM('[2]21-23 Campus Contract Alloctns'!$I$5:$AP$108)","v":0},{"$f":"$I$5*'[2]21-23 Campus Contract Alloctns'!O33/SUM('[2]21-23 Campus Contract Alloctns'!$I$5:$AP$108)","v":0},{"$f":"$I$5*'[2]21-23 Campus Contract Alloctns'!P33/SUM('[2]21-23 Campus Contract Alloctns'!$I$5:$AP$108)","v":0},{"$f":"$I$5*'[2]21-23 Campus Contract Alloctns'!Q33/SUM('[2]21-23 Campus Contract Alloctns'!$I$5:$AP$108)","v":0},{"$f":"$I$5*'[2]21-23 Campus Contract Alloctns'!R33/SUM('[2]21-23 Campus Contract Alloctns'!$I$5:$AP$108)","v":0},{"$f":"$I$5*'[2]21-23 Campus Contract Alloctns'!S33/SUM('[2]21-23 Campus Contract Alloctns'!$I$5:$AP$108)","v":0},{"$f":"$I$5*'[2]21-23 Campus Contract Alloctns'!T33/SUM('[2]21-23 Campus Contract Alloctns'!$I$5:$AP$108)","v":0},{"$f":"$I$5*'[2]21-23 Campus Contract Alloctns'!U33/SUM('[2]21-23 Campus Contract Alloctns'!$I$5:$AP$108)","v":0},{"$f":"$I$5*'[2]21-23 Campus Contract Alloctns'!V33/SUM('[2]21-23 Campus Contract Alloctns'!$I$5:$AP$108)","v":0},{"$f":"$I$5*'[2]21-23 Campus Contract Alloctns'!W33/SUM('[2]21-23 Campus Contract Alloctns'!$I$5:$AP$108)","v":0},{"$f":"$I$5*'[2]21-23 Campus Contract Alloctns'!X33/SUM('[2]21-23 Campus Contract Alloctns'!$I$5:$AP$108)","v":0},{"$f":"$I$5*'[2]21-23 Campus Contract Alloctns'!Y33/SUM('[2]21-23 Campus Contract Alloctns'!$I$5:$AP$108)","v":0},{"$f":"$I$5*'[2]21-23 Campus Contract Alloctns'!Z33/SUM('[2]21-23 Campus Contract Alloctns'!$I$5:$AP$108)","v":0},{"$f":"$I$5*'[2]21-23 Campus Contract Alloctns'!AA33/SUM('[2]21-23 Campus Contract Alloctns'!$I$5:$AP$108)","v":0},{"$f":"$I$5*'[2]21-23 Campus Contract Alloctns'!AB33/SUM('[2]21-23 Campus Contract Alloctns'!$I$5:$AP$108)","v":0},{"$f":"$I$5*'[2]21-23 Campus Contract Alloctns'!AC33/SUM('[2]21-23 Campus Contract Alloctns'!$I$5:$AP$108)","v":0},{"$f":"$I$5*'[2]21-23 Campus Contract Alloctns'!AD33/SUM('[2]21-23 Campus Contract Alloctns'!$I$5:$AP$108)","v":0},{"$f":"$I$5*'[2]21-23 Campus Contract Alloctns'!AE33/SUM('[2]21-23 Campus Contract Alloctns'!$I$5:$AP$108)","v":0},{"$f":"$I$5*'[2]21-23 Campus Contract Alloctns'!AF33/SUM('[2]21-23 Campus Contract Alloctns'!$I$5:$AP$108)","v":0},{"$f":"$I$5*'[2]21-23 Campus Contract Alloctns'!AG33/SUM('[2]21-23 Campus Contract Alloctns'!$I$5:$AP$108)","v":0},{"$f":"$I$5*'[2]21-23 Campus Contract Alloctns'!AH33/SUM('[2]21-23 Campus Contract Alloctns'!$I$5:$AP$108)","v":0},{"$f":"$I$5*'[2]21-23 Campus Contract Alloctns'!AI33/SUM('[2]21-23 Campus Contract Alloctns'!$I$5:$AP$108)","v":0},{"$f":"$I$5*'[2]21-23 Campus Contract Alloctns'!AJ33/SUM('[2]21-23 Campus Contract Alloctns'!$I$5:$AP$108)","v":0},{"$f":"$I$5*'[2]21-23 Campus Contract Alloctns'!AK33/SUM('[2]21-23 Campus Contract Alloctns'!$I$5:$AP$108)","v":0},{"$f":"$I$5*'[2]21-23 Campus Contract Alloctns'!AL33/SUM('[2]21-23 Campus Contract Alloctns'!$I$5:$AP$108)","v":0},{"$f":"$I$5*'[2]21-23 Campus Contract Alloctns'!AM33/SUM('[2]21-23 Campus Contract Alloctns'!$I$5:$AP$108)","v":0},{"$f":"$I$5*'[2]21-23 Campus Contract Alloctns'!AN33/SUM('[2]21-23 Campus Contract Alloctns'!$I$5:$AP$108)","v":0},{"$f":"$I$5*'[2]21-23 Campus Contract Alloctns'!AO33/SUM('[2]21-23 Campus Contract Alloctns'!$I$5:$AP$108)","v":0},{"$f":"$I$5*'[2]21-23 Campus Contract Alloctns'!AP33/SUM('[2]21-23 Campus Contract Alloctns'!$I$5:$AP$108)","v":0}]
[null,"104 - Economic and Revenue Forecast Council","104","Economic and Revenue Forecast Council",8.8637181451131937E-5,5,8.8637181451131937E-5,0,0,{"$f":"$I$5*'[2]21-23 Campus Contract Alloctns'!I34/SUM('[2]21-23 Campus Contract Alloctns'!$I$5:$AP$108)","v":0},{"$f":"$I$5*'[2]21-23 Campus Contract Alloctns'!J34/SUM('[2]21-23 Campus Contract Alloctns'!$I$5:$AP$108)","v":0},{"$f":"$I$5*'[2]21-23 Campus Contract Alloctns'!K34/SUM('[2]21-23 Campus Contract Alloctns'!$I$5:$AP$108)","v":0},{"$f":"$I$5*'[2]21-23 Campus Contract Alloctns'!L34/SUM('[2]21-23 Campus Contract Alloctns'!$I$5:$AP$108)","v":0},{"$f":"$I$5*'[2]21-23 Campus Contract Alloctns'!M34/SUM('[2]21-23 Campus Contract Alloctns'!$I$5:$AP$108)","v":0},{"$f":"$I$5*'[2]21-23 Campus Contract Alloctns'!N34/SUM('[2]21-23 Campus Contract Alloctns'!$I$5:$AP$108)","v":0},{"$f":"$I$5*'[2]21-23 Campus Contract Alloctns'!O34/SUM('[2]21-23 Campus Contract Alloctns'!$I$5:$AP$108)","v":0},{"$f":"$I$5*'[2]21-23 Campus Contract Alloctns'!P34/SUM('[2]21-23 Campus Contract Alloctns'!$I$5:$AP$108)","v":0},{"$f":"$I$5*'[2]21-23 Campus Contract Alloctns'!Q34/SUM('[2]21-23 Campus Contract Alloctns'!$I$5:$AP$108)","v":0},{"$f":"$I$5*'[2]21-23 Campus Contract Alloctns'!R34/SUM('[2]21-23 Campus Contract Alloctns'!$I$5:$AP$108)","v":0},{"$f":"$I$5*'[2]21-23 Campus Contract Alloctns'!S34/SUM('[2]21-23 Campus Contract Alloctns'!$I$5:$AP$108)","v":0},{"$f":"$I$5*'[2]21-23 Campus Contract Alloctns'!T34/SUM('[2]21-23 Campus Contract Alloctns'!$I$5:$AP$108)","v":0},{"$f":"$I$5*'[2]21-23 Campus Contract Alloctns'!U34/SUM('[2]21-23 Campus Contract Alloctns'!$I$5:$AP$108)","v":0},{"$f":"$I$5*'[2]21-23 Campus Contract Alloctns'!V34/SUM('[2]21-23 Campus Contract Alloctns'!$I$5:$AP$108)","v":0},{"$f":"$I$5*'[2]21-23 Campus Contract Alloctns'!W34/SUM('[2]21-23 Campus Contract Alloctns'!$I$5:$AP$108)","v":0},{"$f":"$I$5*'[2]21-23 Campus Contract Alloctns'!X34/SUM('[2]21-23 Campus Contract Alloctns'!$I$5:$AP$108)","v":0},{"$f":"$I$5*'[2]21-23 Campus Contract Alloctns'!Y34/SUM('[2]21-23 Campus Contract Alloctns'!$I$5:$AP$108)","v":0},{"$f":"$I$5*'[2]21-23 Campus Contract Alloctns'!Z34/SUM('[2]21-23 Campus Contract Alloctns'!$I$5:$AP$108)","v":0},{"$f":"$I$5*'[2]21-23 Campus Contract Alloctns'!AA34/SUM('[2]21-23 Campus Contract Alloctns'!$I$5:$AP$108)","v":0},{"$f":"$I$5*'[2]21-23 Campus Contract Alloctns'!AB34/SUM('[2]21-23 Campus Contract Alloctns'!$I$5:$AP$108)","v":0},{"$f":"$I$5*'[2]21-23 Campus Contract Alloctns'!AC34/SUM('[2]21-23 Campus Contract Alloctns'!$I$5:$AP$108)","v":0},{"$f":"$I$5*'[2]21-23 Campus Contract Alloctns'!AD34/SUM('[2]21-23 Campus Contract Alloctns'!$I$5:$AP$108)","v":0},{"$f":"$I$5*'[2]21-23 Campus Contract Alloctns'!AE34/SUM('[2]21-23 Campus Contract Alloctns'!$I$5:$AP$108)","v":0},{"$f":"$I$5*'[2]21-23 Campus Contract Alloctns'!AF34/SUM('[2]21-23 Campus Contract Alloctns'!$I$5:$AP$108)","v":0},{"$f":"$I$5*'[2]21-23 Campus Contract Alloctns'!AG34/SUM('[2]21-23 Campus Contract Alloctns'!$I$5:$AP$108)","v":0},{"$f":"$I$5*'[2]21-23 Campus Contract Alloctns'!AH34/SUM('[2]21-23 Campus Contract Alloctns'!$I$5:$AP$108)","v":0},{"$f":"$I$5*'[2]21-23 Campus Contract Alloctns'!AI34/SUM('[2]21-23 Campus Contract Alloctns'!$I$5:$AP$108)","v":0},{"$f":"$I$5*'[2]21-23 Campus Contract Alloctns'!AJ34/SUM('[2]21-23 Campus Contract Alloctns'!$I$5:$AP$108)","v":0},{"$f":"$I$5*'[2]21-23 Campus Contract Alloctns'!AK34/SUM('[2]21-23 Campus Contract Alloctns'!$I$5:$AP$108)","v":0},{"$f":"$I$5*'[2]21-23 Campus Contract Alloctns'!AL34/SUM('[2]21-23 Campus Contract Alloctns'!$I$5:$AP$108)","v":0},{"$f":"$I$5*'[2]21-23 Campus Contract Alloctns'!AM34/SUM('[2]21-23 Campus Contract Alloctns'!$I$5:$AP$108)","v":0},{"$f":"$I$5*'[2]21-23 Campus Contract Alloctns'!AN34/SUM('[2]21-23 Campus Contract Alloctns'!$I$5:$AP$108)","v":0},{"$f":"$I$5*'[2]21-23 Campus Contract Alloctns'!AO34/SUM('[2]21-23 Campus Contract Alloctns'!$I$5:$AP$108)","v":0},{"$f":"$I$5*'[2]21-23 Campus Contract Alloctns'!AP34/SUM('[2]21-23 Campus Contract Alloctns'!$I$5:$AP$108)","v":0}]
[null,"105 - Office of Financial Management","105","Office of Financial Management",1.9438958142604365E-2,435,7.7114347862484774E-3,1.6723572280401935E-3,1.0055166128315696E-2,{"$f":"$I$5*'[2]21-23 Campus Contract Alloctns'!I35/SUM('[2]21-23 Campus Contract Alloctns'!$I$5:$AP$108)","v":0},{"$f":"$I$5*'[2]21-23 Campus Contract Alloctns'!J35/SUM('[2]21-23 Campus Contract Alloctns'!$I$5:$AP$108)","v":0},{"$f":"$I$5*'[2]21-23 Campus Contract Alloctns'!K35/SUM('[2]21-23 Campus Contract Alloctns'!$I$5:$AP$108)","v":0},{"$f":"$I$5*'[2]21-23 Campus Contract Alloctns'!L35/SUM('[2]21-23 Campus Contract Alloctns'!$I$5:$AP$108)","v":0},{"$f":"$I$5*'[2]21-23 Campus Contract Alloctns'!M35/SUM('[2]21-23 Campus Contract Alloctns'!$I$5:$AP$108)","v":0},{"$f":"$I$5*'[2]21-23 Campus Contract Alloctns'!N35/SUM('[2]21-23 Campus Contract Alloctns'!$I$5:$AP$108)","v":0},{"$f":"$I$5*'[2]21-23 Campus Contract Alloctns'!O35/SUM('[2]21-23 Campus Contract Alloctns'!$I$5:$AP$108)","v":0},{"$f":"$I$5*'[2]21-23 Campus Contract Alloctns'!P35/SUM('[2]21-23 Campus Contract Alloctns'!$I$5:$AP$108)","v":0},{"$f":"$I$5*'[2]21-23 Campus Contract Alloctns'!Q35/SUM('[2]21-23 Campus Contract Alloctns'!$I$5:$AP$108)","v":0},{"$f":"$I$5*'[2]21-23 Campus Contract Alloctns'!R35/SUM('[2]21-23 Campus Contract Alloctns'!$I$5:$AP$108)","v":0},{"$f":"$I$5*'[2]21-23 Campus Contract Alloctns'!S35/SUM('[2]21-23 Campus Contract Alloctns'!$I$5:$AP$108)","v":9.9074627227279527E-3},{"$f":"$I$5*'[2]21-23 Campus Contract Alloctns'!T35/SUM('[2]21-23 Campus Contract Alloctns'!$I$5:$AP$108)","v":0},{"$f":"$I$5*'[2]21-23 Campus Contract Alloctns'!U35/SUM('[2]21-23 Campus Contract Alloctns'!$I$5:$AP$108)","v":0},{"$f":"$I$5*'[2]21-23 Campus Contract Alloctns'!V35/SUM('[2]21-23 Campus Contract Alloctns'!$I$5:$AP$108)","v":0},{"$f":"$I$5*'[2]21-23 Campus Contract Alloctns'!W35/SUM('[2]21-23 Campus Contract Alloctns'!$I$5:$AP$108)","v":0},{"$f":"$I$5*'[2]21-23 Campus Contract Alloctns'!X35/SUM('[2]21-23 Campus Contract Alloctns'!$I$5:$AP$108)","v":0},{"$f":"$I$5*'[2]21-23 Campus Contract Alloctns'!Y35/SUM('[2]21-23 Campus Contract Alloctns'!$I$5:$AP$108)","v":0},{"$f":"$I$5*'[2]21-23 Campus Contract Alloctns'!Z35/SUM('[2]21-23 Campus Contract Alloctns'!$I$5:$AP$108)","v":0},{"$f":"$I$5*'[2]21-23 Campus Contract Alloctns'!AA35/SUM('[2]21-23 Campus Contract Alloctns'!$I$5:$AP$108)","v":0},{"$f":"$I$5*'[2]21-23 Campus Contract Alloctns'!AB35/SUM('[2]21-23 Campus Contract Alloctns'!$I$5:$AP$108)","v":1.4770340558774476E-4},{"$f":"$I$5*'[2]21-23 Campus Contract Alloctns'!AC35/SUM('[2]21-23 Campus Contract Alloctns'!$I$5:$AP$108)","v":0},{"$f":"$I$5*'[2]21-23 Campus Contract Alloctns'!AD35/SUM('[2]21-23 Campus Contract Alloctns'!$I$5:$AP$108)","v":0},{"$f":"$I$5*'[2]21-23 Campus Contract Alloctns'!AE35/SUM('[2]21-23 Campus Contract Alloctns'!$I$5:$AP$108)","v":0},{"$f":"$I$5*'[2]21-23 Campus Contract Alloctns'!AF35/SUM('[2]21-23 Campus Contract Alloctns'!$I$5:$AP$108)","v":0},{"$f":"$I$5*'[2]21-23 Campus Contract Alloctns'!AG35/SUM('[2]21-23 Campus Contract Alloctns'!$I$5:$AP$108)","v":0},{"$f":"$I$5*'[2]21-23 Campus Contract Alloctns'!AH35/SUM('[2]21-23 Campus Contract Alloctns'!$I$5:$AP$108)","v":0},{"$f":"$I$5*'[2]21-23 Campus Contract Alloctns'!AI35/SUM('[2]21-23 Campus Contract Alloctns'!$I$5:$AP$108)","v":0},{"$f":"$I$5*'[2]21-23 Campus Contract Alloctns'!AJ35/SUM('[2]21-23 Campus Contract Alloctns'!$I$5:$AP$108)","v":0},{"$f":"$I$5*'[2]21-23 Campus Contract Alloctns'!AK35/SUM('[2]21-23 Campus Contract Alloctns'!$I$5:$AP$108)","v":0},{"$f":"$I$5*'[2]21-23 Campus Contract Alloctns'!AL35/SUM('[2]21-23 Campus Contract Alloctns'!$I$5:$AP$108)","v":0},{"$f":"$I$5*'[2]21-23 Campus Contract Alloctns'!AM35/SUM('[2]21-23 Campus Contract Alloctns'!$I$5:$AP$108)","v":0},{"$f":"$I$5*'[2]21-23 Campus Contract Alloctns'!AN35/SUM('[2]21-23 Campus Contract Alloctns'!$I$5:$AP$108)","v":0},{"$f":"$I$5*'[2]21-23 Campus Contract Alloctns'!AO35/SUM('[2]21-23 Campus Contract Alloctns'!$I$5:$AP$108)","v":0},{"$f":"$I$5*'[2]21-23 Campus Contract Alloctns'!AP35/SUM('[2]21-23 Campus Contract Alloctns'!$I$5:$AP$108)","v":0}]
[null,"107 - Washington State Health Care Authority","107","Washington State Health Care Authority",2.3790219501483807E-2,1342,2.3790219501483807E-2,0,0,{"$f":"$I$5*'[2]21-23 Campus Contract Alloctns'!I36/SUM('[2]21-23 Campus Contract Alloctns'!$I$5:$AP$108)","v":0},{"$f":"$I$5*'[2]21-23 Campus Contract Alloctns'!J36/SUM('[2]21-23 Campus Contract Alloctns'!$I$5:$AP$108)","v":0},{"$f":"$I$5*'[2]21-23 Campus Contract Alloctns'!K36/SUM('[2]21-23 Campus Contract Alloctns'!$I$5:$AP$108)","v":0},{"$f":"$I$5*'[2]21-23 Campus Contract Alloctns'!L36/SUM('[2]21-23 Campus Contract Alloctns'!$I$5:$AP$108)","v":0},{"$f":"$I$5*'[2]21-23 Campus Contract Alloctns'!M36/SUM('[2]21-23 Campus Contract Alloctns'!$I$5:$AP$108)","v":0},{"$f":"$I$5*'[2]21-23 Campus Contract Alloctns'!N36/SUM('[2]21-23 Campus Contract Alloctns'!$I$5:$AP$108)","v":0},{"$f":"$I$5*'[2]21-23 Campus Contract Alloctns'!O36/SUM('[2]21-23 Campus Contract Alloctns'!$I$5:$AP$108)","v":0},{"$f":"$I$5*'[2]21-23 Campus Contract Alloctns'!P36/SUM('[2]21-23 Campus Contract Alloctns'!$I$5:$AP$108)","v":0},{"$f":"$I$5*'[2]21-23 Campus Contract Alloctns'!Q36/SUM('[2]21-23 Campus Contract Alloctns'!$I$5:$AP$108)","v":0},{"$f":"$I$5*'[2]21-23 Campus Contract Alloctns'!R36/SUM('[2]21-23 Campus Contract Alloctns'!$I$5:$AP$108)","v":0},{"$f":"$I$5*'[2]21-23 Campus Contract Alloctns'!S36/SUM('[2]21-23 Campus Contract Alloctns'!$I$5:$AP$108)","v":0},{"$f":"$I$5*'[2]21-23 Campus Contract Alloctns'!T36/SUM('[2]21-23 Campus Contract Alloctns'!$I$5:$AP$108)","v":0},{"$f":"$I$5*'[2]21-23 Campus Contract Alloctns'!U36/SUM('[2]21-23 Campus Contract Alloctns'!$I$5:$AP$108)","v":0},{"$f":"$I$5*'[2]21-23 Campus Contract Alloctns'!V36/SUM('[2]21-23 Campus Contract Alloctns'!$I$5:$AP$108)","v":0},{"$f":"$I$5*'[2]21-23 Campus Contract Alloctns'!W36/SUM('[2]21-23 Campus Contract Alloctns'!$I$5:$AP$108)","v":0},{"$f":"$I$5*'[2]21-23 Campus Contract Alloctns'!X36/SUM('[2]21-23 Campus Contract Alloctns'!$I$5:$AP$108)","v":0},{"$f":"$I$5*'[2]21-23 Campus Contract Alloctns'!Y36/SUM('[2]21-23 Campus Contract Alloctns'!$I$5:$AP$108)","v":0},{"$f":"$I$5*'[2]21-23 Campus Contract Alloctns'!Z36/SUM('[2]21-23 Campus Contract Alloctns'!$I$5:$AP$108)","v":0},{"$f":"$I$5*'[2]21-23 Campus Contract Alloctns'!AA36/SUM('[2]21-23 Campus Contract Alloctns'!$I$5:$AP$108)","v":0},{"$f":"$I$5*'[2]21-23 Campus Contract Alloctns'!AB36/SUM('[2]21-23 Campus Contract Alloctns'!$I$5:$AP$108)","v":0},{"$f":"$I$5*'[2]21-23 Campus Contract Alloctns'!AC36/SUM('[2]21-23 Campus Contract Alloctns'!$I$5:$AP$108)","v":0},{"$f":"$I$5*'[2]21-23 Campus Contract Alloctns'!AD36/SUM('[2]21-23 Campus Contract Alloctns'!$I$5:$AP$108)","v":0},{"$f":"$I$5*'[2]21-23 Campus Contract Alloctns'!AE36/SUM('[2]21-23 Campus Contract Alloctns'!$I$5:$AP$108)","v":0},{"$f":"$I$5*'[2]21-23 Campus Contract Alloctns'!AF36/SUM('[2]21-23 Campus Contract Alloctns'!$I$5:$AP$108)","v":0},{"$f":"$I$5*'[2]21-23 Campus Contract Alloctns'!AG36/SUM('[2]21-23 Campus Contract Alloctns'!$I$5:$AP$108)","v":0},{"$f":"$I$5*'[2]21-23 Campus Contract Alloctns'!AH36/SUM('[2]21-23 Campus Contract Alloctns'!$I$5:$AP$108)","v":0},{"$f":"$I$5*'[2]21-23 Campus Contract Alloctns'!AI36/SUM('[2]21-23 Campus Contract Alloctns'!$I$5:$AP$108)","v":0},{"$f":"$I$5*'[2]21-23 Campus Contract Alloctns'!AJ36/SUM('[2]21-23 Campus Contract Alloctns'!$I$5:$AP$108)","v":0},{"$f":"$I$5*'[2]21-23 Campus Contract Alloctns'!AK36/SUM('[2]21-23 Campus Contract Alloctns'!$I$5:$AP$108)","v":0},{"$f":"$I$5*'[2]21-23 Campus Contract Alloctns'!AL36/SUM('[2]21-23 Campus Contract Alloctns'!$I$5:$AP$108)","v":0},{"$f":"$I$5*'[2]21-23 Campus Contract Alloctns'!AM36/SUM('[2]21-23 Campus Contract Alloctns'!$I$5:$AP$108)","v":0},{"$f":"$I$5*'[2]21-23 Campus Contract Alloctns'!AN36/SUM('[2]21-23 Campus Contract Alloctns'!$I$5:$AP$108)","v":0},{"$f":"$I$5*'[2]21-23 Campus Contract Alloctns'!AO36/SUM('[2]21-23 Campus Contract Alloctns'!$I$5:$AP$108)","v":0},{"$f":"$I$5*'[2]21-23 Campus Contract Alloctns'!AP36/SUM('[2]21-23 Campus Contract Alloctns'!$I$5:$AP$108)","v":0}]
[null,"110 - Office of Administrative Hearings","110","Office of Administrative Hearings",3.049935060181995E-3,66,1.1700107951549414E-3,0,1.8799242650270537E-3,{"$f":"$I$5*'[2]21-23 Campus Contract Alloctns'!I37/SUM('[2]21-23 Campus Contract Alloctns'!$I$5:$AP$108)","v":0},{"$f":"$I$5*'[2]21-23 Campus Contract Alloctns'!J37/SUM('[2]21-23 Campus Contract Alloctns'!$I$5:$AP$108)","v":0},{"$f":"$I$5*'[2]21-23 Campus Contract Alloctns'!K37/SUM('[2]21-23 Campus Contract Alloctns'!$I$5:$AP$108)","v":0},{"$f":"$I$5*'[2]21-23 Campus Contract Alloctns'!L37/SUM('[2]21-23 Campus Contract Alloctns'!$I$5:$AP$108)","v":0},{"$f":"$I$5*'[2]21-23 Campus Contract Alloctns'!M37/SUM('[2]21-23 Campus Contract Alloctns'!$I$5:$AP$108)","v":0},{"$f":"$I$5*'[2]21-23 Campus Contract Alloctns'!N37/SUM('[2]21-23 Campus Contract Alloctns'!$I$5:$AP$108)","v":0},{"$f":"$I$5*'[2]21-23 Campus Contract Alloctns'!O37/SUM('[2]21-23 Campus Contract Alloctns'!$I$5:$AP$108)","v":0},{"$f":"$I$5*'[2]21-23 Campus Contract Alloctns'!P37/SUM('[2]21-23 Campus Contract Alloctns'!$I$5:$AP$108)","v":0},{"$f":"$I$5*'[2]21-23 Campus Contract Alloctns'!Q37/SUM('[2]21-23 Campus Contract Alloctns'!$I$5:$AP$108)","v":0},{"$f":"$I$5*'[2]21-23 Campus Contract Alloctns'!R37/SUM('[2]21-23 Campus Contract Alloctns'!$I$5:$AP$108)","v":0},{"$f":"$I$5*'[2]21-23 Campus Contract Alloctns'!S37/SUM('[2]21-23 Campus Contract Alloctns'!$I$5:$AP$108)","v":0},{"$f":"$I$5*'[2]21-23 Campus Contract Alloctns'!T37/SUM('[2]21-23 Campus Contract Alloctns'!$I$5:$AP$108)","v":0},{"$f":"$I$5*'[2]21-23 Campus Contract Alloctns'!U37/SUM('[2]21-23 Campus Contract Alloctns'!$I$5:$AP$108)","v":0},{"$f":"$I$5*'[2]21-23 Campus Contract Alloctns'!V37/SUM('[2]21-23 Campus Contract Alloctns'!$I$5:$AP$108)","v":0},{"$f":"$I$5*'[2]21-23 Campus Contract Alloctns'!W37/SUM('[2]21-23 Campus Contract Alloctns'!$I$5:$AP$108)","v":0},{"$f":"$I$5*'[2]21-23 Campus Contract Alloctns'!X37/SUM('[2]21-23 Campus Contract Alloctns'!$I$5:$AP$108)","v":0},{"$f":"$I$5*'[2]21-23 Campus Contract Alloctns'!Y37/SUM('[2]21-23 Campus Contract Alloctns'!$I$5:$AP$108)","v":0},{"$f":"$I$5*'[2]21-23 Campus Contract Alloctns'!Z37/SUM('[2]21-23 Campus Contract Alloctns'!$I$5:$AP$108)","v":0},{"$f":"$I$5*'[2]21-23 Campus Contract Alloctns'!AA37/SUM('[2]21-23 Campus Contract Alloctns'!$I$5:$AP$108)","v":0},{"$f":"$I$5*'[2]21-23 Campus Contract Alloctns'!AB37/SUM('[2]21-23 Campus Contract Alloctns'!$I$5:$AP$108)","v":0},{"$f":"$I$5*'[2]21-23 Campus Contract Alloctns'!AC37/SUM('[2]21-23 Campus Contract Alloctns'!$I$5:$AP$108)","v":0},{"$f":"$I$5*'[2]21-23 Campus Contract Alloctns'!AD37/SUM('[2]21-23 Campus Contract Alloctns'!$I$5:$AP$108)","v":0},{"$f":"$I$5*'[2]21-23 Campus Contract Alloctns'!AE37/SUM('[2]21-23 Campus Contract Alloctns'!$I$5:$AP$108)","v":0},{"$f":"$I$5*'[2]21-23 Campus Contract Alloctns'!AF37/SUM('[2]21-23 Campus Contract Alloctns'!$I$5:$AP$108)","v":0},{"$f":"$I$5*'[2]21-23 Campus Contract Alloctns'!AG37/SUM('[2]21-23 Campus Contract Alloctns'!$I$5:$AP$108)","v":0},{"$f":"$I$5*'[2]21-23 Campus Contract Alloctns'!AH37/SUM('[2]21-23 Campus Contract Alloctns'!$I$5:$AP$108)","v":0},{"$f":"$I$5*'[2]21-23 Campus Contract Alloctns'!AI37/SUM('[2]21-23 Campus Contract Alloctns'!$I$5:$AP$108)","v":0},{"$f":"$I$5*'[2]21-23 Campus Contract Alloctns'!AJ37/SUM('[2]21-23 Campus Contract Alloctns'!$I$5:$AP$108)","v":0},{"$f":"$I$5*'[2]21-23 Campus Contract Alloctns'!AK37/SUM('[2]21-23 Campus Contract Alloctns'!$I$5:$AP$108)","v":0},{"$f":"$I$5*'[2]21-23 Campus Contract Alloctns'!AL37/SUM('[2]21-23 Campus Contract Alloctns'!$I$5:$AP$108)","v":0},{"$f":"$I$5*'[2]21-23 Campus Contract Alloctns'!AM37/SUM('[2]21-23 Campus Contract Alloctns'!$I$5:$AP$108)","v":0},{"$f":"$I$5*'[2]21-23 Campus Contract Alloctns'!AN37/SUM('[2]21-23 Campus Contract Alloctns'!$I$5:$AP$108)","v":1.879924265027054E-3},{"$f":"$I$5*'[2]21-23 Campus Contract Alloctns'!AO37/SUM('[2]21-23 Campus Contract Alloctns'!$I$5:$AP$108)","v":0},{"$f":"$I$5*'[2]21-23 Campus Contract Alloctns'!AP37/SUM('[2]21-23 Campus Contract Alloctns'!$I$5:$AP$108)","v":0}]
[null,"116 - State Lottery","116","State Lottery",1.2409205403158469E-3,70,1.2409205403158469E-3,0,0,{"$f":"$I$5*'[2]21-23 Campus Contract Alloctns'!I38/SUM('[2]21-23 Campus Contract Alloctns'!$I$5:$AP$108)","v":0},{"$f":"$I$5*'[2]21-23 Campus Contract Alloctns'!J38/SUM('[2]21-23 Campus Contract Alloctns'!$I$5:$AP$108)","v":0},{"$f":"$I$5*'[2]21-23 Campus Contract Alloctns'!K38/SUM('[2]21-23 Campus Contract Alloctns'!$I$5:$AP$108)","v":0},{"$f":"$I$5*'[2]21-23 Campus Contract Alloctns'!L38/SUM('[2]21-23 Campus Contract Alloctns'!$I$5:$AP$108)","v":0},{"$f":"$I$5*'[2]21-23 Campus Contract Alloctns'!M38/SUM('[2]21-23 Campus Contract Alloctns'!$I$5:$AP$108)","v":0},{"$f":"$I$5*'[2]21-23 Campus Contract Alloctns'!N38/SUM('[2]21-23 Campus Contract Alloctns'!$I$5:$AP$108)","v":0},{"$f":"$I$5*'[2]21-23 Campus Contract Alloctns'!O38/SUM('[2]21-23 Campus Contract Alloctns'!$I$5:$AP$108)","v":0},{"$f":"$I$5*'[2]21-23 Campus Contract Alloctns'!P38/SUM('[2]21-23 Campus Contract Alloctns'!$I$5:$AP$108)","v":0},{"$f":"$I$5*'[2]21-23 Campus Contract Alloctns'!Q38/SUM('[2]21-23 Campus Contract Alloctns'!$I$5:$AP$108)","v":0},{"$f":"$I$5*'[2]21-23 Campus Contract Alloctns'!R38/SUM('[2]21-23 Campus Contract Alloctns'!$I$5:$AP$108)","v":0},{"$f":"$I$5*'[2]21-23 Campus Contract Alloctns'!S38/SUM('[2]21-23 Campus Contract Alloctns'!$I$5:$AP$108)","v":0},{"$f":"$I$5*'[2]21-23 Campus Contract Alloctns'!T38/SUM('[2]21-23 Campus Contract Alloctns'!$I$5:$AP$108)","v":0},{"$f":"$I$5*'[2]21-23 Campus Contract Alloctns'!U38/SUM('[2]21-23 Campus Contract Alloctns'!$I$5:$AP$108)","v":0},{"$f":"$I$5*'[2]21-23 Campus Contract Alloctns'!V38/SUM('[2]21-23 Campus Contract Alloctns'!$I$5:$AP$108)","v":0},{"$f":"$I$5*'[2]21-23 Campus Contract Alloctns'!W38/SUM('[2]21-23 Campus Contract Alloctns'!$I$5:$AP$108)","v":0},{"$f":"$I$5*'[2]21-23 Campus Contract Alloctns'!X38/SUM('[2]21-23 Campus Contract Alloctns'!$I$5:$AP$108)","v":0},{"$f":"$I$5*'[2]21-23 Campus Contract Alloctns'!Y38/SUM('[2]21-23 Campus Contract Alloctns'!$I$5:$AP$108)","v":0},{"$f":"$I$5*'[2]21-23 Campus Contract Alloctns'!Z38/SUM('[2]21-23 Campus Contract Alloctns'!$I$5:$AP$108)","v":0},{"$f":"$I$5*'[2]21-23 Campus Contract Alloctns'!AA38/SUM('[2]21-23 Campus Contract Alloctns'!$I$5:$AP$108)","v":0},{"$f":"$I$5*'[2]21-23 Campus Contract Alloctns'!AB38/SUM('[2]21-23 Campus Contract Alloctns'!$I$5:$AP$108)","v":0},{"$f":"$I$5*'[2]21-23 Campus Contract Alloctns'!AC38/SUM('[2]21-23 Campus Contract Alloctns'!$I$5:$AP$108)","v":0},{"$f":"$I$5*'[2]21-23 Campus Contract Alloctns'!AD38/SUM('[2]21-23 Campus Contract Alloctns'!$I$5:$AP$108)","v":0},{"$f":"$I$5*'[2]21-23 Campus Contract Alloctns'!AE38/SUM('[2]21-23 Campus Contract Alloctns'!$I$5:$AP$108)","v":0},{"$f":"$I$5*'[2]21-23 Campus Contract Alloctns'!AF38/SUM('[2]21-23 Campus Contract Alloctns'!$I$5:$AP$108)","v":0},{"$f":"$I$5*'[2]21-23 Campus Contract Alloctns'!AG38/SUM('[2]21-23 Campus Contract Alloctns'!$I$5:$AP$108)","v":0},{"$f":"$I$5*'[2]21-23 Campus Contract Alloctns'!AH38/SUM('[2]21-23 Campus Contract Alloctns'!$I$5:$AP$108)","v":0},{"$f":"$I$5*'[2]21-23 Campus Contract Alloctns'!AI38/SUM('[2]21-23 Campus Contract Alloctns'!$I$5:$AP$108)","v":0},{"$f":"$I$5*'[2]21-23 Campus Contract Alloctns'!AJ38/SUM('[2]21-23 Campus Contract Alloctns'!$I$5:$AP$108)","v":0},{"$f":"$I$5*'[2]21-23 Campus Contract Alloctns'!AK38/SUM('[2]21-23 Campus Contract Alloctns'!$I$5:$AP$108)","v":0},{"$f":"$I$5*'[2]21-23 Campus Contract Alloctns'!AL38/SUM('[2]21-23 Campus Contract Alloctns'!$I$5:$AP$108)","v":0},{"$f":"$I$5*'[2]21-23 Campus Contract Alloctns'!AM38/SUM('[2]21-23 Campus Contract Alloctns'!$I$5:$AP$108)","v":0},{"$f":"$I$5*'[2]21-23 Campus Contract Alloctns'!AN38/SUM('[2]21-23 Campus Contract Alloctns'!$I$5:$AP$108)","v":0},{"$f":"$I$5*'[2]21-23 Campus Contract Alloctns'!AO38/SUM('[2]21-23 Campus Contract Alloctns'!$I$5:$AP$108)","v":0},{"$f":"$I$5*'[2]21-23 Campus Contract Alloctns'!AP38/SUM('[2]21-23 Campus Contract Alloctns'!$I$5:$AP$108)","v":0}]
[null,"117 - Washington State Gambling Commission","117","Washington State Gambling Commission",1.0104638685429039E-3,57,1.0104638685429039E-3,0,0,{"$f":"$I$5*'[2]21-23 Campus Contract Alloctns'!I39/SUM('[2]21-23 Campus Contract Alloctns'!$I$5:$AP$108)","v":0},{"$f":"$I$5*'[2]21-23 Campus Contract Alloctns'!J39/SUM('[2]21-23 Campus Contract Alloctns'!$I$5:$AP$108)","v":0},{"$f":"$I$5*'[2]21-23 Campus Contract Alloctns'!K39/SUM('[2]21-23 Campus Contract Alloctns'!$I$5:$AP$108)","v":0},{"$f":"$I$5*'[2]21-23 Campus Contract Alloctns'!L39/SUM('[2]21-23 Campus Contract Alloctns'!$I$5:$AP$108)","v":0},{"$f":"$I$5*'[2]21-23 Campus Contract Alloctns'!M39/SUM('[2]21-23 Campus Contract Alloctns'!$I$5:$AP$108)","v":0},{"$f":"$I$5*'[2]21-23 Campus Contract Alloctns'!N39/SUM('[2]21-23 Campus Contract Alloctns'!$I$5:$AP$108)","v":0},{"$f":"$I$5*'[2]21-23 Campus Contract Alloctns'!O39/SUM('[2]21-23 Campus Contract Alloctns'!$I$5:$AP$108)","v":0},{"$f":"$I$5*'[2]21-23 Campus Contract Alloctns'!P39/SUM('[2]21-23 Campus Contract Alloctns'!$I$5:$AP$108)","v":0},{"$f":"$I$5*'[2]21-23 Campus Contract Alloctns'!Q39/SUM('[2]21-23 Campus Contract Alloctns'!$I$5:$AP$108)","v":0},{"$f":"$I$5*'[2]21-23 Campus Contract Alloctns'!R39/SUM('[2]21-23 Campus Contract Alloctns'!$I$5:$AP$108)","v":0},{"$f":"$I$5*'[2]21-23 Campus Contract Alloctns'!S39/SUM('[2]21-23 Campus Contract Alloctns'!$I$5:$AP$108)","v":0},{"$f":"$I$5*'[2]21-23 Campus Contract Alloctns'!T39/SUM('[2]21-23 Campus Contract Alloctns'!$I$5:$AP$108)","v":0},{"$f":"$I$5*'[2]21-23 Campus Contract Alloctns'!U39/SUM('[2]21-23 Campus Contract Alloctns'!$I$5:$AP$108)","v":0},{"$f":"$I$5*'[2]21-23 Campus Contract Alloctns'!V39/SUM('[2]21-23 Campus Contract Alloctns'!$I$5:$AP$108)","v":0},{"$f":"$I$5*'[2]21-23 Campus Contract Alloctns'!W39/SUM('[2]21-23 Campus Contract Alloctns'!$I$5:$AP$108)","v":0},{"$f":"$I$5*'[2]21-23 Campus Contract Alloctns'!X39/SUM('[2]21-23 Campus Contract Alloctns'!$I$5:$AP$108)","v":0},{"$f":"$I$5*'[2]21-23 Campus Contract Alloctns'!Y39/SUM('[2]21-23 Campus Contract Alloctns'!$I$5:$AP$108)","v":0},{"$f":"$I$5*'[2]21-23 Campus Contract Alloctns'!Z39/SUM('[2]21-23 Campus Contract Alloctns'!$I$5:$AP$108)","v":0},{"$f":"$I$5*'[2]21-23 Campus Contract Alloctns'!AA39/SUM('[2]21-23 Campus Contract Alloctns'!$I$5:$AP$108)","v":0},{"$f":"$I$5*'[2]21-23 Campus Contract Alloctns'!AB39/SUM('[2]21-23 Campus Contract Alloctns'!$I$5:$AP$108)","v":0},{"$f":"$I$5*'[2]21-23 Campus Contract Alloctns'!AC39/SUM('[2]21-23 Campus Contract Alloctns'!$I$5:$AP$108)","v":0},{"$f":"$I$5*'[2]21-23 Campus Contract Alloctns'!AD39/SUM('[2]21-23 Campus Contract Alloctns'!$I$5:$AP$108)","v":0},{"$f":"$I$5*'[2]21-23 Campus Contract Alloctns'!AE39/SUM('[2]21-23 Campus Contract Alloctns'!$I$5:$AP$108)","v":0},{"$f":"$I$5*'[2]21-23 Campus Contract Alloctns'!AF39/SUM('[2]21-23 Campus Contract Alloctns'!$I$5:$AP$108)","v":0},{"$f":"$I$5*'[2]21-23 Campus Contract Alloctns'!AG39/SUM('[2]21-23 Campus Contract Alloctns'!$I$5:$AP$108)","v":0},{"$f":"$I$5*'[2]21-23 Campus Contract Alloctns'!AH39/SUM('[2]21-23 Campus Contract Alloctns'!$I$5:$AP$108)","v":0},{"$f":"$I$5*'[2]21-23 Campus Contract Alloctns'!AI39/SUM('[2]21-23 Campus Contract Alloctns'!$I$5:$AP$108)","v":0},{"$f":"$I$5*'[2]21-23 Campus Contract Alloctns'!AJ39/SUM('[2]21-23 Campus Contract Alloctns'!$I$5:$AP$108)","v":0},{"$f":"$I$5*'[2]21-23 Campus Contract Alloctns'!AK39/SUM('[2]21-23 Campus Contract Alloctns'!$I$5:$AP$108)","v":0},{"$f":"$I$5*'[2]21-23 Campus Contract Alloctns'!AL39/SUM('[2]21-23 Campus Contract Alloctns'!$I$5:$AP$108)","v":0},{"$f":"$I$5*'[2]21-23 Campus Contract Alloctns'!AM39/SUM('[2]21-23 Campus Contract Alloctns'!$I$5:$AP$108)","v":0},{"$f":"$I$5*'[2]21-23 Campus Contract Alloctns'!AN39/SUM('[2]21-23 Campus Contract Alloctns'!$I$5:$AP$108)","v":0},{"$f":"$I$5*'[2]21-23 Campus Contract Alloctns'!AO39/SUM('[2]21-23 Campus Contract Alloctns'!$I$5:$AP$108)","v":0},{"$f":"$I$5*'[2]21-23 Campus Contract Alloctns'!AP39/SUM('[2]21-23 Campus Contract Alloctns'!$I$5:$AP$108)","v":0}]
[null,"118 - Commission on Hispanic Affairs","118","Commission on Hispanic Affairs",2.3554001848759433E-4,3,5.3182308870679155E-5,0,1.8235770961691519E-4,{"$f":"$I$5*'[2]21-23 Campus Contract Alloctns'!I40/SUM('[2]21-23 Campus Contract Alloctns'!$I$5:$AP$108)","v":0},{"$f":"$I$5*'[2]21-23 Campus Contract Alloctns'!J40/SUM('[2]21-23 Campus Contract Alloctns'!$I$5:$AP$108)","v":0},{"$f":"$I$5*'[2]21-23 Campus Contract Alloctns'!K40/SUM('[2]21-23 Campus Contract Alloctns'!$I$5:$AP$108)","v":0},{"$f":"$I$5*'[2]21-23 Campus Contract Alloctns'!L40/SUM('[2]21-23 Campus Contract Alloctns'!$I$5:$AP$108)","v":0},{"$f":"$I$5*'[2]21-23 Campus Contract Alloctns'!M40/SUM('[2]21-23 Campus Contract Alloctns'!$I$5:$AP$108)","v":0},{"$f":"$I$5*'[2]21-23 Campus Contract Alloctns'!N40/SUM('[2]21-23 Campus Contract Alloctns'!$I$5:$AP$108)","v":0},{"$f":"$I$5*'[2]21-23 Campus Contract Alloctns'!O40/SUM('[2]21-23 Campus Contract Alloctns'!$I$5:$AP$108)","v":0},{"$f":"$I$5*'[2]21-23 Campus Contract Alloctns'!P40/SUM('[2]21-23 Campus Contract Alloctns'!$I$5:$AP$108)","v":0},{"$f":"$I$5*'[2]21-23 Campus Contract Alloctns'!Q40/SUM('[2]21-23 Campus Contract Alloctns'!$I$5:$AP$108)","v":0},{"$f":"$I$5*'[2]21-23 Campus Contract Alloctns'!R40/SUM('[2]21-23 Campus Contract Alloctns'!$I$5:$AP$108)","v":0},{"$f":"$I$5*'[2]21-23 Campus Contract Alloctns'!S40/SUM('[2]21-23 Campus Contract Alloctns'!$I$5:$AP$108)","v":0},{"$f":"$I$5*'[2]21-23 Campus Contract Alloctns'!T40/SUM('[2]21-23 Campus Contract Alloctns'!$I$5:$AP$108)","v":0},{"$f":"$I$5*'[2]21-23 Campus Contract Alloctns'!U40/SUM('[2]21-23 Campus Contract Alloctns'!$I$5:$AP$108)","v":0},{"$f":"$I$5*'[2]21-23 Campus Contract Alloctns'!V40/SUM('[2]21-23 Campus Contract Alloctns'!$I$5:$AP$108)","v":0},{"$f":"$I$5*'[2]21-23 Campus Contract Alloctns'!W40/SUM('[2]21-23 Campus Contract Alloctns'!$I$5:$AP$108)","v":0},{"$f":"$I$5*'[2]21-23 Campus Contract Alloctns'!X40/SUM('[2]21-23 Campus Contract Alloctns'!$I$5:$AP$108)","v":0},{"$f":"$I$5*'[2]21-23 Campus Contract Alloctns'!Y40/SUM('[2]21-23 Campus Contract Alloctns'!$I$5:$AP$108)","v":0},{"$f":"$I$5*'[2]21-23 Campus Contract Alloctns'!Z40/SUM('[2]21-23 Campus Contract Alloctns'!$I$5:$AP$108)","v":0},{"$f":"$I$5*'[2]21-23 Campus Contract Alloctns'!AA40/SUM('[2]21-23 Campus Contract Alloctns'!$I$5:$AP$108)","v":0},{"$f":"$I$5*'[2]21-23 Campus Contract Alloctns'!AB40/SUM('[2]21-23 Campus Contract Alloctns'!$I$5:$AP$108)","v":1.8235770961691521E-4},{"$f":"$I$5*'[2]21-23 Campus Contract Alloctns'!AC40/SUM('[2]21-23 Campus Contract Alloctns'!$I$5:$AP$108)","v":0},{"$f":"$I$5*'[2]21-23 Campus Contract Alloctns'!AD40/SUM('[2]21-23 Campus Contract Alloctns'!$I$5:$AP$108)","v":0},{"$f":"$I$5*'[2]21-23 Campus Contract Alloctns'!AE40/SUM('[2]21-23 Campus Contract Alloctns'!$I$5:$AP$108)","v":0},{"$f":"$I$5*'[2]21-23 Campus Contract Alloctns'!AF40/SUM('[2]21-23 Campus Contract Alloctns'!$I$5:$AP$108)","v":0},{"$f":"$I$5*'[2]21-23 Campus Contract Alloctns'!AG40/SUM('[2]21-23 Campus Contract Alloctns'!$I$5:$AP$108)","v":0},{"$f":"$I$5*'[2]21-23 Campus Contract Alloctns'!AH40/SUM('[2]21-23 Campus Contract Alloctns'!$I$5:$AP$108)","v":0},{"$f":"$I$5*'[2]21-23 Campus Contract Alloctns'!AI40/SUM('[2]21-23 Campus Contract Alloctns'!$I$5:$AP$108)","v":0},{"$f":"$I$5*'[2]21-23 Campus Contract Alloctns'!AJ40/SUM('[2]21-23 Campus Contract Alloctns'!$I$5:$AP$108)","v":0},{"$f":"$I$5*'[2]21-23 Campus Contract Alloctns'!AK40/SUM('[2]21-23 Campus Contract Alloctns'!$I$5:$AP$108)","v":0},{"$f":"$I$5*'[2]21-23 Campus Contract Alloctns'!AL40/SUM('[2]21-23 Campus Contract Alloctns'!$I$5:$AP$108)","v":0},{"$f":"$I$5*'[2]21-23 Campus Contract Alloctns'!AM40/SUM('[2]21-23 Campus Contract Alloctns'!$I$5:$AP$108)","v":0},{"$f":"$I$5*'[2]21-23 Campus Contract Alloctns'!AN40/SUM('[2]21-23 Campus Contract Alloctns'!$I$5:$AP$108)","v":0},{"$f":"$I$5*'[2]21-23 Campus Contract Alloctns'!AO40/SUM('[2]21-23 Campus Contract Alloctns'!$I$5:$AP$108)","v":0},{"$f":"$I$5*'[2]21-23 Campus Contract Alloctns'!AP40/SUM('[2]21-23 Campus Contract Alloctns'!$I$5:$AP$108)","v":0}]
[null,"119 - Commission on African-American Affairs","119","Commission on African-American Affairs",2.1781258219736796E-4,2,3.5454872580452768E-5,0,1.8235770961691519E-4,{"$f":"$I$5*'[2]21-23 Campus Contract Alloctns'!I41/SUM('[2]21-23 Campus Contract Alloctns'!$I$5:$AP$108)","v":0},{"$f":"$I$5*'[2]21-23 Campus Contract Alloctns'!J41/SUM('[2]21-23 Campus Contract Alloctns'!$I$5:$AP$108)","v":0},{"$f":"$I$5*'[2]21-23 Campus Contract Alloctns'!K41/SUM('[2]21-23 Campus Contract Alloctns'!$I$5:$AP$108)","v":0},{"$f":"$I$5*'[2]21-23 Campus Contract Alloctns'!L41/SUM('[2]21-23 Campus Contract Alloctns'!$I$5:$AP$108)","v":0},{"$f":"$I$5*'[2]21-23 Campus Contract Alloctns'!M41/SUM('[2]21-23 Campus Contract Alloctns'!$I$5:$AP$108)","v":0},{"$f":"$I$5*'[2]21-23 Campus Contract Alloctns'!N41/SUM('[2]21-23 Campus Contract Alloctns'!$I$5:$AP$108)","v":0},{"$f":"$I$5*'[2]21-23 Campus Contract Alloctns'!O41/SUM('[2]21-23 Campus Contract Alloctns'!$I$5:$AP$108)","v":0},{"$f":"$I$5*'[2]21-23 Campus Contract Alloctns'!P41/SUM('[2]21-23 Campus Contract Alloctns'!$I$5:$AP$108)","v":0},{"$f":"$I$5*'[2]21-23 Campus Contract Alloctns'!Q41/SUM('[2]21-23 Campus Contract Alloctns'!$I$5:$AP$108)","v":0},{"$f":"$I$5*'[2]21-23 Campus Contract Alloctns'!R41/SUM('[2]21-23 Campus Contract Alloctns'!$I$5:$AP$108)","v":0},{"$f":"$I$5*'[2]21-23 Campus Contract Alloctns'!S41/SUM('[2]21-23 Campus Contract Alloctns'!$I$5:$AP$108)","v":0},{"$f":"$I$5*'[2]21-23 Campus Contract Alloctns'!T41/SUM('[2]21-23 Campus Contract Alloctns'!$I$5:$AP$108)","v":0},{"$f":"$I$5*'[2]21-23 Campus Contract Alloctns'!U41/SUM('[2]21-23 Campus Contract Alloctns'!$I$5:$AP$108)","v":0},{"$f":"$I$5*'[2]21-23 Campus Contract Alloctns'!V41/SUM('[2]21-23 Campus Contract Alloctns'!$I$5:$AP$108)","v":0},{"$f":"$I$5*'[2]21-23 Campus Contract Alloctns'!W41/SUM('[2]21-23 Campus Contract Alloctns'!$I$5:$AP$108)","v":0},{"$f":"$I$5*'[2]21-23 Campus Contract Alloctns'!X41/SUM('[2]21-23 Campus Contract Alloctns'!$I$5:$AP$108)","v":0},{"$f":"$I$5*'[2]21-23 Campus Contract Alloctns'!Y41/SUM('[2]21-23 Campus Contract Alloctns'!$I$5:$AP$108)","v":0},{"$f":"$I$5*'[2]21-23 Campus Contract Alloctns'!Z41/SUM('[2]21-23 Campus Contract Alloctns'!$I$5:$AP$108)","v":0},{"$f":"$I$5*'[2]21-23 Campus Contract Alloctns'!AA41/SUM('[2]21-23 Campus Contract Alloctns'!$I$5:$AP$108)","v":0},{"$f":"$I$5*'[2]21-23 Campus Contract Alloctns'!AB41/SUM('[2]21-23 Campus Contract Alloctns'!$I$5:$AP$108)","v":1.8235770961691521E-4},{"$f":"$I$5*'[2]21-23 Campus Contract Alloctns'!AC41/SUM('[2]21-23 Campus Contract Alloctns'!$I$5:$AP$108)","v":0},{"$f":"$I$5*'[2]21-23 Campus Contract Alloctns'!AD41/SUM('[2]21-23 Campus Contract Alloctns'!$I$5:$AP$108)","v":0},{"$f":"$I$5*'[2]21-23 Campus Contract Alloctns'!AE41/SUM('[2]21-23 Campus Contract Alloctns'!$I$5:$AP$108)","v":0},{"$f":"$I$5*'[2]21-23 Campus Contract Alloctns'!AF41/SUM('[2]21-23 Campus Contract Alloctns'!$I$5:$AP$108)","v":0},{"$f":"$I$5*'[2]21-23 Campus Contract Alloctns'!AG41/SUM('[2]21-23 Campus Contract Alloctns'!$I$5:$AP$108)","v":0},{"$f":"$I$5*'[2]21-23 Campus Contract Alloctns'!AH41/SUM('[2]21-23 Campus Contract Alloctns'!$I$5:$AP$108)","v":0},{"$f":"$I$5*'[2]21-23 Campus Contract Alloctns'!AI41/SUM('[2]21-23 Campus Contract Alloctns'!$I$5:$AP$108)","v":0},{"$f":"$I$5*'[2]21-23 Campus Contract Alloctns'!AJ41/SUM('[2]21-23 Campus Contract Alloctns'!$I$5:$AP$108)","v":0},{"$f":"$I$5*'[2]21-23 Campus Contract Alloctns'!AK41/SUM('[2]21-23 Campus Contract Alloctns'!$I$5:$AP$108)","v":0},{"$f":"$I$5*'[2]21-23 Campus Contract Alloctns'!AL41/SUM('[2]21-23 Campus Contract Alloctns'!$I$5:$AP$108)","v":0},{"$f":"$I$5*'[2]21-23 Campus Contract Alloctns'!AM41/SUM('[2]21-23 Campus Contract Alloctns'!$I$5:$AP$108)","v":0},{"$f":"$I$5*'[2]21-23 Campus Contract Alloctns'!AN41/SUM('[2]21-23 Campus Contract Alloctns'!$I$5:$AP$108)","v":0},{"$f":"$I$5*'[2]21-23 Campus Contract Alloctns'!AO41/SUM('[2]21-23 Campus Contract Alloctns'!$I$5:$AP$108)","v":0},{"$f":"$I$5*'[2]21-23 Campus Contract Alloctns'!AP41/SUM('[2]21-23 Campus Contract Alloctns'!$I$5:$AP$108)","v":0}]
[null,"120 - Human Rights Commission","120","Human Rights Commission",2.30456671772943E-4,13,2.30456671772943E-4,0,0,{"$f":"$I$5*'[2]21-23 Campus Contract Alloctns'!I42/SUM('[2]21-23 Campus Contract Alloctns'!$I$5:$AP$108)","v":0},{"$f":"$I$5*'[2]21-23 Campus Contract Alloctns'!J42/SUM('[2]21-23 Campus Contract Alloctns'!$I$5:$AP$108)","v":0},{"$f":"$I$5*'[2]21-23 Campus Contract Alloctns'!K42/SUM('[2]21-23 Campus Contract Alloctns'!$I$5:$AP$108)","v":0},{"$f":"$I$5*'[2]21-23 Campus Contract Alloctns'!L42/SUM('[2]21-23 Campus Contract Alloctns'!$I$5:$AP$108)","v":0},{"$f":"$I$5*'[2]21-23 Campus Contract Alloctns'!M42/SUM('[2]21-23 Campus Contract Alloctns'!$I$5:$AP$108)","v":0},{"$f":"$I$5*'[2]21-23 Campus Contract Alloctns'!N42/SUM('[2]21-23 Campus Contract Alloctns'!$I$5:$AP$108)","v":0},{"$f":"$I$5*'[2]21-23 Campus Contract Alloctns'!O42/SUM('[2]21-23 Campus Contract Alloctns'!$I$5:$AP$108)","v":0},{"$f":"$I$5*'[2]21-23 Campus Contract Alloctns'!P42/SUM('[2]21-23 Campus Contract Alloctns'!$I$5:$AP$108)","v":0},{"$f":"$I$5*'[2]21-23 Campus Contract Alloctns'!Q42/SUM('[2]21-23 Campus Contract Alloctns'!$I$5:$AP$108)","v":0},{"$f":"$I$5*'[2]21-23 Campus Contract Alloctns'!R42/SUM('[2]21-23 Campus Contract Alloctns'!$I$5:$AP$108)","v":0},{"$f":"$I$5*'[2]21-23 Campus Contract Alloctns'!S42/SUM('[2]21-23 Campus Contract Alloctns'!$I$5:$AP$108)","v":0},{"$f":"$I$5*'[2]21-23 Campus Contract Alloctns'!T42/SUM('[2]21-23 Campus Contract Alloctns'!$I$5:$AP$108)","v":0},{"$f":"$I$5*'[2]21-23 Campus Contract Alloctns'!U42/SUM('[2]21-23 Campus Contract Alloctns'!$I$5:$AP$108)","v":0},{"$f":"$I$5*'[2]21-23 Campus Contract Alloctns'!V42/SUM('[2]21-23 Campus Contract Alloctns'!$I$5:$AP$108)","v":0},{"$f":"$I$5*'[2]21-23 Campus Contract Alloctns'!W42/SUM('[2]21-23 Campus Contract Alloctns'!$I$5:$AP$108)","v":0},{"$f":"$I$5*'[2]21-23 Campus Contract Alloctns'!X42/SUM('[2]21-23 Campus Contract Alloctns'!$I$5:$AP$108)","v":0},{"$f":"$I$5*'[2]21-23 Campus Contract Alloctns'!Y42/SUM('[2]21-23 Campus Contract Alloctns'!$I$5:$AP$108)","v":0},{"$f":"$I$5*'[2]21-23 Campus Contract Alloctns'!Z42/SUM('[2]21-23 Campus Contract Alloctns'!$I$5:$AP$108)","v":0},{"$f":"$I$5*'[2]21-23 Campus Contract Alloctns'!AA42/SUM('[2]21-23 Campus Contract Alloctns'!$I$5:$AP$108)","v":0},{"$f":"$I$5*'[2]21-23 Campus Contract Alloctns'!AB42/SUM('[2]21-23 Campus Contract Alloctns'!$I$5:$AP$108)","v":0},{"$f":"$I$5*'[2]21-23 Campus Contract Alloctns'!AC42/SUM('[2]21-23 Campus Contract Alloctns'!$I$5:$AP$108)","v":0},{"$f":"$I$5*'[2]21-23 Campus Contract Alloctns'!AD42/SUM('[2]21-23 Campus Contract Alloctns'!$I$5:$AP$108)","v":0},{"$f":"$I$5*'[2]21-23 Campus Contract Alloctns'!AE42/SUM('[2]21-23 Campus Contract Alloctns'!$I$5:$AP$108)","v":0},{"$f":"$I$5*'[2]21-23 Campus Contract Alloctns'!AF42/SUM('[2]21-23 Campus Contract Alloctns'!$I$5:$AP$108)","v":0},{"$f":"$I$5*'[2]21-23 Campus Contract Alloctns'!AG42/SUM('[2]21-23 Campus Contract Alloctns'!$I$5:$AP$108)","v":0},{"$f":"$I$5*'[2]21-23 Campus Contract Alloctns'!AH42/SUM('[2]21-23 Campus Contract Alloctns'!$I$5:$AP$108)","v":0},{"$f":"$I$5*'[2]21-23 Campus Contract Alloctns'!AI42/SUM('[2]21-23 Campus Contract Alloctns'!$I$5:$AP$108)","v":0},{"$f":"$I$5*'[2]21-23 Campus Contract Alloctns'!AJ42/SUM('[2]21-23 Campus Contract Alloctns'!$I$5:$AP$108)","v":0},{"$f":"$I$5*'[2]21-23 Campus Contract Alloctns'!AK42/SUM('[2]21-23 Campus Contract Alloctns'!$I$5:$AP$108)","v":0},{"$f":"$I$5*'[2]21-23 Campus Contract Alloctns'!AL42/SUM('[2]21-23 Campus Contract Alloctns'!$I$5:$AP$108)","v":0},{"$f":"$I$5*'[2]21-23 Campus Contract Alloctns'!AM42/SUM('[2]21-23 Campus Contract Alloctns'!$I$5:$AP$108)","v":0},{"$f":"$I$5*'[2]21-23 Campus Contract Alloctns'!AN42/SUM('[2]21-23 Campus Contract Alloctns'!$I$5:$AP$108)","v":0},{"$f":"$I$5*'[2]21-23 Campus Contract Alloctns'!AO42/SUM('[2]21-23 Campus Contract Alloctns'!$I$5:$AP$108)","v":0},{"$f":"$I$5*'[2]21-23 Campus Contract Alloctns'!AP42/SUM('[2]21-23 Campus Contract Alloctns'!$I$5:$AP$108)","v":0}]
[null,"124 - Department of Retirement Systems","124","Department of Retirement Systems",4.750952925780671E-3,268,4.750952925780671E-3,0,0,{"$f":"$I$5*'[2]21-23 Campus Contract Alloctns'!I43/SUM('[2]21-23 Campus Contract Alloctns'!$I$5:$AP$108)","v":0},{"$f":"$I$5*'[2]21-23 Campus Contract Alloctns'!J43/SUM('[2]21-23 Campus Contract Alloctns'!$I$5:$AP$108)","v":0},{"$f":"$I$5*'[2]21-23 Campus Contract Alloctns'!K43/SUM('[2]21-23 Campus Contract Alloctns'!$I$5:$AP$108)","v":0},{"$f":"$I$5*'[2]21-23 Campus Contract Alloctns'!L43/SUM('[2]21-23 Campus Contract Alloctns'!$I$5:$AP$108)","v":0},{"$f":"$I$5*'[2]21-23 Campus Contract Alloctns'!M43/SUM('[2]21-23 Campus Contract Alloctns'!$I$5:$AP$108)","v":0},{"$f":"$I$5*'[2]21-23 Campus Contract Alloctns'!N43/SUM('[2]21-23 Campus Contract Alloctns'!$I$5:$AP$108)","v":0},{"$f":"$I$5*'[2]21-23 Campus Contract Alloctns'!O43/SUM('[2]21-23 Campus Contract Alloctns'!$I$5:$AP$108)","v":0},{"$f":"$I$5*'[2]21-23 Campus Contract Alloctns'!P43/SUM('[2]21-23 Campus Contract Alloctns'!$I$5:$AP$108)","v":0},{"$f":"$I$5*'[2]21-23 Campus Contract Alloctns'!Q43/SUM('[2]21-23 Campus Contract Alloctns'!$I$5:$AP$108)","v":0},{"$f":"$I$5*'[2]21-23 Campus Contract Alloctns'!R43/SUM('[2]21-23 Campus Contract Alloctns'!$I$5:$AP$108)","v":0},{"$f":"$I$5*'[2]21-23 Campus Contract Alloctns'!S43/SUM('[2]21-23 Campus Contract Alloctns'!$I$5:$AP$108)","v":0},{"$f":"$I$5*'[2]21-23 Campus Contract Alloctns'!T43/SUM('[2]21-23 Campus Contract Alloctns'!$I$5:$AP$108)","v":0},{"$f":"$I$5*'[2]21-23 Campus Contract Alloctns'!U43/SUM('[2]21-23 Campus Contract Alloctns'!$I$5:$AP$108)","v":0},{"$f":"$I$5*'[2]21-23 Campus Contract Alloctns'!V43/SUM('[2]21-23 Campus Contract Alloctns'!$I$5:$AP$108)","v":0},{"$f":"$I$5*'[2]21-23 Campus Contract Alloctns'!W43/SUM('[2]21-23 Campus Contract Alloctns'!$I$5:$AP$108)","v":0},{"$f":"$I$5*'[2]21-23 Campus Contract Alloctns'!X43/SUM('[2]21-23 Campus Contract Alloctns'!$I$5:$AP$108)","v":0},{"$f":"$I$5*'[2]21-23 Campus Contract Alloctns'!Y43/SUM('[2]21-23 Campus Contract Alloctns'!$I$5:$AP$108)","v":0},{"$f":"$I$5*'[2]21-23 Campus Contract Alloctns'!Z43/SUM('[2]21-23 Campus Contract Alloctns'!$I$5:$AP$108)","v":0},{"$f":"$I$5*'[2]21-23 Campus Contract Alloctns'!AA43/SUM('[2]21-23 Campus Contract Alloctns'!$I$5:$AP$108)","v":0},{"$f":"$I$5*'[2]21-23 Campus Contract Alloctns'!AB43/SUM('[2]21-23 Campus Contract Alloctns'!$I$5:$AP$108)","v":0},{"$f":"$I$5*'[2]21-23 Campus Contract Alloctns'!AC43/SUM('[2]21-23 Campus Contract Alloctns'!$I$5:$AP$108)","v":0},{"$f":"$I$5*'[2]21-23 Campus Contract Alloctns'!AD43/SUM('[2]21-23 Campus Contract Alloctns'!$I$5:$AP$108)","v":0},{"$f":"$I$5*'[2]21-23 Campus Contract Alloctns'!AE43/SUM('[2]21-23 Campus Contract Alloctns'!$I$5:$AP$108)","v":0},{"$f":"$I$5*'[2]21-23 Campus Contract Alloctns'!AF43/SUM('[2]21-23 Campus Contract Alloctns'!$I$5:$AP$108)","v":0},{"$f":"$I$5*'[2]21-23 Campus Contract Alloctns'!AG43/SUM('[2]21-23 Campus Contract Alloctns'!$I$5:$AP$108)","v":0},{"$f":"$I$5*'[2]21-23 Campus Contract Alloctns'!AH43/SUM('[2]21-23 Campus Contract Alloctns'!$I$5:$AP$108)","v":0},{"$f":"$I$5*'[2]21-23 Campus Contract Alloctns'!AI43/SUM('[2]21-23 Campus Contract Alloctns'!$I$5:$AP$108)","v":0},{"$f":"$I$5*'[2]21-23 Campus Contract Alloctns'!AJ43/SUM('[2]21-23 Campus Contract Alloctns'!$I$5:$AP$108)","v":0},{"$f":"$I$5*'[2]21-23 Campus Contract Alloctns'!AK43/SUM('[2]21-23 Campus Contract Alloctns'!$I$5:$AP$108)","v":0},{"$f":"$I$5*'[2]21-23 Campus Contract Alloctns'!AL43/SUM('[2]21-23 Campus Contract Alloctns'!$I$5:$AP$108)","v":0},{"$f":"$I$5*'[2]21-23 Campus Contract Alloctns'!AM43/SUM('[2]21-23 Campus Contract Alloctns'!$I$5:$AP$108)","v":0},{"$f":"$I$5*'[2]21-23 Campus Contract Alloctns'!AN43/SUM('[2]21-23 Campus Contract Alloctns'!$I$5:$AP$108)","v":0},{"$f":"$I$5*'[2]21-23 Campus Contract Alloctns'!AO43/SUM('[2]21-23 Campus Contract Alloctns'!$I$5:$AP$108)","v":0},{"$f":"$I$5*'[2]21-23 Campus Contract Alloctns'!AP43/SUM('[2]21-23 Campus Contract Alloctns'!$I$5:$AP$108)","v":0}]
[null,"126 - State Investment Board","126","State Investment Board",1.5777418298301483E-3,89,1.5777418298301483E-3,0,0,{"$f":"$I$5*'[2]21-23 Campus Contract Alloctns'!I44/SUM('[2]21-23 Campus Contract Alloctns'!$I$5:$AP$108)","v":0},{"$f":"$I$5*'[2]21-23 Campus Contract Alloctns'!J44/SUM('[2]21-23 Campus Contract Alloctns'!$I$5:$AP$108)","v":0},{"$f":"$I$5*'[2]21-23 Campus Contract Alloctns'!K44/SUM('[2]21-23 Campus Contract Alloctns'!$I$5:$AP$108)","v":0},{"$f":"$I$5*'[2]21-23 Campus Contract Alloctns'!L44/SUM('[2]21-23 Campus Contract Alloctns'!$I$5:$AP$108)","v":0},{"$f":"$I$5*'[2]21-23 Campus Contract Alloctns'!M44/SUM('[2]21-23 Campus Contract Alloctns'!$I$5:$AP$108)","v":0},{"$f":"$I$5*'[2]21-23 Campus Contract Alloctns'!N44/SUM('[2]21-23 Campus Contract Alloctns'!$I$5:$AP$108)","v":0},{"$f":"$I$5*'[2]21-23 Campus Contract Alloctns'!O44/SUM('[2]21-23 Campus Contract Alloctns'!$I$5:$AP$108)","v":0},{"$f":"$I$5*'[2]21-23 Campus Contract Alloctns'!P44/SUM('[2]21-23 Campus Contract Alloctns'!$I$5:$AP$108)","v":0},{"$f":"$I$5*'[2]21-23 Campus Contract Alloctns'!Q44/SUM('[2]21-23 Campus Contract Alloctns'!$I$5:$AP$108)","v":0},{"$f":"$I$5*'[2]21-23 Campus Contract Alloctns'!R44/SUM('[2]21-23 Campus Contract Alloctns'!$I$5:$AP$108)","v":0},{"$f":"$I$5*'[2]21-23 Campus Contract Alloctns'!S44/SUM('[2]21-23 Campus Contract Alloctns'!$I$5:$AP$108)","v":0},{"$f":"$I$5*'[2]21-23 Campus Contract Alloctns'!T44/SUM('[2]21-23 Campus Contract Alloctns'!$I$5:$AP$108)","v":0},{"$f":"$I$5*'[2]21-23 Campus Contract Alloctns'!U44/SUM('[2]21-23 Campus Contract Alloctns'!$I$5:$AP$108)","v":0},{"$f":"$I$5*'[2]21-23 Campus Contract Alloctns'!V44/SUM('[2]21-23 Campus Contract Alloctns'!$I$5:$AP$108)","v":0},{"$f":"$I$5*'[2]21-23 Campus Contract Alloctns'!W44/SUM('[2]21-23 Campus Contract Alloctns'!$I$5:$AP$108)","v":0},{"$f":"$I$5*'[2]21-23 Campus Contract Alloctns'!X44/SUM('[2]21-23 Campus Contract Alloctns'!$I$5:$AP$108)","v":0},{"$f":"$I$5*'[2]21-23 Campus Contract Alloctns'!Y44/SUM('[2]21-23 Campus Contract Alloctns'!$I$5:$AP$108)","v":0},{"$f":"$I$5*'[2]21-23 Campus Contract Alloctns'!Z44/SUM('[2]21-23 Campus Contract Alloctns'!$I$5:$AP$108)","v":0},{"$f":"$I$5*'[2]21-23 Campus Contract Alloctns'!AA44/SUM('[2]21-23 Campus Contract Alloctns'!$I$5:$AP$108)","v":0},{"$f":"$I$5*'[2]21-23 Campus Contract Alloctns'!AB44/SUM('[2]21-23 Campus Contract Alloctns'!$I$5:$AP$108)","v":0},{"$f":"$I$5*'[2]21-23 Campus Contract Alloctns'!AC44/SUM('[2]21-23 Campus Contract Alloctns'!$I$5:$AP$108)","v":0},{"$f":"$I$5*'[2]21-23 Campus Contract Alloctns'!AD44/SUM('[2]21-23 Campus Contract Alloctns'!$I$5:$AP$108)","v":0},{"$f":"$I$5*'[2]21-23 Campus Contract Alloctns'!AE44/SUM('[2]21-23 Campus Contract Alloctns'!$I$5:$AP$108)","v":0},{"$f":"$I$5*'[2]21-23 Campus Contract Alloctns'!AF44/SUM('[2]21-23 Campus Contract Alloctns'!$I$5:$AP$108)","v":0},{"$f":"$I$5*'[2]21-23 Campus Contract Alloctns'!AG44/SUM('[2]21-23 Campus Contract Alloctns'!$I$5:$AP$108)","v":0},{"$f":"$I$5*'[2]21-23 Campus Contract Alloctns'!AH44/SUM('[2]21-23 Campus Contract Alloctns'!$I$5:$AP$108)","v":0},{"$f":"$I$5*'[2]21-23 Campus Contract Alloctns'!AI44/SUM('[2]21-23 Campus Contract Alloctns'!$I$5:$AP$108)","v":0},{"$f":"$I$5*'[2]21-23 Campus Contract Alloctns'!AJ44/SUM('[2]21-23 Campus Contract Alloctns'!$I$5:$AP$108)","v":0},{"$f":"$I$5*'[2]21-23 Campus Contract Alloctns'!AK44/SUM('[2]21-23 Campus Contract Alloctns'!$I$5:$AP$108)","v":0},{"$f":"$I$5*'[2]21-23 Campus Contract Alloctns'!AL44/SUM('[2]21-23 Campus Contract Alloctns'!$I$5:$AP$108)","v":0},{"$f":"$I$5*'[2]21-23 Campus Contract Alloctns'!AM44/SUM('[2]21-23 Campus Contract Alloctns'!$I$5:$AP$108)","v":0},{"$f":"$I$5*'[2]21-23 Campus Contract Alloctns'!AN44/SUM('[2]21-23 Campus Contract Alloctns'!$I$5:$AP$108)","v":0},{"$f":"$I$5*'[2]21-23 Campus Contract Alloctns'!AO44/SUM('[2]21-23 Campus Contract Alloctns'!$I$5:$AP$108)","v":0},{"$f":"$I$5*'[2]21-23 Campus Contract Alloctns'!AP44/SUM('[2]21-23 Campus Contract Alloctns'!$I$5:$AP$108)","v":0}]
[null,"140 - Department of Revenue","140","Department of Revenue",1.3136030291057751E-2,741,1.3136030291057751E-2,0,0,{"$f":"$I$5*'[2]21-23 Campus Contract Alloctns'!I45/SUM('[2]21-23 Campus Contract Alloctns'!$I$5:$AP$108)","v":0},{"$f":"$I$5*'[2]21-23 Campus Contract Alloctns'!J45/SUM('[2]21-23 Campus Contract Alloctns'!$I$5:$AP$108)","v":0},{"$f":"$I$5*'[2]21-23 Campus Contract Alloctns'!K45/SUM('[2]21-23 Campus Contract Alloctns'!$I$5:$AP$108)","v":0},{"$f":"$I$5*'[2]21-23 Campus Contract Alloctns'!L45/SUM('[2]21-23 Campus Contract Alloctns'!$I$5:$AP$108)","v":0},{"$f":"$I$5*'[2]21-23 Campus Contract Alloctns'!M45/SUM('[2]21-23 Campus Contract Alloctns'!$I$5:$AP$108)","v":0},{"$f":"$I$5*'[2]21-23 Campus Contract Alloctns'!N45/SUM('[2]21-23 Campus Contract Alloctns'!$I$5:$AP$108)","v":0},{"$f":"$I$5*'[2]21-23 Campus Contract Alloctns'!O45/SUM('[2]21-23 Campus Contract Alloctns'!$I$5:$AP$108)","v":0},{"$f":"$I$5*'[2]21-23 Campus Contract Alloctns'!P45/SUM('[2]21-23 Campus Contract Alloctns'!$I$5:$AP$108)","v":0},{"$f":"$I$5*'[2]21-23 Campus Contract Alloctns'!Q45/SUM('[2]21-23 Campus Contract Alloctns'!$I$5:$AP$108)","v":0},{"$f":"$I$5*'[2]21-23 Campus Contract Alloctns'!R45/SUM('[2]21-23 Campus Contract Alloctns'!$I$5:$AP$108)","v":0},{"$f":"$I$5*'[2]21-23 Campus Contract Alloctns'!S45/SUM('[2]21-23 Campus Contract Alloctns'!$I$5:$AP$108)","v":0},{"$f":"$I$5*'[2]21-23 Campus Contract Alloctns'!T45/SUM('[2]21-23 Campus Contract Alloctns'!$I$5:$AP$108)","v":0},{"$f":"$I$5*'[2]21-23 Campus Contract Alloctns'!U45/SUM('[2]21-23 Campus Contract Alloctns'!$I$5:$AP$108)","v":0},{"$f":"$I$5*'[2]21-23 Campus Contract Alloctns'!V45/SUM('[2]21-23 Campus Contract Alloctns'!$I$5:$AP$108)","v":0},{"$f":"$I$5*'[2]21-23 Campus Contract Alloctns'!W45/SUM('[2]21-23 Campus Contract Alloctns'!$I$5:$AP$108)","v":0},{"$f":"$I$5*'[2]21-23 Campus Contract Alloctns'!X45/SUM('[2]21-23 Campus Contract Alloctns'!$I$5:$AP$108)","v":0},{"$f":"$I$5*'[2]21-23 Campus Contract Alloctns'!Y45/SUM('[2]21-23 Campus Contract Alloctns'!$I$5:$AP$108)","v":0},{"$f":"$I$5*'[2]21-23 Campus Contract Alloctns'!Z45/SUM('[2]21-23 Campus Contract Alloctns'!$I$5:$AP$108)","v":0},{"$f":"$I$5*'[2]21-23 Campus Contract Alloctns'!AA45/SUM('[2]21-23 Campus Contract Alloctns'!$I$5:$AP$108)","v":0},{"$f":"$I$5*'[2]21-23 Campus Contract Alloctns'!AB45/SUM('[2]21-23 Campus Contract Alloctns'!$I$5:$AP$108)","v":0},{"$f":"$I$5*'[2]21-23 Campus Contract Alloctns'!AC45/SUM('[2]21-23 Campus Contract Alloctns'!$I$5:$AP$108)","v":0},{"$f":"$I$5*'[2]21-23 Campus Contract Alloctns'!AD45/SUM('[2]21-23 Campus Contract Alloctns'!$I$5:$AP$108)","v":0},{"$f":"$I$5*'[2]21-23 Campus Contract Alloctns'!AE45/SUM('[2]21-23 Campus Contract Alloctns'!$I$5:$AP$108)","v":0},{"$f":"$I$5*'[2]21-23 Campus Contract Alloctns'!AF45/SUM('[2]21-23 Campus Contract Alloctns'!$I$5:$AP$108)","v":0},{"$f":"$I$5*'[2]21-23 Campus Contract Alloctns'!AG45/SUM('[2]21-23 Campus Contract Alloctns'!$I$5:$AP$108)","v":0},{"$f":"$I$5*'[2]21-23 Campus Contract Alloctns'!AH45/SUM('[2]21-23 Campus Contract Alloctns'!$I$5:$AP$108)","v":0},{"$f":"$I$5*'[2]21-23 Campus Contract Alloctns'!AI45/SUM('[2]21-23 Campus Contract Alloctns'!$I$5:$AP$108)","v":0},{"$f":"$I$5*'[2]21-23 Campus Contract Alloctns'!AJ45/SUM('[2]21-23 Campus Contract Alloctns'!$I$5:$AP$108)","v":0},{"$f":"$I$5*'[2]21-23 Campus Contract Alloctns'!AK45/SUM('[2]21-23 Campus Contract Alloctns'!$I$5:$AP$108)","v":0},{"$f":"$I$5*'[2]21-23 Campus Contract Alloctns'!AL45/SUM('[2]21-23 Campus Contract Alloctns'!$I$5:$AP$108)","v":0},{"$f":"$I$5*'[2]21-23 Campus Contract Alloctns'!AM45/SUM('[2]21-23 Campus Contract Alloctns'!$I$5:$AP$108)","v":0},{"$f":"$I$5*'[2]21-23 Campus Contract Alloctns'!AN45/SUM('[2]21-23 Campus Contract Alloctns'!$I$5:$AP$108)","v":0},{"$f":"$I$5*'[2]21-23 Campus Contract Alloctns'!AO45/SUM('[2]21-23 Campus Contract Alloctns'!$I$5:$AP$108)","v":0},{"$f":"$I$5*'[2]21-23 Campus Contract Alloctns'!AP45/SUM('[2]21-23 Campus Contract Alloctns'!$I$5:$AP$108)","v":0}]
[null,"142 - Board of Tax Appeals","142","Board of Tax Appeals",1.2527139822572126E-3,15,2.6591154435339577E-4,0,9.8680243790381667E-4,{"$f":"$I$5*'[2]21-23 Campus Contract Alloctns'!I46/SUM('[2]21-23 Campus Contract Alloctns'!$I$5:$AP$108)","v":0},{"$f":"$I$5*'[2]21-23 Campus Contract Alloctns'!J46/SUM('[2]21-23 Campus Contract Alloctns'!$I$5:$AP$108)","v":0},{"$f":"$I$5*'[2]21-23 Campus Contract Alloctns'!K46/SUM('[2]21-23 Campus Contract Alloctns'!$I$5:$AP$108)","v":0},{"$f":"$I$5*'[2]21-23 Campus Contract Alloctns'!L46/SUM('[2]21-23 Campus Contract Alloctns'!$I$5:$AP$108)","v":0},{"$f":"$I$5*'[2]21-23 Campus Contract Alloctns'!M46/SUM('[2]21-23 Campus Contract Alloctns'!$I$5:$AP$108)","v":0},{"$f":"$I$5*'[2]21-23 Campus Contract Alloctns'!N46/SUM('[2]21-23 Campus Contract Alloctns'!$I$5:$AP$108)","v":0},{"$f":"$I$5*'[2]21-23 Campus Contract Alloctns'!O46/SUM('[2]21-23 Campus Contract Alloctns'!$I$5:$AP$108)","v":0},{"$f":"$I$5*'[2]21-23 Campus Contract Alloctns'!P46/SUM('[2]21-23 Campus Contract Alloctns'!$I$5:$AP$108)","v":0},{"$f":"$I$5*'[2]21-23 Campus Contract Alloctns'!Q46/SUM('[2]21-23 Campus Contract Alloctns'!$I$5:$AP$108)","v":0},{"$f":"$I$5*'[2]21-23 Campus Contract Alloctns'!R46/SUM('[2]21-23 Campus Contract Alloctns'!$I$5:$AP$108)","v":0},{"$f":"$I$5*'[2]21-23 Campus Contract Alloctns'!S46/SUM('[2]21-23 Campus Contract Alloctns'!$I$5:$AP$108)","v":0},{"$f":"$I$5*'[2]21-23 Campus Contract Alloctns'!T46/SUM('[2]21-23 Campus Contract Alloctns'!$I$5:$AP$108)","v":0},{"$f":"$I$5*'[2]21-23 Campus Contract Alloctns'!U46/SUM('[2]21-23 Campus Contract Alloctns'!$I$5:$AP$108)","v":0},{"$f":"$I$5*'[2]21-23 Campus Contract Alloctns'!V46/SUM('[2]21-23 Campus Contract Alloctns'!$I$5:$AP$108)","v":0},{"$f":"$I$5*'[2]21-23 Campus Contract Alloctns'!W46/SUM('[2]21-23 Campus Contract Alloctns'!$I$5:$AP$108)","v":0},{"$f":"$I$5*'[2]21-23 Campus Contract Alloctns'!X46/SUM('[2]21-23 Campus Contract Alloctns'!$I$5:$AP$108)","v":0},{"$f":"$I$5*'[2]21-23 Campus Contract Alloctns'!Y46/SUM('[2]21-23 Campus Contract Alloctns'!$I$5:$AP$108)","v":0},{"$f":"$I$5*'[2]21-23 Campus Contract Alloctns'!Z46/SUM('[2]21-23 Campus Contract Alloctns'!$I$5:$AP$108)","v":0},{"$f":"$I$5*'[2]21-23 Campus Contract Alloctns'!AA46/SUM('[2]21-23 Campus Contract Alloctns'!$I$5:$AP$108)","v":0},{"$f":"$I$5*'[2]21-23 Campus Contract Alloctns'!AB46/SUM('[2]21-23 Campus Contract Alloctns'!$I$5:$AP$108)","v":9.8680243790381689E-4},{"$f":"$I$5*'[2]21-23 Campus Contract Alloctns'!AC46/SUM('[2]21-23 Campus Contract Alloctns'!$I$5:$AP$108)","v":0},{"$f":"$I$5*'[2]21-23 Campus Contract Alloctns'!AD46/SUM('[2]21-23 Campus Contract Alloctns'!$I$5:$AP$108)","v":0},{"$f":"$I$5*'[2]21-23 Campus Contract Alloctns'!AE46/SUM('[2]21-23 Campus Contract Alloctns'!$I$5:$AP$108)","v":0},{"$f":"$I$5*'[2]21-23 Campus Contract Alloctns'!AF46/SUM('[2]21-23 Campus Contract Alloctns'!$I$5:$AP$108)","v":0},{"$f":"$I$5*'[2]21-23 Campus Contract Alloctns'!AG46/SUM('[2]21-23 Campus Contract Alloctns'!$I$5:$AP$108)","v":0},{"$f":"$I$5*'[2]21-23 Campus Contract Alloctns'!AH46/SUM('[2]21-23 Campus Contract Alloctns'!$I$5:$AP$108)","v":0},{"$f":"$I$5*'[2]21-23 Campus Contract Alloctns'!AI46/SUM('[2]21-23 Campus Contract Alloctns'!$I$5:$AP$108)","v":0},{"$f":"$I$5*'[2]21-23 Campus Contract Alloctns'!AJ46/SUM('[2]21-23 Campus Contract Alloctns'!$I$5:$AP$108)","v":0},{"$f":"$I$5*'[2]21-23 Campus Contract Alloctns'!AK46/SUM('[2]21-23 Campus Contract Alloctns'!$I$5:$AP$108)","v":0},{"$f":"$I$5*'[2]21-23 Campus Contract Alloctns'!AL46/SUM('[2]21-23 Campus Contract Alloctns'!$I$5:$AP$108)","v":0},{"$f":"$I$5*'[2]21-23 Campus Contract Alloctns'!AM46/SUM('[2]21-23 Campus Contract Alloctns'!$I$5:$AP$108)","v":0},{"$f":"$I$5*'[2]21-23 Campus Contract Alloctns'!AN46/SUM('[2]21-23 Campus Contract Alloctns'!$I$5:$AP$108)","v":0},{"$f":"$I$5*'[2]21-23 Campus Contract Alloctns'!AO46/SUM('[2]21-23 Campus Contract Alloctns'!$I$5:$AP$108)","v":0},{"$f":"$I$5*'[2]21-23 Campus Contract Alloctns'!AP46/SUM('[2]21-23 Campus Contract Alloctns'!$I$5:$AP$108)","v":0}]
[null,"147 - Office of Minority and Women's Business Enterprises","147","Office of Minority and Women's Business Enterprises",1.4437456119201428E-3,24,4.2545847096543324E-4,0,1.0182871409547096E-3,{"$f":"$I$5*'[2]21-23 Campus Contract Alloctns'!I47/SUM('[2]21-23 Campus Contract Alloctns'!$I$5:$AP$108)","v":0},{"$f":"$I$5*'[2]21-23 Campus Contract Alloctns'!J47/SUM('[2]21-23 Campus Contract Alloctns'!$I$5:$AP$108)","v":0},{"$f":"$I$5*'[2]21-23 Campus Contract Alloctns'!K47/SUM('[2]21-23 Campus Contract Alloctns'!$I$5:$AP$108)","v":0},{"$f":"$I$5*'[2]21-23 Campus Contract Alloctns'!L47/SUM('[2]21-23 Campus Contract Alloctns'!$I$5:$AP$108)","v":0},{"$f":"$I$5*'[2]21-23 Campus Contract Alloctns'!M47/SUM('[2]21-23 Campus Contract Alloctns'!$I$5:$AP$108)","v":0},{"$f":"$I$5*'[2]21-23 Campus Contract Alloctns'!N47/SUM('[2]21-23 Campus Contract Alloctns'!$I$5:$AP$108)","v":0},{"$f":"$I$5*'[2]21-23 Campus Contract Alloctns'!O47/SUM('[2]21-23 Campus Contract Alloctns'!$I$5:$AP$108)","v":0},{"$f":"$I$5*'[2]21-23 Campus Contract Alloctns'!P47/SUM('[2]21-23 Campus Contract Alloctns'!$I$5:$AP$108)","v":0},{"$f":"$I$5*'[2]21-23 Campus Contract Alloctns'!Q47/SUM('[2]21-23 Campus Contract Alloctns'!$I$5:$AP$108)","v":0},{"$f":"$I$5*'[2]21-23 Campus Contract Alloctns'!R47/SUM('[2]21-23 Campus Contract Alloctns'!$I$5:$AP$108)","v":0},{"$f":"$I$5*'[2]21-23 Campus Contract Alloctns'!S47/SUM('[2]21-23 Campus Contract Alloctns'!$I$5:$AP$108)","v":0},{"$f":"$I$5*'[2]21-23 Campus Contract Alloctns'!T47/SUM('[2]21-23 Campus Contract Alloctns'!$I$5:$AP$108)","v":0},{"$f":"$I$5*'[2]21-23 Campus Contract Alloctns'!U47/SUM('[2]21-23 Campus Contract Alloctns'!$I$5:$AP$108)","v":0},{"$f":"$I$5*'[2]21-23 Campus Contract Alloctns'!V47/SUM('[2]21-23 Campus Contract Alloctns'!$I$5:$AP$108)","v":0},{"$f":"$I$5*'[2]21-23 Campus Contract Alloctns'!W47/SUM('[2]21-23 Campus Contract Alloctns'!$I$5:$AP$108)","v":0},{"$f":"$I$5*'[2]21-23 Campus Contract Alloctns'!X47/SUM('[2]21-23 Campus Contract Alloctns'!$I$5:$AP$108)","v":0},{"$f":"$I$5*'[2]21-23 Campus Contract Alloctns'!Y47/SUM('[2]21-23 Campus Contract Alloctns'!$I$5:$AP$108)","v":0},{"$f":"$I$5*'[2]21-23 Campus Contract Alloctns'!Z47/SUM('[2]21-23 Campus Contract Alloctns'!$I$5:$AP$108)","v":0},{"$f":"$I$5*'[2]21-23 Campus Contract Alloctns'!AA47/SUM('[2]21-23 Campus Contract Alloctns'!$I$5:$AP$108)","v":0},{"$f":"$I$5*'[2]21-23 Campus Contract Alloctns'!AB47/SUM('[2]21-23 Campus Contract Alloctns'!$I$5:$AP$108)","v":1.0182871409547098E-3},{"$f":"$I$5*'[2]21-23 Campus Contract Alloctns'!AC47/SUM('[2]21-23 Campus Contract Alloctns'!$I$5:$AP$108)","v":0},{"$f":"$I$5*'[2]21-23 Campus Contract Alloctns'!AD47/SUM('[2]21-23 Campus Contract Alloctns'!$I$5:$AP$108)","v":0},{"$f":"$I$5*'[2]21-23 Campus Contract Alloctns'!AE47/SUM('[2]21-23 Campus Contract Alloctns'!$I$5:$AP$108)","v":0},{"$f":"$I$5*'[2]21-23 Campus Contract Alloctns'!AF47/SUM('[2]21-23 Campus Contract Alloctns'!$I$5:$AP$108)","v":0},{"$f":"$I$5*'[2]21-23 Campus Contract Alloctns'!AG47/SUM('[2]21-23 Campus Contract Alloctns'!$I$5:$AP$108)","v":0},{"$f":"$I$5*'[2]21-23 Campus Contract Alloctns'!AH47/SUM('[2]21-23 Campus Contract Alloctns'!$I$5:$AP$108)","v":0},{"$f":"$I$5*'[2]21-23 Campus Contract Alloctns'!AI47/SUM('[2]21-23 Campus Contract Alloctns'!$I$5:$AP$108)","v":0},{"$f":"$I$5*'[2]21-23 Campus Contract Alloctns'!AJ47/SUM('[2]21-23 Campus Contract Alloctns'!$I$5:$AP$108)","v":0},{"$f":"$I$5*'[2]21-23 Campus Contract Alloctns'!AK47/SUM('[2]21-23 Campus Contract Alloctns'!$I$5:$AP$108)","v":0},{"$f":"$I$5*'[2]21-23 Campus Contract Alloctns'!AL47/SUM('[2]21-23 Campus Contract Alloctns'!$I$5:$AP$108)","v":0},{"$f":"$I$5*'[2]21-23 Campus Contract Alloctns'!AM47/SUM('[2]21-23 Campus Contract Alloctns'!$I$5:$AP$108)","v":0},{"$f":"$I$5*'[2]21-23 Campus Contract Alloctns'!AN47/SUM('[2]21-23 Campus Contract Alloctns'!$I$5:$AP$108)","v":0},{"$f":"$I$5*'[2]21-23 Campus Contract Alloctns'!AO47/SUM('[2]21-23 Campus Contract Alloctns'!$I$5:$AP$108)","v":0},{"$f":"$I$5*'[2]21-23 Campus Contract Alloctns'!AP47/SUM('[2]21-23 Campus Contract Alloctns'!$I$5:$AP$108)","v":0}]
[null,"160 - Office of Insurance Commissioner","160","Office of Insurance Commissioner",5.6277810485065981E-3,208,3.6873067483670879E-3,2.8024323654956987E-4,1.6602310635899405E-3,{"$f":"$I$5*'[2]21-23 Campus Contract Alloctns'!I48/SUM('[2]21-23 Campus Contract Alloctns'!$I$5:$AP$108)","v":0},{"$f":"$I$5*'[2]21-23 Campus Contract Alloctns'!J48/SUM('[2]21-23 Campus Contract Alloctns'!$I$5:$AP$108)","v":0},{"$f":"$I$5*'[2]21-23 Campus Contract Alloctns'!K48/SUM('[2]21-23 Campus Contract Alloctns'!$I$5:$AP$108)","v":0},{"$f":"$I$5*'[2]21-23 Campus Contract Alloctns'!L48/SUM('[2]21-23 Campus Contract Alloctns'!$I$5:$AP$108)","v":0},{"$f":"$I$5*'[2]21-23 Campus Contract Alloctns'!M48/SUM('[2]21-23 Campus Contract Alloctns'!$I$5:$AP$108)","v":0},{"$f":"$I$5*'[2]21-23 Campus Contract Alloctns'!N48/SUM('[2]21-23 Campus Contract Alloctns'!$I$5:$AP$108)","v":0},{"$f":"$I$5*'[2]21-23 Campus Contract Alloctns'!O48/SUM('[2]21-23 Campus Contract Alloctns'!$I$5:$AP$108)","v":0},{"$f":"$I$5*'[2]21-23 Campus Contract Alloctns'!P48/SUM('[2]21-23 Campus Contract Alloctns'!$I$5:$AP$108)","v":0},{"$f":"$I$5*'[2]21-23 Campus Contract Alloctns'!Q48/SUM('[2]21-23 Campus Contract Alloctns'!$I$5:$AP$108)","v":0},{"$f":"$I$5*'[2]21-23 Campus Contract Alloctns'!R48/SUM('[2]21-23 Campus Contract Alloctns'!$I$5:$AP$108)","v":0},{"$f":"$I$5*'[2]21-23 Campus Contract Alloctns'!S48/SUM('[2]21-23 Campus Contract Alloctns'!$I$5:$AP$108)","v":1.6602310635899407E-3},{"$f":"$I$5*'[2]21-23 Campus Contract Alloctns'!T48/SUM('[2]21-23 Campus Contract Alloctns'!$I$5:$AP$108)","v":0},{"$f":"$I$5*'[2]21-23 Campus Contract Alloctns'!U48/SUM('[2]21-23 Campus Contract Alloctns'!$I$5:$AP$108)","v":0},{"$f":"$I$5*'[2]21-23 Campus Contract Alloctns'!V48/SUM('[2]21-23 Campus Contract Alloctns'!$I$5:$AP$108)","v":0},{"$f":"$I$5*'[2]21-23 Campus Contract Alloctns'!W48/SUM('[2]21-23 Campus Contract Alloctns'!$I$5:$AP$108)","v":0},{"$f":"$I$5*'[2]21-23 Campus Contract Alloctns'!X48/SUM('[2]21-23 Campus Contract Alloctns'!$I$5:$AP$108)","v":0},{"$f":"$I$5*'[2]21-23 Campus Contract Alloctns'!Y48/SUM('[2]21-23 Campus Contract Alloctns'!$I$5:$AP$108)","v":0},{"$f":"$I$5*'[2]21-23 Campus Contract Alloctns'!Z48/SUM('[2]21-23 Campus Contract Alloctns'!$I$5:$AP$108)","v":0},{"$f":"$I$5*'[2]21-23 Campus Contract Alloctns'!AA48/SUM('[2]21-23 Campus Contract Alloctns'!$I$5:$AP$108)","v":0},{"$f":"$I$5*'[2]21-23 Campus Contract Alloctns'!AB48/SUM('[2]21-23 Campus Contract Alloctns'!$I$5:$AP$108)","v":0},{"$f":"$I$5*'[2]21-23 Campus Contract Alloctns'!AC48/SUM('[2]21-23 Campus Contract Alloctns'!$I$5:$AP$108)","v":0},{"$f":"$I$5*'[2]21-23 Campus Contract Alloctns'!AD48/SUM('[2]21-23 Campus Contract Alloctns'!$I$5:$AP$108)","v":0},{"$f":"$I$5*'[2]21-23 Campus Contract Alloctns'!AE48/SUM('[2]21-23 Campus Contract Alloctns'!$I$5:$AP$108)","v":0},{"$f":"$I$5*'[2]21-23 Campus Contract Alloctns'!AF48/SUM('[2]21-23 Campus Contract Alloctns'!$I$5:$AP$108)","v":0},{"$f":"$I$5*'[2]21-23 Campus Contract Alloctns'!AG48/SUM('[2]21-23 Campus Contract Alloctns'!$I$5:$AP$108)","v":0},{"$f":"$I$5*'[2]21-23 Campus Contract Alloctns'!AH48/SUM('[2]21-23 Campus Contract Alloctns'!$I$5:$AP$108)","v":0},{"$f":"$I$5*'[2]21-23 Campus Contract Alloctns'!AI48/SUM('[2]21-23 Campus Contract Alloctns'!$I$5:$AP$108)","v":0},{"$f":"$I$5*'[2]21-23 Campus Contract Alloctns'!AJ48/SUM('[2]21-23 Campus Contract Alloctns'!$I$5:$AP$108)","v":0},{"$f":"$I$5*'[2]21-23 Campus Contract Alloctns'!AK48/SUM('[2]21-23 Campus Contract Alloctns'!$I$5:$AP$108)","v":0},{"$f":"$I$5*'[2]21-23 Campus Contract Alloctns'!AL48/SUM('[2]21-23 Campus Contract Alloctns'!$I$5:$AP$108)","v":0},{"$f":"$I$5*'[2]21-23 Campus Contract Alloctns'!AM48/SUM('[2]21-23 Campus Contract Alloctns'!$I$5:$AP$108)","v":0},{"$f":"$I$5*'[2]21-23 Campus Contract Alloctns'!AN48/SUM('[2]21-23 Campus Contract Alloctns'!$I$5:$AP$108)","v":0},{"$f":"$I$5*'[2]21-23 Campus Contract Alloctns'!AO48/SUM('[2]21-23 Campus Contract Alloctns'!$I$5:$AP$108)","v":0},{"$f":"$I$5*'[2]21-23 Campus Contract Alloctns'!AP48/SUM('[2]21-23 Campus Contract Alloctns'!$I$5:$AP$108)","v":0}]
[null,"163 - Consolidated Technology Services","163","Consolidated Technology Services",5.2280800976285558E-3,289,5.1232290878754257E-3,1.1708545581982318E-5,9.314246417114737E-5,{"$f":"$I$5*'[2]21-23 Campus Contract Alloctns'!I49/SUM('[2]21-23 Campus Contract Alloctns'!$I$5:$AP$108)","v":0},{"$f":"$I$5*'[2]21-23 Campus Contract Alloctns'!J49/SUM('[2]21-23 Campus Contract Alloctns'!$I$5:$AP$108)","v":0},{"$f":"$I$5*'[2]21-23 Campus Contract Alloctns'!K49/SUM('[2]21-23 Campus Contract Alloctns'!$I$5:$AP$108)","v":0},{"$f":"$I$5*'[2]21-23 Campus Contract Alloctns'!L49/SUM('[2]21-23 Campus Contract Alloctns'!$I$5:$AP$108)","v":0},{"$f":"$I$5*'[2]21-23 Campus Contract Alloctns'!M49/SUM('[2]21-23 Campus Contract Alloctns'!$I$5:$AP$108)","v":0},{"$f":"$I$5*'[2]21-23 Campus Contract Alloctns'!N49/SUM('[2]21-23 Campus Contract Alloctns'!$I$5:$AP$108)","v":9.3142464171147384E-5},{"$f":"$I$5*'[2]21-23 Campus Contract Alloctns'!O49/SUM('[2]21-23 Campus Contract Alloctns'!$I$5:$AP$108)","v":0},{"$f":"$I$5*'[2]21-23 Campus Contract Alloctns'!P49/SUM('[2]21-23 Campus Contract Alloctns'!$I$5:$AP$108)","v":0},{"$f":"$I$5*'[2]21-23 Campus Contract Alloctns'!Q49/SUM('[2]21-23 Campus Contract Alloctns'!$I$5:$AP$108)","v":0},{"$f":"$I$5*'[2]21-23 Campus Contract Alloctns'!R49/SUM('[2]21-23 Campus Contract Alloctns'!$I$5:$AP$108)","v":0},{"$f":"$I$5*'[2]21-23 Campus Contract Alloctns'!S49/SUM('[2]21-23 Campus Contract Alloctns'!$I$5:$AP$108)","v":0},{"$f":"$I$5*'[2]21-23 Campus Contract Alloctns'!T49/SUM('[2]21-23 Campus Contract Alloctns'!$I$5:$AP$108)","v":0},{"$f":"$I$5*'[2]21-23 Campus Contract Alloctns'!U49/SUM('[2]21-23 Campus Contract Alloctns'!$I$5:$AP$108)","v":0},{"$f":"$I$5*'[2]21-23 Campus Contract Alloctns'!V49/SUM('[2]21-23 Campus Contract Alloctns'!$I$5:$AP$108)","v":0},{"$f":"$I$5*'[2]21-23 Campus Contract Alloctns'!W49/SUM('[2]21-23 Campus Contract Alloctns'!$I$5:$AP$108)","v":0},{"$f":"$I$5*'[2]21-23 Campus Contract Alloctns'!X49/SUM('[2]21-23 Campus Contract Alloctns'!$I$5:$AP$108)","v":0},{"$f":"$I$5*'[2]21-23 Campus Contract Alloctns'!Y49/SUM('[2]21-23 Campus Contract Alloctns'!$I$5:$AP$108)","v":0},{"$f":"$I$5*'[2]21-23 Campus Contract Alloctns'!Z49/SUM('[2]21-23 Campus Contract Alloctns'!$I$5:$AP$108)","v":0},{"$f":"$I$5*'[2]21-23 Campus Contract Alloctns'!AA49/SUM('[2]21-23 Campus Contract Alloctns'!$I$5:$AP$108)","v":0},{"$f":"$I$5*'[2]21-23 Campus Contract Alloctns'!AB49/SUM('[2]21-23 Campus Contract Alloctns'!$I$5:$AP$108)","v":0},{"$f":"$I$5*'[2]21-23 Campus Contract Alloctns'!AC49/SUM('[2]21-23 Campus Contract Alloctns'!$I$5:$AP$108)","v":0},{"$f":"$I$5*'[2]21-23 Campus Contract Alloctns'!AD49/SUM('[2]21-23 Campus Contract Alloctns'!$I$5:$AP$108)","v":0},{"$f":"$I$5*'[2]21-23 Campus Contract Alloctns'!AE49/SUM('[2]21-23 Campus Contract Alloctns'!$I$5:$AP$108)","v":0},{"$f":"$I$5*'[2]21-23 Campus Contract Alloctns'!AF49/SUM('[2]21-23 Campus Contract Alloctns'!$I$5:$AP$108)","v":0},{"$f":"$I$5*'[2]21-23 Campus Contract Alloctns'!AG49/SUM('[2]21-23 Campus Contract Alloctns'!$I$5:$AP$108)","v":0},{"$f":"$I$5*'[2]21-23 Campus Contract Alloctns'!AH49/SUM('[2]21-23 Campus Contract Alloctns'!$I$5:$AP$108)","v":0},{"$f":"$I$5*'[2]21-23 Campus Contract Alloctns'!AI49/SUM('[2]21-23 Campus Contract Alloctns'!$I$5:$AP$108)","v":0},{"$f":"$I$5*'[2]21-23 Campus Contract Alloctns'!AJ49/SUM('[2]21-23 Campus Contract Alloctns'!$I$5:$AP$108)","v":0},{"$f":"$I$5*'[2]21-23 Campus Contract Alloctns'!AK49/SUM('[2]21-23 Campus Contract Alloctns'!$I$5:$AP$108)","v":0},{"$f":"$I$5*'[2]21-23 Campus Contract Alloctns'!AL49/SUM('[2]21-23 Campus Contract Alloctns'!$I$5:$AP$108)","v":0},{"$f":"$I$5*'[2]21-23 Campus Contract Alloctns'!AM49/SUM('[2]21-23 Campus Contract Alloctns'!$I$5:$AP$108)","v":0},{"$f":"$I$5*'[2]21-23 Campus Contract Alloctns'!AN49/SUM('[2]21-23 Campus Contract Alloctns'!$I$5:$AP$108)","v":0},{"$f":"$I$5*'[2]21-23 Campus Contract Alloctns'!AO49/SUM('[2]21-23 Campus Contract Alloctns'!$I$5:$AP$108)","v":0},{"$f":"$I$5*'[2]21-23 Campus Contract Alloctns'!AP49/SUM('[2]21-23 Campus Contract Alloctns'!$I$5:$AP$108)","v":0}]
[null,"165 - Board of Accountancy","165","Board of Accountancy",1.7727436290226387E-4,10,1.7727436290226387E-4,0,0,{"$f":"$I$5*'[2]21-23 Campus Contract Alloctns'!I50/SUM('[2]21-23 Campus Contract Alloctns'!$I$5:$AP$108)","v":0},{"$f":"$I$5*'[2]21-23 Campus Contract Alloctns'!J50/SUM('[2]21-23 Campus Contract Alloctns'!$I$5:$AP$108)","v":0},{"$f":"$I$5*'[2]21-23 Campus Contract Alloctns'!K50/SUM('[2]21-23 Campus Contract Alloctns'!$I$5:$AP$108)","v":0},{"$f":"$I$5*'[2]21-23 Campus Contract Alloctns'!L50/SUM('[2]21-23 Campus Contract Alloctns'!$I$5:$AP$108)","v":0},{"$f":"$I$5*'[2]21-23 Campus Contract Alloctns'!M50/SUM('[2]21-23 Campus Contract Alloctns'!$I$5:$AP$108)","v":0},{"$f":"$I$5*'[2]21-23 Campus Contract Alloctns'!N50/SUM('[2]21-23 Campus Contract Alloctns'!$I$5:$AP$108)","v":0},{"$f":"$I$5*'[2]21-23 Campus Contract Alloctns'!O50/SUM('[2]21-23 Campus Contract Alloctns'!$I$5:$AP$108)","v":0},{"$f":"$I$5*'[2]21-23 Campus Contract Alloctns'!P50/SUM('[2]21-23 Campus Contract Alloctns'!$I$5:$AP$108)","v":0},{"$f":"$I$5*'[2]21-23 Campus Contract Alloctns'!Q50/SUM('[2]21-23 Campus Contract Alloctns'!$I$5:$AP$108)","v":0},{"$f":"$I$5*'[2]21-23 Campus Contract Alloctns'!R50/SUM('[2]21-23 Campus Contract Alloctns'!$I$5:$AP$108)","v":0},{"$f":"$I$5*'[2]21-23 Campus Contract Alloctns'!S50/SUM('[2]21-23 Campus Contract Alloctns'!$I$5:$AP$108)","v":0},{"$f":"$I$5*'[2]21-23 Campus Contract Alloctns'!T50/SUM('[2]21-23 Campus Contract Alloctns'!$I$5:$AP$108)","v":0},{"$f":"$I$5*'[2]21-23 Campus Contract Alloctns'!U50/SUM('[2]21-23 Campus Contract Alloctns'!$I$5:$AP$108)","v":0},{"$f":"$I$5*'[2]21-23 Campus Contract Alloctns'!V50/SUM('[2]21-23 Campus Contract Alloctns'!$I$5:$AP$108)","v":0},{"$f":"$I$5*'[2]21-23 Campus Contract Alloctns'!W50/SUM('[2]21-23 Campus Contract Alloctns'!$I$5:$AP$108)","v":0},{"$f":"$I$5*'[2]21-23 Campus Contract Alloctns'!X50/SUM('[2]21-23 Campus Contract Alloctns'!$I$5:$AP$108)","v":0},{"$f":"$I$5*'[2]21-23 Campus Contract Alloctns'!Y50/SUM('[2]21-23 Campus Contract Alloctns'!$I$5:$AP$108)","v":0},{"$f":"$I$5*'[2]21-23 Campus Contract Alloctns'!Z50/SUM('[2]21-23 Campus Contract Alloctns'!$I$5:$AP$108)","v":0},{"$f":"$I$5*'[2]21-23 Campus Contract Alloctns'!AA50/SUM('[2]21-23 Campus Contract Alloctns'!$I$5:$AP$108)","v":0},{"$f":"$I$5*'[2]21-23 Campus Contract Alloctns'!AB50/SUM('[2]21-23 Campus Contract Alloctns'!$I$5:$AP$108)","v":0},{"$f":"$I$5*'[2]21-23 Campus Contract Alloctns'!AC50/SUM('[2]21-23 Campus Contract Alloctns'!$I$5:$AP$108)","v":0},{"$f":"$I$5*'[2]21-23 Campus Contract Alloctns'!AD50/SUM('[2]21-23 Campus Contract Alloctns'!$I$5:$AP$108)","v":0},{"$f":"$I$5*'[2]21-23 Campus Contract Alloctns'!AE50/SUM('[2]21-23 Campus Contract Alloctns'!$I$5:$AP$108)","v":0},{"$f":"$I$5*'[2]21-23 Campus Contract Alloctns'!AF50/SUM('[2]21-23 Campus Contract Alloctns'!$I$5:$AP$108)","v":0},{"$f":"$I$5*'[2]21-23 Campus Contract Alloctns'!AG50/SUM('[2]21-23 Campus Contract Alloctns'!$I$5:$AP$108)","v":0},{"$f":"$I$5*'[2]21-23 Campus Contract Alloctns'!AH50/SUM('[2]21-23 Campus Contract Alloctns'!$I$5:$AP$108)","v":0},{"$f":"$I$5*'[2]21-23 Campus Contract Alloctns'!AI50/SUM('[2]21-23 Campus Contract Alloctns'!$I$5:$AP$108)","v":0},{"$f":"$I$5*'[2]21-23 Campus Contract Alloctns'!AJ50/SUM('[2]21-23 Campus Contract Alloctns'!$I$5:$AP$108)","v":0},{"$f":"$I$5*'[2]21-23 Campus Contract Alloctns'!AK50/SUM('[2]21-23 Campus Contract Alloctns'!$I$5:$AP$108)","v":0},{"$f":"$I$5*'[2]21-23 Campus Contract Alloctns'!AL50/SUM('[2]21-23 Campus Contract Alloctns'!$I$5:$AP$108)","v":0},{"$f":"$I$5*'[2]21-23 Campus Contract Alloctns'!AM50/SUM('[2]21-23 Campus Contract Alloctns'!$I$5:$AP$108)","v":0},{"$f":"$I$5*'[2]21-23 Campus Contract Alloctns'!AN50/SUM('[2]21-23 Campus Contract Alloctns'!$I$5:$AP$108)","v":0},{"$f":"$I$5*'[2]21-23 Campus Contract Alloctns'!AO50/SUM('[2]21-23 Campus Contract Alloctns'!$I$5:$AP$108)","v":0},{"$f":"$I$5*'[2]21-23 Campus Contract Alloctns'!AP50/SUM('[2]21-23 Campus Contract Alloctns'!$I$5:$AP$108)","v":0}]
[null,"166 - Brd Prof Eng Land Surveyors","166","Brd Prof Eng Land Surveyors",1.4181949032181107E-4,8,1.4181949032181107E-4,0,0,{"$f":"$I$5*'[2]21-23 Campus Contract Alloctns'!I51/SUM('[2]21-23 Campus Contract Alloctns'!$I$5:$AP$108)","v":0},{"$f":"$I$5*'[2]21-23 Campus Contract Alloctns'!J51/SUM('[2]21-23 Campus Contract Alloctns'!$I$5:$AP$108)","v":0},{"$f":"$I$5*'[2]21-23 Campus Contract Alloctns'!K51/SUM('[2]21-23 Campus Contract Alloctns'!$I$5:$AP$108)","v":0},{"$f":"$I$5*'[2]21-23 Campus Contract Alloctns'!L51/SUM('[2]21-23 Campus Contract Alloctns'!$I$5:$AP$108)","v":0},{"$f":"$I$5*'[2]21-23 Campus Contract Alloctns'!M51/SUM('[2]21-23 Campus Contract Alloctns'!$I$5:$AP$108)","v":0},{"$f":"$I$5*'[2]21-23 Campus Contract Alloctns'!N51/SUM('[2]21-23 Campus Contract Alloctns'!$I$5:$AP$108)","v":0},{"$f":"$I$5*'[2]21-23 Campus Contract Alloctns'!O51/SUM('[2]21-23 Campus Contract Alloctns'!$I$5:$AP$108)","v":0},{"$f":"$I$5*'[2]21-23 Campus Contract Alloctns'!P51/SUM('[2]21-23 Campus Contract Alloctns'!$I$5:$AP$108)","v":0},{"$f":"$I$5*'[2]21-23 Campus Contract Alloctns'!Q51/SUM('[2]21-23 Campus Contract Alloctns'!$I$5:$AP$108)","v":0},{"$f":"$I$5*'[2]21-23 Campus Contract Alloctns'!R51/SUM('[2]21-23 Campus Contract Alloctns'!$I$5:$AP$108)","v":0},{"$f":"$I$5*'[2]21-23 Campus Contract Alloctns'!S51/SUM('[2]21-23 Campus Contract Alloctns'!$I$5:$AP$108)","v":0},{"$f":"$I$5*'[2]21-23 Campus Contract Alloctns'!T51/SUM('[2]21-23 Campus Contract Alloctns'!$I$5:$AP$108)","v":0},{"$f":"$I$5*'[2]21-23 Campus Contract Alloctns'!U51/SUM('[2]21-23 Campus Contract Alloctns'!$I$5:$AP$108)","v":0},{"$f":"$I$5*'[2]21-23 Campus Contract Alloctns'!V51/SUM('[2]21-23 Campus Contract Alloctns'!$I$5:$AP$108)","v":0},{"$f":"$I$5*'[2]21-23 Campus Contract Alloctns'!W51/SUM('[2]21-23 Campus Contract Alloctns'!$I$5:$AP$108)","v":0},{"$f":"$I$5*'[2]21-23 Campus Contract Alloctns'!X51/SUM('[2]21-23 Campus Contract Alloctns'!$I$5:$AP$108)","v":0},{"$f":"$I$5*'[2]21-23 Campus Contract Alloctns'!Y51/SUM('[2]21-23 Campus Contract Alloctns'!$I$5:$AP$108)","v":0},{"$f":"$I$5*'[2]21-23 Campus Contract Alloctns'!Z51/SUM('[2]21-23 Campus Contract Alloctns'!$I$5:$AP$108)","v":0},{"$f":"$I$5*'[2]21-23 Campus Contract Alloctns'!AA51/SUM('[2]21-23 Campus Contract Alloctns'!$I$5:$AP$108)","v":0},{"$f":"$I$5*'[2]21-23 Campus Contract Alloctns'!AB51/SUM('[2]21-23 Campus Contract Alloctns'!$I$5:$AP$108)","v":0},{"$f":"$I$5*'[2]21-23 Campus Contract Alloctns'!AC51/SUM('[2]21-23 Campus Contract Alloctns'!$I$5:$AP$108)","v":0},{"$f":"$I$5*'[2]21-23 Campus Contract Alloctns'!AD51/SUM('[2]21-23 Campus Contract Alloctns'!$I$5:$AP$108)","v":0},{"$f":"$I$5*'[2]21-23 Campus Contract Alloctns'!AE51/SUM('[2]21-23 Campus Contract Alloctns'!$I$5:$AP$108)","v":0},{"$f":"$I$5*'[2]21-23 Campus Contract Alloctns'!AF51/SUM('[2]21-23 Campus Contract Alloctns'!$I$5:$AP$108)","v":0},{"$f":"$I$5*'[2]21-23 Campus Contract Alloctns'!AG51/SUM('[2]21-23 Campus Contract Alloctns'!$I$5:$AP$108)","v":0},{"$f":"$I$5*'[2]21-23 Campus Contract Alloctns'!AH51/SUM('[2]21-23 Campus Contract Alloctns'!$I$5:$AP$108)","v":0},{"$f":"$I$5*'[2]21-23 Campus Contract Alloctns'!AI51/SUM('[2]21-23 Campus Contract Alloctns'!$I$5:$AP$108)","v":0},{"$f":"$I$5*'[2]21-23 Campus Contract Alloctns'!AJ51/SUM('[2]21-23 Campus Contract Alloctns'!$I$5:$AP$108)","v":0},{"$f":"$I$5*'[2]21-23 Campus Contract Alloctns'!AK51/SUM('[2]21-23 Campus Contract Alloctns'!$I$5:$AP$108)","v":0},{"$f":"$I$5*'[2]21-23 Campus Contract Alloctns'!AL51/SUM('[2]21-23 Campus Contract Alloctns'!$I$5:$AP$108)","v":0},{"$f":"$I$5*'[2]21-23 Campus Contract Alloctns'!AM51/SUM('[2]21-23 Campus Contract Alloctns'!$I$5:$AP$108)","v":0},{"$f":"$I$5*'[2]21-23 Campus Contract Alloctns'!AN51/SUM('[2]21-23 Campus Contract Alloctns'!$I$5:$AP$108)","v":0},{"$f":"$I$5*'[2]21-23 Campus Contract Alloctns'!AO51/SUM('[2]21-23 Campus Contract Alloctns'!$I$5:$AP$108)","v":0},{"$f":"$I$5*'[2]21-23 Campus Contract Alloctns'!AP51/SUM('[2]21-23 Campus Contract Alloctns'!$I$5:$AP$108)","v":0}]
[null,"167 - Forensic Investigations Council","167","Forensic Investigations Council",0,0,0,0,0,{"$f":"$I$5*'[2]21-23 Campus Contract Alloctns'!I52/SUM('[2]21-23 Campus Contract Alloctns'!$I$5:$AP$108)","v":0},{"$f":"$I$5*'[2]21-23 Campus Contract Alloctns'!J52/SUM('[2]21-23 Campus Contract Alloctns'!$I$5:$AP$108)","v":0},{"$f":"$I$5*'[2]21-23 Campus Contract Alloctns'!K52/SUM('[2]21-23 Campus Contract Alloctns'!$I$5:$AP$108)","v":0},{"$f":"$I$5*'[2]21-23 Campus Contract Alloctns'!L52/SUM('[2]21-23 Campus Contract Alloctns'!$I$5:$AP$108)","v":0},{"$f":"$I$5*'[2]21-23 Campus Contract Alloctns'!M52/SUM('[2]21-23 Campus Contract Alloctns'!$I$5:$AP$108)","v":0},{"$f":"$I$5*'[2]21-23 Campus Contract Alloctns'!N52/SUM('[2]21-23 Campus Contract Alloctns'!$I$5:$AP$108)","v":0},{"$f":"$I$5*'[2]21-23 Campus Contract Alloctns'!O52/SUM('[2]21-23 Campus Contract Alloctns'!$I$5:$AP$108)","v":0},{"$f":"$I$5*'[2]21-23 Campus Contract Alloctns'!P52/SUM('[2]21-23 Campus Contract Alloctns'!$I$5:$AP$108)","v":0},{"$f":"$I$5*'[2]21-23 Campus Contract Alloctns'!Q52/SUM('[2]21-23 Campus Contract Alloctns'!$I$5:$AP$108)","v":0},{"$f":"$I$5*'[2]21-23 Campus Contract Alloctns'!R52/SUM('[2]21-23 Campus Contract Alloctns'!$I$5:$AP$108)","v":0},{"$f":"$I$5*'[2]21-23 Campus Contract Alloctns'!S52/SUM('[2]21-23 Campus Contract Alloctns'!$I$5:$AP$108)","v":0},{"$f":"$I$5*'[2]21-23 Campus Contract Alloctns'!T52/SUM('[2]21-23 Campus Contract Alloctns'!$I$5:$AP$108)","v":0},{"$f":"$I$5*'[2]21-23 Campus Contract Alloctns'!U52/SUM('[2]21-23 Campus Contract Alloctns'!$I$5:$AP$108)","v":0},{"$f":"$I$5*'[2]21-23 Campus Contract Alloctns'!V52/SUM('[2]21-23 Campus Contract Alloctns'!$I$5:$AP$108)","v":0},{"$f":"$I$5*'[2]21-23 Campus Contract Alloctns'!W52/SUM('[2]21-23 Campus Contract Alloctns'!$I$5:$AP$108)","v":0},{"$f":"$I$5*'[2]21-23 Campus Contract Alloctns'!X52/SUM('[2]21-23 Campus Contract Alloctns'!$I$5:$AP$108)","v":0},{"$f":"$I$5*'[2]21-23 Campus Contract Alloctns'!Y52/SUM('[2]21-23 Campus Contract Alloctns'!$I$5:$AP$108)","v":0},{"$f":"$I$5*'[2]21-23 Campus Contract Alloctns'!Z52/SUM('[2]21-23 Campus Contract Alloctns'!$I$5:$AP$108)","v":0},{"$f":"$I$5*'[2]21-23 Campus Contract Alloctns'!AA52/SUM('[2]21-23 Campus Contract Alloctns'!$I$5:$AP$108)","v":0},{"$f":"$I$5*'[2]21-23 Campus Contract Alloctns'!AB52/SUM('[2]21-23 Campus Contract Alloctns'!$I$5:$AP$108)","v":0},{"$f":"$I$5*'[2]21-23 Campus Contract Alloctns'!AC52/SUM('[2]21-23 Campus Contract Alloctns'!$I$5:$AP$108)","v":0},{"$f":"$I$5*'[2]21-23 Campus Contract Alloctns'!AD52/SUM('[2]21-23 Campus Contract Alloctns'!$I$5:$AP$108)","v":0},{"$f":"$I$5*'[2]21-23 Campus Contract Alloctns'!AE52/SUM('[2]21-23 Campus Contract Alloctns'!$I$5:$AP$108)","v":0},{"$f":"$I$5*'[2]21-23 Campus Contract Alloctns'!AF52/SUM('[2]21-23 Campus Contract Alloctns'!$I$5:$AP$108)","v":0},{"$f":"$I$5*'[2]21-23 Campus Contract Alloctns'!AG52/SUM('[2]21-23 Campus Contract Alloctns'!$I$5:$AP$108)","v":0},{"$f":"$I$5*'[2]21-23 Campus Contract Alloctns'!AH52/SUM('[2]21-23 Campus Contract Alloctns'!$I$5:$AP$108)","v":0},{"$f":"$I$5*'[2]21-23 Campus Contract Alloctns'!AI52/SUM('[2]21-23 Campus Contract Alloctns'!$I$5:$AP$108)","v":0},{"$f":"$I$5*'[2]21-23 Campus Contract Alloctns'!AJ52/SUM('[2]21-23 Campus Contract Alloctns'!$I$5:$AP$108)","v":0},{"$f":"$I$5*'[2]21-23 Campus Contract Alloctns'!AK52/SUM('[2]21-23 Campus Contract Alloctns'!$I$5:$AP$108)","v":0},{"$f":"$I$5*'[2]21-23 Campus Contract Alloctns'!AL52/SUM('[2]21-23 Campus Contract Alloctns'!$I$5:$AP$108)","v":0},{"$f":"$I$5*'[2]21-23 Campus Contract Alloctns'!AM52/SUM('[2]21-23 Campus Contract Alloctns'!$I$5:$AP$108)","v":0},{"$f":"$I$5*'[2]21-23 Campus Contract Alloctns'!AN52/SUM('[2]21-23 Campus Contract Alloctns'!$I$5:$AP$108)","v":0},{"$f":"$I$5*'[2]21-23 Campus Contract Alloctns'!AO52/SUM('[2]21-23 Campus Contract Alloctns'!$I$5:$AP$108)","v":0},{"$f":"$I$5*'[2]21-23 Campus Contract Alloctns'!AP52/SUM('[2]21-23 Campus Contract Alloctns'!$I$5:$AP$108)","v":0}]
[null,"179 - Department of Enterprise Services","179","Department of Enterprise Services",2.4172820914484177E-2,761,1.3490579016862278E-2,1.0907793337899484E-3,9.5914625638319501E-3,{"$f":"$I$5*'[2]21-23 Campus Contract Alloctns'!I53/SUM('[2]21-23 Campus Contract Alloctns'!$I$5:$AP$108)","v":0},{"$f":"$I$5*'[2]21-23 Campus Contract Alloctns'!J53/SUM('[2]21-23 Campus Contract Alloctns'!$I$5:$AP$108)","v":0},{"$f":"$I$5*'[2]21-23 Campus Contract Alloctns'!K53/SUM('[2]21-23 Campus Contract Alloctns'!$I$5:$AP$108)","v":1.9842055481921338E-3},{"$f":"$I$5*'[2]21-23 Campus Contract Alloctns'!L53/SUM('[2]21-23 Campus Contract Alloctns'!$I$5:$AP$108)","v":0},{"$f":"$I$5*'[2]21-23 Campus Contract Alloctns'!M53/SUM('[2]21-23 Campus Contract Alloctns'!$I$5:$AP$108)","v":0},{"$f":"$I$5*'[2]21-23 Campus Contract Alloctns'!N53/SUM('[2]21-23 Campus Contract Alloctns'!$I$5:$AP$108)","v":6.4708494115612875E-3},{"$f":"$I$5*'[2]21-23 Campus Contract Alloctns'!O53/SUM('[2]21-23 Campus Contract Alloctns'!$I$5:$AP$108)","v":0},{"$f":"$I$5*'[2]21-23 Campus Contract Alloctns'!P53/SUM('[2]21-23 Campus Contract Alloctns'!$I$5:$AP$108)","v":0},{"$f":"$I$5*'[2]21-23 Campus Contract Alloctns'!Q53/SUM('[2]21-23 Campus Contract Alloctns'!$I$5:$AP$108)","v":0},{"$f":"$I$5*'[2]21-23 Campus Contract Alloctns'!R53/SUM('[2]21-23 Campus Contract Alloctns'!$I$5:$AP$108)","v":0},{"$f":"$I$5*'[2]21-23 Campus Contract Alloctns'!S53/SUM('[2]21-23 Campus Contract Alloctns'!$I$5:$AP$108)","v":0},{"$f":"$I$5*'[2]21-23 Campus Contract Alloctns'!T53/SUM('[2]21-23 Campus Contract Alloctns'!$I$5:$AP$108)","v":0},{"$f":"$I$5*'[2]21-23 Campus Contract Alloctns'!U53/SUM('[2]21-23 Campus Contract Alloctns'!$I$5:$AP$108)","v":0},{"$f":"$I$5*'[2]21-23 Campus Contract Alloctns'!V53/SUM('[2]21-23 Campus Contract Alloctns'!$I$5:$AP$108)","v":0},{"$f":"$I$5*'[2]21-23 Campus Contract Alloctns'!W53/SUM('[2]21-23 Campus Contract Alloctns'!$I$5:$AP$108)","v":0},{"$f":"$I$5*'[2]21-23 Campus Contract Alloctns'!X53/SUM('[2]21-23 Campus Contract Alloctns'!$I$5:$AP$108)","v":0},{"$f":"$I$5*'[2]21-23 Campus Contract Alloctns'!Y53/SUM('[2]21-23 Campus Contract Alloctns'!$I$5:$AP$108)","v":0},{"$f":"$I$5*'[2]21-23 Campus Contract Alloctns'!Z53/SUM('[2]21-23 Campus Contract Alloctns'!$I$5:$AP$108)","v":0},{"$f":"$I$5*'[2]21-23 Campus Contract Alloctns'!AA53/SUM('[2]21-23 Campus Contract Alloctns'!$I$5:$AP$108)","v":0},{"$f":"$I$5*'[2]21-23 Campus Contract Alloctns'!AB53/SUM('[2]21-23 Campus Contract Alloctns'!$I$5:$AP$108)","v":1.1364076040785284E-3},{"$f":"$I$5*'[2]21-23 Campus Contract Alloctns'!AC53/SUM('[2]21-23 Campus Contract Alloctns'!$I$5:$AP$108)","v":0},{"$f":"$I$5*'[2]21-23 Campus Contract Alloctns'!AD53/SUM('[2]21-23 Campus Contract Alloctns'!$I$5:$AP$108)","v":0},{"$f":"$I$5*'[2]21-23 Campus Contract Alloctns'!AE53/SUM('[2]21-23 Campus Contract Alloctns'!$I$5:$AP$108)","v":0},{"$f":"$I$5*'[2]21-23 Campus Contract Alloctns'!AF53/SUM('[2]21-23 Campus Contract Alloctns'!$I$5:$AP$108)","v":0},{"$f":"$I$5*'[2]21-23 Campus Contract Alloctns'!AG53/SUM('[2]21-23 Campus Contract Alloctns'!$I$5:$AP$108)","v":0},{"$f":"$I$5*'[2]21-23 Campus Contract Alloctns'!AH53/SUM('[2]21-23 Campus Contract Alloctns'!$I$5:$AP$108)","v":0},{"$f":"$I$5*'[2]21-23 Campus Contract Alloctns'!AI53/SUM('[2]21-23 Campus Contract Alloctns'!$I$5:$AP$108)","v":0},{"$f":"$I$5*'[2]21-23 Campus Contract Alloctns'!AJ53/SUM('[2]21-23 Campus Contract Alloctns'!$I$5:$AP$108)","v":0},{"$f":"$I$5*'[2]21-23 Campus Contract Alloctns'!AK53/SUM('[2]21-23 Campus Contract Alloctns'!$I$5:$AP$108)","v":0},{"$f":"$I$5*'[2]21-23 Campus Contract Alloctns'!AL53/SUM('[2]21-23 Campus Contract Alloctns'!$I$5:$AP$108)","v":0},{"$f":"$I$5*'[2]21-23 Campus Contract Alloctns'!AM53/SUM('[2]21-23 Campus Contract Alloctns'!$I$5:$AP$108)","v":0},{"$f":"$I$5*'[2]21-23 Campus Contract Alloctns'!AN53/SUM('[2]21-23 Campus Contract Alloctns'!$I$5:$AP$108)","v":0},{"$f":"$I$5*'[2]21-23 Campus Contract Alloctns'!AO53/SUM('[2]21-23 Campus Contract Alloctns'!$I$5:$AP$108)","v":0},{"$f":"$I$5*'[2]21-23 Campus Contract Alloctns'!AP53/SUM('[2]21-23 Campus Contract Alloctns'!$I$5:$AP$108)","v":0}]
[null,"185 - Horse Racing Commission","185","Horse Racing Commission",5.3182308870679155E-5,3,5.3182308870679155E-5,0,0,{"$f":"$I$5*'[2]21-23 Campus Contract Alloctns'!I54/SUM('[2]21-23 Campus Contract Alloctns'!$I$5:$AP$108)","v":0},{"$f":"$I$5*'[2]21-23 Campus Contract Alloctns'!J54/SUM('[2]21-23 Campus Contract Alloctns'!$I$5:$AP$108)","v":0},{"$f":"$I$5*'[2]21-23 Campus Contract Alloctns'!K54/SUM('[2]21-23 Campus Contract Alloctns'!$I$5:$AP$108)","v":0},{"$f":"$I$5*'[2]21-23 Campus Contract Alloctns'!L54/SUM('[2]21-23 Campus Contract Alloctns'!$I$5:$AP$108)","v":0},{"$f":"$I$5*'[2]21-23 Campus Contract Alloctns'!M54/SUM('[2]21-23 Campus Contract Alloctns'!$I$5:$AP$108)","v":0},{"$f":"$I$5*'[2]21-23 Campus Contract Alloctns'!N54/SUM('[2]21-23 Campus Contract Alloctns'!$I$5:$AP$108)","v":0},{"$f":"$I$5*'[2]21-23 Campus Contract Alloctns'!O54/SUM('[2]21-23 Campus Contract Alloctns'!$I$5:$AP$108)","v":0},{"$f":"$I$5*'[2]21-23 Campus Contract Alloctns'!P54/SUM('[2]21-23 Campus Contract Alloctns'!$I$5:$AP$108)","v":0},{"$f":"$I$5*'[2]21-23 Campus Contract Alloctns'!Q54/SUM('[2]21-23 Campus Contract Alloctns'!$I$5:$AP$108)","v":0},{"$f":"$I$5*'[2]21-23 Campus Contract Alloctns'!R54/SUM('[2]21-23 Campus Contract Alloctns'!$I$5:$AP$108)","v":0},{"$f":"$I$5*'[2]21-23 Campus Contract Alloctns'!S54/SUM('[2]21-23 Campus Contract Alloctns'!$I$5:$AP$108)","v":0},{"$f":"$I$5*'[2]21-23 Campus Contract Alloctns'!T54/SUM('[2]21-23 Campus Contract Alloctns'!$I$5:$AP$108)","v":0},{"$f":"$I$5*'[2]21-23 Campus Contract Alloctns'!U54/SUM('[2]21-23 Campus Contract Alloctns'!$I$5:$AP$108)","v":0},{"$f":"$I$5*'[2]21-23 Campus Contract Alloctns'!V54/SUM('[2]21-23 Campus Contract Alloctns'!$I$5:$AP$108)","v":0},{"$f":"$I$5*'[2]21-23 Campus Contract Alloctns'!W54/SUM('[2]21-23 Campus Contract Alloctns'!$I$5:$AP$108)","v":0},{"$f":"$I$5*'[2]21-23 Campus Contract Alloctns'!X54/SUM('[2]21-23 Campus Contract Alloctns'!$I$5:$AP$108)","v":0},{"$f":"$I$5*'[2]21-23 Campus Contract Alloctns'!Y54/SUM('[2]21-23 Campus Contract Alloctns'!$I$5:$AP$108)","v":0},{"$f":"$I$5*'[2]21-23 Campus Contract Alloctns'!Z54/SUM('[2]21-23 Campus Contract Alloctns'!$I$5:$AP$108)","v":0},{"$f":"$I$5*'[2]21-23 Campus Contract Alloctns'!AA54/SUM('[2]21-23 Campus Contract Alloctns'!$I$5:$AP$108)","v":0},{"$f":"$I$5*'[2]21-23 Campus Contract Alloctns'!AB54/SUM('[2]21-23 Campus Contract Alloctns'!$I$5:$AP$108)","v":0},{"$f":"$I$5*'[2]21-23 Campus Contract Alloctns'!AC54/SUM('[2]21-23 Campus Contract Alloctns'!$I$5:$AP$108)","v":0},{"$f":"$I$5*'[2]21-23 Campus Contract Alloctns'!AD54/SUM('[2]21-23 Campus Contract Alloctns'!$I$5:$AP$108)","v":0},{"$f":"$I$5*'[2]21-23 Campus Contract Alloctns'!AE54/SUM('[2]21-23 Campus Contract Alloctns'!$I$5:$AP$108)","v":0},{"$f":"$I$5*'[2]21-23 Campus Contract Alloctns'!AF54/SUM('[2]21-23 Campus Contract Alloctns'!$I$5:$AP$108)","v":0},{"$f":"$I$5*'[2]21-23 Campus Contract Alloctns'!AG54/SUM('[2]21-23 Campus Contract Alloctns'!$I$5:$AP$108)","v":0},{"$f":"$I$5*'[2]21-23 Campus Contract Alloctns'!AH54/SUM('[2]21-23 Campus Contract Alloctns'!$I$5:$AP$108)","v":0},{"$f":"$I$5*'[2]21-23 Campus Contract Alloctns'!AI54/SUM('[2]21-23 Campus Contract Alloctns'!$I$5:$AP$108)","v":0},{"$f":"$I$5*'[2]21-23 Campus Contract Alloctns'!AJ54/SUM('[2]21-23 Campus Contract Alloctns'!$I$5:$AP$108)","v":0},{"$f":"$I$5*'[2]21-23 Campus Contract Alloctns'!AK54/SUM('[2]21-23 Campus Contract Alloctns'!$I$5:$AP$108)","v":0},{"$f":"$I$5*'[2]21-23 Campus Contract Alloctns'!AL54/SUM('[2]21-23 Campus Contract Alloctns'!$I$5:$AP$108)","v":0},{"$f":"$I$5*'[2]21-23 Campus Contract Alloctns'!AM54/SUM('[2]21-23 Campus Contract Alloctns'!$I$5:$AP$108)","v":0},{"$f":"$I$5*'[2]21-23 Campus Contract Alloctns'!AN54/SUM('[2]21-23 Campus Contract Alloctns'!$I$5:$AP$108)","v":0},{"$f":"$I$5*'[2]21-23 Campus Contract Alloctns'!AO54/SUM('[2]21-23 Campus Contract Alloctns'!$I$5:$AP$108)","v":0},{"$f":"$I$5*'[2]21-23 Campus Contract Alloctns'!AP54/SUM('[2]21-23 Campus Contract Alloctns'!$I$5:$AP$108)","v":0}]
[null,"190 - Board of Industrial Insurance Appeals","190","Board of Industrial Insurance Appeals",1.790471065312865E-3,101,1.790471065312865E-3,0,0,{"$f":"$I$5*'[2]21-23 Campus Contract Alloctns'!I55/SUM('[2]21-23 Campus Contract Alloctns'!$I$5:$AP$108)","v":0},{"$f":"$I$5*'[2]21-23 Campus Contract Alloctns'!J55/SUM('[2]21-23 Campus Contract Alloctns'!$I$5:$AP$108)","v":0},{"$f":"$I$5*'[2]21-23 Campus Contract Alloctns'!K55/SUM('[2]21-23 Campus Contract Alloctns'!$I$5:$AP$108)","v":0},{"$f":"$I$5*'[2]21-23 Campus Contract Alloctns'!L55/SUM('[2]21-23 Campus Contract Alloctns'!$I$5:$AP$108)","v":0},{"$f":"$I$5*'[2]21-23 Campus Contract Alloctns'!M55/SUM('[2]21-23 Campus Contract Alloctns'!$I$5:$AP$108)","v":0},{"$f":"$I$5*'[2]21-23 Campus Contract Alloctns'!N55/SUM('[2]21-23 Campus Contract Alloctns'!$I$5:$AP$108)","v":0},{"$f":"$I$5*'[2]21-23 Campus Contract Alloctns'!O55/SUM('[2]21-23 Campus Contract Alloctns'!$I$5:$AP$108)","v":0},{"$f":"$I$5*'[2]21-23 Campus Contract Alloctns'!P55/SUM('[2]21-23 Campus Contract Alloctns'!$I$5:$AP$108)","v":0},{"$f":"$I$5*'[2]21-23 Campus Contract Alloctns'!Q55/SUM('[2]21-23 Campus Contract Alloctns'!$I$5:$AP$108)","v":0},{"$f":"$I$5*'[2]21-23 Campus Contract Alloctns'!R55/SUM('[2]21-23 Campus Contract Alloctns'!$I$5:$AP$108)","v":0},{"$f":"$I$5*'[2]21-23 Campus Contract Alloctns'!S55/SUM('[2]21-23 Campus Contract Alloctns'!$I$5:$AP$108)","v":0},{"$f":"$I$5*'[2]21-23 Campus Contract Alloctns'!T55/SUM('[2]21-23 Campus Contract Alloctns'!$I$5:$AP$108)","v":0},{"$f":"$I$5*'[2]21-23 Campus Contract Alloctns'!U55/SUM('[2]21-23 Campus Contract Alloctns'!$I$5:$AP$108)","v":0},{"$f":"$I$5*'[2]21-23 Campus Contract Alloctns'!V55/SUM('[2]21-23 Campus Contract Alloctns'!$I$5:$AP$108)","v":0},{"$f":"$I$5*'[2]21-23 Campus Contract Alloctns'!W55/SUM('[2]21-23 Campus Contract Alloctns'!$I$5:$AP$108)","v":0},{"$f":"$I$5*'[2]21-23 Campus Contract Alloctns'!X55/SUM('[2]21-23 Campus Contract Alloctns'!$I$5:$AP$108)","v":0},{"$f":"$I$5*'[2]21-23 Campus Contract Alloctns'!Y55/SUM('[2]21-23 Campus Contract Alloctns'!$I$5:$AP$108)","v":0},{"$f":"$I$5*'[2]21-23 Campus Contract Alloctns'!Z55/SUM('[2]21-23 Campus Contract Alloctns'!$I$5:$AP$108)","v":0},{"$f":"$I$5*'[2]21-23 Campus Contract Alloctns'!AA55/SUM('[2]21-23 Campus Contract Alloctns'!$I$5:$AP$108)","v":0},{"$f":"$I$5*'[2]21-23 Campus Contract Alloctns'!AB55/SUM('[2]21-23 Campus Contract Alloctns'!$I$5:$AP$108)","v":0},{"$f":"$I$5*'[2]21-23 Campus Contract Alloctns'!AC55/SUM('[2]21-23 Campus Contract Alloctns'!$I$5:$AP$108)","v":0},{"$f":"$I$5*'[2]21-23 Campus Contract Alloctns'!AD55/SUM('[2]21-23 Campus Contract Alloctns'!$I$5:$AP$108)","v":0},{"$f":"$I$5*'[2]21-23 Campus Contract Alloctns'!AE55/SUM('[2]21-23 Campus Contract Alloctns'!$I$5:$AP$108)","v":0},{"$f":"$I$5*'[2]21-23 Campus Contract Alloctns'!AF55/SUM('[2]21-23 Campus Contract Alloctns'!$I$5:$AP$108)","v":0},{"$f":"$I$5*'[2]21-23 Campus Contract Alloctns'!AG55/SUM('[2]21-23 Campus Contract Alloctns'!$I$5:$AP$108)","v":0},{"$f":"$I$5*'[2]21-23 Campus Contract Alloctns'!AH55/SUM('[2]21-23 Campus Contract Alloctns'!$I$5:$AP$108)","v":0},{"$f":"$I$5*'[2]21-23 Campus Contract Alloctns'!AI55/SUM('[2]21-23 Campus Contract Alloctns'!$I$5:$AP$108)","v":0},{"$f":"$I$5*'[2]21-23 Campus Contract Alloctns'!AJ55/SUM('[2]21-23 Campus Contract Alloctns'!$I$5:$AP$108)","v":0},{"$f":"$I$5*'[2]21-23 Campus Contract Alloctns'!AK55/SUM('[2]21-23 Campus Contract Alloctns'!$I$5:$AP$108)","v":0},{"$f":"$I$5*'[2]21-23 Campus Contract Alloctns'!AL55/SUM('[2]21-23 Campus Contract Alloctns'!$I$5:$AP$108)","v":0},{"$f":"$I$5*'[2]21-23 Campus Contract Alloctns'!AM55/SUM('[2]21-23 Campus Contract Alloctns'!$I$5:$AP$108)","v":0},{"$f":"$I$5*'[2]21-23 Campus Contract Alloctns'!AN55/SUM('[2]21-23 Campus Contract Alloctns'!$I$5:$AP$108)","v":0},{"$f":"$I$5*'[2]21-23 Campus Contract Alloctns'!AO55/SUM('[2]21-23 Campus Contract Alloctns'!$I$5:$AP$108)","v":0},{"$f":"$I$5*'[2]21-23 Campus Contract Alloctns'!AP55/SUM('[2]21-23 Campus Contract Alloctns'!$I$5:$AP$108)","v":0}]
[null,"195 - Liquor Control Board","195","Liquor Control Board",3.9886731653009369E-3,225,3.9886731653009369E-3,0,0,{"$f":"$I$5*'[2]21-23 Campus Contract Alloctns'!I56/SUM('[2]21-23 Campus Contract Alloctns'!$I$5:$AP$108)","v":0},{"$f":"$I$5*'[2]21-23 Campus Contract Alloctns'!J56/SUM('[2]21-23 Campus Contract Alloctns'!$I$5:$AP$108)","v":0},{"$f":"$I$5*'[2]21-23 Campus Contract Alloctns'!K56/SUM('[2]21-23 Campus Contract Alloctns'!$I$5:$AP$108)","v":0},{"$f":"$I$5*'[2]21-23 Campus Contract Alloctns'!L56/SUM('[2]21-23 Campus Contract Alloctns'!$I$5:$AP$108)","v":0},{"$f":"$I$5*'[2]21-23 Campus Contract Alloctns'!M56/SUM('[2]21-23 Campus Contract Alloctns'!$I$5:$AP$108)","v":0},{"$f":"$I$5*'[2]21-23 Campus Contract Alloctns'!N56/SUM('[2]21-23 Campus Contract Alloctns'!$I$5:$AP$108)","v":0},{"$f":"$I$5*'[2]21-23 Campus Contract Alloctns'!O56/SUM('[2]21-23 Campus Contract Alloctns'!$I$5:$AP$108)","v":0},{"$f":"$I$5*'[2]21-23 Campus Contract Alloctns'!P56/SUM('[2]21-23 Campus Contract Alloctns'!$I$5:$AP$108)","v":0},{"$f":"$I$5*'[2]21-23 Campus Contract Alloctns'!Q56/SUM('[2]21-23 Campus Contract Alloctns'!$I$5:$AP$108)","v":0},{"$f":"$I$5*'[2]21-23 Campus Contract Alloctns'!R56/SUM('[2]21-23 Campus Contract Alloctns'!$I$5:$AP$108)","v":0},{"$f":"$I$5*'[2]21-23 Campus Contract Alloctns'!S56/SUM('[2]21-23 Campus Contract Alloctns'!$I$5:$AP$108)","v":0},{"$f":"$I$5*'[2]21-23 Campus Contract Alloctns'!T56/SUM('[2]21-23 Campus Contract Alloctns'!$I$5:$AP$108)","v":0},{"$f":"$I$5*'[2]21-23 Campus Contract Alloctns'!U56/SUM('[2]21-23 Campus Contract Alloctns'!$I$5:$AP$108)","v":0},{"$f":"$I$5*'[2]21-23 Campus Contract Alloctns'!V56/SUM('[2]21-23 Campus Contract Alloctns'!$I$5:$AP$108)","v":0},{"$f":"$I$5*'[2]21-23 Campus Contract Alloctns'!W56/SUM('[2]21-23 Campus Contract Alloctns'!$I$5:$AP$108)","v":0},{"$f":"$I$5*'[2]21-23 Campus Contract Alloctns'!X56/SUM('[2]21-23 Campus Contract Alloctns'!$I$5:$AP$108)","v":0},{"$f":"$I$5*'[2]21-23 Campus Contract Alloctns'!Y56/SUM('[2]21-23 Campus Contract Alloctns'!$I$5:$AP$108)","v":0},{"$f":"$I$5*'[2]21-23 Campus Contract Alloctns'!Z56/SUM('[2]21-23 Campus Contract Alloctns'!$I$5:$AP$108)","v":0},{"$f":"$I$5*'[2]21-23 Campus Contract Alloctns'!AA56/SUM('[2]21-23 Campus Contract Alloctns'!$I$5:$AP$108)","v":0},{"$f":"$I$5*'[2]21-23 Campus Contract Alloctns'!AB56/SUM('[2]21-23 Campus Contract Alloctns'!$I$5:$AP$108)","v":0},{"$f":"$I$5*'[2]21-23 Campus Contract Alloctns'!AC56/SUM('[2]21-23 Campus Contract Alloctns'!$I$5:$AP$108)","v":0},{"$f":"$I$5*'[2]21-23 Campus Contract Alloctns'!AD56/SUM('[2]21-23 Campus Contract Alloctns'!$I$5:$AP$108)","v":0},{"$f":"$I$5*'[2]21-23 Campus Contract Alloctns'!AE56/SUM('[2]21-23 Campus Contract Alloctns'!$I$5:$AP$108)","v":0},{"$f":"$I$5*'[2]21-23 Campus Contract Alloctns'!AF56/SUM('[2]21-23 Campus Contract Alloctns'!$I$5:$AP$108)","v":0},{"$f":"$I$5*'[2]21-23 Campus Contract Alloctns'!AG56/SUM('[2]21-23 Campus Contract Alloctns'!$I$5:$AP$108)","v":0},{"$f":"$I$5*'[2]21-23 Campus Contract Alloctns'!AH56/SUM('[2]21-23 Campus Contract Alloctns'!$I$5:$AP$108)","v":0},{"$f":"$I$5*'[2]21-23 Campus Contract Alloctns'!AI56/SUM('[2]21-23 Campus Contract Alloctns'!$I$5:$AP$108)","v":0},{"$f":"$I$5*'[2]21-23 Campus Contract Alloctns'!AJ56/SUM('[2]21-23 Campus Contract Alloctns'!$I$5:$AP$108)","v":0},{"$f":"$I$5*'[2]21-23 Campus Contract Alloctns'!AK56/SUM('[2]21-23 Campus Contract Alloctns'!$I$5:$AP$108)","v":0},{"$f":"$I$5*'[2]21-23 Campus Contract Alloctns'!AL56/SUM('[2]21-23 Campus Contract Alloctns'!$I$5:$AP$108)","v":0},{"$f":"$I$5*'[2]21-23 Campus Contract Alloctns'!AM56/SUM('[2]21-23 Campus Contract Alloctns'!$I$5:$AP$108)","v":0},{"$f":"$I$5*'[2]21-23 Campus Contract Alloctns'!AN56/SUM('[2]21-23 Campus Contract Alloctns'!$I$5:$AP$108)","v":0},{"$f":"$I$5*'[2]21-23 Campus Contract Alloctns'!AO56/SUM('[2]21-23 Campus Contract Alloctns'!$I$5:$AP$108)","v":0},{"$f":"$I$5*'[2]21-23 Campus Contract Alloctns'!AP56/SUM('[2]21-23 Campus Contract Alloctns'!$I$5:$AP$108)","v":0}]
[null,"205 - Board of Pilotage Commissioners","205","Board of Pilotage Commissioners",0,0,0,0,0,{"$f":"$I$5*'[2]21-23 Campus Contract Alloctns'!I57/SUM('[2]21-23 Campus Contract Alloctns'!$I$5:$AP$108)","v":0},{"$f":"$I$5*'[2]21-23 Campus Contract Alloctns'!J57/SUM('[2]21-23 Campus Contract Alloctns'!$I$5:$AP$108)","v":0},{"$f":"$I$5*'[2]21-23 Campus Contract Alloctns'!K57/SUM('[2]21-23 Campus Contract Alloctns'!$I$5:$AP$108)","v":0},{"$f":"$I$5*'[2]21-23 Campus Contract Alloctns'!L57/SUM('[2]21-23 Campus Contract Alloctns'!$I$5:$AP$108)","v":0},{"$f":"$I$5*'[2]21-23 Campus Contract Alloctns'!M57/SUM('[2]21-23 Campus Contract Alloctns'!$I$5:$AP$108)","v":0},{"$f":"$I$5*'[2]21-23 Campus Contract Alloctns'!N57/SUM('[2]21-23 Campus Contract Alloctns'!$I$5:$AP$108)","v":0},{"$f":"$I$5*'[2]21-23 Campus Contract Alloctns'!O57/SUM('[2]21-23 Campus Contract Alloctns'!$I$5:$AP$108)","v":0},{"$f":"$I$5*'[2]21-23 Campus Contract Alloctns'!P57/SUM('[2]21-23 Campus Contract Alloctns'!$I$5:$AP$108)","v":0},{"$f":"$I$5*'[2]21-23 Campus Contract Alloctns'!Q57/SUM('[2]21-23 Campus Contract Alloctns'!$I$5:$AP$108)","v":0},{"$f":"$I$5*'[2]21-23 Campus Contract Alloctns'!R57/SUM('[2]21-23 Campus Contract Alloctns'!$I$5:$AP$108)","v":0},{"$f":"$I$5*'[2]21-23 Campus Contract Alloctns'!S57/SUM('[2]21-23 Campus Contract Alloctns'!$I$5:$AP$108)","v":0},{"$f":"$I$5*'[2]21-23 Campus Contract Alloctns'!T57/SUM('[2]21-23 Campus Contract Alloctns'!$I$5:$AP$108)","v":0},{"$f":"$I$5*'[2]21-23 Campus Contract Alloctns'!U57/SUM('[2]21-23 Campus Contract Alloctns'!$I$5:$AP$108)","v":0},{"$f":"$I$5*'[2]21-23 Campus Contract Alloctns'!V57/SUM('[2]21-23 Campus Contract Alloctns'!$I$5:$AP$108)","v":0},{"$f":"$I$5*'[2]21-23 Campus Contract Alloctns'!W57/SUM('[2]21-23 Campus Contract Alloctns'!$I$5:$AP$108)","v":0},{"$f":"$I$5*'[2]21-23 Campus Contract Alloctns'!X57/SUM('[2]21-23 Campus Contract Alloctns'!$I$5:$AP$108)","v":0},{"$f":"$I$5*'[2]21-23 Campus Contract Alloctns'!Y57/SUM('[2]21-23 Campus Contract Alloctns'!$I$5:$AP$108)","v":0},{"$f":"$I$5*'[2]21-23 Campus Contract Alloctns'!Z57/SUM('[2]21-23 Campus Contract Alloctns'!$I$5:$AP$108)","v":0},{"$f":"$I$5*'[2]21-23 Campus Contract Alloctns'!AA57/SUM('[2]21-23 Campus Contract Alloctns'!$I$5:$AP$108)","v":0},{"$f":"$I$5*'[2]21-23 Campus Contract Alloctns'!AB57/SUM('[2]21-23 Campus Contract Alloctns'!$I$5:$AP$108)","v":0},{"$f":"$I$5*'[2]21-23 Campus Contract Alloctns'!AC57/SUM('[2]21-23 Campus Contract Alloctns'!$I$5:$AP$108)","v":0},{"$f":"$I$5*'[2]21-23 Campus Contract Alloctns'!AD57/SUM('[2]21-23 Campus Contract Alloctns'!$I$5:$AP$108)","v":0},{"$f":"$I$5*'[2]21-23 Campus Contract Alloctns'!AE57/SUM('[2]21-23 Campus Contract Alloctns'!$I$5:$AP$108)","v":0},{"$f":"$I$5*'[2]21-23 Campus Contract Alloctns'!AF57/SUM('[2]21-23 Campus Contract Alloctns'!$I$5:$AP$108)","v":0},{"$f":"$I$5*'[2]21-23 Campus Contract Alloctns'!AG57/SUM('[2]21-23 Campus Contract Alloctns'!$I$5:$AP$108)","v":0},{"$f":"$I$5*'[2]21-23 Campus Contract Alloctns'!AH57/SUM('[2]21-23 Campus Contract Alloctns'!$I$5:$AP$108)","v":0},{"$f":"$I$5*'[2]21-23 Campus Contract Alloctns'!AI57/SUM('[2]21-23 Campus Contract Alloctns'!$I$5:$AP$108)","v":0},{"$f":"$I$5*'[2]21-23 Campus Contract Alloctns'!AJ57/SUM('[2]21-23 Campus Contract Alloctns'!$I$5:$AP$108)","v":0},{"$f":"$I$5*'[2]21-23 Campus Contract Alloctns'!AK57/SUM('[2]21-23 Campus Contract Alloctns'!$I$5:$AP$108)","v":0},{"$f":"$I$5*'[2]21-23 Campus Contract Alloctns'!AL57/SUM('[2]21-23 Campus Contract Alloctns'!$I$5:$AP$108)","v":0},{"$f":"$I$5*'[2]21-23 Campus Contract Alloctns'!AM57/SUM('[2]21-23 Campus Contract Alloctns'!$I$5:$AP$108)","v":0},{"$f":"$I$5*'[2]21-23 Campus Contract Alloctns'!AN57/SUM('[2]21-23 Campus Contract Alloctns'!$I$5:$AP$108)","v":0},{"$f":"$I$5*'[2]21-23 Campus Contract Alloctns'!AO57/SUM('[2]21-23 Campus Contract Alloctns'!$I$5:$AP$108)","v":0},{"$f":"$I$5*'[2]21-23 Campus Contract Alloctns'!AP57/SUM('[2]21-23 Campus Contract Alloctns'!$I$5:$AP$108)","v":0}]
[null,"215 - Utilities and Transportation Commission","215","Utilities and Transportation Commission",2.6413880072437314E-3,149,2.6413880072437314E-3,0,0,{"$f":"$I$5*'[2]21-23 Campus Contract Alloctns'!I58/SUM('[2]21-23 Campus Contract Alloctns'!$I$5:$AP$108)","v":0},{"$f":"$I$5*'[2]21-23 Campus Contract Alloctns'!J58/SUM('[2]21-23 Campus Contract Alloctns'!$I$5:$AP$108)","v":0},{"$f":"$I$5*'[2]21-23 Campus Contract Alloctns'!K58/SUM('[2]21-23 Campus Contract Alloctns'!$I$5:$AP$108)","v":0},{"$f":"$I$5*'[2]21-23 Campus Contract Alloctns'!L58/SUM('[2]21-23 Campus Contract Alloctns'!$I$5:$AP$108)","v":0},{"$f":"$I$5*'[2]21-23 Campus Contract Alloctns'!M58/SUM('[2]21-23 Campus Contract Alloctns'!$I$5:$AP$108)","v":0},{"$f":"$I$5*'[2]21-23 Campus Contract Alloctns'!N58/SUM('[2]21-23 Campus Contract Alloctns'!$I$5:$AP$108)","v":0},{"$f":"$I$5*'[2]21-23 Campus Contract Alloctns'!O58/SUM('[2]21-23 Campus Contract Alloctns'!$I$5:$AP$108)","v":0},{"$f":"$I$5*'[2]21-23 Campus Contract Alloctns'!P58/SUM('[2]21-23 Campus Contract Alloctns'!$I$5:$AP$108)","v":0},{"$f":"$I$5*'[2]21-23 Campus Contract Alloctns'!Q58/SUM('[2]21-23 Campus Contract Alloctns'!$I$5:$AP$108)","v":0},{"$f":"$I$5*'[2]21-23 Campus Contract Alloctns'!R58/SUM('[2]21-23 Campus Contract Alloctns'!$I$5:$AP$108)","v":0},{"$f":"$I$5*'[2]21-23 Campus Contract Alloctns'!S58/SUM('[2]21-23 Campus Contract Alloctns'!$I$5:$AP$108)","v":0},{"$f":"$I$5*'[2]21-23 Campus Contract Alloctns'!T58/SUM('[2]21-23 Campus Contract Alloctns'!$I$5:$AP$108)","v":0},{"$f":"$I$5*'[2]21-23 Campus Contract Alloctns'!U58/SUM('[2]21-23 Campus Contract Alloctns'!$I$5:$AP$108)","v":0},{"$f":"$I$5*'[2]21-23 Campus Contract Alloctns'!V58/SUM('[2]21-23 Campus Contract Alloctns'!$I$5:$AP$108)","v":0},{"$f":"$I$5*'[2]21-23 Campus Contract Alloctns'!W58/SUM('[2]21-23 Campus Contract Alloctns'!$I$5:$AP$108)","v":0},{"$f":"$I$5*'[2]21-23 Campus Contract Alloctns'!X58/SUM('[2]21-23 Campus Contract Alloctns'!$I$5:$AP$108)","v":0},{"$f":"$I$5*'[2]21-23 Campus Contract Alloctns'!Y58/SUM('[2]21-23 Campus Contract Alloctns'!$I$5:$AP$108)","v":0},{"$f":"$I$5*'[2]21-23 Campus Contract Alloctns'!Z58/SUM('[2]21-23 Campus Contract Alloctns'!$I$5:$AP$108)","v":0},{"$f":"$I$5*'[2]21-23 Campus Contract Alloctns'!AA58/SUM('[2]21-23 Campus Contract Alloctns'!$I$5:$AP$108)","v":0},{"$f":"$I$5*'[2]21-23 Campus Contract Alloctns'!AB58/SUM('[2]21-23 Campus Contract Alloctns'!$I$5:$AP$108)","v":0},{"$f":"$I$5*'[2]21-23 Campus Contract Alloctns'!AC58/SUM('[2]21-23 Campus Contract Alloctns'!$I$5:$AP$108)","v":0},{"$f":"$I$5*'[2]21-23 Campus Contract Alloctns'!AD58/SUM('[2]21-23 Campus Contract Alloctns'!$I$5:$AP$108)","v":0},{"$f":"$I$5*'[2]21-23 Campus Contract Alloctns'!AE58/SUM('[2]21-23 Campus Contract Alloctns'!$I$5:$AP$108)","v":0},{"$f":"$I$5*'[2]21-23 Campus Contract Alloctns'!AF58/SUM('[2]21-23 Campus Contract Alloctns'!$I$5:$AP$108)","v":0},{"$f":"$I$5*'[2]21-23 Campus Contract Alloctns'!AG58/SUM('[2]21-23 Campus Contract Alloctns'!$I$5:$AP$108)","v":0},{"$f":"$I$5*'[2]21-23 Campus Contract Alloctns'!AH58/SUM('[2]21-23 Campus Contract Alloctns'!$I$5:$AP$108)","v":0},{"$f":"$I$5*'[2]21-23 Campus Contract Alloctns'!AI58/SUM('[2]21-23 Campus Contract Alloctns'!$I$5:$AP$108)","v":0},{"$f":"$I$5*'[2]21-23 Campus Contract Alloctns'!AJ58/SUM('[2]21-23 Campus Contract Alloctns'!$I$5:$AP$108)","v":0},{"$f":"$I$5*'[2]21-23 Campus Contract Alloctns'!AK58/SUM('[2]21-23 Campus Contract Alloctns'!$I$5:$AP$108)","v":0},{"$f":"$I$5*'[2]21-23 Campus Contract Alloctns'!AL58/SUM('[2]21-23 Campus Contract Alloctns'!$I$5:$AP$108)","v":0},{"$f":"$I$5*'[2]21-23 Campus Contract Alloctns'!AM58/SUM('[2]21-23 Campus Contract Alloctns'!$I$5:$AP$108)","v":0},{"$f":"$I$5*'[2]21-23 Campus Contract Alloctns'!AN58/SUM('[2]21-23 Campus Contract Alloctns'!$I$5:$AP$108)","v":0},{"$f":"$I$5*'[2]21-23 Campus Contract Alloctns'!AO58/SUM('[2]21-23 Campus Contract Alloctns'!$I$5:$AP$108)","v":0},{"$f":"$I$5*'[2]21-23 Campus Contract Alloctns'!AP58/SUM('[2]21-23 Campus Contract Alloctns'!$I$5:$AP$108)","v":0}]
[null,"220 - Board for Volunteer Firefighters and Reserve Officers","220","Board for Volunteer Firefighters and Reserve Officers",5.3182308870679155E-5,3,5.3182308870679155E-5,0,0,{"$f":"$I$5*'[2]21-23 Campus Contract Alloctns'!I59/SUM('[2]21-23 Campus Contract Alloctns'!$I$5:$AP$108)","v":0},{"$f":"$I$5*'[2]21-23 Campus Contract Alloctns'!J59/SUM('[2]21-23 Campus Contract Alloctns'!$I$5:$AP$108)","v":0},{"$f":"$I$5*'[2]21-23 Campus Contract Alloctns'!K59/SUM('[2]21-23 Campus Contract Alloctns'!$I$5:$AP$108)","v":0},{"$f":"$I$5*'[2]21-23 Campus Contract Alloctns'!L59/SUM('[2]21-23 Campus Contract Alloctns'!$I$5:$AP$108)","v":0},{"$f":"$I$5*'[2]21-23 Campus Contract Alloctns'!M59/SUM('[2]21-23 Campus Contract Alloctns'!$I$5:$AP$108)","v":0},{"$f":"$I$5*'[2]21-23 Campus Contract Alloctns'!N59/SUM('[2]21-23 Campus Contract Alloctns'!$I$5:$AP$108)","v":0},{"$f":"$I$5*'[2]21-23 Campus Contract Alloctns'!O59/SUM('[2]21-23 Campus Contract Alloctns'!$I$5:$AP$108)","v":0},{"$f":"$I$5*'[2]21-23 Campus Contract Alloctns'!P59/SUM('[2]21-23 Campus Contract Alloctns'!$I$5:$AP$108)","v":0},{"$f":"$I$5*'[2]21-23 Campus Contract Alloctns'!Q59/SUM('[2]21-23 Campus Contract Alloctns'!$I$5:$AP$108)","v":0},{"$f":"$I$5*'[2]21-23 Campus Contract Alloctns'!R59/SUM('[2]21-23 Campus Contract Alloctns'!$I$5:$AP$108)","v":0},{"$f":"$I$5*'[2]21-23 Campus Contract Alloctns'!S59/SUM('[2]21-23 Campus Contract Alloctns'!$I$5:$AP$108)","v":0},{"$f":"$I$5*'[2]21-23 Campus Contract Alloctns'!T59/SUM('[2]21-23 Campus Contract Alloctns'!$I$5:$AP$108)","v":0},{"$f":"$I$5*'[2]21-23 Campus Contract Alloctns'!U59/SUM('[2]21-23 Campus Contract Alloctns'!$I$5:$AP$108)","v":0},{"$f":"$I$5*'[2]21-23 Campus Contract Alloctns'!V59/SUM('[2]21-23 Campus Contract Alloctns'!$I$5:$AP$108)","v":0},{"$f":"$I$5*'[2]21-23 Campus Contract Alloctns'!W59/SUM('[2]21-23 Campus Contract Alloctns'!$I$5:$AP$108)","v":0},{"$f":"$I$5*'[2]21-23 Campus Contract Alloctns'!X59/SUM('[2]21-23 Campus Contract Alloctns'!$I$5:$AP$108)","v":0},{"$f":"$I$5*'[2]21-23 Campus Contract Alloctns'!Y59/SUM('[2]21-23 Campus Contract Alloctns'!$I$5:$AP$108)","v":0},{"$f":"$I$5*'[2]21-23 Campus Contract Alloctns'!Z59/SUM('[2]21-23 Campus Contract Alloctns'!$I$5:$AP$108)","v":0},{"$f":"$I$5*'[2]21-23 Campus Contract Alloctns'!AA59/SUM('[2]21-23 Campus Contract Alloctns'!$I$5:$AP$108)","v":0},{"$f":"$I$5*'[2]21-23 Campus Contract Alloctns'!AB59/SUM('[2]21-23 Campus Contract Alloctns'!$I$5:$AP$108)","v":0},{"$f":"$I$5*'[2]21-23 Campus Contract Alloctns'!AC59/SUM('[2]21-23 Campus Contract Alloctns'!$I$5:$AP$108)","v":0},{"$f":"$I$5*'[2]21-23 Campus Contract Alloctns'!AD59/SUM('[2]21-23 Campus Contract Alloctns'!$I$5:$AP$108)","v":0},{"$f":"$I$5*'[2]21-23 Campus Contract Alloctns'!AE59/SUM('[2]21-23 Campus Contract Alloctns'!$I$5:$AP$108)","v":0},{"$f":"$I$5*'[2]21-23 Campus Contract Alloctns'!AF59/SUM('[2]21-23 Campus Contract Alloctns'!$I$5:$AP$108)","v":0},{"$f":"$I$5*'[2]21-23 Campus Contract Alloctns'!AG59/SUM('[2]21-23 Campus Contract Alloctns'!$I$5:$AP$108)","v":0},{"$f":"$I$5*'[2]21-23 Campus Contract Alloctns'!AH59/SUM('[2]21-23 Campus Contract Alloctns'!$I$5:$AP$108)","v":0},{"$f":"$I$5*'[2]21-23 Campus Contract Alloctns'!AI59/SUM('[2]21-23 Campus Contract Alloctns'!$I$5:$AP$108)","v":0},{"$f":"$I$5*'[2]21-23 Campus Contract Alloctns'!AJ59/SUM('[2]21-23 Campus Contract Alloctns'!$I$5:$AP$108)","v":0},{"$f":"$I$5*'[2]21-23 Campus Contract Alloctns'!AK59/SUM('[2]21-23 Campus Contract Alloctns'!$I$5:$AP$108)","v":0},{"$f":"$I$5*'[2]21-23 Campus Contract Alloctns'!AL59/SUM('[2]21-23 Campus Contract Alloctns'!$I$5:$AP$108)","v":0},{"$f":"$I$5*'[2]21-23 Campus Contract Alloctns'!AM59/SUM('[2]21-23 Campus Contract Alloctns'!$I$5:$AP$108)","v":0},{"$f":"$I$5*'[2]21-23 Campus Contract Alloctns'!AN59/SUM('[2]21-23 Campus Contract Alloctns'!$I$5:$AP$108)","v":0},{"$f":"$I$5*'[2]21-23 Campus Contract Alloctns'!AO59/SUM('[2]21-23 Campus Contract Alloctns'!$I$5:$AP$108)","v":0},{"$f":"$I$5*'[2]21-23 Campus Contract Alloctns'!AP59/SUM('[2]21-23 Campus Contract Alloctns'!$I$5:$AP$108)","v":0}]
[null,"225 - Washington State Patrol","225","Washington State Patrol",1.0203746593582377E-2,566,1.0033728940268133E-2,2.0850834598050702E-5,1.4916681871619334E-4,{"$f":"$I$5*'[2]21-23 Campus Contract Alloctns'!I60/SUM('[2]21-23 Campus Contract Alloctns'!$I$5:$AP$108)","v":0},{"$f":"$I$5*'[2]21-23 Campus Contract Alloctns'!J60/SUM('[2]21-23 Campus Contract Alloctns'!$I$5:$AP$108)","v":0},{"$f":"$I$5*'[2]21-23 Campus Contract Alloctns'!K60/SUM('[2]21-23 Campus Contract Alloctns'!$I$5:$AP$108)","v":1.4916681871619337E-4},{"$f":"$I$5*'[2]21-23 Campus Contract Alloctns'!L60/SUM('[2]21-23 Campus Contract Alloctns'!$I$5:$AP$108)","v":0},{"$f":"$I$5*'[2]21-23 Campus Contract Alloctns'!M60/SUM('[2]21-23 Campus Contract Alloctns'!$I$5:$AP$108)","v":0},{"$f":"$I$5*'[2]21-23 Campus Contract Alloctns'!N60/SUM('[2]21-23 Campus Contract Alloctns'!$I$5:$AP$108)","v":0},{"$f":"$I$5*'[2]21-23 Campus Contract Alloctns'!O60/SUM('[2]21-23 Campus Contract Alloctns'!$I$5:$AP$108)","v":0},{"$f":"$I$5*'[2]21-23 Campus Contract Alloctns'!P60/SUM('[2]21-23 Campus Contract Alloctns'!$I$5:$AP$108)","v":0},{"$f":"$I$5*'[2]21-23 Campus Contract Alloctns'!Q60/SUM('[2]21-23 Campus Contract Alloctns'!$I$5:$AP$108)","v":0},{"$f":"$I$5*'[2]21-23 Campus Contract Alloctns'!R60/SUM('[2]21-23 Campus Contract Alloctns'!$I$5:$AP$108)","v":0},{"$f":"$I$5*'[2]21-23 Campus Contract Alloctns'!S60/SUM('[2]21-23 Campus Contract Alloctns'!$I$5:$AP$108)","v":0},{"$f":"$I$5*'[2]21-23 Campus Contract Alloctns'!T60/SUM('[2]21-23 Campus Contract Alloctns'!$I$5:$AP$108)","v":0},{"$f":"$I$5*'[2]21-23 Campus Contract Alloctns'!U60/SUM('[2]21-23 Campus Contract Alloctns'!$I$5:$AP$108)","v":0},{"$f":"$I$5*'[2]21-23 Campus Contract Alloctns'!V60/SUM('[2]21-23 Campus Contract Alloctns'!$I$5:$AP$108)","v":0},{"$f":"$I$5*'[2]21-23 Campus Contract Alloctns'!W60/SUM('[2]21-23 Campus Contract Alloctns'!$I$5:$AP$108)","v":0},{"$f":"$I$5*'[2]21-23 Campus Contract Alloctns'!X60/SUM('[2]21-23 Campus Contract Alloctns'!$I$5:$AP$108)","v":0},{"$f":"$I$5*'[2]21-23 Campus Contract Alloctns'!Y60/SUM('[2]21-23 Campus Contract Alloctns'!$I$5:$AP$108)","v":0},{"$f":"$I$5*'[2]21-23 Campus Contract Alloctns'!Z60/SUM('[2]21-23 Campus Contract Alloctns'!$I$5:$AP$108)","v":0},{"$f":"$I$5*'[2]21-23 Campus Contract Alloctns'!AA60/SUM('[2]21-23 Campus Contract Alloctns'!$I$5:$AP$108)","v":0},{"$f":"$I$5*'[2]21-23 Campus Contract Alloctns'!AB60/SUM('[2]21-23 Campus Contract Alloctns'!$I$5:$AP$108)","v":0},{"$f":"$I$5*'[2]21-23 Campus Contract Alloctns'!AC60/SUM('[2]21-23 Campus Contract Alloctns'!$I$5:$AP$108)","v":0},{"$f":"$I$5*'[2]21-23 Campus Contract Alloctns'!AD60/SUM('[2]21-23 Campus Contract Alloctns'!$I$5:$AP$108)","v":0},{"$f":"$I$5*'[2]21-23 Campus Contract Alloctns'!AE60/SUM('[2]21-23 Campus Contract Alloctns'!$I$5:$AP$108)","v":0},{"$f":"$I$5*'[2]21-23 Campus Contract Alloctns'!AF60/SUM('[2]21-23 Campus Contract Alloctns'!$I$5:$AP$108)","v":0},{"$f":"$I$5*'[2]21-23 Campus Contract Alloctns'!AG60/SUM('[2]21-23 Campus Contract Alloctns'!$I$5:$AP$108)","v":0},{"$f":"$I$5*'[2]21-23 Campus Contract Alloctns'!AH60/SUM('[2]21-23 Campus Contract Alloctns'!$I$5:$AP$108)","v":0},{"$f":"$I$5*'[2]21-23 Campus Contract Alloctns'!AI60/SUM('[2]21-23 Campus Contract Alloctns'!$I$5:$AP$108)","v":0},{"$f":"$I$5*'[2]21-23 Campus Contract Alloctns'!AJ60/SUM('[2]21-23 Campus Contract Alloctns'!$I$5:$AP$108)","v":0},{"$f":"$I$5*'[2]21-23 Campus Contract Alloctns'!AK60/SUM('[2]21-23 Campus Contract Alloctns'!$I$5:$AP$108)","v":0},{"$f":"$I$5*'[2]21-23 Campus Contract Alloctns'!AL60/SUM('[2]21-23 Campus Contract Alloctns'!$I$5:$AP$108)","v":0},{"$f":"$I$5*'[2]21-23 Campus Contract Alloctns'!AM60/SUM('[2]21-23 Campus Contract Alloctns'!$I$5:$AP$108)","v":0},{"$f":"$I$5*'[2]21-23 Campus Contract Alloctns'!AN60/SUM('[2]21-23 Campus Contract Alloctns'!$I$5:$AP$108)","v":0},{"$f":"$I$5*'[2]21-23 Campus Contract Alloctns'!AO60/SUM('[2]21-23 Campus Contract Alloctns'!$I$5:$AP$108)","v":0},{"$f":"$I$5*'[2]21-23 Campus Contract Alloctns'!AP60/SUM('[2]21-23 Campus Contract Alloctns'!$I$5:$AP$108)","v":0}]
[null,"227 - Criminal Justice Training Commission","227","Criminal Justice Training Commission",1.7727436290226384E-5,1,1.7727436290226384E-5,0,0,{"$f":"$I$5*'[2]21-23 Campus Contract Alloctns'!I61/SUM('[2]21-23 Campus Contract Alloctns'!$I$5:$AP$108)","v":0},{"$f":"$I$5*'[2]21-23 Campus Contract Alloctns'!J61/SUM('[2]21-23 Campus Contract Alloctns'!$I$5:$AP$108)","v":0},{"$f":"$I$5*'[2]21-23 Campus Contract Alloctns'!K61/SUM('[2]21-23 Campus Contract Alloctns'!$I$5:$AP$108)","v":0},{"$f":"$I$5*'[2]21-23 Campus Contract Alloctns'!L61/SUM('[2]21-23 Campus Contract Alloctns'!$I$5:$AP$108)","v":0},{"$f":"$I$5*'[2]21-23 Campus Contract Alloctns'!M61/SUM('[2]21-23 Campus Contract Alloctns'!$I$5:$AP$108)","v":0},{"$f":"$I$5*'[2]21-23 Campus Contract Alloctns'!N61/SUM('[2]21-23 Campus Contract Alloctns'!$I$5:$AP$108)","v":0},{"$f":"$I$5*'[2]21-23 Campus Contract Alloctns'!O61/SUM('[2]21-23 Campus Contract Alloctns'!$I$5:$AP$108)","v":0},{"$f":"$I$5*'[2]21-23 Campus Contract Alloctns'!P61/SUM('[2]21-23 Campus Contract Alloctns'!$I$5:$AP$108)","v":0},{"$f":"$I$5*'[2]21-23 Campus Contract Alloctns'!Q61/SUM('[2]21-23 Campus Contract Alloctns'!$I$5:$AP$108)","v":0},{"$f":"$I$5*'[2]21-23 Campus Contract Alloctns'!R61/SUM('[2]21-23 Campus Contract Alloctns'!$I$5:$AP$108)","v":0},{"$f":"$I$5*'[2]21-23 Campus Contract Alloctns'!S61/SUM('[2]21-23 Campus Contract Alloctns'!$I$5:$AP$108)","v":0},{"$f":"$I$5*'[2]21-23 Campus Contract Alloctns'!T61/SUM('[2]21-23 Campus Contract Alloctns'!$I$5:$AP$108)","v":0},{"$f":"$I$5*'[2]21-23 Campus Contract Alloctns'!U61/SUM('[2]21-23 Campus Contract Alloctns'!$I$5:$AP$108)","v":0},{"$f":"$I$5*'[2]21-23 Campus Contract Alloctns'!V61/SUM('[2]21-23 Campus Contract Alloctns'!$I$5:$AP$108)","v":0},{"$f":"$I$5*'[2]21-23 Campus Contract Alloctns'!W61/SUM('[2]21-23 Campus Contract Alloctns'!$I$5:$AP$108)","v":0},{"$f":"$I$5*'[2]21-23 Campus Contract Alloctns'!X61/SUM('[2]21-23 Campus Contract Alloctns'!$I$5:$AP$108)","v":0},{"$f":"$I$5*'[2]21-23 Campus Contract Alloctns'!Y61/SUM('[2]21-23 Campus Contract Alloctns'!$I$5:$AP$108)","v":0},{"$f":"$I$5*'[2]21-23 Campus Contract Alloctns'!Z61/SUM('[2]21-23 Campus Contract Alloctns'!$I$5:$AP$108)","v":0},{"$f":"$I$5*'[2]21-23 Campus Contract Alloctns'!AA61/SUM('[2]21-23 Campus Contract Alloctns'!$I$5:$AP$108)","v":0},{"$f":"$I$5*'[2]21-23 Campus Contract Alloctns'!AB61/SUM('[2]21-23 Campus Contract Alloctns'!$I$5:$AP$108)","v":0},{"$f":"$I$5*'[2]21-23 Campus Contract Alloctns'!AC61/SUM('[2]21-23 Campus Contract Alloctns'!$I$5:$AP$108)","v":0},{"$f":"$I$5*'[2]21-23 Campus Contract Alloctns'!AD61/SUM('[2]21-23 Campus Contract Alloctns'!$I$5:$AP$108)","v":0},{"$f":"$I$5*'[2]21-23 Campus Contract Alloctns'!AE61/SUM('[2]21-23 Campus Contract Alloctns'!$I$5:$AP$108)","v":0},{"$f":"$I$5*'[2]21-23 Campus Contract Alloctns'!AF61/SUM('[2]21-23 Campus Contract Alloctns'!$I$5:$AP$108)","v":0},{"$f":"$I$5*'[2]21-23 Campus Contract Alloctns'!AG61/SUM('[2]21-23 Campus Contract Alloctns'!$I$5:$AP$108)","v":0},{"$f":"$I$5*'[2]21-23 Campus Contract Alloctns'!AH61/SUM('[2]21-23 Campus Contract Alloctns'!$I$5:$AP$108)","v":0},{"$f":"$I$5*'[2]21-23 Campus Contract Alloctns'!AI61/SUM('[2]21-23 Campus Contract Alloctns'!$I$5:$AP$108)","v":0},{"$f":"$I$5*'[2]21-23 Campus Contract Alloctns'!AJ61/SUM('[2]21-23 Campus Contract Alloctns'!$I$5:$AP$108)","v":0},{"$f":"$I$5*'[2]21-23 Campus Contract Alloctns'!AK61/SUM('[2]21-23 Campus Contract Alloctns'!$I$5:$AP$108)","v":0},{"$f":"$I$5*'[2]21-23 Campus Contract Alloctns'!AL61/SUM('[2]21-23 Campus Contract Alloctns'!$I$5:$AP$108)","v":0},{"$f":"$I$5*'[2]21-23 Campus Contract Alloctns'!AM61/SUM('[2]21-23 Campus Contract Alloctns'!$I$5:$AP$108)","v":0},{"$f":"$I$5*'[2]21-23 Campus Contract Alloctns'!AN61/SUM('[2]21-23 Campus Contract Alloctns'!$I$5:$AP$108)","v":0},{"$f":"$I$5*'[2]21-23 Campus Contract Alloctns'!AO61/SUM('[2]21-23 Campus Contract Alloctns'!$I$5:$AP$108)","v":0},{"$f":"$I$5*'[2]21-23 Campus Contract Alloctns'!AP61/SUM('[2]21-23 Campus Contract Alloctns'!$I$5:$AP$108)","v":0}]
[null,"228 - Traffic Safety Commission","228","Traffic Safety Commission",3.7227616209475412E-4,21,3.7227616209475412E-4,0,0,{"$f":"$I$5*'[2]21-23 Campus Contract Alloctns'!I62/SUM('[2]21-23 Campus Contract Alloctns'!$I$5:$AP$108)","v":0},{"$f":"$I$5*'[2]21-23 Campus Contract Alloctns'!J62/SUM('[2]21-23 Campus Contract Alloctns'!$I$5:$AP$108)","v":0},{"$f":"$I$5*'[2]21-23 Campus Contract Alloctns'!K62/SUM('[2]21-23 Campus Contract Alloctns'!$I$5:$AP$108)","v":0},{"$f":"$I$5*'[2]21-23 Campus Contract Alloctns'!L62/SUM('[2]21-23 Campus Contract Alloctns'!$I$5:$AP$108)","v":0},{"$f":"$I$5*'[2]21-23 Campus Contract Alloctns'!M62/SUM('[2]21-23 Campus Contract Alloctns'!$I$5:$AP$108)","v":0},{"$f":"$I$5*'[2]21-23 Campus Contract Alloctns'!N62/SUM('[2]21-23 Campus Contract Alloctns'!$I$5:$AP$108)","v":0},{"$f":"$I$5*'[2]21-23 Campus Contract Alloctns'!O62/SUM('[2]21-23 Campus Contract Alloctns'!$I$5:$AP$108)","v":0},{"$f":"$I$5*'[2]21-23 Campus Contract Alloctns'!P62/SUM('[2]21-23 Campus Contract Alloctns'!$I$5:$AP$108)","v":0},{"$f":"$I$5*'[2]21-23 Campus Contract Alloctns'!Q62/SUM('[2]21-23 Campus Contract Alloctns'!$I$5:$AP$108)","v":0},{"$f":"$I$5*'[2]21-23 Campus Contract Alloctns'!R62/SUM('[2]21-23 Campus Contract Alloctns'!$I$5:$AP$108)","v":0},{"$f":"$I$5*'[2]21-23 Campus Contract Alloctns'!S62/SUM('[2]21-23 Campus Contract Alloctns'!$I$5:$AP$108)","v":0},{"$f":"$I$5*'[2]21-23 Campus Contract Alloctns'!T62/SUM('[2]21-23 Campus Contract Alloctns'!$I$5:$AP$108)","v":0},{"$f":"$I$5*'[2]21-23 Campus Contract Alloctns'!U62/SUM('[2]21-23 Campus Contract Alloctns'!$I$5:$AP$108)","v":0},{"$f":"$I$5*'[2]21-23 Campus Contract Alloctns'!V62/SUM('[2]21-23 Campus Contract Alloctns'!$I$5:$AP$108)","v":0},{"$f":"$I$5*'[2]21-23 Campus Contract Alloctns'!W62/SUM('[2]21-23 Campus Contract Alloctns'!$I$5:$AP$108)","v":0},{"$f":"$I$5*'[2]21-23 Campus Contract Alloctns'!X62/SUM('[2]21-23 Campus Contract Alloctns'!$I$5:$AP$108)","v":0},{"$f":"$I$5*'[2]21-23 Campus Contract Alloctns'!Y62/SUM('[2]21-23 Campus Contract Alloctns'!$I$5:$AP$108)","v":0},{"$f":"$I$5*'[2]21-23 Campus Contract Alloctns'!Z62/SUM('[2]21-23 Campus Contract Alloctns'!$I$5:$AP$108)","v":0},{"$f":"$I$5*'[2]21-23 Campus Contract Alloctns'!AA62/SUM('[2]21-23 Campus Contract Alloctns'!$I$5:$AP$108)","v":0},{"$f":"$I$5*'[2]21-23 Campus Contract Alloctns'!AB62/SUM('[2]21-23 Campus Contract Alloctns'!$I$5:$AP$108)","v":0},{"$f":"$I$5*'[2]21-23 Campus Contract Alloctns'!AC62/SUM('[2]21-23 Campus Contract Alloctns'!$I$5:$AP$108)","v":0},{"$f":"$I$5*'[2]21-23 Campus Contract Alloctns'!AD62/SUM('[2]21-23 Campus Contract Alloctns'!$I$5:$AP$108)","v":0},{"$f":"$I$5*'[2]21-23 Campus Contract Alloctns'!AE62/SUM('[2]21-23 Campus Contract Alloctns'!$I$5:$AP$108)","v":0},{"$f":"$I$5*'[2]21-23 Campus Contract Alloctns'!AF62/SUM('[2]21-23 Campus Contract Alloctns'!$I$5:$AP$108)","v":0},{"$f":"$I$5*'[2]21-23 Campus Contract Alloctns'!AG62/SUM('[2]21-23 Campus Contract Alloctns'!$I$5:$AP$108)","v":0},{"$f":"$I$5*'[2]21-23 Campus Contract Alloctns'!AH62/SUM('[2]21-23 Campus Contract Alloctns'!$I$5:$AP$108)","v":0},{"$f":"$I$5*'[2]21-23 Campus Contract Alloctns'!AI62/SUM('[2]21-23 Campus Contract Alloctns'!$I$5:$AP$108)","v":0},{"$f":"$I$5*'[2]21-23 Campus Contract Alloctns'!AJ62/SUM('[2]21-23 Campus Contract Alloctns'!$I$5:$AP$108)","v":0},{"$f":"$I$5*'[2]21-23 Campus Contract Alloctns'!AK62/SUM('[2]21-23 Campus Contract Alloctns'!$I$5:$AP$108)","v":0},{"$f":"$I$5*'[2]21-23 Campus Contract Alloctns'!AL62/SUM('[2]21-23 Campus Contract Alloctns'!$I$5:$AP$108)","v":0},{"$f":"$I$5*'[2]21-23 Campus Contract Alloctns'!AM62/SUM('[2]21-23 Campus Contract Alloctns'!$I$5:$AP$108)","v":0},{"$f":"$I$5*'[2]21-23 Campus Contract Alloctns'!AN62/SUM('[2]21-23 Campus Contract Alloctns'!$I$5:$AP$108)","v":0},{"$f":"$I$5*'[2]21-23 Campus Contract Alloctns'!AO62/SUM('[2]21-23 Campus Contract Alloctns'!$I$5:$AP$108)","v":0},{"$f":"$I$5*'[2]21-23 Campus Contract Alloctns'!AP62/SUM('[2]21-23 Campus Contract Alloctns'!$I$5:$AP$108)","v":0}]
[null,"235 - Department of Labor and Industries","235","Department of Labor and Industries",4.3786565358504767E-2,2195,3.8911722657046913E-2,0,4.874842701457857E-3,{"$f":"$I$5*'[2]21-23 Campus Contract Alloctns'!I63/SUM('[2]21-23 Campus Contract Alloctns'!$I$5:$AP$108)","v":0},{"$f":"$I$5*'[2]21-23 Campus Contract Alloctns'!J63/SUM('[2]21-23 Campus Contract Alloctns'!$I$5:$AP$108)","v":0},{"$f":"$I$5*'[2]21-23 Campus Contract Alloctns'!K63/SUM('[2]21-23 Campus Contract Alloctns'!$I$5:$AP$108)","v":0},{"$f":"$I$5*'[2]21-23 Campus Contract Alloctns'!L63/SUM('[2]21-23 Campus Contract Alloctns'!$I$5:$AP$108)","v":0},{"$f":"$I$5*'[2]21-23 Campus Contract Alloctns'!M63/SUM('[2]21-23 Campus Contract Alloctns'!$I$5:$AP$108)","v":0},{"$f":"$I$5*'[2]21-23 Campus Contract Alloctns'!N63/SUM('[2]21-23 Campus Contract Alloctns'!$I$5:$AP$108)","v":0},{"$f":"$I$5*'[2]21-23 Campus Contract Alloctns'!O63/SUM('[2]21-23 Campus Contract Alloctns'!$I$5:$AP$108)","v":0},{"$f":"$I$5*'[2]21-23 Campus Contract Alloctns'!P63/SUM('[2]21-23 Campus Contract Alloctns'!$I$5:$AP$108)","v":0},{"$f":"$I$5*'[2]21-23 Campus Contract Alloctns'!Q63/SUM('[2]21-23 Campus Contract Alloctns'!$I$5:$AP$108)","v":0},{"$f":"$I$5*'[2]21-23 Campus Contract Alloctns'!R63/SUM('[2]21-23 Campus Contract Alloctns'!$I$5:$AP$108)","v":0},{"$f":"$I$5*'[2]21-23 Campus Contract Alloctns'!S63/SUM('[2]21-23 Campus Contract Alloctns'!$I$5:$AP$108)","v":0},{"$f":"$I$5*'[2]21-23 Campus Contract Alloctns'!T63/SUM('[2]21-23 Campus Contract Alloctns'!$I$5:$AP$108)","v":0},{"$f":"$I$5*'[2]21-23 Campus Contract Alloctns'!U63/SUM('[2]21-23 Campus Contract Alloctns'!$I$5:$AP$108)","v":0},{"$f":"$I$5*'[2]21-23 Campus Contract Alloctns'!V63/SUM('[2]21-23 Campus Contract Alloctns'!$I$5:$AP$108)","v":0},{"$f":"$I$5*'[2]21-23 Campus Contract Alloctns'!W63/SUM('[2]21-23 Campus Contract Alloctns'!$I$5:$AP$108)","v":0},{"$f":"$I$5*'[2]21-23 Campus Contract Alloctns'!X63/SUM('[2]21-23 Campus Contract Alloctns'!$I$5:$AP$108)","v":0},{"$f":"$I$5*'[2]21-23 Campus Contract Alloctns'!Y63/SUM('[2]21-23 Campus Contract Alloctns'!$I$5:$AP$108)","v":0},{"$f":"$I$5*'[2]21-23 Campus Contract Alloctns'!Z63/SUM('[2]21-23 Campus Contract Alloctns'!$I$5:$AP$108)","v":0},{"$f":"$I$5*'[2]21-23 Campus Contract Alloctns'!AA63/SUM('[2]21-23 Campus Contract Alloctns'!$I$5:$AP$108)","v":0},{"$f":"$I$5*'[2]21-23 Campus Contract Alloctns'!AB63/SUM('[2]21-23 Campus Contract Alloctns'!$I$5:$AP$108)","v":0},{"$f":"$I$5*'[2]21-23 Campus Contract Alloctns'!AC63/SUM('[2]21-23 Campus Contract Alloctns'!$I$5:$AP$108)","v":0},{"$f":"$I$5*'[2]21-23 Campus Contract Alloctns'!AD63/SUM('[2]21-23 Campus Contract Alloctns'!$I$5:$AP$108)","v":0},{"$f":"$I$5*'[2]21-23 Campus Contract Alloctns'!AE63/SUM('[2]21-23 Campus Contract Alloctns'!$I$5:$AP$108)","v":0},{"$f":"$I$5*'[2]21-23 Campus Contract Alloctns'!AF63/SUM('[2]21-23 Campus Contract Alloctns'!$I$5:$AP$108)","v":0},{"$f":"$I$5*'[2]21-23 Campus Contract Alloctns'!AG63/SUM('[2]21-23 Campus Contract Alloctns'!$I$5:$AP$108)","v":0},{"$f":"$I$5*'[2]21-23 Campus Contract Alloctns'!AH63/SUM('[2]21-23 Campus Contract Alloctns'!$I$5:$AP$108)","v":0},{"$f":"$I$5*'[2]21-23 Campus Contract Alloctns'!AI63/SUM('[2]21-23 Campus Contract Alloctns'!$I$5:$AP$108)","v":0},{"$f":"$I$5*'[2]21-23 Campus Contract Alloctns'!AJ63/SUM('[2]21-23 Campus Contract Alloctns'!$I$5:$AP$108)","v":0},{"$f":"$I$5*'[2]21-23 Campus Contract Alloctns'!AK63/SUM('[2]21-23 Campus Contract Alloctns'!$I$5:$AP$108)","v":0},{"$f":"$I$5*'[2]21-23 Campus Contract Alloctns'!AL63/SUM('[2]21-23 Campus Contract Alloctns'!$I$5:$AP$108)","v":0},{"$f":"$I$5*'[2]21-23 Campus Contract Alloctns'!AM63/SUM('[2]21-23 Campus Contract Alloctns'!$I$5:$AP$108)","v":0},{"$f":"$I$5*'[2]21-23 Campus Contract Alloctns'!AN63/SUM('[2]21-23 Campus Contract Alloctns'!$I$5:$AP$108)","v":4.8748427014578578E-3},{"$f":"$I$5*'[2]21-23 Campus Contract Alloctns'!AO63/SUM('[2]21-23 Campus Contract Alloctns'!$I$5:$AP$108)","v":0},{"$f":"$I$5*'[2]21-23 Campus Contract Alloctns'!AP63/SUM('[2]21-23 Campus Contract Alloctns'!$I$5:$AP$108)","v":0}]
[null,"240 - Department of Licensing","240","Department of Licensing",4.7725342408083904E-2,894,1.5848328043462388E-2,4.1766226587837676E-3,2.7700391705837751E-2,{"$f":"$I$5*'[2]21-23 Campus Contract Alloctns'!I64/SUM('[2]21-23 Campus Contract Alloctns'!$I$5:$AP$108)","v":0},{"$f":"$I$5*'[2]21-23 Campus Contract Alloctns'!J64/SUM('[2]21-23 Campus Contract Alloctns'!$I$5:$AP$108)","v":0},{"$f":"$I$5*'[2]21-23 Campus Contract Alloctns'!K64/SUM('[2]21-23 Campus Contract Alloctns'!$I$5:$AP$108)","v":0},{"$f":"$I$5*'[2]21-23 Campus Contract Alloctns'!L64/SUM('[2]21-23 Campus Contract Alloctns'!$I$5:$AP$108)","v":0},{"$f":"$I$5*'[2]21-23 Campus Contract Alloctns'!M64/SUM('[2]21-23 Campus Contract Alloctns'!$I$5:$AP$108)","v":2.7700391705837754E-2},{"$f":"$I$5*'[2]21-23 Campus Contract Alloctns'!N64/SUM('[2]21-23 Campus Contract Alloctns'!$I$5:$AP$108)","v":0},{"$f":"$I$5*'[2]21-23 Campus Contract Alloctns'!O64/SUM('[2]21-23 Campus Contract Alloctns'!$I$5:$AP$108)","v":0},{"$f":"$I$5*'[2]21-23 Campus Contract Alloctns'!P64/SUM('[2]21-23 Campus Contract Alloctns'!$I$5:$AP$108)","v":0},{"$f":"$I$5*'[2]21-23 Campus Contract Alloctns'!Q64/SUM('[2]21-23 Campus Contract Alloctns'!$I$5:$AP$108)","v":0},{"$f":"$I$5*'[2]21-23 Campus Contract Alloctns'!R64/SUM('[2]21-23 Campus Contract Alloctns'!$I$5:$AP$108)","v":0},{"$f":"$I$5*'[2]21-23 Campus Contract Alloctns'!S64/SUM('[2]21-23 Campus Contract Alloctns'!$I$5:$AP$108)","v":0},{"$f":"$I$5*'[2]21-23 Campus Contract Alloctns'!T64/SUM('[2]21-23 Campus Contract Alloctns'!$I$5:$AP$108)","v":0},{"$f":"$I$5*'[2]21-23 Campus Contract Alloctns'!U64/SUM('[2]21-23 Campus Contract Alloctns'!$I$5:$AP$108)","v":0},{"$f":"$I$5*'[2]21-23 Campus Contract Alloctns'!V64/SUM('[2]21-23 Campus Contract Alloctns'!$I$5:$AP$108)","v":0},{"$f":"$I$5*'[2]21-23 Campus Contract Alloctns'!W64/SUM('[2]21-23 Campus Contract Alloctns'!$I$5:$AP$108)","v":0},{"$f":"$I$5*'[2]21-23 Campus Contract Alloctns'!X64/SUM('[2]21-23 Campus Contract Alloctns'!$I$5:$AP$108)","v":0},{"$f":"$I$5*'[2]21-23 Campus Contract Alloctns'!Y64/SUM('[2]21-23 Campus Contract Alloctns'!$I$5:$AP$108)","v":0},{"$f":"$I$5*'[2]21-23 Campus Contract Alloctns'!Z64/SUM('[2]21-23 Campus Contract Alloctns'!$I$5:$AP$108)","v":0},{"$f":"$I$5*'[2]21-23 Campus Contract Alloctns'!AA64/SUM('[2]21-23 Campus Contract Alloctns'!$I$5:$AP$108)","v":0},{"$f":"$I$5*'[2]21-23 Campus Contract Alloctns'!AB64/SUM('[2]21-23 Campus Contract Alloctns'!$I$5:$AP$108)","v":0},{"$f":"$I$5*'[2]21-23 Campus Contract Alloctns'!AC64/SUM('[2]21-23 Campus Contract Alloctns'!$I$5:$AP$108)","v":0},{"$f":"$I$5*'[2]21-23 Campus Contract Alloctns'!AD64/SUM('[2]21-23 Campus Contract Alloctns'!$I$5:$AP$108)","v":0},{"$f":"$I$5*'[2]21-23 Campus Contract Alloctns'!AE64/SUM('[2]21-23 Campus Contract Alloctns'!$I$5:$AP$108)","v":0},{"$f":"$I$5*'[2]21-23 Campus Contract Alloctns'!AF64/SUM('[2]21-23 Campus Contract Alloctns'!$I$5:$AP$108)","v":0},{"$f":"$I$5*'[2]21-23 Campus Contract Alloctns'!AG64/SUM('[2]21-23 Campus Contract Alloctns'!$I$5:$AP$108)","v":0},{"$f":"$I$5*'[2]21-23 Campus Contract Alloctns'!AH64/SUM('[2]21-23 Campus Contract Alloctns'!$I$5:$AP$108)","v":0},{"$f":"$I$5*'[2]21-23 Campus Contract Alloctns'!AI64/SUM('[2]21-23 Campus Contract Alloctns'!$I$5:$AP$108)","v":0},{"$f":"$I$5*'[2]21-23 Campus Contract Alloctns'!AJ64/SUM('[2]21-23 Campus Contract Alloctns'!$I$5:$AP$108)","v":0},{"$f":"$I$5*'[2]21-23 Campus Contract Alloctns'!AK64/SUM('[2]21-23 Campus Contract Alloctns'!$I$5:$AP$108)","v":0},{"$f":"$I$5*'[2]21-23 Campus Contract Alloctns'!AL64/SUM('[2]21-23 Campus Contract Alloctns'!$I$5:$AP$108)","v":0},{"$f":"$I$5*'[2]21-23 Campus Contract Alloctns'!AM64/SUM('[2]21-23 Campus Contract Alloctns'!$I$5:$AP$108)","v":0},{"$f":"$I$5*'[2]21-23 Campus Contract Alloctns'!AN64/SUM('[2]21-23 Campus Contract Alloctns'!$I$5:$AP$108)","v":0},{"$f":"$I$5*'[2]21-23 Campus Contract Alloctns'!AO64/SUM('[2]21-23 Campus Contract Alloctns'!$I$5:$AP$108)","v":0},{"$f":"$I$5*'[2]21-23 Campus Contract Alloctns'!AP64/SUM('[2]21-23 Campus Contract Alloctns'!$I$5:$AP$108)","v":0}]
[null,"245 - Military Department","245","Military Department",0,0,0,0,0,{"$f":"$I$5*'[2]21-23 Campus Contract Alloctns'!I65/SUM('[2]21-23 Campus Contract Alloctns'!$I$5:$AP$108)","v":0},{"$f":"$I$5*'[2]21-23 Campus Contract Alloctns'!J65/SUM('[2]21-23 Campus Contract Alloctns'!$I$5:$AP$108)","v":0},{"$f":"$I$5*'[2]21-23 Campus Contract Alloctns'!K65/SUM('[2]21-23 Campus Contract Alloctns'!$I$5:$AP$108)","v":0},{"$f":"$I$5*'[2]21-23 Campus Contract Alloctns'!L65/SUM('[2]21-23 Campus Contract Alloctns'!$I$5:$AP$108)","v":0},{"$f":"$I$5*'[2]21-23 Campus Contract Alloctns'!M65/SUM('[2]21-23 Campus Contract Alloctns'!$I$5:$AP$108)","v":0},{"$f":"$I$5*'[2]21-23 Campus Contract Alloctns'!N65/SUM('[2]21-23 Campus Contract Alloctns'!$I$5:$AP$108)","v":0},{"$f":"$I$5*'[2]21-23 Campus Contract Alloctns'!O65/SUM('[2]21-23 Campus Contract Alloctns'!$I$5:$AP$108)","v":0},{"$f":"$I$5*'[2]21-23 Campus Contract Alloctns'!P65/SUM('[2]21-23 Campus Contract Alloctns'!$I$5:$AP$108)","v":0},{"$f":"$I$5*'[2]21-23 Campus Contract Alloctns'!Q65/SUM('[2]21-23 Campus Contract Alloctns'!$I$5:$AP$108)","v":0},{"$f":"$I$5*'[2]21-23 Campus Contract Alloctns'!R65/SUM('[2]21-23 Campus Contract Alloctns'!$I$5:$AP$108)","v":0},{"$f":"$I$5*'[2]21-23 Campus Contract Alloctns'!S65/SUM('[2]21-23 Campus Contract Alloctns'!$I$5:$AP$108)","v":0},{"$f":"$I$5*'[2]21-23 Campus Contract Alloctns'!T65/SUM('[2]21-23 Campus Contract Alloctns'!$I$5:$AP$108)","v":0},{"$f":"$I$5*'[2]21-23 Campus Contract Alloctns'!U65/SUM('[2]21-23 Campus Contract Alloctns'!$I$5:$AP$108)","v":0},{"$f":"$I$5*'[2]21-23 Campus Contract Alloctns'!V65/SUM('[2]21-23 Campus Contract Alloctns'!$I$5:$AP$108)","v":0},{"$f":"$I$5*'[2]21-23 Campus Contract Alloctns'!W65/SUM('[2]21-23 Campus Contract Alloctns'!$I$5:$AP$108)","v":0},{"$f":"$I$5*'[2]21-23 Campus Contract Alloctns'!X65/SUM('[2]21-23 Campus Contract Alloctns'!$I$5:$AP$108)","v":0},{"$f":"$I$5*'[2]21-23 Campus Contract Alloctns'!Y65/SUM('[2]21-23 Campus Contract Alloctns'!$I$5:$AP$108)","v":0},{"$f":"$I$5*'[2]21-23 Campus Contract Alloctns'!Z65/SUM('[2]21-23 Campus Contract Alloctns'!$I$5:$AP$108)","v":0},{"$f":"$I$5*'[2]21-23 Campus Contract Alloctns'!AA65/SUM('[2]21-23 Campus Contract Alloctns'!$I$5:$AP$108)","v":0},{"$f":"$I$5*'[2]21-23 Campus Contract Alloctns'!AB65/SUM('[2]21-23 Campus Contract Alloctns'!$I$5:$AP$108)","v":0},{"$f":"$I$5*'[2]21-23 Campus Contract Alloctns'!AC65/SUM('[2]21-23 Campus Contract Alloctns'!$I$5:$AP$108)","v":0},{"$f":"$I$5*'[2]21-23 Campus Contract Alloctns'!AD65/SUM('[2]21-23 Campus Contract Alloctns'!$I$5:$AP$108)","v":0},{"$f":"$I$5*'[2]21-23 Campus Contract Alloctns'!AE65/SUM('[2]21-23 Campus Contract Alloctns'!$I$5:$AP$108)","v":0},{"$f":"$I$5*'[2]21-23 Campus Contract Alloctns'!AF65/SUM('[2]21-23 Campus Contract Alloctns'!$I$5:$AP$108)","v":0},{"$f":"$I$5*'[2]21-23 Campus Contract Alloctns'!AG65/SUM('[2]21-23 Campus Contract Alloctns'!$I$5:$AP$108)","v":0},{"$f":"$I$5*'[2]21-23 Campus Contract Alloctns'!AH65/SUM('[2]21-23 Campus Contract Alloctns'!$I$5:$AP$108)","v":0},{"$f":"$I$5*'[2]21-23 Campus Contract Alloctns'!AI65/SUM('[2]21-23 Campus Contract Alloctns'!$I$5:$AP$108)","v":0},{"$f":"$I$5*'[2]21-23 Campus Contract Alloctns'!AJ65/SUM('[2]21-23 Campus Contract Alloctns'!$I$5:$AP$108)","v":0},{"$f":"$I$5*'[2]21-23 Campus Contract Alloctns'!AK65/SUM('[2]21-23 Campus Contract Alloctns'!$I$5:$AP$108)","v":0},{"$f":"$I$5*'[2]21-23 Campus Contract Alloctns'!AL65/SUM('[2]21-23 Campus Contract Alloctns'!$I$5:$AP$108)","v":0},{"$f":"$I$5*'[2]21-23 Campus Contract Alloctns'!AM65/SUM('[2]21-23 Campus Contract Alloctns'!$I$5:$AP$108)","v":0},{"$f":"$I$5*'[2]21-23 Campus Contract Alloctns'!AN65/SUM('[2]21-23 Campus Contract Alloctns'!$I$5:$AP$108)","v":0},{"$f":"$I$5*'[2]21-23 Campus Contract Alloctns'!AO65/SUM('[2]21-23 Campus Contract Alloctns'!$I$5:$AP$108)","v":0},{"$f":"$I$5*'[2]21-23 Campus Contract Alloctns'!AP65/SUM('[2]21-23 Campus Contract Alloctns'!$I$5:$AP$108)","v":0}]
[null,"275 - Public Employment Relations Commission","275","Public Employment Relations Commission",3.7227616209475412E-4,21,3.7227616209475412E-4,0,0,{"$f":"$I$5*'[2]21-23 Campus Contract Alloctns'!I66/SUM('[2]21-23 Campus Contract Alloctns'!$I$5:$AP$108)","v":0},{"$f":"$I$5*'[2]21-23 Campus Contract Alloctns'!J66/SUM('[2]21-23 Campus Contract Alloctns'!$I$5:$AP$108)","v":0},{"$f":"$I$5*'[2]21-23 Campus Contract Alloctns'!K66/SUM('[2]21-23 Campus Contract Alloctns'!$I$5:$AP$108)","v":0},{"$f":"$I$5*'[2]21-23 Campus Contract Alloctns'!L66/SUM('[2]21-23 Campus Contract Alloctns'!$I$5:$AP$108)","v":0},{"$f":"$I$5*'[2]21-23 Campus Contract Alloctns'!M66/SUM('[2]21-23 Campus Contract Alloctns'!$I$5:$AP$108)","v":0},{"$f":"$I$5*'[2]21-23 Campus Contract Alloctns'!N66/SUM('[2]21-23 Campus Contract Alloctns'!$I$5:$AP$108)","v":0},{"$f":"$I$5*'[2]21-23 Campus Contract Alloctns'!O66/SUM('[2]21-23 Campus Contract Alloctns'!$I$5:$AP$108)","v":0},{"$f":"$I$5*'[2]21-23 Campus Contract Alloctns'!P66/SUM('[2]21-23 Campus Contract Alloctns'!$I$5:$AP$108)","v":0},{"$f":"$I$5*'[2]21-23 Campus Contract Alloctns'!Q66/SUM('[2]21-23 Campus Contract Alloctns'!$I$5:$AP$108)","v":0},{"$f":"$I$5*'[2]21-23 Campus Contract Alloctns'!R66/SUM('[2]21-23 Campus Contract Alloctns'!$I$5:$AP$108)","v":0},{"$f":"$I$5*'[2]21-23 Campus Contract Alloctns'!S66/SUM('[2]21-23 Campus Contract Alloctns'!$I$5:$AP$108)","v":0},{"$f":"$I$5*'[2]21-23 Campus Contract Alloctns'!T66/SUM('[2]21-23 Campus Contract Alloctns'!$I$5:$AP$108)","v":0},{"$f":"$I$5*'[2]21-23 Campus Contract Alloctns'!U66/SUM('[2]21-23 Campus Contract Alloctns'!$I$5:$AP$108)","v":0},{"$f":"$I$5*'[2]21-23 Campus Contract Alloctns'!V66/SUM('[2]21-23 Campus Contract Alloctns'!$I$5:$AP$108)","v":0},{"$f":"$I$5*'[2]21-23 Campus Contract Alloctns'!W66/SUM('[2]21-23 Campus Contract Alloctns'!$I$5:$AP$108)","v":0},{"$f":"$I$5*'[2]21-23 Campus Contract Alloctns'!X66/SUM('[2]21-23 Campus Contract Alloctns'!$I$5:$AP$108)","v":0},{"$f":"$I$5*'[2]21-23 Campus Contract Alloctns'!Y66/SUM('[2]21-23 Campus Contract Alloctns'!$I$5:$AP$108)","v":0},{"$f":"$I$5*'[2]21-23 Campus Contract Alloctns'!Z66/SUM('[2]21-23 Campus Contract Alloctns'!$I$5:$AP$108)","v":0},{"$f":"$I$5*'[2]21-23 Campus Contract Alloctns'!AA66/SUM('[2]21-23 Campus Contract Alloctns'!$I$5:$AP$108)","v":0},{"$f":"$I$5*'[2]21-23 Campus Contract Alloctns'!AB66/SUM('[2]21-23 Campus Contract Alloctns'!$I$5:$AP$108)","v":0},{"$f":"$I$5*'[2]21-23 Campus Contract Alloctns'!AC66/SUM('[2]21-23 Campus Contract Alloctns'!$I$5:$AP$108)","v":0},{"$f":"$I$5*'[2]21-23 Campus Contract Alloctns'!AD66/SUM('[2]21-23 Campus Contract Alloctns'!$I$5:$AP$108)","v":0},{"$f":"$I$5*'[2]21-23 Campus Contract Alloctns'!AE66/SUM('[2]21-23 Campus Contract Alloctns'!$I$5:$AP$108)","v":0},{"$f":"$I$5*'[2]21-23 Campus Contract Alloctns'!AF66/SUM('[2]21-23 Campus Contract Alloctns'!$I$5:$AP$108)","v":0},{"$f":"$I$5*'[2]21-23 Campus Contract Alloctns'!AG66/SUM('[2]21-23 Campus Contract Alloctns'!$I$5:$AP$108)","v":0},{"$f":"$I$5*'[2]21-23 Campus Contract Alloctns'!AH66/SUM('[2]21-23 Campus Contract Alloctns'!$I$5:$AP$108)","v":0},{"$f":"$I$5*'[2]21-23 Campus Contract Alloctns'!AI66/SUM('[2]21-23 Campus Contract Alloctns'!$I$5:$AP$108)","v":0},{"$f":"$I$5*'[2]21-23 Campus Contract Alloctns'!AJ66/SUM('[2]21-23 Campus Contract Alloctns'!$I$5:$AP$108)","v":0},{"$f":"$I$5*'[2]21-23 Campus Contract Alloctns'!AK66/SUM('[2]21-23 Campus Contract Alloctns'!$I$5:$AP$108)","v":0},{"$f":"$I$5*'[2]21-23 Campus Contract Alloctns'!AL66/SUM('[2]21-23 Campus Contract Alloctns'!$I$5:$AP$108)","v":0},{"$f":"$I$5*'[2]21-23 Campus Contract Alloctns'!AM66/SUM('[2]21-23 Campus Contract Alloctns'!$I$5:$AP$108)","v":0},{"$f":"$I$5*'[2]21-23 Campus Contract Alloctns'!AN66/SUM('[2]21-23 Campus Contract Alloctns'!$I$5:$AP$108)","v":0},{"$f":"$I$5*'[2]21-23 Campus Contract Alloctns'!AO66/SUM('[2]21-23 Campus Contract Alloctns'!$I$5:$AP$108)","v":0},{"$f":"$I$5*'[2]21-23 Campus Contract Alloctns'!AP66/SUM('[2]21-23 Campus Contract Alloctns'!$I$5:$AP$108)","v":0}]
[null,"300 - Department of Social and Health Services","300","Department of Social and Health Services",0.10854327135665358,2666,4.7261345149743547E-2,6.4674076214503761E-3,5.4814518585459653E-2,{"$f":"$I$5*'[2]21-23 Campus Contract Alloctns'!I67/SUM('[2]21-23 Campus Contract Alloctns'!$I$5:$AP$108)","v":0},{"$f":"$I$5*'[2]21-23 Campus Contract Alloctns'!J67/SUM('[2]21-23 Campus Contract Alloctns'!$I$5:$AP$108)","v":0},{"$f":"$I$5*'[2]21-23 Campus Contract Alloctns'!K67/SUM('[2]21-23 Campus Contract Alloctns'!$I$5:$AP$108)","v":0},{"$f":"$I$5*'[2]21-23 Campus Contract Alloctns'!L67/SUM('[2]21-23 Campus Contract Alloctns'!$I$5:$AP$108)","v":0},{"$f":"$I$5*'[2]21-23 Campus Contract Alloctns'!M67/SUM('[2]21-23 Campus Contract Alloctns'!$I$5:$AP$108)","v":0},{"$f":"$I$5*'[2]21-23 Campus Contract Alloctns'!N67/SUM('[2]21-23 Campus Contract Alloctns'!$I$5:$AP$108)","v":5.1448771193933332E-2},{"$f":"$I$5*'[2]21-23 Campus Contract Alloctns'!O67/SUM('[2]21-23 Campus Contract Alloctns'!$I$5:$AP$108)","v":0},{"$f":"$I$5*'[2]21-23 Campus Contract Alloctns'!P67/SUM('[2]21-23 Campus Contract Alloctns'!$I$5:$AP$108)","v":0},{"$f":"$I$5*'[2]21-23 Campus Contract Alloctns'!Q67/SUM('[2]21-23 Campus Contract Alloctns'!$I$5:$AP$108)","v":0},{"$f":"$I$5*'[2]21-23 Campus Contract Alloctns'!R67/SUM('[2]21-23 Campus Contract Alloctns'!$I$5:$AP$108)","v":0},{"$f":"$I$5*'[2]21-23 Campus Contract Alloctns'!S67/SUM('[2]21-23 Campus Contract Alloctns'!$I$5:$AP$108)","v":0},{"$f":"$I$5*'[2]21-23 Campus Contract Alloctns'!T67/SUM('[2]21-23 Campus Contract Alloctns'!$I$5:$AP$108)","v":0},{"$f":"$I$5*'[2]21-23 Campus Contract Alloctns'!U67/SUM('[2]21-23 Campus Contract Alloctns'!$I$5:$AP$108)","v":0},{"$f":"$I$5*'[2]21-23 Campus Contract Alloctns'!V67/SUM('[2]21-23 Campus Contract Alloctns'!$I$5:$AP$108)","v":0},{"$f":"$I$5*'[2]21-23 Campus Contract Alloctns'!W67/SUM('[2]21-23 Campus Contract Alloctns'!$I$5:$AP$108)","v":0},{"$f":"$I$5*'[2]21-23 Campus Contract Alloctns'!X67/SUM('[2]21-23 Campus Contract Alloctns'!$I$5:$AP$108)","v":0},{"$f":"$I$5*'[2]21-23 Campus Contract Alloctns'!Y67/SUM('[2]21-23 Campus Contract Alloctns'!$I$5:$AP$108)","v":0},{"$f":"$I$5*'[2]21-23 Campus Contract Alloctns'!Z67/SUM('[2]21-23 Campus Contract Alloctns'!$I$5:$AP$108)","v":0},{"$f":"$I$5*'[2]21-23 Campus Contract Alloctns'!AA67/SUM('[2]21-23 Campus Contract Alloctns'!$I$5:$AP$108)","v":0},{"$f":"$I$5*'[2]21-23 Campus Contract Alloctns'!AB67/SUM('[2]21-23 Campus Contract Alloctns'!$I$5:$AP$108)","v":0},{"$f":"$I$5*'[2]21-23 Campus Contract Alloctns'!AC67/SUM('[2]21-23 Campus Contract Alloctns'!$I$5:$AP$108)","v":0},{"$f":"$I$5*'[2]21-23 Campus Contract Alloctns'!AD67/SUM('[2]21-23 Campus Contract Alloctns'!$I$5:$AP$108)","v":0},{"$f":"$I$5*'[2]21-23 Campus Contract Alloctns'!AE67/SUM('[2]21-23 Campus Contract Alloctns'!$I$5:$AP$108)","v":0},{"$f":"$I$5*'[2]21-23 Campus Contract Alloctns'!AF67/SUM('[2]21-23 Campus Contract Alloctns'!$I$5:$AP$108)","v":0},{"$f":"$I$5*'[2]21-23 Campus Contract Alloctns'!AG67/SUM('[2]21-23 Campus Contract Alloctns'!$I$5:$AP$108)","v":0},{"$f":"$I$5*'[2]21-23 Campus Contract Alloctns'!AH67/SUM('[2]21-23 Campus Contract Alloctns'!$I$5:$AP$108)","v":0},{"$f":"$I$5*'[2]21-23 Campus Contract Alloctns'!AI67/SUM('[2]21-23 Campus Contract Alloctns'!$I$5:$AP$108)","v":0},{"$f":"$I$5*'[2]21-23 Campus Contract Alloctns'!AJ67/SUM('[2]21-23 Campus Contract Alloctns'!$I$5:$AP$108)","v":0},{"$f":"$I$5*'[2]21-23 Campus Contract Alloctns'!AK67/SUM('[2]21-23 Campus Contract Alloctns'!$I$5:$AP$108)","v":0},{"$f":"$I$5*'[2]21-23 Campus Contract Alloctns'!AL67/SUM('[2]21-23 Campus Contract Alloctns'!$I$5:$AP$108)","v":3.3657473915263253E-3},{"$f":"$I$5*'[2]21-23 Campus Contract Alloctns'!AM67/SUM('[2]21-23 Campus Contract Alloctns'!$I$5:$AP$108)","v":0},{"$f":"$I$5*'[2]21-23 Campus Contract Alloctns'!AN67/SUM('[2]21-23 Campus Contract Alloctns'!$I$5:$AP$108)","v":0},{"$f":"$I$5*'[2]21-23 Campus Contract Alloctns'!AO67/SUM('[2]21-23 Campus Contract Alloctns'!$I$5:$AP$108)","v":0},{"$f":"$I$5*'[2]21-23 Campus Contract Alloctns'!AP67/SUM('[2]21-23 Campus Contract Alloctns'!$I$5:$AP$108)","v":0}]
[null,"303 - Department of Health","303","Department of Health",2.7973894465977235E-2,1578,2.7973894465977235E-2,0,0,{"$f":"$I$5*'[2]21-23 Campus Contract Alloctns'!I68/SUM('[2]21-23 Campus Contract Alloctns'!$I$5:$AP$108)","v":0},{"$f":"$I$5*'[2]21-23 Campus Contract Alloctns'!J68/SUM('[2]21-23 Campus Contract Alloctns'!$I$5:$AP$108)","v":0},{"$f":"$I$5*'[2]21-23 Campus Contract Alloctns'!K68/SUM('[2]21-23 Campus Contract Alloctns'!$I$5:$AP$108)","v":0},{"$f":"$I$5*'[2]21-23 Campus Contract Alloctns'!L68/SUM('[2]21-23 Campus Contract Alloctns'!$I$5:$AP$108)","v":0},{"$f":"$I$5*'[2]21-23 Campus Contract Alloctns'!M68/SUM('[2]21-23 Campus Contract Alloctns'!$I$5:$AP$108)","v":0},{"$f":"$I$5*'[2]21-23 Campus Contract Alloctns'!N68/SUM('[2]21-23 Campus Contract Alloctns'!$I$5:$AP$108)","v":0},{"$f":"$I$5*'[2]21-23 Campus Contract Alloctns'!O68/SUM('[2]21-23 Campus Contract Alloctns'!$I$5:$AP$108)","v":0},{"$f":"$I$5*'[2]21-23 Campus Contract Alloctns'!P68/SUM('[2]21-23 Campus Contract Alloctns'!$I$5:$AP$108)","v":0},{"$f":"$I$5*'[2]21-23 Campus Contract Alloctns'!Q68/SUM('[2]21-23 Campus Contract Alloctns'!$I$5:$AP$108)","v":0},{"$f":"$I$5*'[2]21-23 Campus Contract Alloctns'!R68/SUM('[2]21-23 Campus Contract Alloctns'!$I$5:$AP$108)","v":0},{"$f":"$I$5*'[2]21-23 Campus Contract Alloctns'!S68/SUM('[2]21-23 Campus Contract Alloctns'!$I$5:$AP$108)","v":0},{"$f":"$I$5*'[2]21-23 Campus Contract Alloctns'!T68/SUM('[2]21-23 Campus Contract Alloctns'!$I$5:$AP$108)","v":0},{"$f":"$I$5*'[2]21-23 Campus Contract Alloctns'!U68/SUM('[2]21-23 Campus Contract Alloctns'!$I$5:$AP$108)","v":0},{"$f":"$I$5*'[2]21-23 Campus Contract Alloctns'!V68/SUM('[2]21-23 Campus Contract Alloctns'!$I$5:$AP$108)","v":0},{"$f":"$I$5*'[2]21-23 Campus Contract Alloctns'!W68/SUM('[2]21-23 Campus Contract Alloctns'!$I$5:$AP$108)","v":0},{"$f":"$I$5*'[2]21-23 Campus Contract Alloctns'!X68/SUM('[2]21-23 Campus Contract Alloctns'!$I$5:$AP$108)","v":0},{"$f":"$I$5*'[2]21-23 Campus Contract Alloctns'!Y68/SUM('[2]21-23 Campus Contract Alloctns'!$I$5:$AP$108)","v":0},{"$f":"$I$5*'[2]21-23 Campus Contract Alloctns'!Z68/SUM('[2]21-23 Campus Contract Alloctns'!$I$5:$AP$108)","v":0},{"$f":"$I$5*'[2]21-23 Campus Contract Alloctns'!AA68/SUM('[2]21-23 Campus Contract Alloctns'!$I$5:$AP$108)","v":0},{"$f":"$I$5*'[2]21-23 Campus Contract Alloctns'!AB68/SUM('[2]21-23 Campus Contract Alloctns'!$I$5:$AP$108)","v":0},{"$f":"$I$5*'[2]21-23 Campus Contract Alloctns'!AC68/SUM('[2]21-23 Campus Contract Alloctns'!$I$5:$AP$108)","v":0},{"$f":"$I$5*'[2]21-23 Campus Contract Alloctns'!AD68/SUM('[2]21-23 Campus Contract Alloctns'!$I$5:$AP$108)","v":0},{"$f":"$I$5*'[2]21-23 Campus Contract Alloctns'!AE68/SUM('[2]21-23 Campus Contract Alloctns'!$I$5:$AP$108)","v":0},{"$f":"$I$5*'[2]21-23 Campus Contract Alloctns'!AF68/SUM('[2]21-23 Campus Contract Alloctns'!$I$5:$AP$108)","v":0},{"$f":"$I$5*'[2]21-23 Campus Contract Alloctns'!AG68/SUM('[2]21-23 Campus Contract Alloctns'!$I$5:$AP$108)","v":0},{"$f":"$I$5*'[2]21-23 Campus Contract Alloctns'!AH68/SUM('[2]21-23 Campus Contract Alloctns'!$I$5:$AP$108)","v":0},{"$f":"$I$5*'[2]21-23 Campus Contract Alloctns'!AI68/SUM('[2]21-23 Campus Contract Alloctns'!$I$5:$AP$108)","v":0},{"$f":"$I$5*'[2]21-23 Campus Contract Alloctns'!AJ68/SUM('[2]21-23 Campus Contract Alloctns'!$I$5:$AP$108)","v":0},{"$f":"$I$5*'[2]21-23 Campus Contract Alloctns'!AK68/SUM('[2]21-23 Campus Contract Alloctns'!$I$5:$AP$108)","v":0},{"$f":"$I$5*'[2]21-23 Campus Contract Alloctns'!AL68/SUM('[2]21-23 Campus Contract Alloctns'!$I$5:$AP$108)","v":0},{"$f":"$I$5*'[2]21-23 Campus Contract Alloctns'!AM68/SUM('[2]21-23 Campus Contract Alloctns'!$I$5:$AP$108)","v":0},{"$f":"$I$5*'[2]21-23 Campus Contract Alloctns'!AN68/SUM('[2]21-23 Campus Contract Alloctns'!$I$5:$AP$108)","v":0},{"$f":"$I$5*'[2]21-23 Campus Contract Alloctns'!AO68/SUM('[2]21-23 Campus Contract Alloctns'!$I$5:$AP$108)","v":0},{"$f":"$I$5*'[2]21-23 Campus Contract Alloctns'!AP68/SUM('[2]21-23 Campus Contract Alloctns'!$I$5:$AP$108)","v":0}]
[null,"305 - Department of Veterans Affairs","305","Department of Veterans Affairs",1.4536497757985636E-3,82,1.4536497757985636E-3,0,0,{"$f":"$I$5*'[2]21-23 Campus Contract Alloctns'!I69/SUM('[2]21-23 Campus Contract Alloctns'!$I$5:$AP$108)","v":0},{"$f":"$I$5*'[2]21-23 Campus Contract Alloctns'!J69/SUM('[2]21-23 Campus Contract Alloctns'!$I$5:$AP$108)","v":0},{"$f":"$I$5*'[2]21-23 Campus Contract Alloctns'!K69/SUM('[2]21-23 Campus Contract Alloctns'!$I$5:$AP$108)","v":0},{"$f":"$I$5*'[2]21-23 Campus Contract Alloctns'!L69/SUM('[2]21-23 Campus Contract Alloctns'!$I$5:$AP$108)","v":0},{"$f":"$I$5*'[2]21-23 Campus Contract Alloctns'!M69/SUM('[2]21-23 Campus Contract Alloctns'!$I$5:$AP$108)","v":0},{"$f":"$I$5*'[2]21-23 Campus Contract Alloctns'!N69/SUM('[2]21-23 Campus Contract Alloctns'!$I$5:$AP$108)","v":0},{"$f":"$I$5*'[2]21-23 Campus Contract Alloctns'!O69/SUM('[2]21-23 Campus Contract Alloctns'!$I$5:$AP$108)","v":0},{"$f":"$I$5*'[2]21-23 Campus Contract Alloctns'!P69/SUM('[2]21-23 Campus Contract Alloctns'!$I$5:$AP$108)","v":0},{"$f":"$I$5*'[2]21-23 Campus Contract Alloctns'!Q69/SUM('[2]21-23 Campus Contract Alloctns'!$I$5:$AP$108)","v":0},{"$f":"$I$5*'[2]21-23 Campus Contract Alloctns'!R69/SUM('[2]21-23 Campus Contract Alloctns'!$I$5:$AP$108)","v":0},{"$f":"$I$5*'[2]21-23 Campus Contract Alloctns'!S69/SUM('[2]21-23 Campus Contract Alloctns'!$I$5:$AP$108)","v":0},{"$f":"$I$5*'[2]21-23 Campus Contract Alloctns'!T69/SUM('[2]21-23 Campus Contract Alloctns'!$I$5:$AP$108)","v":0},{"$f":"$I$5*'[2]21-23 Campus Contract Alloctns'!U69/SUM('[2]21-23 Campus Contract Alloctns'!$I$5:$AP$108)","v":0},{"$f":"$I$5*'[2]21-23 Campus Contract Alloctns'!V69/SUM('[2]21-23 Campus Contract Alloctns'!$I$5:$AP$108)","v":0},{"$f":"$I$5*'[2]21-23 Campus Contract Alloctns'!W69/SUM('[2]21-23 Campus Contract Alloctns'!$I$5:$AP$108)","v":0},{"$f":"$I$5*'[2]21-23 Campus Contract Alloctns'!X69/SUM('[2]21-23 Campus Contract Alloctns'!$I$5:$AP$108)","v":0},{"$f":"$I$5*'[2]21-23 Campus Contract Alloctns'!Y69/SUM('[2]21-23 Campus Contract Alloctns'!$I$5:$AP$108)","v":0},{"$f":"$I$5*'[2]21-23 Campus Contract Alloctns'!Z69/SUM('[2]21-23 Campus Contract Alloctns'!$I$5:$AP$108)","v":0},{"$f":"$I$5*'[2]21-23 Campus Contract Alloctns'!AA69/SUM('[2]21-23 Campus Contract Alloctns'!$I$5:$AP$108)","v":0},{"$f":"$I$5*'[2]21-23 Campus Contract Alloctns'!AB69/SUM('[2]21-23 Campus Contract Alloctns'!$I$5:$AP$108)","v":0},{"$f":"$I$5*'[2]21-23 Campus Contract Alloctns'!AC69/SUM('[2]21-23 Campus Contract Alloctns'!$I$5:$AP$108)","v":0},{"$f":"$I$5*'[2]21-23 Campus Contract Alloctns'!AD69/SUM('[2]21-23 Campus Contract Alloctns'!$I$5:$AP$108)","v":0},{"$f":"$I$5*'[2]21-23 Campus Contract Alloctns'!AE69/SUM('[2]21-23 Campus Contract Alloctns'!$I$5:$AP$108)","v":0},{"$f":"$I$5*'[2]21-23 Campus Contract Alloctns'!AF69/SUM('[2]21-23 Campus Contract Alloctns'!$I$5:$AP$108)","v":0},{"$f":"$I$5*'[2]21-23 Campus Contract Alloctns'!AG69/SUM('[2]21-23 Campus Contract Alloctns'!$I$5:$AP$108)","v":0},{"$f":"$I$5*'[2]21-23 Campus Contract Alloctns'!AH69/SUM('[2]21-23 Campus Contract Alloctns'!$I$5:$AP$108)","v":0},{"$f":"$I$5*'[2]21-23 Campus Contract Alloctns'!AI69/SUM('[2]21-23 Campus Contract Alloctns'!$I$5:$AP$108)","v":0},{"$f":"$I$5*'[2]21-23 Campus Contract Alloctns'!AJ69/SUM('[2]21-23 Campus Contract Alloctns'!$I$5:$AP$108)","v":0},{"$f":"$I$5*'[2]21-23 Campus Contract Alloctns'!AK69/SUM('[2]21-23 Campus Contract Alloctns'!$I$5:$AP$108)","v":0},{"$f":"$I$5*'[2]21-23 Campus Contract Alloctns'!AL69/SUM('[2]21-23 Campus Contract Alloctns'!$I$5:$AP$108)","v":0},{"$f":"$I$5*'[2]21-23 Campus Contract Alloctns'!AM69/SUM('[2]21-23 Campus Contract Alloctns'!$I$5:$AP$108)","v":0},{"$f":"$I$5*'[2]21-23 Campus Contract Alloctns'!AN69/SUM('[2]21-23 Campus Contract Alloctns'!$I$5:$AP$108)","v":0},{"$f":"$I$5*'[2]21-23 Campus Contract Alloctns'!AO69/SUM('[2]21-23 Campus Contract Alloctns'!$I$5:$AP$108)","v":0},{"$f":"$I$5*'[2]21-23 Campus Contract Alloctns'!AP69/SUM('[2]21-23 Campus Contract Alloctns'!$I$5:$AP$108)","v":0}]
[null,{"$f":"CONCATENATE(C72,\" - \",D72)","v":"307 - DCYF"},"307","DCYF",4.0068237653464178E-2,842,1.4926501356370617E-2,2.6481361894701242E-3,2.249360010762344E-2,{"$f":"$I$5*'[2]21-23 Campus Contract Alloctns'!I70/SUM('[2]21-23 Campus Contract Alloctns'!$I$5:$AP$108)","v":0},{"$f":"$I$5*'[2]21-23 Campus Contract Alloctns'!J70/SUM('[2]21-23 Campus Contract Alloctns'!$I$5:$AP$108)","v":0},{"$f":"$I$5*'[2]21-23 Campus Contract Alloctns'!K70/SUM('[2]21-23 Campus Contract Alloctns'!$I$5:$AP$108)","v":0},{"$f":"$I$5*'[2]21-23 Campus Contract Alloctns'!L70/SUM('[2]21-23 Campus Contract Alloctns'!$I$5:$AP$108)","v":0},{"$f":"$I$5*'[2]21-23 Campus Contract Alloctns'!M70/SUM('[2]21-23 Campus Contract Alloctns'!$I$5:$AP$108)","v":0},{"$f":"$I$5*'[2]21-23 Campus Contract Alloctns'!N70/SUM('[2]21-23 Campus Contract Alloctns'!$I$5:$AP$108)","v":2.1066145954763412E-2},{"$f":"$I$5*'[2]21-23 Campus Contract Alloctns'!O70/SUM('[2]21-23 Campus Contract Alloctns'!$I$5:$AP$108)","v":0},{"$f":"$I$5*'[2]21-23 Campus Contract Alloctns'!P70/SUM('[2]21-23 Campus Contract Alloctns'!$I$5:$AP$108)","v":0},{"$f":"$I$5*'[2]21-23 Campus Contract Alloctns'!Q70/SUM('[2]21-23 Campus Contract Alloctns'!$I$5:$AP$108)","v":0},{"$f":"$I$5*'[2]21-23 Campus Contract Alloctns'!R70/SUM('[2]21-23 Campus Contract Alloctns'!$I$5:$AP$108)","v":0},{"$f":"$I$5*'[2]21-23 Campus Contract Alloctns'!S70/SUM('[2]21-23 Campus Contract Alloctns'!$I$5:$AP$108)","v":0},{"$f":"$I$5*'[2]21-23 Campus Contract Alloctns'!T70/SUM('[2]21-23 Campus Contract Alloctns'!$I$5:$AP$108)","v":0},{"$f":"$I$5*'[2]21-23 Campus Contract Alloctns'!U70/SUM('[2]21-23 Campus Contract Alloctns'!$I$5:$AP$108)","v":0},{"$f":"$I$5*'[2]21-23 Campus Contract Alloctns'!V70/SUM('[2]21-23 Campus Contract Alloctns'!$I$5:$AP$108)","v":0},{"$f":"$I$5*'[2]21-23 Campus Contract Alloctns'!W70/SUM('[2]21-23 Campus Contract Alloctns'!$I$5:$AP$108)","v":0},{"$f":"$I$5*'[2]21-23 Campus Contract Alloctns'!X70/SUM('[2]21-23 Campus Contract Alloctns'!$I$5:$AP$108)","v":0},{"$f":"$I$5*'[2]21-23 Campus Contract Alloctns'!Y70/SUM('[2]21-23 Campus Contract Alloctns'!$I$5:$AP$108)","v":0},{"$f":"$I$5*'[2]21-23 Campus Contract Alloctns'!Z70/SUM('[2]21-23 Campus Contract Alloctns'!$I$5:$AP$108)","v":0},{"$f":"$I$5*'[2]21-23 Campus Contract Alloctns'!AA70/SUM('[2]21-23 Campus Contract Alloctns'!$I$5:$AP$108)","v":0},{"$f":"$I$5*'[2]21-23 Campus Contract Alloctns'!AB70/SUM('[2]21-23 Campus Contract Alloctns'!$I$5:$AP$108)","v":0},{"$f":"$I$5*'[2]21-23 Campus Contract Alloctns'!AC70/SUM('[2]21-23 Campus Contract Alloctns'!$I$5:$AP$108)","v":0},{"$f":"$I$5*'[2]21-23 Campus Contract Alloctns'!AD70/SUM('[2]21-23 Campus Contract Alloctns'!$I$5:$AP$108)","v":0},{"$f":"$I$5*'[2]21-23 Campus Contract Alloctns'!AE70/SUM('[2]21-23 Campus Contract Alloctns'!$I$5:$AP$108)","v":0},{"$f":"$I$5*'[2]21-23 Campus Contract Alloctns'!AF70/SUM('[2]21-23 Campus Contract Alloctns'!$I$5:$AP$108)","v":0},{"$f":"$I$5*'[2]21-23 Campus Contract Alloctns'!AG70/SUM('[2]21-23 Campus Contract Alloctns'!$I$5:$AP$108)","v":0},{"$f":"$I$5*'[2]21-23 Campus Contract Alloctns'!AH70/SUM('[2]21-23 Campus Contract Alloctns'!$I$5:$AP$108)","v":0},{"$f":"$I$5*'[2]21-23 Campus Contract Alloctns'!AI70/SUM('[2]21-23 Campus Contract Alloctns'!$I$5:$AP$108)","v":0},{"$f":"$I$5*'[2]21-23 Campus Contract Alloctns'!AJ70/SUM('[2]21-23 Campus Contract Alloctns'!$I$5:$AP$108)","v":0},{"$f":"$I$5*'[2]21-23 Campus Contract Alloctns'!AK70/SUM('[2]21-23 Campus Contract Alloctns'!$I$5:$AP$108)","v":0},{"$f":"$I$5*'[2]21-23 Campus Contract Alloctns'!AL70/SUM('[2]21-23 Campus Contract Alloctns'!$I$5:$AP$108)","v":1.4274541528600294E-3},{"$f":"$I$5*'[2]21-23 Campus Contract Alloctns'!AM70/SUM('[2]21-23 Campus Contract Alloctns'!$I$5:$AP$108)","v":0},{"$f":"$I$5*'[2]21-23 Campus Contract Alloctns'!AN70/SUM('[2]21-23 Campus Contract Alloctns'!$I$5:$AP$108)","v":0},{"$f":"$I$5*'[2]21-23 Campus Contract Alloctns'!AO70/SUM('[2]21-23 Campus Contract Alloctns'!$I$5:$AP$108)","v":0},{"$f":"$I$5*'[2]21-23 Campus Contract Alloctns'!AP70/SUM('[2]21-23 Campus Contract Alloctns'!$I$5:$AP$108)","v":0}]
[null,"310 - Department of Corrections","310","Department of Corrections",1.9411542737797893E-2,1095,1.9411542737797893E-2,0,0,{"$f":"$I$5*'[2]21-23 Campus Contract Alloctns'!I71/SUM('[2]21-23 Campus Contract Alloctns'!$I$5:$AP$108)","v":0},{"$f":"$I$5*'[2]21-23 Campus Contract Alloctns'!J71/SUM('[2]21-23 Campus Contract Alloctns'!$I$5:$AP$108)","v":0},{"$f":"$I$5*'[2]21-23 Campus Contract Alloctns'!K71/SUM('[2]21-23 Campus Contract Alloctns'!$I$5:$AP$108)","v":0},{"$f":"$I$5*'[2]21-23 Campus Contract Alloctns'!L71/SUM('[2]21-23 Campus Contract Alloctns'!$I$5:$AP$108)","v":0},{"$f":"$I$5*'[2]21-23 Campus Contract Alloctns'!M71/SUM('[2]21-23 Campus Contract Alloctns'!$I$5:$AP$108)","v":0},{"$f":"$I$5*'[2]21-23 Campus Contract Alloctns'!N71/SUM('[2]21-23 Campus Contract Alloctns'!$I$5:$AP$108)","v":0},{"$f":"$I$5*'[2]21-23 Campus Contract Alloctns'!O71/SUM('[2]21-23 Campus Contract Alloctns'!$I$5:$AP$108)","v":0},{"$f":"$I$5*'[2]21-23 Campus Contract Alloctns'!P71/SUM('[2]21-23 Campus Contract Alloctns'!$I$5:$AP$108)","v":0},{"$f":"$I$5*'[2]21-23 Campus Contract Alloctns'!Q71/SUM('[2]21-23 Campus Contract Alloctns'!$I$5:$AP$108)","v":0},{"$f":"$I$5*'[2]21-23 Campus Contract Alloctns'!R71/SUM('[2]21-23 Campus Contract Alloctns'!$I$5:$AP$108)","v":0},{"$f":"$I$5*'[2]21-23 Campus Contract Alloctns'!S71/SUM('[2]21-23 Campus Contract Alloctns'!$I$5:$AP$108)","v":0},{"$f":"$I$5*'[2]21-23 Campus Contract Alloctns'!T71/SUM('[2]21-23 Campus Contract Alloctns'!$I$5:$AP$108)","v":0},{"$f":"$I$5*'[2]21-23 Campus Contract Alloctns'!U71/SUM('[2]21-23 Campus Contract Alloctns'!$I$5:$AP$108)","v":0},{"$f":"$I$5*'[2]21-23 Campus Contract Alloctns'!V71/SUM('[2]21-23 Campus Contract Alloctns'!$I$5:$AP$108)","v":0},{"$f":"$I$5*'[2]21-23 Campus Contract Alloctns'!W71/SUM('[2]21-23 Campus Contract Alloctns'!$I$5:$AP$108)","v":0},{"$f":"$I$5*'[2]21-23 Campus Contract Alloctns'!X71/SUM('[2]21-23 Campus Contract Alloctns'!$I$5:$AP$108)","v":0},{"$f":"$I$5*'[2]21-23 Campus Contract Alloctns'!Y71/SUM('[2]21-23 Campus Contract Alloctns'!$I$5:$AP$108)","v":0},{"$f":"$I$5*'[2]21-23 Campus Contract Alloctns'!Z71/SUM('[2]21-23 Campus Contract Alloctns'!$I$5:$AP$108)","v":0},{"$f":"$I$5*'[2]21-23 Campus Contract Alloctns'!AA71/SUM('[2]21-23 Campus Contract Alloctns'!$I$5:$AP$108)","v":0},{"$f":"$I$5*'[2]21-23 Campus Contract Alloctns'!AB71/SUM('[2]21-23 Campus Contract Alloctns'!$I$5:$AP$108)","v":0},{"$f":"$I$5*'[2]21-23 Campus Contract Alloctns'!AC71/SUM('[2]21-23 Campus Contract Alloctns'!$I$5:$AP$108)","v":0},{"$f":"$I$5*'[2]21-23 Campus Contract Alloctns'!AD71/SUM('[2]21-23 Campus Contract Alloctns'!$I$5:$AP$108)","v":0},{"$f":"$I$5*'[2]21-23 Campus Contract Alloctns'!AE71/SUM('[2]21-23 Campus Contract Alloctns'!$I$5:$AP$108)","v":0},{"$f":"$I$5*'[2]21-23 Campus Contract Alloctns'!AF71/SUM('[2]21-23 Campus Contract Alloctns'!$I$5:$AP$108)","v":0},{"$f":"$I$5*'[2]21-23 Campus Contract Alloctns'!AG71/SUM('[2]21-23 Campus Contract Alloctns'!$I$5:$AP$108)","v":0},{"$f":"$I$5*'[2]21-23 Campus Contract Alloctns'!AH71/SUM('[2]21-23 Campus Contract Alloctns'!$I$5:$AP$108)","v":0},{"$f":"$I$5*'[2]21-23 Campus Contract Alloctns'!AI71/SUM('[2]21-23 Campus Contract Alloctns'!$I$5:$AP$108)","v":0},{"$f":"$I$5*'[2]21-23 Campus Contract Alloctns'!AJ71/SUM('[2]21-23 Campus Contract Alloctns'!$I$5:$AP$108)","v":0},{"$f":"$I$5*'[2]21-23 Campus Contract Alloctns'!AK71/SUM('[2]21-23 Campus Contract Alloctns'!$I$5:$AP$108)","v":0},{"$f":"$I$5*'[2]21-23 Campus Contract Alloctns'!AL71/SUM('[2]21-23 Campus Contract Alloctns'!$I$5:$AP$108)","v":0},{"$f":"$I$5*'[2]21-23 Campus Contract Alloctns'!AM71/SUM('[2]21-23 Campus Contract Alloctns'!$I$5:$AP$108)","v":0},{"$f":"$I$5*'[2]21-23 Campus Contract Alloctns'!AN71/SUM('[2]21-23 Campus Contract Alloctns'!$I$5:$AP$108)","v":0},{"$f":"$I$5*'[2]21-23 Campus Contract Alloctns'!AO71/SUM('[2]21-23 Campus Contract Alloctns'!$I$5:$AP$108)","v":0},{"$f":"$I$5*'[2]21-23 Campus Contract Alloctns'!AP71/SUM('[2]21-23 Campus Contract Alloctns'!$I$5:$AP$108)","v":0}]
[null,"315 - Department of Services for the Blind","315","Department of Services for the Blind",5.8821135611743167E-3,20,3.5454872580452775E-4,3.3974831067169921E-4,5.1878165246980901E-3,{"$f":"$I$5*'[2]21-23 Campus Contract Alloctns'!I72/SUM('[2]21-23 Campus Contract Alloctns'!$I$5:$AP$108)","v":0},{"$f":"$I$5*'[2]21-23 Campus Contract Alloctns'!J72/SUM('[2]21-23 Campus Contract Alloctns'!$I$5:$AP$108)","v":0},{"$f":"$I$5*'[2]21-23 Campus Contract Alloctns'!K72/SUM('[2]21-23 Campus Contract Alloctns'!$I$5:$AP$108)","v":1.6953382665628897E-4},{"$f":"$I$5*'[2]21-23 Campus Contract Alloctns'!L72/SUM('[2]21-23 Campus Contract Alloctns'!$I$5:$AP$108)","v":0},{"$f":"$I$5*'[2]21-23 Campus Contract Alloctns'!M72/SUM('[2]21-23 Campus Contract Alloctns'!$I$5:$AP$108)","v":2.3083438139675282E-4},{"$f":"$I$5*'[2]21-23 Campus Contract Alloctns'!N72/SUM('[2]21-23 Campus Contract Alloctns'!$I$5:$AP$108)","v":8.1978127712276983E-4},{"$f":"$I$5*'[2]21-23 Campus Contract Alloctns'!O72/SUM('[2]21-23 Campus Contract Alloctns'!$I$5:$AP$108)","v":0},{"$f":"$I$5*'[2]21-23 Campus Contract Alloctns'!P72/SUM('[2]21-23 Campus Contract Alloctns'!$I$5:$AP$108)","v":7.5142970831906341E-4},{"$f":"$I$5*'[2]21-23 Campus Contract Alloctns'!Q72/SUM('[2]21-23 Campus Contract Alloctns'!$I$5:$AP$108)","v":0},{"$f":"$I$5*'[2]21-23 Campus Contract Alloctns'!R72/SUM('[2]21-23 Campus Contract Alloctns'!$I$5:$AP$108)","v":3.5616908962037377E-4},{"$f":"$I$5*'[2]21-23 Campus Contract Alloctns'!S72/SUM('[2]21-23 Campus Contract Alloctns'!$I$5:$AP$108)","v":0},{"$f":"$I$5*'[2]21-23 Campus Contract Alloctns'!T72/SUM('[2]21-23 Campus Contract Alloctns'!$I$5:$AP$108)","v":0},{"$f":"$I$5*'[2]21-23 Campus Contract Alloctns'!U72/SUM('[2]21-23 Campus Contract Alloctns'!$I$5:$AP$108)","v":0},{"$f":"$I$5*'[2]21-23 Campus Contract Alloctns'!V72/SUM('[2]21-23 Campus Contract Alloctns'!$I$5:$AP$108)","v":0},{"$f":"$I$5*'[2]21-23 Campus Contract Alloctns'!W72/SUM('[2]21-23 Campus Contract Alloctns'!$I$5:$AP$108)","v":0},{"$f":"$I$5*'[2]21-23 Campus Contract Alloctns'!X72/SUM('[2]21-23 Campus Contract Alloctns'!$I$5:$AP$108)","v":0},{"$f":"$I$5*'[2]21-23 Campus Contract Alloctns'!Y72/SUM('[2]21-23 Campus Contract Alloctns'!$I$5:$AP$108)","v":0},{"$f":"$I$5*'[2]21-23 Campus Contract Alloctns'!Z72/SUM('[2]21-23 Campus Contract Alloctns'!$I$5:$AP$108)","v":0},{"$f":"$I$5*'[2]21-23 Campus Contract Alloctns'!AA72/SUM('[2]21-23 Campus Contract Alloctns'!$I$5:$AP$108)","v":0},{"$f":"$I$5*'[2]21-23 Campus Contract Alloctns'!AB72/SUM('[2]21-23 Campus Contract Alloctns'!$I$5:$AP$108)","v":0},{"$f":"$I$5*'[2]21-23 Campus Contract Alloctns'!AC72/SUM('[2]21-23 Campus Contract Alloctns'!$I$5:$AP$108)","v":0},{"$f":"$I$5*'[2]21-23 Campus Contract Alloctns'!AD72/SUM('[2]21-23 Campus Contract Alloctns'!$I$5:$AP$108)","v":0},{"$f":"$I$5*'[2]21-23 Campus Contract Alloctns'!AE72/SUM('[2]21-23 Campus Contract Alloctns'!$I$5:$AP$108)","v":0},{"$f":"$I$5*'[2]21-23 Campus Contract Alloctns'!AF72/SUM('[2]21-23 Campus Contract Alloctns'!$I$5:$AP$108)","v":0},{"$f":"$I$5*'[2]21-23 Campus Contract Alloctns'!AG72/SUM('[2]21-23 Campus Contract Alloctns'!$I$5:$AP$108)","v":0},{"$f":"$I$5*'[2]21-23 Campus Contract Alloctns'!AH72/SUM('[2]21-23 Campus Contract Alloctns'!$I$5:$AP$108)","v":0},{"$f":"$I$5*'[2]21-23 Campus Contract Alloctns'!AI72/SUM('[2]21-23 Campus Contract Alloctns'!$I$5:$AP$108)","v":0},{"$f":"$I$5*'[2]21-23 Campus Contract Alloctns'!AJ72/SUM('[2]21-23 Campus Contract Alloctns'!$I$5:$AP$108)","v":0},{"$f":"$I$5*'[2]21-23 Campus Contract Alloctns'!AK72/SUM('[2]21-23 Campus Contract Alloctns'!$I$5:$AP$108)","v":0},{"$f":"$I$5*'[2]21-23 Campus Contract Alloctns'!AL72/SUM('[2]21-23 Campus Contract Alloctns'!$I$5:$AP$108)","v":0},{"$f":"$I$5*'[2]21-23 Campus Contract Alloctns'!AM72/SUM('[2]21-23 Campus Contract Alloctns'!$I$5:$AP$108)","v":2.3966007721931775E-3},{"$f":"$I$5*'[2]21-23 Campus Contract Alloctns'!AN72/SUM('[2]21-23 Campus Contract Alloctns'!$I$5:$AP$108)","v":4.634674693896655E-4},{"$f":"$I$5*'[2]21-23 Campus Contract Alloctns'!AO72/SUM('[2]21-23 Campus Contract Alloctns'!$I$5:$AP$108)","v":0},{"$f":"$I$5*'[2]21-23 Campus Contract Alloctns'!AP72/SUM('[2]21-23 Campus Contract Alloctns'!$I$5:$AP$108)","v":0}]
[null,"340 - Student Achievement Council","340","Student Achievement Council",2.0032003007955817E-3,113,2.0032003007955817E-3,0,0,{"$f":"$I$5*'[2]21-23 Campus Contract Alloctns'!I73/SUM('[2]21-23 Campus Contract Alloctns'!$I$5:$AP$108)","v":0},{"$f":"$I$5*'[2]21-23 Campus Contract Alloctns'!J73/SUM('[2]21-23 Campus Contract Alloctns'!$I$5:$AP$108)","v":0},{"$f":"$I$5*'[2]21-23 Campus Contract Alloctns'!K73/SUM('[2]21-23 Campus Contract Alloctns'!$I$5:$AP$108)","v":0},{"$f":"$I$5*'[2]21-23 Campus Contract Alloctns'!L73/SUM('[2]21-23 Campus Contract Alloctns'!$I$5:$AP$108)","v":0},{"$f":"$I$5*'[2]21-23 Campus Contract Alloctns'!M73/SUM('[2]21-23 Campus Contract Alloctns'!$I$5:$AP$108)","v":0},{"$f":"$I$5*'[2]21-23 Campus Contract Alloctns'!N73/SUM('[2]21-23 Campus Contract Alloctns'!$I$5:$AP$108)","v":0},{"$f":"$I$5*'[2]21-23 Campus Contract Alloctns'!O73/SUM('[2]21-23 Campus Contract Alloctns'!$I$5:$AP$108)","v":0},{"$f":"$I$5*'[2]21-23 Campus Contract Alloctns'!P73/SUM('[2]21-23 Campus Contract Alloctns'!$I$5:$AP$108)","v":0},{"$f":"$I$5*'[2]21-23 Campus Contract Alloctns'!Q73/SUM('[2]21-23 Campus Contract Alloctns'!$I$5:$AP$108)","v":0},{"$f":"$I$5*'[2]21-23 Campus Contract Alloctns'!R73/SUM('[2]21-23 Campus Contract Alloctns'!$I$5:$AP$108)","v":0},{"$f":"$I$5*'[2]21-23 Campus Contract Alloctns'!S73/SUM('[2]21-23 Campus Contract Alloctns'!$I$5:$AP$108)","v":0},{"$f":"$I$5*'[2]21-23 Campus Contract Alloctns'!T73/SUM('[2]21-23 Campus Contract Alloctns'!$I$5:$AP$108)","v":0},{"$f":"$I$5*'[2]21-23 Campus Contract Alloctns'!U73/SUM('[2]21-23 Campus Contract Alloctns'!$I$5:$AP$108)","v":0},{"$f":"$I$5*'[2]21-23 Campus Contract Alloctns'!V73/SUM('[2]21-23 Campus Contract Alloctns'!$I$5:$AP$108)","v":0},{"$f":"$I$5*'[2]21-23 Campus Contract Alloctns'!W73/SUM('[2]21-23 Campus Contract Alloctns'!$I$5:$AP$108)","v":0},{"$f":"$I$5*'[2]21-23 Campus Contract Alloctns'!X73/SUM('[2]21-23 Campus Contract Alloctns'!$I$5:$AP$108)","v":0},{"$f":"$I$5*'[2]21-23 Campus Contract Alloctns'!Y73/SUM('[2]21-23 Campus Contract Alloctns'!$I$5:$AP$108)","v":0},{"$f":"$I$5*'[2]21-23 Campus Contract Alloctns'!Z73/SUM('[2]21-23 Campus Contract Alloctns'!$I$5:$AP$108)","v":0},{"$f":"$I$5*'[2]21-23 Campus Contract Alloctns'!AA73/SUM('[2]21-23 Campus Contract Alloctns'!$I$5:$AP$108)","v":0},{"$f":"$I$5*'[2]21-23 Campus Contract Alloctns'!AB73/SUM('[2]21-23 Campus Contract Alloctns'!$I$5:$AP$108)","v":0},{"$f":"$I$5*'[2]21-23 Campus Contract Alloctns'!AC73/SUM('[2]21-23 Campus Contract Alloctns'!$I$5:$AP$108)","v":0},{"$f":"$I$5*'[2]21-23 Campus Contract Alloctns'!AD73/SUM('[2]21-23 Campus Contract Alloctns'!$I$5:$AP$108)","v":0},{"$f":"$I$5*'[2]21-23 Campus Contract Alloctns'!AE73/SUM('[2]21-23 Campus Contract Alloctns'!$I$5:$AP$108)","v":0},{"$f":"$I$5*'[2]21-23 Campus Contract Alloctns'!AF73/SUM('[2]21-23 Campus Contract Alloctns'!$I$5:$AP$108)","v":0},{"$f":"$I$5*'[2]21-23 Campus Contract Alloctns'!AG73/SUM('[2]21-23 Campus Contract Alloctns'!$I$5:$AP$108)","v":0},{"$f":"$I$5*'[2]21-23 Campus Contract Alloctns'!AH73/SUM('[2]21-23 Campus Contract Alloctns'!$I$5:$AP$108)","v":0},{"$f":"$I$5*'[2]21-23 Campus Contract Alloctns'!AI73/SUM('[2]21-23 Campus Contract Alloctns'!$I$5:$AP$108)","v":0},{"$f":"$I$5*'[2]21-23 Campus Contract Alloctns'!AJ73/SUM('[2]21-23 Campus Contract Alloctns'!$I$5:$AP$108)","v":0},{"$f":"$I$5*'[2]21-23 Campus Contract Alloctns'!AK73/SUM('[2]21-23 Campus Contract Alloctns'!$I$5:$AP$108)","v":0},{"$f":"$I$5*'[2]21-23 Campus Contract Alloctns'!AL73/SUM('[2]21-23 Campus Contract Alloctns'!$I$5:$AP$108)","v":0},{"$f":"$I$5*'[2]21-23 Campus Contract Alloctns'!AM73/SUM('[2]21-23 Campus Contract Alloctns'!$I$5:$AP$108)","v":0},{"$f":"$I$5*'[2]21-23 Campus Contract Alloctns'!AN73/SUM('[2]21-23 Campus Contract Alloctns'!$I$5:$AP$108)","v":0},{"$f":"$I$5*'[2]21-23 Campus Contract Alloctns'!AO73/SUM('[2]21-23 Campus Contract Alloctns'!$I$5:$AP$108)","v":0},{"$f":"$I$5*'[2]21-23 Campus Contract Alloctns'!AP73/SUM('[2]21-23 Campus Contract Alloctns'!$I$5:$AP$108)","v":0}]
[null,"341 - Law Enforcement Officers' & Fire Fighters' Plan 2 Retirement Board","341","Law Enforcement Officers' & Fire Fighters' Plan 2 Retirement Board",1.4181949032181107E-4,8,1.4181949032181107E-4,0,0,{"$f":"$I$5*'[2]21-23 Campus Contract Alloctns'!I74/SUM('[2]21-23 Campus Contract Alloctns'!$I$5:$AP$108)","v":0},{"$f":"$I$5*'[2]21-23 Campus Contract Alloctns'!J74/SUM('[2]21-23 Campus Contract Alloctns'!$I$5:$AP$108)","v":0},{"$f":"$I$5*'[2]21-23 Campus Contract Alloctns'!K74/SUM('[2]21-23 Campus Contract Alloctns'!$I$5:$AP$108)","v":0},{"$f":"$I$5*'[2]21-23 Campus Contract Alloctns'!L74/SUM('[2]21-23 Campus Contract Alloctns'!$I$5:$AP$108)","v":0},{"$f":"$I$5*'[2]21-23 Campus Contract Alloctns'!M74/SUM('[2]21-23 Campus Contract Alloctns'!$I$5:$AP$108)","v":0},{"$f":"$I$5*'[2]21-23 Campus Contract Alloctns'!N74/SUM('[2]21-23 Campus Contract Alloctns'!$I$5:$AP$108)","v":0},{"$f":"$I$5*'[2]21-23 Campus Contract Alloctns'!O74/SUM('[2]21-23 Campus Contract Alloctns'!$I$5:$AP$108)","v":0},{"$f":"$I$5*'[2]21-23 Campus Contract Alloctns'!P74/SUM('[2]21-23 Campus Contract Alloctns'!$I$5:$AP$108)","v":0},{"$f":"$I$5*'[2]21-23 Campus Contract Alloctns'!Q74/SUM('[2]21-23 Campus Contract Alloctns'!$I$5:$AP$108)","v":0},{"$f":"$I$5*'[2]21-23 Campus Contract Alloctns'!R74/SUM('[2]21-23 Campus Contract Alloctns'!$I$5:$AP$108)","v":0},{"$f":"$I$5*'[2]21-23 Campus Contract Alloctns'!S74/SUM('[2]21-23 Campus Contract Alloctns'!$I$5:$AP$108)","v":0},{"$f":"$I$5*'[2]21-23 Campus Contract Alloctns'!T74/SUM('[2]21-23 Campus Contract Alloctns'!$I$5:$AP$108)","v":0},{"$f":"$I$5*'[2]21-23 Campus Contract Alloctns'!U74/SUM('[2]21-23 Campus Contract Alloctns'!$I$5:$AP$108)","v":0},{"$f":"$I$5*'[2]21-23 Campus Contract Alloctns'!V74/SUM('[2]21-23 Campus Contract Alloctns'!$I$5:$AP$108)","v":0},{"$f":"$I$5*'[2]21-23 Campus Contract Alloctns'!W74/SUM('[2]21-23 Campus Contract Alloctns'!$I$5:$AP$108)","v":0},{"$f":"$I$5*'[2]21-23 Campus Contract Alloctns'!X74/SUM('[2]21-23 Campus Contract Alloctns'!$I$5:$AP$108)","v":0},{"$f":"$I$5*'[2]21-23 Campus Contract Alloctns'!Y74/SUM('[2]21-23 Campus Contract Alloctns'!$I$5:$AP$108)","v":0},{"$f":"$I$5*'[2]21-23 Campus Contract Alloctns'!Z74/SUM('[2]21-23 Campus Contract Alloctns'!$I$5:$AP$108)","v":0},{"$f":"$I$5*'[2]21-23 Campus Contract Alloctns'!AA74/SUM('[2]21-23 Campus Contract Alloctns'!$I$5:$AP$108)","v":0},{"$f":"$I$5*'[2]21-23 Campus Contract Alloctns'!AB74/SUM('[2]21-23 Campus Contract Alloctns'!$I$5:$AP$108)","v":0},{"$f":"$I$5*'[2]21-23 Campus Contract Alloctns'!AC74/SUM('[2]21-23 Campus Contract Alloctns'!$I$5:$AP$108)","v":0},{"$f":"$I$5*'[2]21-23 Campus Contract Alloctns'!AD74/SUM('[2]21-23 Campus Contract Alloctns'!$I$5:$AP$108)","v":0},{"$f":"$I$5*'[2]21-23 Campus Contract Alloctns'!AE74/SUM('[2]21-23 Campus Contract Alloctns'!$I$5:$AP$108)","v":0},{"$f":"$I$5*'[2]21-23 Campus Contract Alloctns'!AF74/SUM('[2]21-23 Campus Contract Alloctns'!$I$5:$AP$108)","v":0},{"$f":"$I$5*'[2]21-23 Campus Contract Alloctns'!AG74/SUM('[2]21-23 Campus Contract Alloctns'!$I$5:$AP$108)","v":0},{"$f":"$I$5*'[2]21-23 Campus Contract Alloctns'!AH74/SUM('[2]21-23 Campus Contract Alloctns'!$I$5:$AP$108)","v":0},{"$f":"$I$5*'[2]21-23 Campus Contract Alloctns'!AI74/SUM('[2]21-23 Campus Contract Alloctns'!$I$5:$AP$108)","v":0},{"$f":"$I$5*'[2]21-23 Campus Contract Alloctns'!AJ74/SUM('[2]21-23 Campus Contract Alloctns'!$I$5:$AP$108)","v":0},{"$f":"$I$5*'[2]21-23 Campus Contract Alloctns'!AK74/SUM('[2]21-23 Campus Contract Alloctns'!$I$5:$AP$108)","v":0},{"$f":"$I$5*'[2]21-23 Campus Contract Alloctns'!AL74/SUM('[2]21-23 Campus Contract Alloctns'!$I$5:$AP$108)","v":0},{"$f":"$I$5*'[2]21-23 Campus Contract Alloctns'!AM74/SUM('[2]21-23 Campus Contract Alloctns'!$I$5:$AP$108)","v":0},{"$f":"$I$5*'[2]21-23 Campus Contract Alloctns'!AN74/SUM('[2]21-23 Campus Contract Alloctns'!$I$5:$AP$108)","v":0},{"$f":"$I$5*'[2]21-23 Campus Contract Alloctns'!AO74/SUM('[2]21-23 Campus Contract Alloctns'!$I$5:$AP$108)","v":0},{"$f":"$I$5*'[2]21-23 Campus Contract Alloctns'!AP74/SUM('[2]21-23 Campus Contract Alloctns'!$I$5:$AP$108)","v":0}]
[null,"350 - Superintendent of Public Instruction","350","Superintendent of Public Instruction",3.5221875624821646E-2,457,8.1014383846334578E-3,3.9215608147872283E-3,2.3198876425400958E-2,{"$f":"$I$5*'[2]21-23 Campus Contract Alloctns'!I75/SUM('[2]21-23 Campus Contract Alloctns'!$I$5:$AP$108)","v":0},{"$f":"$I$5*'[2]21-23 Campus Contract Alloctns'!J75/SUM('[2]21-23 Campus Contract Alloctns'!$I$5:$AP$108)","v":0},{"$f":"$I$5*'[2]21-23 Campus Contract Alloctns'!K75/SUM('[2]21-23 Campus Contract Alloctns'!$I$5:$AP$108)","v":0},{"$f":"$I$5*'[2]21-23 Campus Contract Alloctns'!L75/SUM('[2]21-23 Campus Contract Alloctns'!$I$5:$AP$108)","v":0},{"$f":"$I$5*'[2]21-23 Campus Contract Alloctns'!M75/SUM('[2]21-23 Campus Contract Alloctns'!$I$5:$AP$108)","v":0},{"$f":"$I$5*'[2]21-23 Campus Contract Alloctns'!N75/SUM('[2]21-23 Campus Contract Alloctns'!$I$5:$AP$108)","v":0},{"$f":"$I$5*'[2]21-23 Campus Contract Alloctns'!O75/SUM('[2]21-23 Campus Contract Alloctns'!$I$5:$AP$108)","v":0},{"$f":"$I$5*'[2]21-23 Campus Contract Alloctns'!P75/SUM('[2]21-23 Campus Contract Alloctns'!$I$5:$AP$108)","v":0},{"$f":"$I$5*'[2]21-23 Campus Contract Alloctns'!Q75/SUM('[2]21-23 Campus Contract Alloctns'!$I$5:$AP$108)","v":0},{"$f":"$I$5*'[2]21-23 Campus Contract Alloctns'!R75/SUM('[2]21-23 Campus Contract Alloctns'!$I$5:$AP$108)","v":0},{"$f":"$I$5*'[2]21-23 Campus Contract Alloctns'!S75/SUM('[2]21-23 Campus Contract Alloctns'!$I$5:$AP$108)","v":0},{"$f":"$I$5*'[2]21-23 Campus Contract Alloctns'!T75/SUM('[2]21-23 Campus Contract Alloctns'!$I$5:$AP$108)","v":2.3050703135863028E-2},{"$f":"$I$5*'[2]21-23 Campus Contract Alloctns'!U75/SUM('[2]21-23 Campus Contract Alloctns'!$I$5:$AP$108)","v":0},{"$f":"$I$5*'[2]21-23 Campus Contract Alloctns'!V75/SUM('[2]21-23 Campus Contract Alloctns'!$I$5:$AP$108)","v":0},{"$f":"$I$5*'[2]21-23 Campus Contract Alloctns'!W75/SUM('[2]21-23 Campus Contract Alloctns'!$I$5:$AP$108)","v":0},{"$f":"$I$5*'[2]21-23 Campus Contract Alloctns'!X75/SUM('[2]21-23 Campus Contract Alloctns'!$I$5:$AP$108)","v":0},{"$f":"$I$5*'[2]21-23 Campus Contract Alloctns'!Y75/SUM('[2]21-23 Campus Contract Alloctns'!$I$5:$AP$108)","v":0},{"$f":"$I$5*'[2]21-23 Campus Contract Alloctns'!Z75/SUM('[2]21-23 Campus Contract Alloctns'!$I$5:$AP$108)","v":0},{"$f":"$I$5*'[2]21-23 Campus Contract Alloctns'!AA75/SUM('[2]21-23 Campus Contract Alloctns'!$I$5:$AP$108)","v":0},{"$f":"$I$5*'[2]21-23 Campus Contract Alloctns'!AB75/SUM('[2]21-23 Campus Contract Alloctns'!$I$5:$AP$108)","v":0},{"$f":"$I$5*'[2]21-23 Campus Contract Alloctns'!AC75/SUM('[2]21-23 Campus Contract Alloctns'!$I$5:$AP$108)","v":0},{"$f":"$I$5*'[2]21-23 Campus Contract Alloctns'!AD75/SUM('[2]21-23 Campus Contract Alloctns'!$I$5:$AP$108)","v":0},{"$f":"$I$5*'[2]21-23 Campus Contract Alloctns'!AE75/SUM('[2]21-23 Campus Contract Alloctns'!$I$5:$AP$108)","v":1.4817328953793449E-4},{"$f":"$I$5*'[2]21-23 Campus Contract Alloctns'!AF75/SUM('[2]21-23 Campus Contract Alloctns'!$I$5:$AP$108)","v":0},{"$f":"$I$5*'[2]21-23 Campus Contract Alloctns'!AG75/SUM('[2]21-23 Campus Contract Alloctns'!$I$5:$AP$108)","v":0},{"$f":"$I$5*'[2]21-23 Campus Contract Alloctns'!AH75/SUM('[2]21-23 Campus Contract Alloctns'!$I$5:$AP$108)","v":0},{"$f":"$I$5*'[2]21-23 Campus Contract Alloctns'!AI75/SUM('[2]21-23 Campus Contract Alloctns'!$I$5:$AP$108)","v":0},{"$f":"$I$5*'[2]21-23 Campus Contract Alloctns'!AJ75/SUM('[2]21-23 Campus Contract Alloctns'!$I$5:$AP$108)","v":0},{"$f":"$I$5*'[2]21-23 Campus Contract Alloctns'!AK75/SUM('[2]21-23 Campus Contract Alloctns'!$I$5:$AP$108)","v":0},{"$f":"$I$5*'[2]21-23 Campus Contract Alloctns'!AL75/SUM('[2]21-23 Campus Contract Alloctns'!$I$5:$AP$108)","v":0},{"$f":"$I$5*'[2]21-23 Campus Contract Alloctns'!AM75/SUM('[2]21-23 Campus Contract Alloctns'!$I$5:$AP$108)","v":0},{"$f":"$I$5*'[2]21-23 Campus Contract Alloctns'!AN75/SUM('[2]21-23 Campus Contract Alloctns'!$I$5:$AP$108)","v":0},{"$f":"$I$5*'[2]21-23 Campus Contract Alloctns'!AO75/SUM('[2]21-23 Campus Contract Alloctns'!$I$5:$AP$108)","v":0},{"$f":"$I$5*'[2]21-23 Campus Contract Alloctns'!AP75/SUM('[2]21-23 Campus Contract Alloctns'!$I$5:$AP$108)","v":0}]
[null,"351 - State School For The Blind","351","State School For The Blind",3.5454872580452768E-5,2,3.5454872580452768E-5,0,0,{"$f":"$I$5*'[2]21-23 Campus Contract Alloctns'!I76/SUM('[2]21-23 Campus Contract Alloctns'!$I$5:$AP$108)","v":0},{"$f":"$I$5*'[2]21-23 Campus Contract Alloctns'!J76/SUM('[2]21-23 Campus Contract Alloctns'!$I$5:$AP$108)","v":0},{"$f":"$I$5*'[2]21-23 Campus Contract Alloctns'!K76/SUM('[2]21-23 Campus Contract Alloctns'!$I$5:$AP$108)","v":0},{"$f":"$I$5*'[2]21-23 Campus Contract Alloctns'!L76/SUM('[2]21-23 Campus Contract Alloctns'!$I$5:$AP$108)","v":0},{"$f":"$I$5*'[2]21-23 Campus Contract Alloctns'!M76/SUM('[2]21-23 Campus Contract Alloctns'!$I$5:$AP$108)","v":0},{"$f":"$I$5*'[2]21-23 Campus Contract Alloctns'!N76/SUM('[2]21-23 Campus Contract Alloctns'!$I$5:$AP$108)","v":0},{"$f":"$I$5*'[2]21-23 Campus Contract Alloctns'!O76/SUM('[2]21-23 Campus Contract Alloctns'!$I$5:$AP$108)","v":0},{"$f":"$I$5*'[2]21-23 Campus Contract Alloctns'!P76/SUM('[2]21-23 Campus Contract Alloctns'!$I$5:$AP$108)","v":0},{"$f":"$I$5*'[2]21-23 Campus Contract Alloctns'!Q76/SUM('[2]21-23 Campus Contract Alloctns'!$I$5:$AP$108)","v":0},{"$f":"$I$5*'[2]21-23 Campus Contract Alloctns'!R76/SUM('[2]21-23 Campus Contract Alloctns'!$I$5:$AP$108)","v":0},{"$f":"$I$5*'[2]21-23 Campus Contract Alloctns'!S76/SUM('[2]21-23 Campus Contract Alloctns'!$I$5:$AP$108)","v":0},{"$f":"$I$5*'[2]21-23 Campus Contract Alloctns'!T76/SUM('[2]21-23 Campus Contract Alloctns'!$I$5:$AP$108)","v":0},{"$f":"$I$5*'[2]21-23 Campus Contract Alloctns'!U76/SUM('[2]21-23 Campus Contract Alloctns'!$I$5:$AP$108)","v":0},{"$f":"$I$5*'[2]21-23 Campus Contract Alloctns'!V76/SUM('[2]21-23 Campus Contract Alloctns'!$I$5:$AP$108)","v":0},{"$f":"$I$5*'[2]21-23 Campus Contract Alloctns'!W76/SUM('[2]21-23 Campus Contract Alloctns'!$I$5:$AP$108)","v":0},{"$f":"$I$5*'[2]21-23 Campus Contract Alloctns'!X76/SUM('[2]21-23 Campus Contract Alloctns'!$I$5:$AP$108)","v":0},{"$f":"$I$5*'[2]21-23 Campus Contract Alloctns'!Y76/SUM('[2]21-23 Campus Contract Alloctns'!$I$5:$AP$108)","v":0},{"$f":"$I$5*'[2]21-23 Campus Contract Alloctns'!Z76/SUM('[2]21-23 Campus Contract Alloctns'!$I$5:$AP$108)","v":0},{"$f":"$I$5*'[2]21-23 Campus Contract Alloctns'!AA76/SUM('[2]21-23 Campus Contract Alloctns'!$I$5:$AP$108)","v":0},{"$f":"$I$5*'[2]21-23 Campus Contract Alloctns'!AB76/SUM('[2]21-23 Campus Contract Alloctns'!$I$5:$AP$108)","v":0},{"$f":"$I$5*'[2]21-23 Campus Contract Alloctns'!AC76/SUM('[2]21-23 Campus Contract Alloctns'!$I$5:$AP$108)","v":0},{"$f":"$I$5*'[2]21-23 Campus Contract Alloctns'!AD76/SUM('[2]21-23 Campus Contract Alloctns'!$I$5:$AP$108)","v":0},{"$f":"$I$5*'[2]21-23 Campus Contract Alloctns'!AE76/SUM('[2]21-23 Campus Contract Alloctns'!$I$5:$AP$108)","v":0},{"$f":"$I$5*'[2]21-23 Campus Contract Alloctns'!AF76/SUM('[2]21-23 Campus Contract Alloctns'!$I$5:$AP$108)","v":0},{"$f":"$I$5*'[2]21-23 Campus Contract Alloctns'!AG76/SUM('[2]21-23 Campus Contract Alloctns'!$I$5:$AP$108)","v":0},{"$f":"$I$5*'[2]21-23 Campus Contract Alloctns'!AH76/SUM('[2]21-23 Campus Contract Alloctns'!$I$5:$AP$108)","v":0},{"$f":"$I$5*'[2]21-23 Campus Contract Alloctns'!AI76/SUM('[2]21-23 Campus Contract Alloctns'!$I$5:$AP$108)","v":0},{"$f":"$I$5*'[2]21-23 Campus Contract Alloctns'!AJ76/SUM('[2]21-23 Campus Contract Alloctns'!$I$5:$AP$108)","v":0},{"$f":"$I$5*'[2]21-23 Campus Contract Alloctns'!AK76/SUM('[2]21-23 Campus Contract Alloctns'!$I$5:$AP$108)","v":0},{"$f":"$I$5*'[2]21-23 Campus Contract Alloctns'!AL76/SUM('[2]21-23 Campus Contract Alloctns'!$I$5:$AP$108)","v":0},{"$f":"$I$5*'[2]21-23 Campus Contract Alloctns'!AM76/SUM('[2]21-23 Campus Contract Alloctns'!$I$5:$AP$108)","v":0},{"$f":"$I$5*'[2]21-23 Campus Contract Alloctns'!AN76/SUM('[2]21-23 Campus Contract Alloctns'!$I$5:$AP$108)","v":0},{"$f":"$I$5*'[2]21-23 Campus Contract Alloctns'!AO76/SUM('[2]21-23 Campus Contract Alloctns'!$I$5:$AP$108)","v":0},{"$f":"$I$5*'[2]21-23 Campus Contract Alloctns'!AP76/SUM('[2]21-23 Campus Contract Alloctns'!$I$5:$AP$108)","v":0}]
[null,"353 - State Center for Childhood Deafness and Hearing Loss","353","State Center for Childhood Deafness and Hearing Loss",0,0,0,0,0,{"$f":"$I$5*'[2]21-23 Campus Contract Alloctns'!I77/SUM('[2]21-23 Campus Contract Alloctns'!$I$5:$AP$108)","v":0},{"$f":"$I$5*'[2]21-23 Campus Contract Alloctns'!J77/SUM('[2]21-23 Campus Contract Alloctns'!$I$5:$AP$108)","v":0},{"$f":"$I$5*'[2]21-23 Campus Contract Alloctns'!K77/SUM('[2]21-23 Campus Contract Alloctns'!$I$5:$AP$108)","v":0},{"$f":"$I$5*'[2]21-23 Campus Contract Alloctns'!L77/SUM('[2]21-23 Campus Contract Alloctns'!$I$5:$AP$108)","v":0},{"$f":"$I$5*'[2]21-23 Campus Contract Alloctns'!M77/SUM('[2]21-23 Campus Contract Alloctns'!$I$5:$AP$108)","v":0},{"$f":"$I$5*'[2]21-23 Campus Contract Alloctns'!N77/SUM('[2]21-23 Campus Contract Alloctns'!$I$5:$AP$108)","v":0},{"$f":"$I$5*'[2]21-23 Campus Contract Alloctns'!O77/SUM('[2]21-23 Campus Contract Alloctns'!$I$5:$AP$108)","v":0},{"$f":"$I$5*'[2]21-23 Campus Contract Alloctns'!P77/SUM('[2]21-23 Campus Contract Alloctns'!$I$5:$AP$108)","v":0},{"$f":"$I$5*'[2]21-23 Campus Contract Alloctns'!Q77/SUM('[2]21-23 Campus Contract Alloctns'!$I$5:$AP$108)","v":0},{"$f":"$I$5*'[2]21-23 Campus Contract Alloctns'!R77/SUM('[2]21-23 Campus Contract Alloctns'!$I$5:$AP$108)","v":0},{"$f":"$I$5*'[2]21-23 Campus Contract Alloctns'!S77/SUM('[2]21-23 Campus Contract Alloctns'!$I$5:$AP$108)","v":0},{"$f":"$I$5*'[2]21-23 Campus Contract Alloctns'!T77/SUM('[2]21-23 Campus Contract Alloctns'!$I$5:$AP$108)","v":0},{"$f":"$I$5*'[2]21-23 Campus Contract Alloctns'!U77/SUM('[2]21-23 Campus Contract Alloctns'!$I$5:$AP$108)","v":0},{"$f":"$I$5*'[2]21-23 Campus Contract Alloctns'!V77/SUM('[2]21-23 Campus Contract Alloctns'!$I$5:$AP$108)","v":0},{"$f":"$I$5*'[2]21-23 Campus Contract Alloctns'!W77/SUM('[2]21-23 Campus Contract Alloctns'!$I$5:$AP$108)","v":0},{"$f":"$I$5*'[2]21-23 Campus Contract Alloctns'!X77/SUM('[2]21-23 Campus Contract Alloctns'!$I$5:$AP$108)","v":0},{"$f":"$I$5*'[2]21-23 Campus Contract Alloctns'!Y77/SUM('[2]21-23 Campus Contract Alloctns'!$I$5:$AP$108)","v":0},{"$f":"$I$5*'[2]21-23 Campus Contract Alloctns'!Z77/SUM('[2]21-23 Campus Contract Alloctns'!$I$5:$AP$108)","v":0},{"$f":"$I$5*'[2]21-23 Campus Contract Alloctns'!AA77/SUM('[2]21-23 Campus Contract Alloctns'!$I$5:$AP$108)","v":0},{"$f":"$I$5*'[2]21-23 Campus Contract Alloctns'!AB77/SUM('[2]21-23 Campus Contract Alloctns'!$I$5:$AP$108)","v":0},{"$f":"$I$5*'[2]21-23 Campus Contract Alloctns'!AC77/SUM('[2]21-23 Campus Contract Alloctns'!$I$5:$AP$108)","v":0},{"$f":"$I$5*'[2]21-23 Campus Contract Alloctns'!AD77/SUM('[2]21-23 Campus Contract Alloctns'!$I$5:$AP$108)","v":0},{"$f":"$I$5*'[2]21-23 Campus Contract Alloctns'!AE77/SUM('[2]21-23 Campus Contract Alloctns'!$I$5:$AP$108)","v":0},{"$f":"$I$5*'[2]21-23 Campus Contract Alloctns'!AF77/SUM('[2]21-23 Campus Contract Alloctns'!$I$5:$AP$108)","v":0},{"$f":"$I$5*'[2]21-23 Campus Contract Alloctns'!AG77/SUM('[2]21-23 Campus Contract Alloctns'!$I$5:$AP$108)","v":0},{"$f":"$I$5*'[2]21-23 Campus Contract Alloctns'!AH77/SUM('[2]21-23 Campus Contract Alloctns'!$I$5:$AP$108)","v":0},{"$f":"$I$5*'[2]21-23 Campus Contract Alloctns'!AI77/SUM('[2]21-23 Campus Contract Alloctns'!$I$5:$AP$108)","v":0},{"$f":"$I$5*'[2]21-23 Campus Contract Alloctns'!AJ77/SUM('[2]21-23 Campus Contract Alloctns'!$I$5:$AP$108)","v":0},{"$f":"$I$5*'[2]21-23 Campus Contract Alloctns'!AK77/SUM('[2]21-23 Campus Contract Alloctns'!$I$5:$AP$108)","v":0},{"$f":"$I$5*'[2]21-23 Campus Contract Alloctns'!AL77/SUM('[2]21-23 Campus Contract Alloctns'!$I$5:$AP$108)","v":0},{"$f":"$I$5*'[2]21-23 Campus Contract Alloctns'!AM77/SUM('[2]21-23 Campus Contract Alloctns'!$I$5:$AP$108)","v":0},{"$f":"$I$5*'[2]21-23 Campus Contract Alloctns'!AN77/SUM('[2]21-23 Campus Contract Alloctns'!$I$5:$AP$108)","v":0},{"$f":"$I$5*'[2]21-23 Campus Contract Alloctns'!AO77/SUM('[2]21-23 Campus Contract Alloctns'!$I$5:$AP$108)","v":0},{"$f":"$I$5*'[2]21-23 Campus Contract Alloctns'!AP77/SUM('[2]21-23 Campus Contract Alloctns'!$I$5:$AP$108)","v":0}]
[null,"354 - Workforce Training and Education Coordinating Board","354","Workforce Training and Education Coordinating Board",4.9636821612633879E-4,28,4.9636821612633879E-4,0,0,{"$f":"$I$5*'[2]21-23 Campus Contract Alloctns'!I78/SUM('[2]21-23 Campus Contract Alloctns'!$I$5:$AP$108)","v":0},{"$f":"$I$5*'[2]21-23 Campus Contract Alloctns'!J78/SUM('[2]21-23 Campus Contract Alloctns'!$I$5:$AP$108)","v":0},{"$f":"$I$5*'[2]21-23 Campus Contract Alloctns'!K78/SUM('[2]21-23 Campus Contract Alloctns'!$I$5:$AP$108)","v":0},{"$f":"$I$5*'[2]21-23 Campus Contract Alloctns'!L78/SUM('[2]21-23 Campus Contract Alloctns'!$I$5:$AP$108)","v":0},{"$f":"$I$5*'[2]21-23 Campus Contract Alloctns'!M78/SUM('[2]21-23 Campus Contract Alloctns'!$I$5:$AP$108)","v":0},{"$f":"$I$5*'[2]21-23 Campus Contract Alloctns'!N78/SUM('[2]21-23 Campus Contract Alloctns'!$I$5:$AP$108)","v":0},{"$f":"$I$5*'[2]21-23 Campus Contract Alloctns'!O78/SUM('[2]21-23 Campus Contract Alloctns'!$I$5:$AP$108)","v":0},{"$f":"$I$5*'[2]21-23 Campus Contract Alloctns'!P78/SUM('[2]21-23 Campus Contract Alloctns'!$I$5:$AP$108)","v":0},{"$f":"$I$5*'[2]21-23 Campus Contract Alloctns'!Q78/SUM('[2]21-23 Campus Contract Alloctns'!$I$5:$AP$108)","v":0},{"$f":"$I$5*'[2]21-23 Campus Contract Alloctns'!R78/SUM('[2]21-23 Campus Contract Alloctns'!$I$5:$AP$108)","v":0},{"$f":"$I$5*'[2]21-23 Campus Contract Alloctns'!S78/SUM('[2]21-23 Campus Contract Alloctns'!$I$5:$AP$108)","v":0},{"$f":"$I$5*'[2]21-23 Campus Contract Alloctns'!T78/SUM('[2]21-23 Campus Contract Alloctns'!$I$5:$AP$108)","v":0},{"$f":"$I$5*'[2]21-23 Campus Contract Alloctns'!U78/SUM('[2]21-23 Campus Contract Alloctns'!$I$5:$AP$108)","v":0},{"$f":"$I$5*'[2]21-23 Campus Contract Alloctns'!V78/SUM('[2]21-23 Campus Contract Alloctns'!$I$5:$AP$108)","v":0},{"$f":"$I$5*'[2]21-23 Campus Contract Alloctns'!W78/SUM('[2]21-23 Campus Contract Alloctns'!$I$5:$AP$108)","v":0},{"$f":"$I$5*'[2]21-23 Campus Contract Alloctns'!X78/SUM('[2]21-23 Campus Contract Alloctns'!$I$5:$AP$108)","v":0},{"$f":"$I$5*'[2]21-23 Campus Contract Alloctns'!Y78/SUM('[2]21-23 Campus Contract Alloctns'!$I$5:$AP$108)","v":0},{"$f":"$I$5*'[2]21-23 Campus Contract Alloctns'!Z78/SUM('[2]21-23 Campus Contract Alloctns'!$I$5:$AP$108)","v":0},{"$f":"$I$5*'[2]21-23 Campus Contract Alloctns'!AA78/SUM('[2]21-23 Campus Contract Alloctns'!$I$5:$AP$108)","v":0},{"$f":"$I$5*'[2]21-23 Campus Contract Alloctns'!AB78/SUM('[2]21-23 Campus Contract Alloctns'!$I$5:$AP$108)","v":0},{"$f":"$I$5*'[2]21-23 Campus Contract Alloctns'!AC78/SUM('[2]21-23 Campus Contract Alloctns'!$I$5:$AP$108)","v":0},{"$f":"$I$5*'[2]21-23 Campus Contract Alloctns'!AD78/SUM('[2]21-23 Campus Contract Alloctns'!$I$5:$AP$108)","v":0},{"$f":"$I$5*'[2]21-23 Campus Contract Alloctns'!AE78/SUM('[2]21-23 Campus Contract Alloctns'!$I$5:$AP$108)","v":0},{"$f":"$I$5*'[2]21-23 Campus Contract Alloctns'!AF78/SUM('[2]21-23 Campus Contract Alloctns'!$I$5:$AP$108)","v":0},{"$f":"$I$5*'[2]21-23 Campus Contract Alloctns'!AG78/SUM('[2]21-23 Campus Contract Alloctns'!$I$5:$AP$108)","v":0},{"$f":"$I$5*'[2]21-23 Campus Contract Alloctns'!AH78/SUM('[2]21-23 Campus Contract Alloctns'!$I$5:$AP$108)","v":0},{"$f":"$I$5*'[2]21-23 Campus Contract Alloctns'!AI78/SUM('[2]21-23 Campus Contract Alloctns'!$I$5:$AP$108)","v":0},{"$f":"$I$5*'[2]21-23 Campus Contract Alloctns'!AJ78/SUM('[2]21-23 Campus Contract Alloctns'!$I$5:$AP$108)","v":0},{"$f":"$I$5*'[2]21-23 Campus Contract Alloctns'!AK78/SUM('[2]21-23 Campus Contract Alloctns'!$I$5:$AP$108)","v":0},{"$f":"$I$5*'[2]21-23 Campus Contract Alloctns'!AL78/SUM('[2]21-23 Campus Contract Alloctns'!$I$5:$AP$108)","v":0},{"$f":"$I$5*'[2]21-23 Campus Contract Alloctns'!AM78/SUM('[2]21-23 Campus Contract Alloctns'!$I$5:$AP$108)","v":0},{"$f":"$I$5*'[2]21-23 Campus Contract Alloctns'!AN78/SUM('[2]21-23 Campus Contract Alloctns'!$I$5:$AP$108)","v":0},{"$f":"$I$5*'[2]21-23 Campus Contract Alloctns'!AO78/SUM('[2]21-23 Campus Contract Alloctns'!$I$5:$AP$108)","v":0},{"$f":"$I$5*'[2]21-23 Campus Contract Alloctns'!AP78/SUM('[2]21-23 Campus Contract Alloctns'!$I$5:$AP$108)","v":0}]
[null,"355 - Department of Archaeology and Historic Preservation","355","Department of Archaeology and Historic Preservation",2.3273083746846207E-3,20,3.5454872580452775E-4,0,1.972759648880093E-3,{"$f":"$I$5*'[2]21-23 Campus Contract Alloctns'!I79/SUM('[2]21-23 Campus Contract Alloctns'!$I$5:$AP$108)","v":0},{"$f":"$I$5*'[2]21-23 Campus Contract Alloctns'!J79/SUM('[2]21-23 Campus Contract Alloctns'!$I$5:$AP$108)","v":0},{"$f":"$I$5*'[2]21-23 Campus Contract Alloctns'!K79/SUM('[2]21-23 Campus Contract Alloctns'!$I$5:$AP$108)","v":0},{"$f":"$I$5*'[2]21-23 Campus Contract Alloctns'!L79/SUM('[2]21-23 Campus Contract Alloctns'!$I$5:$AP$108)","v":0},{"$f":"$I$5*'[2]21-23 Campus Contract Alloctns'!M79/SUM('[2]21-23 Campus Contract Alloctns'!$I$5:$AP$108)","v":0},{"$f":"$I$5*'[2]21-23 Campus Contract Alloctns'!N79/SUM('[2]21-23 Campus Contract Alloctns'!$I$5:$AP$108)","v":0},{"$f":"$I$5*'[2]21-23 Campus Contract Alloctns'!O79/SUM('[2]21-23 Campus Contract Alloctns'!$I$5:$AP$108)","v":0},{"$f":"$I$5*'[2]21-23 Campus Contract Alloctns'!P79/SUM('[2]21-23 Campus Contract Alloctns'!$I$5:$AP$108)","v":0},{"$f":"$I$5*'[2]21-23 Campus Contract Alloctns'!Q79/SUM('[2]21-23 Campus Contract Alloctns'!$I$5:$AP$108)","v":0},{"$f":"$I$5*'[2]21-23 Campus Contract Alloctns'!R79/SUM('[2]21-23 Campus Contract Alloctns'!$I$5:$AP$108)","v":0},{"$f":"$I$5*'[2]21-23 Campus Contract Alloctns'!S79/SUM('[2]21-23 Campus Contract Alloctns'!$I$5:$AP$108)","v":0},{"$f":"$I$5*'[2]21-23 Campus Contract Alloctns'!T79/SUM('[2]21-23 Campus Contract Alloctns'!$I$5:$AP$108)","v":0},{"$f":"$I$5*'[2]21-23 Campus Contract Alloctns'!U79/SUM('[2]21-23 Campus Contract Alloctns'!$I$5:$AP$108)","v":0},{"$f":"$I$5*'[2]21-23 Campus Contract Alloctns'!V79/SUM('[2]21-23 Campus Contract Alloctns'!$I$5:$AP$108)","v":0},{"$f":"$I$5*'[2]21-23 Campus Contract Alloctns'!W79/SUM('[2]21-23 Campus Contract Alloctns'!$I$5:$AP$108)","v":0},{"$f":"$I$5*'[2]21-23 Campus Contract Alloctns'!X79/SUM('[2]21-23 Campus Contract Alloctns'!$I$5:$AP$108)","v":0},{"$f":"$I$5*'[2]21-23 Campus Contract Alloctns'!Y79/SUM('[2]21-23 Campus Contract Alloctns'!$I$5:$AP$108)","v":0},{"$f":"$I$5*'[2]21-23 Campus Contract Alloctns'!Z79/SUM('[2]21-23 Campus Contract Alloctns'!$I$5:$AP$108)","v":0},{"$f":"$I$5*'[2]21-23 Campus Contract Alloctns'!AA79/SUM('[2]21-23 Campus Contract Alloctns'!$I$5:$AP$108)","v":0},{"$f":"$I$5*'[2]21-23 Campus Contract Alloctns'!AB79/SUM('[2]21-23 Campus Contract Alloctns'!$I$5:$AP$108)","v":1.9727596488800935E-3},{"$f":"$I$5*'[2]21-23 Campus Contract Alloctns'!AC79/SUM('[2]21-23 Campus Contract Alloctns'!$I$5:$AP$108)","v":0},{"$f":"$I$5*'[2]21-23 Campus Contract Alloctns'!AD79/SUM('[2]21-23 Campus Contract Alloctns'!$I$5:$AP$108)","v":0},{"$f":"$I$5*'[2]21-23 Campus Contract Alloctns'!AE79/SUM('[2]21-23 Campus Contract Alloctns'!$I$5:$AP$108)","v":0},{"$f":"$I$5*'[2]21-23 Campus Contract Alloctns'!AF79/SUM('[2]21-23 Campus Contract Alloctns'!$I$5:$AP$108)","v":0},{"$f":"$I$5*'[2]21-23 Campus Contract Alloctns'!AG79/SUM('[2]21-23 Campus Contract Alloctns'!$I$5:$AP$108)","v":0},{"$f":"$I$5*'[2]21-23 Campus Contract Alloctns'!AH79/SUM('[2]21-23 Campus Contract Alloctns'!$I$5:$AP$108)","v":0},{"$f":"$I$5*'[2]21-23 Campus Contract Alloctns'!AI79/SUM('[2]21-23 Campus Contract Alloctns'!$I$5:$AP$108)","v":0},{"$f":"$I$5*'[2]21-23 Campus Contract Alloctns'!AJ79/SUM('[2]21-23 Campus Contract Alloctns'!$I$5:$AP$108)","v":0},{"$f":"$I$5*'[2]21-23 Campus Contract Alloctns'!AK79/SUM('[2]21-23 Campus Contract Alloctns'!$I$5:$AP$108)","v":0},{"$f":"$I$5*'[2]21-23 Campus Contract Alloctns'!AL79/SUM('[2]21-23 Campus Contract Alloctns'!$I$5:$AP$108)","v":0},{"$f":"$I$5*'[2]21-23 Campus Contract Alloctns'!AM79/SUM('[2]21-23 Campus Contract Alloctns'!$I$5:$AP$108)","v":0},{"$f":"$I$5*'[2]21-23 Campus Contract Alloctns'!AN79/SUM('[2]21-23 Campus Contract Alloctns'!$I$5:$AP$108)","v":0},{"$f":"$I$5*'[2]21-23 Campus Contract Alloctns'!AO79/SUM('[2]21-23 Campus Contract Alloctns'!$I$5:$AP$108)","v":0},{"$f":"$I$5*'[2]21-23 Campus Contract Alloctns'!AP79/SUM('[2]21-23 Campus Contract Alloctns'!$I$5:$AP$108)","v":0}]
[null,"357 - Department of Early Learning","357","Department of Early Learning",0,0,0,0,0,{"$f":"$I$5*'[2]21-23 Campus Contract Alloctns'!I80/SUM('[2]21-23 Campus Contract Alloctns'!$I$5:$AP$108)","v":0},{"$f":"$I$5*'[2]21-23 Campus Contract Alloctns'!J80/SUM('[2]21-23 Campus Contract Alloctns'!$I$5:$AP$108)","v":0},{"$f":"$I$5*'[2]21-23 Campus Contract Alloctns'!K80/SUM('[2]21-23 Campus Contract Alloctns'!$I$5:$AP$108)","v":0},{"$f":"$I$5*'[2]21-23 Campus Contract Alloctns'!L80/SUM('[2]21-23 Campus Contract Alloctns'!$I$5:$AP$108)","v":0},{"$f":"$I$5*'[2]21-23 Campus Contract Alloctns'!M80/SUM('[2]21-23 Campus Contract Alloctns'!$I$5:$AP$108)","v":0},{"$f":"$I$5*'[2]21-23 Campus Contract Alloctns'!N80/SUM('[2]21-23 Campus Contract Alloctns'!$I$5:$AP$108)","v":0},{"$f":"$I$5*'[2]21-23 Campus Contract Alloctns'!O80/SUM('[2]21-23 Campus Contract Alloctns'!$I$5:$AP$108)","v":0},{"$f":"$I$5*'[2]21-23 Campus Contract Alloctns'!P80/SUM('[2]21-23 Campus Contract Alloctns'!$I$5:$AP$108)","v":0},{"$f":"$I$5*'[2]21-23 Campus Contract Alloctns'!Q80/SUM('[2]21-23 Campus Contract Alloctns'!$I$5:$AP$108)","v":0},{"$f":"$I$5*'[2]21-23 Campus Contract Alloctns'!R80/SUM('[2]21-23 Campus Contract Alloctns'!$I$5:$AP$108)","v":0},{"$f":"$I$5*'[2]21-23 Campus Contract Alloctns'!S80/SUM('[2]21-23 Campus Contract Alloctns'!$I$5:$AP$108)","v":0},{"$f":"$I$5*'[2]21-23 Campus Contract Alloctns'!T80/SUM('[2]21-23 Campus Contract Alloctns'!$I$5:$AP$108)","v":0},{"$f":"$I$5*'[2]21-23 Campus Contract Alloctns'!U80/SUM('[2]21-23 Campus Contract Alloctns'!$I$5:$AP$108)","v":0},{"$f":"$I$5*'[2]21-23 Campus Contract Alloctns'!V80/SUM('[2]21-23 Campus Contract Alloctns'!$I$5:$AP$108)","v":0},{"$f":"$I$5*'[2]21-23 Campus Contract Alloctns'!W80/SUM('[2]21-23 Campus Contract Alloctns'!$I$5:$AP$108)","v":0},{"$f":"$I$5*'[2]21-23 Campus Contract Alloctns'!X80/SUM('[2]21-23 Campus Contract Alloctns'!$I$5:$AP$108)","v":0},{"$f":"$I$5*'[2]21-23 Campus Contract Alloctns'!Y80/SUM('[2]21-23 Campus Contract Alloctns'!$I$5:$AP$108)","v":0},{"$f":"$I$5*'[2]21-23 Campus Contract Alloctns'!Z80/SUM('[2]21-23 Campus Contract Alloctns'!$I$5:$AP$108)","v":0},{"$f":"$I$5*'[2]21-23 Campus Contract Alloctns'!AA80/SUM('[2]21-23 Campus Contract Alloctns'!$I$5:$AP$108)","v":0},{"$f":"$I$5*'[2]21-23 Campus Contract Alloctns'!AB80/SUM('[2]21-23 Campus Contract Alloctns'!$I$5:$AP$108)","v":0},{"$f":"$I$5*'[2]21-23 Campus Contract Alloctns'!AC80/SUM('[2]21-23 Campus Contract Alloctns'!$I$5:$AP$108)","v":0},{"$f":"$I$5*'[2]21-23 Campus Contract Alloctns'!AD80/SUM('[2]21-23 Campus Contract Alloctns'!$I$5:$AP$108)","v":0},{"$f":"$I$5*'[2]21-23 Campus Contract Alloctns'!AE80/SUM('[2]21-23 Campus Contract Alloctns'!$I$5:$AP$108)","v":0},{"$f":"$I$5*'[2]21-23 Campus Contract Alloctns'!AF80/SUM('[2]21-23 Campus Contract Alloctns'!$I$5:$AP$108)","v":0},{"$f":"$I$5*'[2]21-23 Campus Contract Alloctns'!AG80/SUM('[2]21-23 Campus Contract Alloctns'!$I$5:$AP$108)","v":0},{"$f":"$I$5*'[2]21-23 Campus Contract Alloctns'!AH80/SUM('[2]21-23 Campus Contract Alloctns'!$I$5:$AP$108)","v":0},{"$f":"$I$5*'[2]21-23 Campus Contract Alloctns'!AI80/SUM('[2]21-23 Campus Contract Alloctns'!$I$5:$AP$108)","v":0},{"$f":"$I$5*'[2]21-23 Campus Contract Alloctns'!AJ80/SUM('[2]21-23 Campus Contract Alloctns'!$I$5:$AP$108)","v":0},{"$f":"$I$5*'[2]21-23 Campus Contract Alloctns'!AK80/SUM('[2]21-23 Campus Contract Alloctns'!$I$5:$AP$108)","v":0},{"$f":"$I$5*'[2]21-23 Campus Contract Alloctns'!AL80/SUM('[2]21-23 Campus Contract Alloctns'!$I$5:$AP$108)","v":0},{"$f":"$I$5*'[2]21-23 Campus Contract Alloctns'!AM80/SUM('[2]21-23 Campus Contract Alloctns'!$I$5:$AP$108)","v":0},{"$f":"$I$5*'[2]21-23 Campus Contract Alloctns'!AN80/SUM('[2]21-23 Campus Contract Alloctns'!$I$5:$AP$108)","v":0},{"$f":"$I$5*'[2]21-23 Campus Contract Alloctns'!AO80/SUM('[2]21-23 Campus Contract Alloctns'!$I$5:$AP$108)","v":0},{"$f":"$I$5*'[2]21-23 Campus Contract Alloctns'!AP80/SUM('[2]21-23 Campus Contract Alloctns'!$I$5:$AP$108)","v":0}]
[null,"359 - WA Charter School Commission","359","WA Charter School Commission",0,0,0,0,0,{"$f":"$I$5*'[2]21-23 Campus Contract Alloctns'!I81/SUM('[2]21-23 Campus Contract Alloctns'!$I$5:$AP$108)","v":0},{"$f":"$I$5*'[2]21-23 Campus Contract Alloctns'!J81/SUM('[2]21-23 Campus Contract Alloctns'!$I$5:$AP$108)","v":0},{"$f":"$I$5*'[2]21-23 Campus Contract Alloctns'!K81/SUM('[2]21-23 Campus Contract Alloctns'!$I$5:$AP$108)","v":0},{"$f":"$I$5*'[2]21-23 Campus Contract Alloctns'!L81/SUM('[2]21-23 Campus Contract Alloctns'!$I$5:$AP$108)","v":0},{"$f":"$I$5*'[2]21-23 Campus Contract Alloctns'!M81/SUM('[2]21-23 Campus Contract Alloctns'!$I$5:$AP$108)","v":0},{"$f":"$I$5*'[2]21-23 Campus Contract Alloctns'!N81/SUM('[2]21-23 Campus Contract Alloctns'!$I$5:$AP$108)","v":0},{"$f":"$I$5*'[2]21-23 Campus Contract Alloctns'!O81/SUM('[2]21-23 Campus Contract Alloctns'!$I$5:$AP$108)","v":0},{"$f":"$I$5*'[2]21-23 Campus Contract Alloctns'!P81/SUM('[2]21-23 Campus Contract Alloctns'!$I$5:$AP$108)","v":0},{"$f":"$I$5*'[2]21-23 Campus Contract Alloctns'!Q81/SUM('[2]21-23 Campus Contract Alloctns'!$I$5:$AP$108)","v":0},{"$f":"$I$5*'[2]21-23 Campus Contract Alloctns'!R81/SUM('[2]21-23 Campus Contract Alloctns'!$I$5:$AP$108)","v":0},{"$f":"$I$5*'[2]21-23 Campus Contract Alloctns'!S81/SUM('[2]21-23 Campus Contract Alloctns'!$I$5:$AP$108)","v":0},{"$f":"$I$5*'[2]21-23 Campus Contract Alloctns'!T81/SUM('[2]21-23 Campus Contract Alloctns'!$I$5:$AP$108)","v":0},{"$f":"$I$5*'[2]21-23 Campus Contract Alloctns'!U81/SUM('[2]21-23 Campus Contract Alloctns'!$I$5:$AP$108)","v":0},{"$f":"$I$5*'[2]21-23 Campus Contract Alloctns'!V81/SUM('[2]21-23 Campus Contract Alloctns'!$I$5:$AP$108)","v":0},{"$f":"$I$5*'[2]21-23 Campus Contract Alloctns'!W81/SUM('[2]21-23 Campus Contract Alloctns'!$I$5:$AP$108)","v":0},{"$f":"$I$5*'[2]21-23 Campus Contract Alloctns'!X81/SUM('[2]21-23 Campus Contract Alloctns'!$I$5:$AP$108)","v":0},{"$f":"$I$5*'[2]21-23 Campus Contract Alloctns'!Y81/SUM('[2]21-23 Campus Contract Alloctns'!$I$5:$AP$108)","v":0},{"$f":"$I$5*'[2]21-23 Campus Contract Alloctns'!Z81/SUM('[2]21-23 Campus Contract Alloctns'!$I$5:$AP$108)","v":0},{"$f":"$I$5*'[2]21-23 Campus Contract Alloctns'!AA81/SUM('[2]21-23 Campus Contract Alloctns'!$I$5:$AP$108)","v":0},{"$f":"$I$5*'[2]21-23 Campus Contract Alloctns'!AB81/SUM('[2]21-23 Campus Contract Alloctns'!$I$5:$AP$108)","v":0},{"$f":"$I$5*'[2]21-23 Campus Contract Alloctns'!AC81/SUM('[2]21-23 Campus Contract Alloctns'!$I$5:$AP$108)","v":0},{"$f":"$I$5*'[2]21-23 Campus Contract Alloctns'!AD81/SUM('[2]21-23 Campus Contract Alloctns'!$I$5:$AP$108)","v":0},{"$f":"$I$5*'[2]21-23 Campus Contract Alloctns'!AE81/SUM('[2]21-23 Campus Contract Alloctns'!$I$5:$AP$108)","v":0},{"$f":"$I$5*'[2]21-23 Campus Contract Alloctns'!AF81/SUM('[2]21-23 Campus Contract Alloctns'!$I$5:$AP$108)","v":0},{"$f":"$I$5*'[2]21-23 Campus Contract Alloctns'!AG81/SUM('[2]21-23 Campus Contract Alloctns'!$I$5:$AP$108)","v":0},{"$f":"$I$5*'[2]21-23 Campus Contract Alloctns'!AH81/SUM('[2]21-23 Campus Contract Alloctns'!$I$5:$AP$108)","v":0},{"$f":"$I$5*'[2]21-23 Campus Contract Alloctns'!AI81/SUM('[2]21-23 Campus Contract Alloctns'!$I$5:$AP$108)","v":0},{"$f":"$I$5*'[2]21-23 Campus Contract Alloctns'!AJ81/SUM('[2]21-23 Campus Contract Alloctns'!$I$5:$AP$108)","v":0},{"$f":"$I$5*'[2]21-23 Campus Contract Alloctns'!AK81/SUM('[2]21-23 Campus Contract Alloctns'!$I$5:$AP$108)","v":0},{"$f":"$I$5*'[2]21-23 Campus Contract Alloctns'!AL81/SUM('[2]21-23 Campus Contract Alloctns'!$I$5:$AP$108)","v":0},{"$f":"$I$5*'[2]21-23 Campus Contract Alloctns'!AM81/SUM('[2]21-23 Campus Contract Alloctns'!$I$5:$AP$108)","v":0},{"$f":"$I$5*'[2]21-23 Campus Contract Alloctns'!AN81/SUM('[2]21-23 Campus Contract Alloctns'!$I$5:$AP$108)","v":0},{"$f":"$I$5*'[2]21-23 Campus Contract Alloctns'!AO81/SUM('[2]21-23 Campus Contract Alloctns'!$I$5:$AP$108)","v":0},{"$f":"$I$5*'[2]21-23 Campus Contract Alloctns'!AP81/SUM('[2]21-23 Campus Contract Alloctns'!$I$5:$AP$108)","v":0}]
[null,"360 - University of Washington","360","University of Washington",3.9000359838498049E-4,22,3.9000359838498049E-4,0,0,{"$f":"$I$5*'[2]21-23 Campus Contract Alloctns'!I82/SUM('[2]21-23 Campus Contract Alloctns'!$I$5:$AP$108)","v":0},{"$f":"$I$5*'[2]21-23 Campus Contract Alloctns'!J82/SUM('[2]21-23 Campus Contract Alloctns'!$I$5:$AP$108)","v":0},{"$f":"$I$5*'[2]21-23 Campus Contract Alloctns'!K82/SUM('[2]21-23 Campus Contract Alloctns'!$I$5:$AP$108)","v":0},{"$f":"$I$5*'[2]21-23 Campus Contract Alloctns'!L82/SUM('[2]21-23 Campus Contract Alloctns'!$I$5:$AP$108)","v":0},{"$f":"$I$5*'[2]21-23 Campus Contract Alloctns'!M82/SUM('[2]21-23 Campus Contract Alloctns'!$I$5:$AP$108)","v":0},{"$f":"$I$5*'[2]21-23 Campus Contract Alloctns'!N82/SUM('[2]21-23 Campus Contract Alloctns'!$I$5:$AP$108)","v":0},{"$f":"$I$5*'[2]21-23 Campus Contract Alloctns'!O82/SUM('[2]21-23 Campus Contract Alloctns'!$I$5:$AP$108)","v":0},{"$f":"$I$5*'[2]21-23 Campus Contract Alloctns'!P82/SUM('[2]21-23 Campus Contract Alloctns'!$I$5:$AP$108)","v":0},{"$f":"$I$5*'[2]21-23 Campus Contract Alloctns'!Q82/SUM('[2]21-23 Campus Contract Alloctns'!$I$5:$AP$108)","v":0},{"$f":"$I$5*'[2]21-23 Campus Contract Alloctns'!R82/SUM('[2]21-23 Campus Contract Alloctns'!$I$5:$AP$108)","v":0},{"$f":"$I$5*'[2]21-23 Campus Contract Alloctns'!S82/SUM('[2]21-23 Campus Contract Alloctns'!$I$5:$AP$108)","v":0},{"$f":"$I$5*'[2]21-23 Campus Contract Alloctns'!T82/SUM('[2]21-23 Campus Contract Alloctns'!$I$5:$AP$108)","v":0},{"$f":"$I$5*'[2]21-23 Campus Contract Alloctns'!U82/SUM('[2]21-23 Campus Contract Alloctns'!$I$5:$AP$108)","v":0},{"$f":"$I$5*'[2]21-23 Campus Contract Alloctns'!V82/SUM('[2]21-23 Campus Contract Alloctns'!$I$5:$AP$108)","v":0},{"$f":"$I$5*'[2]21-23 Campus Contract Alloctns'!W82/SUM('[2]21-23 Campus Contract Alloctns'!$I$5:$AP$108)","v":0},{"$f":"$I$5*'[2]21-23 Campus Contract Alloctns'!X82/SUM('[2]21-23 Campus Contract Alloctns'!$I$5:$AP$108)","v":0},{"$f":"$I$5*'[2]21-23 Campus Contract Alloctns'!Y82/SUM('[2]21-23 Campus Contract Alloctns'!$I$5:$AP$108)","v":0},{"$f":"$I$5*'[2]21-23 Campus Contract Alloctns'!Z82/SUM('[2]21-23 Campus Contract Alloctns'!$I$5:$AP$108)","v":0},{"$f":"$I$5*'[2]21-23 Campus Contract Alloctns'!AA82/SUM('[2]21-23 Campus Contract Alloctns'!$I$5:$AP$108)","v":0},{"$f":"$I$5*'[2]21-23 Campus Contract Alloctns'!AB82/SUM('[2]21-23 Campus Contract Alloctns'!$I$5:$AP$108)","v":0},{"$f":"$I$5*'[2]21-23 Campus Contract Alloctns'!AC82/SUM('[2]21-23 Campus Contract Alloctns'!$I$5:$AP$108)","v":0},{"$f":"$I$5*'[2]21-23 Campus Contract Alloctns'!AD82/SUM('[2]21-23 Campus Contract Alloctns'!$I$5:$AP$108)","v":0},{"$f":"$I$5*'[2]21-23 Campus Contract Alloctns'!AE82/SUM('[2]21-23 Campus Contract Alloctns'!$I$5:$AP$108)","v":0},{"$f":"$I$5*'[2]21-23 Campus Contract Alloctns'!AF82/SUM('[2]21-23 Campus Contract Alloctns'!$I$5:$AP$108)","v":0},{"$f":"$I$5*'[2]21-23 Campus Contract Alloctns'!AG82/SUM('[2]21-23 Campus Contract Alloctns'!$I$5:$AP$108)","v":0},{"$f":"$I$5*'[2]21-23 Campus Contract Alloctns'!AH82/SUM('[2]21-23 Campus Contract Alloctns'!$I$5:$AP$108)","v":0},{"$f":"$I$5*'[2]21-23 Campus Contract Alloctns'!AI82/SUM('[2]21-23 Campus Contract Alloctns'!$I$5:$AP$108)","v":0},{"$f":"$I$5*'[2]21-23 Campus Contract Alloctns'!AJ82/SUM('[2]21-23 Campus Contract Alloctns'!$I$5:$AP$108)","v":0},{"$f":"$I$5*'[2]21-23 Campus Contract Alloctns'!AK82/SUM('[2]21-23 Campus Contract Alloctns'!$I$5:$AP$108)","v":0},{"$f":"$I$5*'[2]21-23 Campus Contract Alloctns'!AL82/SUM('[2]21-23 Campus Contract Alloctns'!$I$5:$AP$108)","v":0},{"$f":"$I$5*'[2]21-23 Campus Contract Alloctns'!AM82/SUM('[2]21-23 Campus Contract Alloctns'!$I$5:$AP$108)","v":0},{"$f":"$I$5*'[2]21-23 Campus Contract Alloctns'!AN82/SUM('[2]21-23 Campus Contract Alloctns'!$I$5:$AP$108)","v":0},{"$f":"$I$5*'[2]21-23 Campus Contract Alloctns'!AO82/SUM('[2]21-23 Campus Contract Alloctns'!$I$5:$AP$108)","v":0},{"$f":"$I$5*'[2]21-23 Campus Contract Alloctns'!AP82/SUM('[2]21-23 Campus Contract Alloctns'!$I$5:$AP$108)","v":0}]
[null,"365 - Washington State University","365","Washington State University",1.0813736137038096E-3,61,1.0813736137038096E-3,0,0,{"$f":"$I$5*'[2]21-23 Campus Contract Alloctns'!I83/SUM('[2]21-23 Campus Contract Alloctns'!$I$5:$AP$108)","v":0},{"$f":"$I$5*'[2]21-23 Campus Contract Alloctns'!J83/SUM('[2]21-23 Campus Contract Alloctns'!$I$5:$AP$108)","v":0},{"$f":"$I$5*'[2]21-23 Campus Contract Alloctns'!K83/SUM('[2]21-23 Campus Contract Alloctns'!$I$5:$AP$108)","v":0},{"$f":"$I$5*'[2]21-23 Campus Contract Alloctns'!L83/SUM('[2]21-23 Campus Contract Alloctns'!$I$5:$AP$108)","v":0},{"$f":"$I$5*'[2]21-23 Campus Contract Alloctns'!M83/SUM('[2]21-23 Campus Contract Alloctns'!$I$5:$AP$108)","v":0},{"$f":"$I$5*'[2]21-23 Campus Contract Alloctns'!N83/SUM('[2]21-23 Campus Contract Alloctns'!$I$5:$AP$108)","v":0},{"$f":"$I$5*'[2]21-23 Campus Contract Alloctns'!O83/SUM('[2]21-23 Campus Contract Alloctns'!$I$5:$AP$108)","v":0},{"$f":"$I$5*'[2]21-23 Campus Contract Alloctns'!P83/SUM('[2]21-23 Campus Contract Alloctns'!$I$5:$AP$108)","v":0},{"$f":"$I$5*'[2]21-23 Campus Contract Alloctns'!Q83/SUM('[2]21-23 Campus Contract Alloctns'!$I$5:$AP$108)","v":0},{"$f":"$I$5*'[2]21-23 Campus Contract Alloctns'!R83/SUM('[2]21-23 Campus Contract Alloctns'!$I$5:$AP$108)","v":0},{"$f":"$I$5*'[2]21-23 Campus Contract Alloctns'!S83/SUM('[2]21-23 Campus Contract Alloctns'!$I$5:$AP$108)","v":0},{"$f":"$I$5*'[2]21-23 Campus Contract Alloctns'!T83/SUM('[2]21-23 Campus Contract Alloctns'!$I$5:$AP$108)","v":0},{"$f":"$I$5*'[2]21-23 Campus Contract Alloctns'!U83/SUM('[2]21-23 Campus Contract Alloctns'!$I$5:$AP$108)","v":0},{"$f":"$I$5*'[2]21-23 Campus Contract Alloctns'!V83/SUM('[2]21-23 Campus Contract Alloctns'!$I$5:$AP$108)","v":0},{"$f":"$I$5*'[2]21-23 Campus Contract Alloctns'!W83/SUM('[2]21-23 Campus Contract Alloctns'!$I$5:$AP$108)","v":0},{"$f":"$I$5*'[2]21-23 Campus Contract Alloctns'!X83/SUM('[2]21-23 Campus Contract Alloctns'!$I$5:$AP$108)","v":0},{"$f":"$I$5*'[2]21-23 Campus Contract Alloctns'!Y83/SUM('[2]21-23 Campus Contract Alloctns'!$I$5:$AP$108)","v":0},{"$f":"$I$5*'[2]21-23 Campus Contract Alloctns'!Z83/SUM('[2]21-23 Campus Contract Alloctns'!$I$5:$AP$108)","v":0},{"$f":"$I$5*'[2]21-23 Campus Contract Alloctns'!AA83/SUM('[2]21-23 Campus Contract Alloctns'!$I$5:$AP$108)","v":0},{"$f":"$I$5*'[2]21-23 Campus Contract Alloctns'!AB83/SUM('[2]21-23 Campus Contract Alloctns'!$I$5:$AP$108)","v":0},{"$f":"$I$5*'[2]21-23 Campus Contract Alloctns'!AC83/SUM('[2]21-23 Campus Contract Alloctns'!$I$5:$AP$108)","v":0},{"$f":"$I$5*'[2]21-23 Campus Contract Alloctns'!AD83/SUM('[2]21-23 Campus Contract Alloctns'!$I$5:$AP$108)","v":0},{"$f":"$I$5*'[2]21-23 Campus Contract Alloctns'!AE83/SUM('[2]21-23 Campus Contract Alloctns'!$I$5:$AP$108)","v":0},{"$f":"$I$5*'[2]21-23 Campus Contract Alloctns'!AF83/SUM('[2]21-23 Campus Contract Alloctns'!$I$5:$AP$108)","v":0},{"$f":"$I$5*'[2]21-23 Campus Contract Alloctns'!AG83/SUM('[2]21-23 Campus Contract Alloctns'!$I$5:$AP$108)","v":0},{"$f":"$I$5*'[2]21-23 Campus Contract Alloctns'!AH83/SUM('[2]21-23 Campus Contract Alloctns'!$I$5:$AP$108)","v":0},{"$f":"$I$5*'[2]21-23 Campus Contract Alloctns'!AI83/SUM('[2]21-23 Campus Contract Alloctns'!$I$5:$AP$108)","v":0},{"$f":"$I$5*'[2]21-23 Campus Contract Alloctns'!AJ83/SUM('[2]21-23 Campus Contract Alloctns'!$I$5:$AP$108)","v":0},{"$f":"$I$5*'[2]21-23 Campus Contract Alloctns'!AK83/SUM('[2]21-23 Campus Contract Alloctns'!$I$5:$AP$108)","v":0},{"$f":"$I$5*'[2]21-23 Campus Contract Alloctns'!AL83/SUM('[2]21-23 Campus Contract Alloctns'!$I$5:$AP$108)","v":0},{"$f":"$I$5*'[2]21-23 Campus Contract Alloctns'!AM83/SUM('[2]21-23 Campus Contract Alloctns'!$I$5:$AP$108)","v":0},{"$f":"$I$5*'[2]21-23 Campus Contract Alloctns'!AN83/SUM('[2]21-23 Campus Contract Alloctns'!$I$5:$AP$108)","v":0},{"$f":"$I$5*'[2]21-23 Campus Contract Alloctns'!AO83/SUM('[2]21-23 Campus Contract Alloctns'!$I$5:$AP$108)","v":0},{"$f":"$I$5*'[2]21-23 Campus Contract Alloctns'!AP83/SUM('[2]21-23 Campus Contract Alloctns'!$I$5:$AP$108)","v":0}]
[null,"370 - Eastern Washington University","370","Eastern Washington University",0,0,0,0,0,{"$f":"$I$5*'[2]21-23 Campus Contract Alloctns'!I84/SUM('[2]21-23 Campus Contract Alloctns'!$I$5:$AP$108)","v":0},{"$f":"$I$5*'[2]21-23 Campus Contract Alloctns'!J84/SUM('[2]21-23 Campus Contract Alloctns'!$I$5:$AP$108)","v":0},{"$f":"$I$5*'[2]21-23 Campus Contract Alloctns'!K84/SUM('[2]21-23 Campus Contract Alloctns'!$I$5:$AP$108)","v":0},{"$f":"$I$5*'[2]21-23 Campus Contract Alloctns'!L84/SUM('[2]21-23 Campus Contract Alloctns'!$I$5:$AP$108)","v":0},{"$f":"$I$5*'[2]21-23 Campus Contract Alloctns'!M84/SUM('[2]21-23 Campus Contract Alloctns'!$I$5:$AP$108)","v":0},{"$f":"$I$5*'[2]21-23 Campus Contract Alloctns'!N84/SUM('[2]21-23 Campus Contract Alloctns'!$I$5:$AP$108)","v":0},{"$f":"$I$5*'[2]21-23 Campus Contract Alloctns'!O84/SUM('[2]21-23 Campus Contract Alloctns'!$I$5:$AP$108)","v":0},{"$f":"$I$5*'[2]21-23 Campus Contract Alloctns'!P84/SUM('[2]21-23 Campus Contract Alloctns'!$I$5:$AP$108)","v":0},{"$f":"$I$5*'[2]21-23 Campus Contract Alloctns'!Q84/SUM('[2]21-23 Campus Contract Alloctns'!$I$5:$AP$108)","v":0},{"$f":"$I$5*'[2]21-23 Campus Contract Alloctns'!R84/SUM('[2]21-23 Campus Contract Alloctns'!$I$5:$AP$108)","v":0},{"$f":"$I$5*'[2]21-23 Campus Contract Alloctns'!S84/SUM('[2]21-23 Campus Contract Alloctns'!$I$5:$AP$108)","v":0},{"$f":"$I$5*'[2]21-23 Campus Contract Alloctns'!T84/SUM('[2]21-23 Campus Contract Alloctns'!$I$5:$AP$108)","v":0},{"$f":"$I$5*'[2]21-23 Campus Contract Alloctns'!U84/SUM('[2]21-23 Campus Contract Alloctns'!$I$5:$AP$108)","v":0},{"$f":"$I$5*'[2]21-23 Campus Contract Alloctns'!V84/SUM('[2]21-23 Campus Contract Alloctns'!$I$5:$AP$108)","v":0},{"$f":"$I$5*'[2]21-23 Campus Contract Alloctns'!W84/SUM('[2]21-23 Campus Contract Alloctns'!$I$5:$AP$108)","v":0},{"$f":"$I$5*'[2]21-23 Campus Contract Alloctns'!X84/SUM('[2]21-23 Campus Contract Alloctns'!$I$5:$AP$108)","v":0},{"$f":"$I$5*'[2]21-23 Campus Contract Alloctns'!Y84/SUM('[2]21-23 Campus Contract Alloctns'!$I$5:$AP$108)","v":0},{"$f":"$I$5*'[2]21-23 Campus Contract Alloctns'!Z84/SUM('[2]21-23 Campus Contract Alloctns'!$I$5:$AP$108)","v":0},{"$f":"$I$5*'[2]21-23 Campus Contract Alloctns'!AA84/SUM('[2]21-23 Campus Contract Alloctns'!$I$5:$AP$108)","v":0},{"$f":"$I$5*'[2]21-23 Campus Contract Alloctns'!AB84/SUM('[2]21-23 Campus Contract Alloctns'!$I$5:$AP$108)","v":0},{"$f":"$I$5*'[2]21-23 Campus Contract Alloctns'!AC84/SUM('[2]21-23 Campus Contract Alloctns'!$I$5:$AP$108)","v":0},{"$f":"$I$5*'[2]21-23 Campus Contract Alloctns'!AD84/SUM('[2]21-23 Campus Contract Alloctns'!$I$5:$AP$108)","v":0},{"$f":"$I$5*'[2]21-23 Campus Contract Alloctns'!AE84/SUM('[2]21-23 Campus Contract Alloctns'!$I$5:$AP$108)","v":0},{"$f":"$I$5*'[2]21-23 Campus Contract Alloctns'!AF84/SUM('[2]21-23 Campus Contract Alloctns'!$I$5:$AP$108)","v":0},{"$f":"$I$5*'[2]21-23 Campus Contract Alloctns'!AG84/SUM('[2]21-23 Campus Contract Alloctns'!$I$5:$AP$108)","v":0},{"$f":"$I$5*'[2]21-23 Campus Contract Alloctns'!AH84/SUM('[2]21-23 Campus Contract Alloctns'!$I$5:$AP$108)","v":0},{"$f":"$I$5*'[2]21-23 Campus Contract Alloctns'!AI84/SUM('[2]21-23 Campus Contract Alloctns'!$I$5:$AP$108)","v":0},{"$f":"$I$5*'[2]21-23 Campus Contract Alloctns'!AJ84/SUM('[2]21-23 Campus Contract Alloctns'!$I$5:$AP$108)","v":0},{"$f":"$I$5*'[2]21-23 Campus Contract Alloctns'!AK84/SUM('[2]21-23 Campus Contract Alloctns'!$I$5:$AP$108)","v":0},{"$f":"$I$5*'[2]21-23 Campus Contract Alloctns'!AL84/SUM('[2]21-23 Campus Contract Alloctns'!$I$5:$AP$108)","v":0},{"$f":"$I$5*'[2]21-23 Campus Contract Alloctns'!AM84/SUM('[2]21-23 Campus Contract Alloctns'!$I$5:$AP$108)","v":0},{"$f":"$I$5*'[2]21-23 Campus Contract Alloctns'!AN84/SUM('[2]21-23 Campus Contract Alloctns'!$I$5:$AP$108)","v":0},{"$f":"$I$5*'[2]21-23 Campus Contract Alloctns'!AO84/SUM('[2]21-23 Campus Contract Alloctns'!$I$5:$AP$108)","v":0},{"$f":"$I$5*'[2]21-23 Campus Contract Alloctns'!AP84/SUM('[2]21-23 Campus Contract Alloctns'!$I$5:$AP$108)","v":0}]
[null,"375 - Central Washington University","375","Central Washington University",0,0,0,0,0,{"$f":"$I$5*'[2]21-23 Campus Contract Alloctns'!I85/SUM('[2]21-23 Campus Contract Alloctns'!$I$5:$AP$108)","v":0},{"$f":"$I$5*'[2]21-23 Campus Contract Alloctns'!J85/SUM('[2]21-23 Campus Contract Alloctns'!$I$5:$AP$108)","v":0},{"$f":"$I$5*'[2]21-23 Campus Contract Alloctns'!K85/SUM('[2]21-23 Campus Contract Alloctns'!$I$5:$AP$108)","v":0},{"$f":"$I$5*'[2]21-23 Campus Contract Alloctns'!L85/SUM('[2]21-23 Campus Contract Alloctns'!$I$5:$AP$108)","v":0},{"$f":"$I$5*'[2]21-23 Campus Contract Alloctns'!M85/SUM('[2]21-23 Campus Contract Alloctns'!$I$5:$AP$108)","v":0},{"$f":"$I$5*'[2]21-23 Campus Contract Alloctns'!N85/SUM('[2]21-23 Campus Contract Alloctns'!$I$5:$AP$108)","v":0},{"$f":"$I$5*'[2]21-23 Campus Contract Alloctns'!O85/SUM('[2]21-23 Campus Contract Alloctns'!$I$5:$AP$108)","v":0},{"$f":"$I$5*'[2]21-23 Campus Contract Alloctns'!P85/SUM('[2]21-23 Campus Contract Alloctns'!$I$5:$AP$108)","v":0},{"$f":"$I$5*'[2]21-23 Campus Contract Alloctns'!Q85/SUM('[2]21-23 Campus Contract Alloctns'!$I$5:$AP$108)","v":0},{"$f":"$I$5*'[2]21-23 Campus Contract Alloctns'!R85/SUM('[2]21-23 Campus Contract Alloctns'!$I$5:$AP$108)","v":0},{"$f":"$I$5*'[2]21-23 Campus Contract Alloctns'!S85/SUM('[2]21-23 Campus Contract Alloctns'!$I$5:$AP$108)","v":0},{"$f":"$I$5*'[2]21-23 Campus Contract Alloctns'!T85/SUM('[2]21-23 Campus Contract Alloctns'!$I$5:$AP$108)","v":0},{"$f":"$I$5*'[2]21-23 Campus Contract Alloctns'!U85/SUM('[2]21-23 Campus Contract Alloctns'!$I$5:$AP$108)","v":0},{"$f":"$I$5*'[2]21-23 Campus Contract Alloctns'!V85/SUM('[2]21-23 Campus Contract Alloctns'!$I$5:$AP$108)","v":0},{"$f":"$I$5*'[2]21-23 Campus Contract Alloctns'!W85/SUM('[2]21-23 Campus Contract Alloctns'!$I$5:$AP$108)","v":0},{"$f":"$I$5*'[2]21-23 Campus Contract Alloctns'!X85/SUM('[2]21-23 Campus Contract Alloctns'!$I$5:$AP$108)","v":0},{"$f":"$I$5*'[2]21-23 Campus Contract Alloctns'!Y85/SUM('[2]21-23 Campus Contract Alloctns'!$I$5:$AP$108)","v":0},{"$f":"$I$5*'[2]21-23 Campus Contract Alloctns'!Z85/SUM('[2]21-23 Campus Contract Alloctns'!$I$5:$AP$108)","v":0},{"$f":"$I$5*'[2]21-23 Campus Contract Alloctns'!AA85/SUM('[2]21-23 Campus Contract Alloctns'!$I$5:$AP$108)","v":0},{"$f":"$I$5*'[2]21-23 Campus Contract Alloctns'!AB85/SUM('[2]21-23 Campus Contract Alloctns'!$I$5:$AP$108)","v":0},{"$f":"$I$5*'[2]21-23 Campus Contract Alloctns'!AC85/SUM('[2]21-23 Campus Contract Alloctns'!$I$5:$AP$108)","v":0},{"$f":"$I$5*'[2]21-23 Campus Contract Alloctns'!AD85/SUM('[2]21-23 Campus Contract Alloctns'!$I$5:$AP$108)","v":0},{"$f":"$I$5*'[2]21-23 Campus Contract Alloctns'!AE85/SUM('[2]21-23 Campus Contract Alloctns'!$I$5:$AP$108)","v":0},{"$f":"$I$5*'[2]21-23 Campus Contract Alloctns'!AF85/SUM('[2]21-23 Campus Contract Alloctns'!$I$5:$AP$108)","v":0},{"$f":"$I$5*'[2]21-23 Campus Contract Alloctns'!AG85/SUM('[2]21-23 Campus Contract Alloctns'!$I$5:$AP$108)","v":0},{"$f":"$I$5*'[2]21-23 Campus Contract Alloctns'!AH85/SUM('[2]21-23 Campus Contract Alloctns'!$I$5:$AP$108)","v":0},{"$f":"$I$5*'[2]21-23 Campus Contract Alloctns'!AI85/SUM('[2]21-23 Campus Contract Alloctns'!$I$5:$AP$108)","v":0},{"$f":"$I$5*'[2]21-23 Campus Contract Alloctns'!AJ85/SUM('[2]21-23 Campus Contract Alloctns'!$I$5:$AP$108)","v":0},{"$f":"$I$5*'[2]21-23 Campus Contract Alloctns'!AK85/SUM('[2]21-23 Campus Contract Alloctns'!$I$5:$AP$108)","v":0},{"$f":"$I$5*'[2]21-23 Campus Contract Alloctns'!AL85/SUM('[2]21-23 Campus Contract Alloctns'!$I$5:$AP$108)","v":0},{"$f":"$I$5*'[2]21-23 Campus Contract Alloctns'!AM85/SUM('[2]21-23 Campus Contract Alloctns'!$I$5:$AP$108)","v":0},{"$f":"$I$5*'[2]21-23 Campus Contract Alloctns'!AN85/SUM('[2]21-23 Campus Contract Alloctns'!$I$5:$AP$108)","v":0},{"$f":"$I$5*'[2]21-23 Campus Contract Alloctns'!AO85/SUM('[2]21-23 Campus Contract Alloctns'!$I$5:$AP$108)","v":0},{"$f":"$I$5*'[2]21-23 Campus Contract Alloctns'!AP85/SUM('[2]21-23 Campus Contract Alloctns'!$I$5:$AP$108)","v":0}]
[null,"376 - The Evergreen State College","376","The Evergreen State College",9.5905430330124747E-3,541,9.5905430330124747E-3,0,0,{"$f":"$I$5*'[2]21-23 Campus Contract Alloctns'!I86/SUM('[2]21-23 Campus Contract Alloctns'!$I$5:$AP$108)","v":0},{"$f":"$I$5*'[2]21-23 Campus Contract Alloctns'!J86/SUM('[2]21-23 Campus Contract Alloctns'!$I$5:$AP$108)","v":0},{"$f":"$I$5*'[2]21-23 Campus Contract Alloctns'!K86/SUM('[2]21-23 Campus Contract Alloctns'!$I$5:$AP$108)","v":0},{"$f":"$I$5*'[2]21-23 Campus Contract Alloctns'!L86/SUM('[2]21-23 Campus Contract Alloctns'!$I$5:$AP$108)","v":0},{"$f":"$I$5*'[2]21-23 Campus Contract Alloctns'!M86/SUM('[2]21-23 Campus Contract Alloctns'!$I$5:$AP$108)","v":0},{"$f":"$I$5*'[2]21-23 Campus Contract Alloctns'!N86/SUM('[2]21-23 Campus Contract Alloctns'!$I$5:$AP$108)","v":0},{"$f":"$I$5*'[2]21-23 Campus Contract Alloctns'!O86/SUM('[2]21-23 Campus Contract Alloctns'!$I$5:$AP$108)","v":0},{"$f":"$I$5*'[2]21-23 Campus Contract Alloctns'!P86/SUM('[2]21-23 Campus Contract Alloctns'!$I$5:$AP$108)","v":0},{"$f":"$I$5*'[2]21-23 Campus Contract Alloctns'!Q86/SUM('[2]21-23 Campus Contract Alloctns'!$I$5:$AP$108)","v":0},{"$f":"$I$5*'[2]21-23 Campus Contract Alloctns'!R86/SUM('[2]21-23 Campus Contract Alloctns'!$I$5:$AP$108)","v":0},{"$f":"$I$5*'[2]21-23 Campus Contract Alloctns'!S86/SUM('[2]21-23 Campus Contract Alloctns'!$I$5:$AP$108)","v":0},{"$f":"$I$5*'[2]21-23 Campus Contract Alloctns'!T86/SUM('[2]21-23 Campus Contract Alloctns'!$I$5:$AP$108)","v":0},{"$f":"$I$5*'[2]21-23 Campus Contract Alloctns'!U86/SUM('[2]21-23 Campus Contract Alloctns'!$I$5:$AP$108)","v":0},{"$f":"$I$5*'[2]21-23 Campus Contract Alloctns'!V86/SUM('[2]21-23 Campus Contract Alloctns'!$I$5:$AP$108)","v":0},{"$f":"$I$5*'[2]21-23 Campus Contract Alloctns'!W86/SUM('[2]21-23 Campus Contract Alloctns'!$I$5:$AP$108)","v":0},{"$f":"$I$5*'[2]21-23 Campus Contract Alloctns'!X86/SUM('[2]21-23 Campus Contract Alloctns'!$I$5:$AP$108)","v":0},{"$f":"$I$5*'[2]21-23 Campus Contract Alloctns'!Y86/SUM('[2]21-23 Campus Contract Alloctns'!$I$5:$AP$108)","v":0},{"$f":"$I$5*'[2]21-23 Campus Contract Alloctns'!Z86/SUM('[2]21-23 Campus Contract Alloctns'!$I$5:$AP$108)","v":0},{"$f":"$I$5*'[2]21-23 Campus Contract Alloctns'!AA86/SUM('[2]21-23 Campus Contract Alloctns'!$I$5:$AP$108)","v":0},{"$f":"$I$5*'[2]21-23 Campus Contract Alloctns'!AB86/SUM('[2]21-23 Campus Contract Alloctns'!$I$5:$AP$108)","v":0},{"$f":"$I$5*'[2]21-23 Campus Contract Alloctns'!AC86/SUM('[2]21-23 Campus Contract Alloctns'!$I$5:$AP$108)","v":0},{"$f":"$I$5*'[2]21-23 Campus Contract Alloctns'!AD86/SUM('[2]21-23 Campus Contract Alloctns'!$I$5:$AP$108)","v":0},{"$f":"$I$5*'[2]21-23 Campus Contract Alloctns'!AE86/SUM('[2]21-23 Campus Contract Alloctns'!$I$5:$AP$108)","v":0},{"$f":"$I$5*'[2]21-23 Campus Contract Alloctns'!AF86/SUM('[2]21-23 Campus Contract Alloctns'!$I$5:$AP$108)","v":0},{"$f":"$I$5*'[2]21-23 Campus Contract Alloctns'!AG86/SUM('[2]21-23 Campus Contract Alloctns'!$I$5:$AP$108)","v":0},{"$f":"$I$5*'[2]21-23 Campus Contract Alloctns'!AH86/SUM('[2]21-23 Campus Contract Alloctns'!$I$5:$AP$108)","v":0},{"$f":"$I$5*'[2]21-23 Campus Contract Alloctns'!AI86/SUM('[2]21-23 Campus Contract Alloctns'!$I$5:$AP$108)","v":0},{"$f":"$I$5*'[2]21-23 Campus Contract Alloctns'!AJ86/SUM('[2]21-23 Campus Contract Alloctns'!$I$5:$AP$108)","v":0},{"$f":"$I$5*'[2]21-23 Campus Contract Alloctns'!AK86/SUM('[2]21-23 Campus Contract Alloctns'!$I$5:$AP$108)","v":0},{"$f":"$I$5*'[2]21-23 Campus Contract Alloctns'!AL86/SUM('[2]21-23 Campus Contract Alloctns'!$I$5:$AP$108)","v":0},{"$f":"$I$5*'[2]21-23 Campus Contract Alloctns'!AM86/SUM('[2]21-23 Campus Contract Alloctns'!$I$5:$AP$108)","v":0},{"$f":"$I$5*'[2]21-23 Campus Contract Alloctns'!AN86/SUM('[2]21-23 Campus Contract Alloctns'!$I$5:$AP$108)","v":0},{"$f":"$I$5*'[2]21-23 Campus Contract Alloctns'!AO86/SUM('[2]21-23 Campus Contract Alloctns'!$I$5:$AP$108)","v":0},{"$f":"$I$5*'[2]21-23 Campus Contract Alloctns'!AP86/SUM('[2]21-23 Campus Contract Alloctns'!$I$5:$AP$108)","v":0}]
[null,"380 - Western Washington University","380","Western Washington University",0,0,0,0,0,{"$f":"$I$5*'[2]21-23 Campus Contract Alloctns'!I87/SUM('[2]21-23 Campus Contract Alloctns'!$I$5:$AP$108)","v":0},{"$f":"$I$5*'[2]21-23 Campus Contract Alloctns'!J87/SUM('[2]21-23 Campus Contract Alloctns'!$I$5:$AP$108)","v":0},{"$f":"$I$5*'[2]21-23 Campus Contract Alloctns'!K87/SUM('[2]21-23 Campus Contract Alloctns'!$I$5:$AP$108)","v":0},{"$f":"$I$5*'[2]21-23 Campus Contract Alloctns'!L87/SUM('[2]21-23 Campus Contract Alloctns'!$I$5:$AP$108)","v":0},{"$f":"$I$5*'[2]21-23 Campus Contract Alloctns'!M87/SUM('[2]21-23 Campus Contract Alloctns'!$I$5:$AP$108)","v":0},{"$f":"$I$5*'[2]21-23 Campus Contract Alloctns'!N87/SUM('[2]21-23 Campus Contract Alloctns'!$I$5:$AP$108)","v":0},{"$f":"$I$5*'[2]21-23 Campus Contract Alloctns'!O87/SUM('[2]21-23 Campus Contract Alloctns'!$I$5:$AP$108)","v":0},{"$f":"$I$5*'[2]21-23 Campus Contract Alloctns'!P87/SUM('[2]21-23 Campus Contract Alloctns'!$I$5:$AP$108)","v":0},{"$f":"$I$5*'[2]21-23 Campus Contract Alloctns'!Q87/SUM('[2]21-23 Campus Contract Alloctns'!$I$5:$AP$108)","v":0},{"$f":"$I$5*'[2]21-23 Campus Contract Alloctns'!R87/SUM('[2]21-23 Campus Contract Alloctns'!$I$5:$AP$108)","v":0},{"$f":"$I$5*'[2]21-23 Campus Contract Alloctns'!S87/SUM('[2]21-23 Campus Contract Alloctns'!$I$5:$AP$108)","v":0},{"$f":"$I$5*'[2]21-23 Campus Contract Alloctns'!T87/SUM('[2]21-23 Campus Contract Alloctns'!$I$5:$AP$108)","v":0},{"$f":"$I$5*'[2]21-23 Campus Contract Alloctns'!U87/SUM('[2]21-23 Campus Contract Alloctns'!$I$5:$AP$108)","v":0},{"$f":"$I$5*'[2]21-23 Campus Contract Alloctns'!V87/SUM('[2]21-23 Campus Contract Alloctns'!$I$5:$AP$108)","v":0},{"$f":"$I$5*'[2]21-23 Campus Contract Alloctns'!W87/SUM('[2]21-23 Campus Contract Alloctns'!$I$5:$AP$108)","v":0},{"$f":"$I$5*'[2]21-23 Campus Contract Alloctns'!X87/SUM('[2]21-23 Campus Contract Alloctns'!$I$5:$AP$108)","v":0},{"$f":"$I$5*'[2]21-23 Campus Contract Alloctns'!Y87/SUM('[2]21-23 Campus Contract Alloctns'!$I$5:$AP$108)","v":0},{"$f":"$I$5*'[2]21-23 Campus Contract Alloctns'!Z87/SUM('[2]21-23 Campus Contract Alloctns'!$I$5:$AP$108)","v":0},{"$f":"$I$5*'[2]21-23 Campus Contract Alloctns'!AA87/SUM('[2]21-23 Campus Contract Alloctns'!$I$5:$AP$108)","v":0},{"$f":"$I$5*'[2]21-23 Campus Contract Alloctns'!AB87/SUM('[2]21-23 Campus Contract Alloctns'!$I$5:$AP$108)","v":0},{"$f":"$I$5*'[2]21-23 Campus Contract Alloctns'!AC87/SUM('[2]21-23 Campus Contract Alloctns'!$I$5:$AP$108)","v":0},{"$f":"$I$5*'[2]21-23 Campus Contract Alloctns'!AD87/SUM('[2]21-23 Campus Contract Alloctns'!$I$5:$AP$108)","v":0},{"$f":"$I$5*'[2]21-23 Campus Contract Alloctns'!AE87/SUM('[2]21-23 Campus Contract Alloctns'!$I$5:$AP$108)","v":0},{"$f":"$I$5*'[2]21-23 Campus Contract Alloctns'!AF87/SUM('[2]21-23 Campus Contract Alloctns'!$I$5:$AP$108)","v":0},{"$f":"$I$5*'[2]21-23 Campus Contract Alloctns'!AG87/SUM('[2]21-23 Campus Contract Alloctns'!$I$5:$AP$108)","v":0},{"$f":"$I$5*'[2]21-23 Campus Contract Alloctns'!AH87/SUM('[2]21-23 Campus Contract Alloctns'!$I$5:$AP$108)","v":0},{"$f":"$I$5*'[2]21-23 Campus Contract Alloctns'!AI87/SUM('[2]21-23 Campus Contract Alloctns'!$I$5:$AP$108)","v":0},{"$f":"$I$5*'[2]21-23 Campus Contract Alloctns'!AJ87/SUM('[2]21-23 Campus Contract Alloctns'!$I$5:$AP$108)","v":0},{"$f":"$I$5*'[2]21-23 Campus Contract Alloctns'!AK87/SUM('[2]21-23 Campus Contract Alloctns'!$I$5:$AP$108)","v":0},{"$f":"$I$5*'[2]21-23 Campus Contract Alloctns'!AL87/SUM('[2]21-23 Campus Contract Alloctns'!$I$5:$AP$108)","v":0},{"$f":"$I$5*'[2]21-23 Campus Contract Alloctns'!AM87/SUM('[2]21-23 Campus Contract Alloctns'!$I$5:$AP$108)","v":0},{"$f":"$I$5*'[2]21-23 Campus Contract Alloctns'!AN87/SUM('[2]21-23 Campus Contract Alloctns'!$I$5:$AP$108)","v":0},{"$f":"$I$5*'[2]21-23 Campus Contract Alloctns'!AO87/SUM('[2]21-23 Campus Contract Alloctns'!$I$5:$AP$108)","v":0},{"$f":"$I$5*'[2]21-23 Campus Contract Alloctns'!AP87/SUM('[2]21-23 Campus Contract Alloctns'!$I$5:$AP$108)","v":0}]
[null,"387 - Washington State Arts Commission","387","Washington State Arts Commission",3.5454872580452775E-4,20,3.5454872580452775E-4,0,0,{"$f":"$I$5*'[2]21-23 Campus Contract Alloctns'!I88/SUM('[2]21-23 Campus Contract Alloctns'!$I$5:$AP$108)","v":0},{"$f":"$I$5*'[2]21-23 Campus Contract Alloctns'!J88/SUM('[2]21-23 Campus Contract Alloctns'!$I$5:$AP$108)","v":0},{"$f":"$I$5*'[2]21-23 Campus Contract Alloctns'!K88/SUM('[2]21-23 Campus Contract Alloctns'!$I$5:$AP$108)","v":0},{"$f":"$I$5*'[2]21-23 Campus Contract Alloctns'!L88/SUM('[2]21-23 Campus Contract Alloctns'!$I$5:$AP$108)","v":0},{"$f":"$I$5*'[2]21-23 Campus Contract Alloctns'!M88/SUM('[2]21-23 Campus Contract Alloctns'!$I$5:$AP$108)","v":0},{"$f":"$I$5*'[2]21-23 Campus Contract Alloctns'!N88/SUM('[2]21-23 Campus Contract Alloctns'!$I$5:$AP$108)","v":0},{"$f":"$I$5*'[2]21-23 Campus Contract Alloctns'!O88/SUM('[2]21-23 Campus Contract Alloctns'!$I$5:$AP$108)","v":0},{"$f":"$I$5*'[2]21-23 Campus Contract Alloctns'!P88/SUM('[2]21-23 Campus Contract Alloctns'!$I$5:$AP$108)","v":0},{"$f":"$I$5*'[2]21-23 Campus Contract Alloctns'!Q88/SUM('[2]21-23 Campus Contract Alloctns'!$I$5:$AP$108)","v":0},{"$f":"$I$5*'[2]21-23 Campus Contract Alloctns'!R88/SUM('[2]21-23 Campus Contract Alloctns'!$I$5:$AP$108)","v":0},{"$f":"$I$5*'[2]21-23 Campus Contract Alloctns'!S88/SUM('[2]21-23 Campus Contract Alloctns'!$I$5:$AP$108)","v":0},{"$f":"$I$5*'[2]21-23 Campus Contract Alloctns'!T88/SUM('[2]21-23 Campus Contract Alloctns'!$I$5:$AP$108)","v":0},{"$f":"$I$5*'[2]21-23 Campus Contract Alloctns'!U88/SUM('[2]21-23 Campus Contract Alloctns'!$I$5:$AP$108)","v":0},{"$f":"$I$5*'[2]21-23 Campus Contract Alloctns'!V88/SUM('[2]21-23 Campus Contract Alloctns'!$I$5:$AP$108)","v":0},{"$f":"$I$5*'[2]21-23 Campus Contract Alloctns'!W88/SUM('[2]21-23 Campus Contract Alloctns'!$I$5:$AP$108)","v":0},{"$f":"$I$5*'[2]21-23 Campus Contract Alloctns'!X88/SUM('[2]21-23 Campus Contract Alloctns'!$I$5:$AP$108)","v":0},{"$f":"$I$5*'[2]21-23 Campus Contract Alloctns'!Y88/SUM('[2]21-23 Campus Contract Alloctns'!$I$5:$AP$108)","v":0},{"$f":"$I$5*'[2]21-23 Campus Contract Alloctns'!Z88/SUM('[2]21-23 Campus Contract Alloctns'!$I$5:$AP$108)","v":0},{"$f":"$I$5*'[2]21-23 Campus Contract Alloctns'!AA88/SUM('[2]21-23 Campus Contract Alloctns'!$I$5:$AP$108)","v":0},{"$f":"$I$5*'[2]21-23 Campus Contract Alloctns'!AB88/SUM('[2]21-23 Campus Contract Alloctns'!$I$5:$AP$108)","v":0},{"$f":"$I$5*'[2]21-23 Campus Contract Alloctns'!AC88/SUM('[2]21-23 Campus Contract Alloctns'!$I$5:$AP$108)","v":0},{"$f":"$I$5*'[2]21-23 Campus Contract Alloctns'!AD88/SUM('[2]21-23 Campus Contract Alloctns'!$I$5:$AP$108)","v":0},{"$f":"$I$5*'[2]21-23 Campus Contract Alloctns'!AE88/SUM('[2]21-23 Campus Contract Alloctns'!$I$5:$AP$108)","v":0},{"$f":"$I$5*'[2]21-23 Campus Contract Alloctns'!AF88/SUM('[2]21-23 Campus Contract Alloctns'!$I$5:$AP$108)","v":0},{"$f":"$I$5*'[2]21-23 Campus Contract Alloctns'!AG88/SUM('[2]21-23 Campus Contract Alloctns'!$I$5:$AP$108)","v":0},{"$f":"$I$5*'[2]21-23 Campus Contract Alloctns'!AH88/SUM('[2]21-23 Campus Contract Alloctns'!$I$5:$AP$108)","v":0},{"$f":"$I$5*'[2]21-23 Campus Contract Alloctns'!AI88/SUM('[2]21-23 Campus Contract Alloctns'!$I$5:$AP$108)","v":0},{"$f":"$I$5*'[2]21-23 Campus Contract Alloctns'!AJ88/SUM('[2]21-23 Campus Contract Alloctns'!$I$5:$AP$108)","v":0},{"$f":"$I$5*'[2]21-23 Campus Contract Alloctns'!AK88/SUM('[2]21-23 Campus Contract Alloctns'!$I$5:$AP$108)","v":0},{"$f":"$I$5*'[2]21-23 Campus Contract Alloctns'!AL88/SUM('[2]21-23 Campus Contract Alloctns'!$I$5:$AP$108)","v":0},{"$f":"$I$5*'[2]21-23 Campus Contract Alloctns'!AM88/SUM('[2]21-23 Campus Contract Alloctns'!$I$5:$AP$108)","v":0},{"$f":"$I$5*'[2]21-23 Campus Contract Alloctns'!AN88/SUM('[2]21-23 Campus Contract Alloctns'!$I$5:$AP$108)","v":0},{"$f":"$I$5*'[2]21-23 Campus Contract Alloctns'!AO88/SUM('[2]21-23 Campus Contract Alloctns'!$I$5:$AP$108)","v":0},{"$f":"$I$5*'[2]21-23 Campus Contract Alloctns'!AP88/SUM('[2]21-23 Campus Contract Alloctns'!$I$5:$AP$108)","v":0}]
[null,"390 - Washington State Historical Society","390","Washington State Historical Society",1.7727436290226384E-5,1,1.7727436290226384E-5,0,0,{"$f":"$I$5*'[2]21-23 Campus Contract Alloctns'!I89/SUM('[2]21-23 Campus Contract Alloctns'!$I$5:$AP$108)","v":0},{"$f":"$I$5*'[2]21-23 Campus Contract Alloctns'!J89/SUM('[2]21-23 Campus Contract Alloctns'!$I$5:$AP$108)","v":0},{"$f":"$I$5*'[2]21-23 Campus Contract Alloctns'!K89/SUM('[2]21-23 Campus Contract Alloctns'!$I$5:$AP$108)","v":0},{"$f":"$I$5*'[2]21-23 Campus Contract Alloctns'!L89/SUM('[2]21-23 Campus Contract Alloctns'!$I$5:$AP$108)","v":0},{"$f":"$I$5*'[2]21-23 Campus Contract Alloctns'!M89/SUM('[2]21-23 Campus Contract Alloctns'!$I$5:$AP$108)","v":0},{"$f":"$I$5*'[2]21-23 Campus Contract Alloctns'!N89/SUM('[2]21-23 Campus Contract Alloctns'!$I$5:$AP$108)","v":0},{"$f":"$I$5*'[2]21-23 Campus Contract Alloctns'!O89/SUM('[2]21-23 Campus Contract Alloctns'!$I$5:$AP$108)","v":0},{"$f":"$I$5*'[2]21-23 Campus Contract Alloctns'!P89/SUM('[2]21-23 Campus Contract Alloctns'!$I$5:$AP$108)","v":0},{"$f":"$I$5*'[2]21-23 Campus Contract Alloctns'!Q89/SUM('[2]21-23 Campus Contract Alloctns'!$I$5:$AP$108)","v":0},{"$f":"$I$5*'[2]21-23 Campus Contract Alloctns'!R89/SUM('[2]21-23 Campus Contract Alloctns'!$I$5:$AP$108)","v":0},{"$f":"$I$5*'[2]21-23 Campus Contract Alloctns'!S89/SUM('[2]21-23 Campus Contract Alloctns'!$I$5:$AP$108)","v":0},{"$f":"$I$5*'[2]21-23 Campus Contract Alloctns'!T89/SUM('[2]21-23 Campus Contract Alloctns'!$I$5:$AP$108)","v":0},{"$f":"$I$5*'[2]21-23 Campus Contract Alloctns'!U89/SUM('[2]21-23 Campus Contract Alloctns'!$I$5:$AP$108)","v":0},{"$f":"$I$5*'[2]21-23 Campus Contract Alloctns'!V89/SUM('[2]21-23 Campus Contract Alloctns'!$I$5:$AP$108)","v":0},{"$f":"$I$5*'[2]21-23 Campus Contract Alloctns'!W89/SUM('[2]21-23 Campus Contract Alloctns'!$I$5:$AP$108)","v":0},{"$f":"$I$5*'[2]21-23 Campus Contract Alloctns'!X89/SUM('[2]21-23 Campus Contract Alloctns'!$I$5:$AP$108)","v":0},{"$f":"$I$5*'[2]21-23 Campus Contract Alloctns'!Y89/SUM('[2]21-23 Campus Contract Alloctns'!$I$5:$AP$108)","v":0},{"$f":"$I$5*'[2]21-23 Campus Contract Alloctns'!Z89/SUM('[2]21-23 Campus Contract Alloctns'!$I$5:$AP$108)","v":0},{"$f":"$I$5*'[2]21-23 Campus Contract Alloctns'!AA89/SUM('[2]21-23 Campus Contract Alloctns'!$I$5:$AP$108)","v":0},{"$f":"$I$5*'[2]21-23 Campus Contract Alloctns'!AB89/SUM('[2]21-23 Campus Contract Alloctns'!$I$5:$AP$108)","v":0},{"$f":"$I$5*'[2]21-23 Campus Contract Alloctns'!AC89/SUM('[2]21-23 Campus Contract Alloctns'!$I$5:$AP$108)","v":0},{"$f":"$I$5*'[2]21-23 Campus Contract Alloctns'!AD89/SUM('[2]21-23 Campus Contract Alloctns'!$I$5:$AP$108)","v":0},{"$f":"$I$5*'[2]21-23 Campus Contract Alloctns'!AE89/SUM('[2]21-23 Campus Contract Alloctns'!$I$5:$AP$108)","v":0},{"$f":"$I$5*'[2]21-23 Campus Contract Alloctns'!AF89/SUM('[2]21-23 Campus Contract Alloctns'!$I$5:$AP$108)","v":0},{"$f":"$I$5*'[2]21-23 Campus Contract Alloctns'!AG89/SUM('[2]21-23 Campus Contract Alloctns'!$I$5:$AP$108)","v":0},{"$f":"$I$5*'[2]21-23 Campus Contract Alloctns'!AH89/SUM('[2]21-23 Campus Contract Alloctns'!$I$5:$AP$108)","v":0},{"$f":"$I$5*'[2]21-23 Campus Contract Alloctns'!AI89/SUM('[2]21-23 Campus Contract Alloctns'!$I$5:$AP$108)","v":0},{"$f":"$I$5*'[2]21-23 Campus Contract Alloctns'!AJ89/SUM('[2]21-23 Campus Contract Alloctns'!$I$5:$AP$108)","v":0},{"$f":"$I$5*'[2]21-23 Campus Contract Alloctns'!AK89/SUM('[2]21-23 Campus Contract Alloctns'!$I$5:$AP$108)","v":0},{"$f":"$I$5*'[2]21-23 Campus Contract Alloctns'!AL89/SUM('[2]21-23 Campus Contract Alloctns'!$I$5:$AP$108)","v":0},{"$f":"$I$5*'[2]21-23 Campus Contract Alloctns'!AM89/SUM('[2]21-23 Campus Contract Alloctns'!$I$5:$AP$108)","v":0},{"$f":"$I$5*'[2]21-23 Campus Contract Alloctns'!AN89/SUM('[2]21-23 Campus Contract Alloctns'!$I$5:$AP$108)","v":0},{"$f":"$I$5*'[2]21-23 Campus Contract Alloctns'!AO89/SUM('[2]21-23 Campus Contract Alloctns'!$I$5:$AP$108)","v":0},{"$f":"$I$5*'[2]21-23 Campus Contract Alloctns'!AP89/SUM('[2]21-23 Campus Contract Alloctns'!$I$5:$AP$108)","v":0}]
[null,"395 - Eastern Washington State Historical Society","395","Eastern Washington State Historical Society",0,0,0,0,0,{"$f":"$I$5*'[2]21-23 Campus Contract Alloctns'!I90/SUM('[2]21-23 Campus Contract Alloctns'!$I$5:$AP$108)","v":0},{"$f":"$I$5*'[2]21-23 Campus Contract Alloctns'!J90/SUM('[2]21-23 Campus Contract Alloctns'!$I$5:$AP$108)","v":0},{"$f":"$I$5*'[2]21-23 Campus Contract Alloctns'!K90/SUM('[2]21-23 Campus Contract Alloctns'!$I$5:$AP$108)","v":0},{"$f":"$I$5*'[2]21-23 Campus Contract Alloctns'!L90/SUM('[2]21-23 Campus Contract Alloctns'!$I$5:$AP$108)","v":0},{"$f":"$I$5*'[2]21-23 Campus Contract Alloctns'!M90/SUM('[2]21-23 Campus Contract Alloctns'!$I$5:$AP$108)","v":0},{"$f":"$I$5*'[2]21-23 Campus Contract Alloctns'!N90/SUM('[2]21-23 Campus Contract Alloctns'!$I$5:$AP$108)","v":0},{"$f":"$I$5*'[2]21-23 Campus Contract Alloctns'!O90/SUM('[2]21-23 Campus Contract Alloctns'!$I$5:$AP$108)","v":0},{"$f":"$I$5*'[2]21-23 Campus Contract Alloctns'!P90/SUM('[2]21-23 Campus Contract Alloctns'!$I$5:$AP$108)","v":0},{"$f":"$I$5*'[2]21-23 Campus Contract Alloctns'!Q90/SUM('[2]21-23 Campus Contract Alloctns'!$I$5:$AP$108)","v":0},{"$f":"$I$5*'[2]21-23 Campus Contract Alloctns'!R90/SUM('[2]21-23 Campus Contract Alloctns'!$I$5:$AP$108)","v":0},{"$f":"$I$5*'[2]21-23 Campus Contract Alloctns'!S90/SUM('[2]21-23 Campus Contract Alloctns'!$I$5:$AP$108)","v":0},{"$f":"$I$5*'[2]21-23 Campus Contract Alloctns'!T90/SUM('[2]21-23 Campus Contract Alloctns'!$I$5:$AP$108)","v":0},{"$f":"$I$5*'[2]21-23 Campus Contract Alloctns'!U90/SUM('[2]21-23 Campus Contract Alloctns'!$I$5:$AP$108)","v":0},{"$f":"$I$5*'[2]21-23 Campus Contract Alloctns'!V90/SUM('[2]21-23 Campus Contract Alloctns'!$I$5:$AP$108)","v":0},{"$f":"$I$5*'[2]21-23 Campus Contract Alloctns'!W90/SUM('[2]21-23 Campus Contract Alloctns'!$I$5:$AP$108)","v":0},{"$f":"$I$5*'[2]21-23 Campus Contract Alloctns'!X90/SUM('[2]21-23 Campus Contract Alloctns'!$I$5:$AP$108)","v":0},{"$f":"$I$5*'[2]21-23 Campus Contract Alloctns'!Y90/SUM('[2]21-23 Campus Contract Alloctns'!$I$5:$AP$108)","v":0},{"$f":"$I$5*'[2]21-23 Campus Contract Alloctns'!Z90/SUM('[2]21-23 Campus Contract Alloctns'!$I$5:$AP$108)","v":0},{"$f":"$I$5*'[2]21-23 Campus Contract Alloctns'!AA90/SUM('[2]21-23 Campus Contract Alloctns'!$I$5:$AP$108)","v":0},{"$f":"$I$5*'[2]21-23 Campus Contract Alloctns'!AB90/SUM('[2]21-23 Campus Contract Alloctns'!$I$5:$AP$108)","v":0},{"$f":"$I$5*'[2]21-23 Campus Contract Alloctns'!AC90/SUM('[2]21-23 Campus Contract Alloctns'!$I$5:$AP$108)","v":0},{"$f":"$I$5*'[2]21-23 Campus Contract Alloctns'!AD90/SUM('[2]21-23 Campus Contract Alloctns'!$I$5:$AP$108)","v":0},{"$f":"$I$5*'[2]21-23 Campus Contract Alloctns'!AE90/SUM('[2]21-23 Campus Contract Alloctns'!$I$5:$AP$108)","v":0},{"$f":"$I$5*'[2]21-23 Campus Contract Alloctns'!AF90/SUM('[2]21-23 Campus Contract Alloctns'!$I$5:$AP$108)","v":0},{"$f":"$I$5*'[2]21-23 Campus Contract Alloctns'!AG90/SUM('[2]21-23 Campus Contract Alloctns'!$I$5:$AP$108)","v":0},{"$f":"$I$5*'[2]21-23 Campus Contract Alloctns'!AH90/SUM('[2]21-23 Campus Contract Alloctns'!$I$5:$AP$108)","v":0},{"$f":"$I$5*'[2]21-23 Campus Contract Alloctns'!AI90/SUM('[2]21-23 Campus Contract Alloctns'!$I$5:$AP$108)","v":0},{"$f":"$I$5*'[2]21-23 Campus Contract Alloctns'!AJ90/SUM('[2]21-23 Campus Contract Alloctns'!$I$5:$AP$108)","v":0},{"$f":"$I$5*'[2]21-23 Campus Contract Alloctns'!AK90/SUM('[2]21-23 Campus Contract Alloctns'!$I$5:$AP$108)","v":0},{"$f":"$I$5*'[2]21-23 Campus Contract Alloctns'!AL90/SUM('[2]21-23 Campus Contract Alloctns'!$I$5:$AP$108)","v":0},{"$f":"$I$5*'[2]21-23 Campus Contract Alloctns'!AM90/SUM('[2]21-23 Campus Contract Alloctns'!$I$5:$AP$108)","v":0},{"$f":"$I$5*'[2]21-23 Campus Contract Alloctns'!AN90/SUM('[2]21-23 Campus Contract Alloctns'!$I$5:$AP$108)","v":0},{"$f":"$I$5*'[2]21-23 Campus Contract Alloctns'!AO90/SUM('[2]21-23 Campus Contract Alloctns'!$I$5:$AP$108)","v":0},{"$f":"$I$5*'[2]21-23 Campus Contract Alloctns'!AP90/SUM('[2]21-23 Campus Contract Alloctns'!$I$5:$AP$108)","v":0}]
[null,"405 - Department of Transportation","405","Department of Transportation",8.00000259931819E-2,1535,2.7211614705497499E-2,7.3376091838482536E-3,4.5450802103836153E-2,{"$f":"$I$5*'[2]21-23 Campus Contract Alloctns'!I91/SUM('[2]21-23 Campus Contract Alloctns'!$I$5:$AP$108)","v":0},{"$f":"$I$5*'[2]21-23 Campus Contract Alloctns'!J91/SUM('[2]21-23 Campus Contract Alloctns'!$I$5:$AP$108)","v":0},{"$f":"$I$5*'[2]21-23 Campus Contract Alloctns'!K91/SUM('[2]21-23 Campus Contract Alloctns'!$I$5:$AP$108)","v":0},{"$f":"$I$5*'[2]21-23 Campus Contract Alloctns'!L91/SUM('[2]21-23 Campus Contract Alloctns'!$I$5:$AP$108)","v":0},{"$f":"$I$5*'[2]21-23 Campus Contract Alloctns'!M91/SUM('[2]21-23 Campus Contract Alloctns'!$I$5:$AP$108)","v":0},{"$f":"$I$5*'[2]21-23 Campus Contract Alloctns'!N91/SUM('[2]21-23 Campus Contract Alloctns'!$I$5:$AP$108)","v":0},{"$f":"$I$5*'[2]21-23 Campus Contract Alloctns'!O91/SUM('[2]21-23 Campus Contract Alloctns'!$I$5:$AP$108)","v":0},{"$f":"$I$5*'[2]21-23 Campus Contract Alloctns'!P91/SUM('[2]21-23 Campus Contract Alloctns'!$I$5:$AP$108)","v":0},{"$f":"$I$5*'[2]21-23 Campus Contract Alloctns'!Q91/SUM('[2]21-23 Campus Contract Alloctns'!$I$5:$AP$108)","v":0},{"$f":"$I$5*'[2]21-23 Campus Contract Alloctns'!R91/SUM('[2]21-23 Campus Contract Alloctns'!$I$5:$AP$108)","v":4.545080210383616E-2},{"$f":"$I$5*'[2]21-23 Campus Contract Alloctns'!S91/SUM('[2]21-23 Campus Contract Alloctns'!$I$5:$AP$108)","v":0},{"$f":"$I$5*'[2]21-23 Campus Contract Alloctns'!T91/SUM('[2]21-23 Campus Contract Alloctns'!$I$5:$AP$108)","v":0},{"$f":"$I$5*'[2]21-23 Campus Contract Alloctns'!U91/SUM('[2]21-23 Campus Contract Alloctns'!$I$5:$AP$108)","v":0},{"$f":"$I$5*'[2]21-23 Campus Contract Alloctns'!V91/SUM('[2]21-23 Campus Contract Alloctns'!$I$5:$AP$108)","v":0},{"$f":"$I$5*'[2]21-23 Campus Contract Alloctns'!W91/SUM('[2]21-23 Campus Contract Alloctns'!$I$5:$AP$108)","v":0},{"$f":"$I$5*'[2]21-23 Campus Contract Alloctns'!X91/SUM('[2]21-23 Campus Contract Alloctns'!$I$5:$AP$108)","v":0},{"$f":"$I$5*'[2]21-23 Campus Contract Alloctns'!Y91/SUM('[2]21-23 Campus Contract Alloctns'!$I$5:$AP$108)","v":0},{"$f":"$I$5*'[2]21-23 Campus Contract Alloctns'!Z91/SUM('[2]21-23 Campus Contract Alloctns'!$I$5:$AP$108)","v":0},{"$f":"$I$5*'[2]21-23 Campus Contract Alloctns'!AA91/SUM('[2]21-23 Campus Contract Alloctns'!$I$5:$AP$108)","v":0},{"$f":"$I$5*'[2]21-23 Campus Contract Alloctns'!AB91/SUM('[2]21-23 Campus Contract Alloctns'!$I$5:$AP$108)","v":0},{"$f":"$I$5*'[2]21-23 Campus Contract Alloctns'!AC91/SUM('[2]21-23 Campus Contract Alloctns'!$I$5:$AP$108)","v":0},{"$f":"$I$5*'[2]21-23 Campus Contract Alloctns'!AD91/SUM('[2]21-23 Campus Contract Alloctns'!$I$5:$AP$108)","v":0},{"$f":"$I$5*'[2]21-23 Campus Contract Alloctns'!AE91/SUM('[2]21-23 Campus Contract Alloctns'!$I$5:$AP$108)","v":0},{"$f":"$I$5*'[2]21-23 Campus Contract Alloctns'!AF91/SUM('[2]21-23 Campus Contract Alloctns'!$I$5:$AP$108)","v":0},{"$f":"$I$5*'[2]21-23 Campus Contract Alloctns'!AG91/SUM('[2]21-23 Campus Contract Alloctns'!$I$5:$AP$108)","v":0},{"$f":"$I$5*'[2]21-23 Campus Contract Alloctns'!AH91/SUM('[2]21-23 Campus Contract Alloctns'!$I$5:$AP$108)","v":0},{"$f":"$I$5*'[2]21-23 Campus Contract Alloctns'!AI91/SUM('[2]21-23 Campus Contract Alloctns'!$I$5:$AP$108)","v":0},{"$f":"$I$5*'[2]21-23 Campus Contract Alloctns'!AJ91/SUM('[2]21-23 Campus Contract Alloctns'!$I$5:$AP$108)","v":0},{"$f":"$I$5*'[2]21-23 Campus Contract Alloctns'!AK91/SUM('[2]21-23 Campus Contract Alloctns'!$I$5:$AP$108)","v":0},{"$f":"$I$5*'[2]21-23 Campus Contract Alloctns'!AL91/SUM('[2]21-23 Campus Contract Alloctns'!$I$5:$AP$108)","v":0},{"$f":"$I$5*'[2]21-23 Campus Contract Alloctns'!AM91/SUM('[2]21-23 Campus Contract Alloctns'!$I$5:$AP$108)","v":0},{"$f":"$I$5*'[2]21-23 Campus Contract Alloctns'!AN91/SUM('[2]21-23 Campus Contract Alloctns'!$I$5:$AP$108)","v":0},{"$f":"$I$5*'[2]21-23 Campus Contract Alloctns'!AO91/SUM('[2]21-23 Campus Contract Alloctns'!$I$5:$AP$108)","v":0},{"$f":"$I$5*'[2]21-23 Campus Contract Alloctns'!AP91/SUM('[2]21-23 Campus Contract Alloctns'!$I$5:$AP$108)","v":0}]
[null,"406 - County Road Administration Board","406","County Road Administration Board",2.8363898064362214E-4,16,2.8363898064362214E-4,0,0,{"$f":"$I$5*'[2]21-23 Campus Contract Alloctns'!I92/SUM('[2]21-23 Campus Contract Alloctns'!$I$5:$AP$108)","v":0},{"$f":"$I$5*'[2]21-23 Campus Contract Alloctns'!J92/SUM('[2]21-23 Campus Contract Alloctns'!$I$5:$AP$108)","v":0},{"$f":"$I$5*'[2]21-23 Campus Contract Alloctns'!K92/SUM('[2]21-23 Campus Contract Alloctns'!$I$5:$AP$108)","v":0},{"$f":"$I$5*'[2]21-23 Campus Contract Alloctns'!L92/SUM('[2]21-23 Campus Contract Alloctns'!$I$5:$AP$108)","v":0},{"$f":"$I$5*'[2]21-23 Campus Contract Alloctns'!M92/SUM('[2]21-23 Campus Contract Alloctns'!$I$5:$AP$108)","v":0},{"$f":"$I$5*'[2]21-23 Campus Contract Alloctns'!N92/SUM('[2]21-23 Campus Contract Alloctns'!$I$5:$AP$108)","v":0},{"$f":"$I$5*'[2]21-23 Campus Contract Alloctns'!O92/SUM('[2]21-23 Campus Contract Alloctns'!$I$5:$AP$108)","v":0},{"$f":"$I$5*'[2]21-23 Campus Contract Alloctns'!P92/SUM('[2]21-23 Campus Contract Alloctns'!$I$5:$AP$108)","v":0},{"$f":"$I$5*'[2]21-23 Campus Contract Alloctns'!Q92/SUM('[2]21-23 Campus Contract Alloctns'!$I$5:$AP$108)","v":0},{"$f":"$I$5*'[2]21-23 Campus Contract Alloctns'!R92/SUM('[2]21-23 Campus Contract Alloctns'!$I$5:$AP$108)","v":0},{"$f":"$I$5*'[2]21-23 Campus Contract Alloctns'!S92/SUM('[2]21-23 Campus Contract Alloctns'!$I$5:$AP$108)","v":0},{"$f":"$I$5*'[2]21-23 Campus Contract Alloctns'!T92/SUM('[2]21-23 Campus Contract Alloctns'!$I$5:$AP$108)","v":0},{"$f":"$I$5*'[2]21-23 Campus Contract Alloctns'!U92/SUM('[2]21-23 Campus Contract Alloctns'!$I$5:$AP$108)","v":0},{"$f":"$I$5*'[2]21-23 Campus Contract Alloctns'!V92/SUM('[2]21-23 Campus Contract Alloctns'!$I$5:$AP$108)","v":0},{"$f":"$I$5*'[2]21-23 Campus Contract Alloctns'!W92/SUM('[2]21-23 Campus Contract Alloctns'!$I$5:$AP$108)","v":0},{"$f":"$I$5*'[2]21-23 Campus Contract Alloctns'!X92/SUM('[2]21-23 Campus Contract Alloctns'!$I$5:$AP$108)","v":0},{"$f":"$I$5*'[2]21-23 Campus Contract Alloctns'!Y92/SUM('[2]21-23 Campus Contract Alloctns'!$I$5:$AP$108)","v":0},{"$f":"$I$5*'[2]21-23 Campus Contract Alloctns'!Z92/SUM('[2]21-23 Campus Contract Alloctns'!$I$5:$AP$108)","v":0},{"$f":"$I$5*'[2]21-23 Campus Contract Alloctns'!AA92/SUM('[2]21-23 Campus Contract Alloctns'!$I$5:$AP$108)","v":0},{"$f":"$I$5*'[2]21-23 Campus Contract Alloctns'!AB92/SUM('[2]21-23 Campus Contract Alloctns'!$I$5:$AP$108)","v":0},{"$f":"$I$5*'[2]21-23 Campus Contract Alloctns'!AC92/SUM('[2]21-23 Campus Contract Alloctns'!$I$5:$AP$108)","v":0},{"$f":"$I$5*'[2]21-23 Campus Contract Alloctns'!AD92/SUM('[2]21-23 Campus Contract Alloctns'!$I$5:$AP$108)","v":0},{"$f":"$I$5*'[2]21-23 Campus Contract Alloctns'!AE92/SUM('[2]21-23 Campus Contract Alloctns'!$I$5:$AP$108)","v":0},{"$f":"$I$5*'[2]21-23 Campus Contract Alloctns'!AF92/SUM('[2]21-23 Campus Contract Alloctns'!$I$5:$AP$108)","v":0},{"$f":"$I$5*'[2]21-23 Campus Contract Alloctns'!AG92/SUM('[2]21-23 Campus Contract Alloctns'!$I$5:$AP$108)","v":0},{"$f":"$I$5*'[2]21-23 Campus Contract Alloctns'!AH92/SUM('[2]21-23 Campus Contract Alloctns'!$I$5:$AP$108)","v":0},{"$f":"$I$5*'[2]21-23 Campus Contract Alloctns'!AI92/SUM('[2]21-23 Campus Contract Alloctns'!$I$5:$AP$108)","v":0},{"$f":"$I$5*'[2]21-23 Campus Contract Alloctns'!AJ92/SUM('[2]21-23 Campus Contract Alloctns'!$I$5:$AP$108)","v":0},{"$f":"$I$5*'[2]21-23 Campus Contract Alloctns'!AK92/SUM('[2]21-23 Campus Contract Alloctns'!$I$5:$AP$108)","v":0},{"$f":"$I$5*'[2]21-23 Campus Contract Alloctns'!AL92/SUM('[2]21-23 Campus Contract Alloctns'!$I$5:$AP$108)","v":0},{"$f":"$I$5*'[2]21-23 Campus Contract Alloctns'!AM92/SUM('[2]21-23 Campus Contract Alloctns'!$I$5:$AP$108)","v":0},{"$f":"$I$5*'[2]21-23 Campus Contract Alloctns'!AN92/SUM('[2]21-23 Campus Contract Alloctns'!$I$5:$AP$108)","v":0},{"$f":"$I$5*'[2]21-23 Campus Contract Alloctns'!AO92/SUM('[2]21-23 Campus Contract Alloctns'!$I$5:$AP$108)","v":0},{"$f":"$I$5*'[2]21-23 Campus Contract Alloctns'!AP92/SUM('[2]21-23 Campus Contract Alloctns'!$I$5:$AP$108)","v":0}]
[null,"407 - Transportation Improvement Board","407","Transportation Improvement Board",1.9500179919249025E-4,11,1.9500179919249025E-4,0,0,{"$f":"$I$5*'[2]21-23 Campus Contract Alloctns'!I93/SUM('[2]21-23 Campus Contract Alloctns'!$I$5:$AP$108)","v":0},{"$f":"$I$5*'[2]21-23 Campus Contract Alloctns'!J93/SUM('[2]21-23 Campus Contract Alloctns'!$I$5:$AP$108)","v":0},{"$f":"$I$5*'[2]21-23 Campus Contract Alloctns'!K93/SUM('[2]21-23 Campus Contract Alloctns'!$I$5:$AP$108)","v":0},{"$f":"$I$5*'[2]21-23 Campus Contract Alloctns'!L93/SUM('[2]21-23 Campus Contract Alloctns'!$I$5:$AP$108)","v":0},{"$f":"$I$5*'[2]21-23 Campus Contract Alloctns'!M93/SUM('[2]21-23 Campus Contract Alloctns'!$I$5:$AP$108)","v":0},{"$f":"$I$5*'[2]21-23 Campus Contract Alloctns'!N93/SUM('[2]21-23 Campus Contract Alloctns'!$I$5:$AP$108)","v":0},{"$f":"$I$5*'[2]21-23 Campus Contract Alloctns'!O93/SUM('[2]21-23 Campus Contract Alloctns'!$I$5:$AP$108)","v":0},{"$f":"$I$5*'[2]21-23 Campus Contract Alloctns'!P93/SUM('[2]21-23 Campus Contract Alloctns'!$I$5:$AP$108)","v":0},{"$f":"$I$5*'[2]21-23 Campus Contract Alloctns'!Q93/SUM('[2]21-23 Campus Contract Alloctns'!$I$5:$AP$108)","v":0},{"$f":"$I$5*'[2]21-23 Campus Contract Alloctns'!R93/SUM('[2]21-23 Campus Contract Alloctns'!$I$5:$AP$108)","v":0},{"$f":"$I$5*'[2]21-23 Campus Contract Alloctns'!S93/SUM('[2]21-23 Campus Contract Alloctns'!$I$5:$AP$108)","v":0},{"$f":"$I$5*'[2]21-23 Campus Contract Alloctns'!T93/SUM('[2]21-23 Campus Contract Alloctns'!$I$5:$AP$108)","v":0},{"$f":"$I$5*'[2]21-23 Campus Contract Alloctns'!U93/SUM('[2]21-23 Campus Contract Alloctns'!$I$5:$AP$108)","v":0},{"$f":"$I$5*'[2]21-23 Campus Contract Alloctns'!V93/SUM('[2]21-23 Campus Contract Alloctns'!$I$5:$AP$108)","v":0},{"$f":"$I$5*'[2]21-23 Campus Contract Alloctns'!W93/SUM('[2]21-23 Campus Contract Alloctns'!$I$5:$AP$108)","v":0},{"$f":"$I$5*'[2]21-23 Campus Contract Alloctns'!X93/SUM('[2]21-23 Campus Contract Alloctns'!$I$5:$AP$108)","v":0},{"$f":"$I$5*'[2]21-23 Campus Contract Alloctns'!Y93/SUM('[2]21-23 Campus Contract Alloctns'!$I$5:$AP$108)","v":0},{"$f":"$I$5*'[2]21-23 Campus Contract Alloctns'!Z93/SUM('[2]21-23 Campus Contract Alloctns'!$I$5:$AP$108)","v":0},{"$f":"$I$5*'[2]21-23 Campus Contract Alloctns'!AA93/SUM('[2]21-23 Campus Contract Alloctns'!$I$5:$AP$108)","v":0},{"$f":"$I$5*'[2]21-23 Campus Contract Alloctns'!AB93/SUM('[2]21-23 Campus Contract Alloctns'!$I$5:$AP$108)","v":0},{"$f":"$I$5*'[2]21-23 Campus Contract Alloctns'!AC93/SUM('[2]21-23 Campus Contract Alloctns'!$I$5:$AP$108)","v":0},{"$f":"$I$5*'[2]21-23 Campus Contract Alloctns'!AD93/SUM('[2]21-23 Campus Contract Alloctns'!$I$5:$AP$108)","v":0},{"$f":"$I$5*'[2]21-23 Campus Contract Alloctns'!AE93/SUM('[2]21-23 Campus Contract Alloctns'!$I$5:$AP$108)","v":0},{"$f":"$I$5*'[2]21-23 Campus Contract Alloctns'!AF93/SUM('[2]21-23 Campus Contract Alloctns'!$I$5:$AP$108)","v":0},{"$f":"$I$5*'[2]21-23 Campus Contract Alloctns'!AG93/SUM('[2]21-23 Campus Contract Alloctns'!$I$5:$AP$108)","v":0},{"$f":"$I$5*'[2]21-23 Campus Contract Alloctns'!AH93/SUM('[2]21-23 Campus Contract Alloctns'!$I$5:$AP$108)","v":0},{"$f":"$I$5*'[2]21-23 Campus Contract Alloctns'!AI93/SUM('[2]21-23 Campus Contract Alloctns'!$I$5:$AP$108)","v":0},{"$f":"$I$5*'[2]21-23 Campus Contract Alloctns'!AJ93/SUM('[2]21-23 Campus Contract Alloctns'!$I$5:$AP$108)","v":0},{"$f":"$I$5*'[2]21-23 Campus Contract Alloctns'!AK93/SUM('[2]21-23 Campus Contract Alloctns'!$I$5:$AP$108)","v":0},{"$f":"$I$5*'[2]21-23 Campus Contract Alloctns'!AL93/SUM('[2]21-23 Campus Contract Alloctns'!$I$5:$AP$108)","v":0},{"$f":"$I$5*'[2]21-23 Campus Contract Alloctns'!AM93/SUM('[2]21-23 Campus Contract Alloctns'!$I$5:$AP$108)","v":0},{"$f":"$I$5*'[2]21-23 Campus Contract Alloctns'!AN93/SUM('[2]21-23 Campus Contract Alloctns'!$I$5:$AP$108)","v":0},{"$f":"$I$5*'[2]21-23 Campus Contract Alloctns'!AO93/SUM('[2]21-23 Campus Contract Alloctns'!$I$5:$AP$108)","v":0},{"$f":"$I$5*'[2]21-23 Campus Contract Alloctns'!AP93/SUM('[2]21-23 Campus Contract Alloctns'!$I$5:$AP$108)","v":0}]
[null,"410 - Transportation Commission","410","Transportation Commission",1.0636461774135831E-4,6,1.0636461774135831E-4,0,0,{"$f":"$I$5*'[2]21-23 Campus Contract Alloctns'!I94/SUM('[2]21-23 Campus Contract Alloctns'!$I$5:$AP$108)","v":0},{"$f":"$I$5*'[2]21-23 Campus Contract Alloctns'!J94/SUM('[2]21-23 Campus Contract Alloctns'!$I$5:$AP$108)","v":0},{"$f":"$I$5*'[2]21-23 Campus Contract Alloctns'!K94/SUM('[2]21-23 Campus Contract Alloctns'!$I$5:$AP$108)","v":0},{"$f":"$I$5*'[2]21-23 Campus Contract Alloctns'!L94/SUM('[2]21-23 Campus Contract Alloctns'!$I$5:$AP$108)","v":0},{"$f":"$I$5*'[2]21-23 Campus Contract Alloctns'!M94/SUM('[2]21-23 Campus Contract Alloctns'!$I$5:$AP$108)","v":0},{"$f":"$I$5*'[2]21-23 Campus Contract Alloctns'!N94/SUM('[2]21-23 Campus Contract Alloctns'!$I$5:$AP$108)","v":0},{"$f":"$I$5*'[2]21-23 Campus Contract Alloctns'!O94/SUM('[2]21-23 Campus Contract Alloctns'!$I$5:$AP$108)","v":0},{"$f":"$I$5*'[2]21-23 Campus Contract Alloctns'!P94/SUM('[2]21-23 Campus Contract Alloctns'!$I$5:$AP$108)","v":0},{"$f":"$I$5*'[2]21-23 Campus Contract Alloctns'!Q94/SUM('[2]21-23 Campus Contract Alloctns'!$I$5:$AP$108)","v":0},{"$f":"$I$5*'[2]21-23 Campus Contract Alloctns'!R94/SUM('[2]21-23 Campus Contract Alloctns'!$I$5:$AP$108)","v":0},{"$f":"$I$5*'[2]21-23 Campus Contract Alloctns'!S94/SUM('[2]21-23 Campus Contract Alloctns'!$I$5:$AP$108)","v":0},{"$f":"$I$5*'[2]21-23 Campus Contract Alloctns'!T94/SUM('[2]21-23 Campus Contract Alloctns'!$I$5:$AP$108)","v":0},{"$f":"$I$5*'[2]21-23 Campus Contract Alloctns'!U94/SUM('[2]21-23 Campus Contract Alloctns'!$I$5:$AP$108)","v":0},{"$f":"$I$5*'[2]21-23 Campus Contract Alloctns'!V94/SUM('[2]21-23 Campus Contract Alloctns'!$I$5:$AP$108)","v":0},{"$f":"$I$5*'[2]21-23 Campus Contract Alloctns'!W94/SUM('[2]21-23 Campus Contract Alloctns'!$I$5:$AP$108)","v":0},{"$f":"$I$5*'[2]21-23 Campus Contract Alloctns'!X94/SUM('[2]21-23 Campus Contract Alloctns'!$I$5:$AP$108)","v":0},{"$f":"$I$5*'[2]21-23 Campus Contract Alloctns'!Y94/SUM('[2]21-23 Campus Contract Alloctns'!$I$5:$AP$108)","v":0},{"$f":"$I$5*'[2]21-23 Campus Contract Alloctns'!Z94/SUM('[2]21-23 Campus Contract Alloctns'!$I$5:$AP$108)","v":0},{"$f":"$I$5*'[2]21-23 Campus Contract Alloctns'!AA94/SUM('[2]21-23 Campus Contract Alloctns'!$I$5:$AP$108)","v":0},{"$f":"$I$5*'[2]21-23 Campus Contract Alloctns'!AB94/SUM('[2]21-23 Campus Contract Alloctns'!$I$5:$AP$108)","v":0},{"$f":"$I$5*'[2]21-23 Campus Contract Alloctns'!AC94/SUM('[2]21-23 Campus Contract Alloctns'!$I$5:$AP$108)","v":0},{"$f":"$I$5*'[2]21-23 Campus Contract Alloctns'!AD94/SUM('[2]21-23 Campus Contract Alloctns'!$I$5:$AP$108)","v":0},{"$f":"$I$5*'[2]21-23 Campus Contract Alloctns'!AE94/SUM('[2]21-23 Campus Contract Alloctns'!$I$5:$AP$108)","v":0},{"$f":"$I$5*'[2]21-23 Campus Contract Alloctns'!AF94/SUM('[2]21-23 Campus Contract Alloctns'!$I$5:$AP$108)","v":0},{"$f":"$I$5*'[2]21-23 Campus Contract Alloctns'!AG94/SUM('[2]21-23 Campus Contract Alloctns'!$I$5:$AP$108)","v":0},{"$f":"$I$5*'[2]21-23 Campus Contract Alloctns'!AH94/SUM('[2]21-23 Campus Contract Alloctns'!$I$5:$AP$108)","v":0},{"$f":"$I$5*'[2]21-23 Campus Contract Alloctns'!AI94/SUM('[2]21-23 Campus Contract Alloctns'!$I$5:$AP$108)","v":0},{"$f":"$I$5*'[2]21-23 Campus Contract Alloctns'!AJ94/SUM('[2]21-23 Campus Contract Alloctns'!$I$5:$AP$108)","v":0},{"$f":"$I$5*'[2]21-23 Campus Contract Alloctns'!AK94/SUM('[2]21-23 Campus Contract Alloctns'!$I$5:$AP$108)","v":0},{"$f":"$I$5*'[2]21-23 Campus Contract Alloctns'!AL94/SUM('[2]21-23 Campus Contract Alloctns'!$I$5:$AP$108)","v":0},{"$f":"$I$5*'[2]21-23 Campus Contract Alloctns'!AM94/SUM('[2]21-23 Campus Contract Alloctns'!$I$5:$AP$108)","v":0},{"$f":"$I$5*'[2]21-23 Campus Contract Alloctns'!AN94/SUM('[2]21-23 Campus Contract Alloctns'!$I$5:$AP$108)","v":0},{"$f":"$I$5*'[2]21-23 Campus Contract Alloctns'!AO94/SUM('[2]21-23 Campus Contract Alloctns'!$I$5:$AP$108)","v":0},{"$f":"$I$5*'[2]21-23 Campus Contract Alloctns'!AP94/SUM('[2]21-23 Campus Contract Alloctns'!$I$5:$AP$108)","v":0}]
[null,"411 - Freight Mobility Strategic Investment Board","411","Freight Mobility Strategic Investment Board",3.5454872580452768E-5,2,3.5454872580452768E-5,0,0,{"$f":"$I$5*'[2]21-23 Campus Contract Alloctns'!I95/SUM('[2]21-23 Campus Contract Alloctns'!$I$5:$AP$108)","v":0},{"$f":"$I$5*'[2]21-23 Campus Contract Alloctns'!J95/SUM('[2]21-23 Campus Contract Alloctns'!$I$5:$AP$108)","v":0},{"$f":"$I$5*'[2]21-23 Campus Contract Alloctns'!K95/SUM('[2]21-23 Campus Contract Alloctns'!$I$5:$AP$108)","v":0},{"$f":"$I$5*'[2]21-23 Campus Contract Alloctns'!L95/SUM('[2]21-23 Campus Contract Alloctns'!$I$5:$AP$108)","v":0},{"$f":"$I$5*'[2]21-23 Campus Contract Alloctns'!M95/SUM('[2]21-23 Campus Contract Alloctns'!$I$5:$AP$108)","v":0},{"$f":"$I$5*'[2]21-23 Campus Contract Alloctns'!N95/SUM('[2]21-23 Campus Contract Alloctns'!$I$5:$AP$108)","v":0},{"$f":"$I$5*'[2]21-23 Campus Contract Alloctns'!O95/SUM('[2]21-23 Campus Contract Alloctns'!$I$5:$AP$108)","v":0},{"$f":"$I$5*'[2]21-23 Campus Contract Alloctns'!P95/SUM('[2]21-23 Campus Contract Alloctns'!$I$5:$AP$108)","v":0},{"$f":"$I$5*'[2]21-23 Campus Contract Alloctns'!Q95/SUM('[2]21-23 Campus Contract Alloctns'!$I$5:$AP$108)","v":0},{"$f":"$I$5*'[2]21-23 Campus Contract Alloctns'!R95/SUM('[2]21-23 Campus Contract Alloctns'!$I$5:$AP$108)","v":0},{"$f":"$I$5*'[2]21-23 Campus Contract Alloctns'!S95/SUM('[2]21-23 Campus Contract Alloctns'!$I$5:$AP$108)","v":0},{"$f":"$I$5*'[2]21-23 Campus Contract Alloctns'!T95/SUM('[2]21-23 Campus Contract Alloctns'!$I$5:$AP$108)","v":0},{"$f":"$I$5*'[2]21-23 Campus Contract Alloctns'!U95/SUM('[2]21-23 Campus Contract Alloctns'!$I$5:$AP$108)","v":0},{"$f":"$I$5*'[2]21-23 Campus Contract Alloctns'!V95/SUM('[2]21-23 Campus Contract Alloctns'!$I$5:$AP$108)","v":0},{"$f":"$I$5*'[2]21-23 Campus Contract Alloctns'!W95/SUM('[2]21-23 Campus Contract Alloctns'!$I$5:$AP$108)","v":0},{"$f":"$I$5*'[2]21-23 Campus Contract Alloctns'!X95/SUM('[2]21-23 Campus Contract Alloctns'!$I$5:$AP$108)","v":0},{"$f":"$I$5*'[2]21-23 Campus Contract Alloctns'!Y95/SUM('[2]21-23 Campus Contract Alloctns'!$I$5:$AP$108)","v":0},{"$f":"$I$5*'[2]21-23 Campus Contract Alloctns'!Z95/SUM('[2]21-23 Campus Contract Alloctns'!$I$5:$AP$108)","v":0},{"$f":"$I$5*'[2]21-23 Campus Contract Alloctns'!AA95/SUM('[2]21-23 Campus Contract Alloctns'!$I$5:$AP$108)","v":0},{"$f":"$I$5*'[2]21-23 Campus Contract Alloctns'!AB95/SUM('[2]21-23 Campus Contract Alloctns'!$I$5:$AP$108)","v":0},{"$f":"$I$5*'[2]21-23 Campus Contract Alloctns'!AC95/SUM('[2]21-23 Campus Contract Alloctns'!$I$5:$AP$108)","v":0},{"$f":"$I$5*'[2]21-23 Campus Contract Alloctns'!AD95/SUM('[2]21-23 Campus Contract Alloctns'!$I$5:$AP$108)","v":0},{"$f":"$I$5*'[2]21-23 Campus Contract Alloctns'!AE95/SUM('[2]21-23 Campus Contract Alloctns'!$I$5:$AP$108)","v":0},{"$f":"$I$5*'[2]21-23 Campus Contract Alloctns'!AF95/SUM('[2]21-23 Campus Contract Alloctns'!$I$5:$AP$108)","v":0},{"$f":"$I$5*'[2]21-23 Campus Contract Alloctns'!AG95/SUM('[2]21-23 Campus Contract Alloctns'!$I$5:$AP$108)","v":0},{"$f":"$I$5*'[2]21-23 Campus Contract Alloctns'!AH95/SUM('[2]21-23 Campus Contract Alloctns'!$I$5:$AP$108)","v":0},{"$f":"$I$5*'[2]21-23 Campus Contract Alloctns'!AI95/SUM('[2]21-23 Campus Contract Alloctns'!$I$5:$AP$108)","v":0},{"$f":"$I$5*'[2]21-23 Campus Contract Alloctns'!AJ95/SUM('[2]21-23 Campus Contract Alloctns'!$I$5:$AP$108)","v":0},{"$f":"$I$5*'[2]21-23 Campus Contract Alloctns'!AK95/SUM('[2]21-23 Campus Contract Alloctns'!$I$5:$AP$108)","v":0},{"$f":"$I$5*'[2]21-23 Campus Contract Alloctns'!AL95/SUM('[2]21-23 Campus Contract Alloctns'!$I$5:$AP$108)","v":0},{"$f":"$I$5*'[2]21-23 Campus Contract Alloctns'!AM95/SUM('[2]21-23 Campus Contract Alloctns'!$I$5:$AP$108)","v":0},{"$f":"$I$5*'[2]21-23 Campus Contract Alloctns'!AN95/SUM('[2]21-23 Campus Contract Alloctns'!$I$5:$AP$108)","v":0},{"$f":"$I$5*'[2]21-23 Campus Contract Alloctns'!AO95/SUM('[2]21-23 Campus Contract Alloctns'!$I$5:$AP$108)","v":0},{"$f":"$I$5*'[2]21-23 Campus Contract Alloctns'!AP95/SUM('[2]21-23 Campus Contract Alloctns'!$I$5:$AP$108)","v":0}]
[null,"460 - Columbia River Gorge Commission","460","Columbia River Gorge Commission",0,0,0,0,0,{"$f":"$I$5*'[2]21-23 Campus Contract Alloctns'!I96/SUM('[2]21-23 Campus Contract Alloctns'!$I$5:$AP$108)","v":0},{"$f":"$I$5*'[2]21-23 Campus Contract Alloctns'!J96/SUM('[2]21-23 Campus Contract Alloctns'!$I$5:$AP$108)","v":0},{"$f":"$I$5*'[2]21-23 Campus Contract Alloctns'!K96/SUM('[2]21-23 Campus Contract Alloctns'!$I$5:$AP$108)","v":0},{"$f":"$I$5*'[2]21-23 Campus Contract Alloctns'!L96/SUM('[2]21-23 Campus Contract Alloctns'!$I$5:$AP$108)","v":0},{"$f":"$I$5*'[2]21-23 Campus Contract Alloctns'!M96/SUM('[2]21-23 Campus Contract Alloctns'!$I$5:$AP$108)","v":0},{"$f":"$I$5*'[2]21-23 Campus Contract Alloctns'!N96/SUM('[2]21-23 Campus Contract Alloctns'!$I$5:$AP$108)","v":0},{"$f":"$I$5*'[2]21-23 Campus Contract Alloctns'!O96/SUM('[2]21-23 Campus Contract Alloctns'!$I$5:$AP$108)","v":0},{"$f":"$I$5*'[2]21-23 Campus Contract Alloctns'!P96/SUM('[2]21-23 Campus Contract Alloctns'!$I$5:$AP$108)","v":0},{"$f":"$I$5*'[2]21-23 Campus Contract Alloctns'!Q96/SUM('[2]21-23 Campus Contract Alloctns'!$I$5:$AP$108)","v":0},{"$f":"$I$5*'[2]21-23 Campus Contract Alloctns'!R96/SUM('[2]21-23 Campus Contract Alloctns'!$I$5:$AP$108)","v":0},{"$f":"$I$5*'[2]21-23 Campus Contract Alloctns'!S96/SUM('[2]21-23 Campus Contract Alloctns'!$I$5:$AP$108)","v":0},{"$f":"$I$5*'[2]21-23 Campus Contract Alloctns'!T96/SUM('[2]21-23 Campus Contract Alloctns'!$I$5:$AP$108)","v":0},{"$f":"$I$5*'[2]21-23 Campus Contract Alloctns'!U96/SUM('[2]21-23 Campus Contract Alloctns'!$I$5:$AP$108)","v":0},{"$f":"$I$5*'[2]21-23 Campus Contract Alloctns'!V96/SUM('[2]21-23 Campus Contract Alloctns'!$I$5:$AP$108)","v":0},{"$f":"$I$5*'[2]21-23 Campus Contract Alloctns'!W96/SUM('[2]21-23 Campus Contract Alloctns'!$I$5:$AP$108)","v":0},{"$f":"$I$5*'[2]21-23 Campus Contract Alloctns'!X96/SUM('[2]21-23 Campus Contract Alloctns'!$I$5:$AP$108)","v":0},{"$f":"$I$5*'[2]21-23 Campus Contract Alloctns'!Y96/SUM('[2]21-23 Campus Contract Alloctns'!$I$5:$AP$108)","v":0},{"$f":"$I$5*'[2]21-23 Campus Contract Alloctns'!Z96/SUM('[2]21-23 Campus Contract Alloctns'!$I$5:$AP$108)","v":0},{"$f":"$I$5*'[2]21-23 Campus Contract Alloctns'!AA96/SUM('[2]21-23 Campus Contract Alloctns'!$I$5:$AP$108)","v":0},{"$f":"$I$5*'[2]21-23 Campus Contract Alloctns'!AB96/SUM('[2]21-23 Campus Contract Alloctns'!$I$5:$AP$108)","v":0},{"$f":"$I$5*'[2]21-23 Campus Contract Alloctns'!AC96/SUM('[2]21-23 Campus Contract Alloctns'!$I$5:$AP$108)","v":0},{"$f":"$I$5*'[2]21-23 Campus Contract Alloctns'!AD96/SUM('[2]21-23 Campus Contract Alloctns'!$I$5:$AP$108)","v":0},{"$f":"$I$5*'[2]21-23 Campus Contract Alloctns'!AE96/SUM('[2]21-23 Campus Contract Alloctns'!$I$5:$AP$108)","v":0},{"$f":"$I$5*'[2]21-23 Campus Contract Alloctns'!AF96/SUM('[2]21-23 Campus Contract Alloctns'!$I$5:$AP$108)","v":0},{"$f":"$I$5*'[2]21-23 Campus Contract Alloctns'!AG96/SUM('[2]21-23 Campus Contract Alloctns'!$I$5:$AP$108)","v":0},{"$f":"$I$5*'[2]21-23 Campus Contract Alloctns'!AH96/SUM('[2]21-23 Campus Contract Alloctns'!$I$5:$AP$108)","v":0},{"$f":"$I$5*'[2]21-23 Campus Contract Alloctns'!AI96/SUM('[2]21-23 Campus Contract Alloctns'!$I$5:$AP$108)","v":0},{"$f":"$I$5*'[2]21-23 Campus Contract Alloctns'!AJ96/SUM('[2]21-23 Campus Contract Alloctns'!$I$5:$AP$108)","v":0},{"$f":"$I$5*'[2]21-23 Campus Contract Alloctns'!AK96/SUM('[2]21-23 Campus Contract Alloctns'!$I$5:$AP$108)","v":0},{"$f":"$I$5*'[2]21-23 Campus Contract Alloctns'!AL96/SUM('[2]21-23 Campus Contract Alloctns'!$I$5:$AP$108)","v":0},{"$f":"$I$5*'[2]21-23 Campus Contract Alloctns'!AM96/SUM('[2]21-23 Campus Contract Alloctns'!$I$5:$AP$108)","v":0},{"$f":"$I$5*'[2]21-23 Campus Contract Alloctns'!AN96/SUM('[2]21-23 Campus Contract Alloctns'!$I$5:$AP$108)","v":0},{"$f":"$I$5*'[2]21-23 Campus Contract Alloctns'!AO96/SUM('[2]21-23 Campus Contract Alloctns'!$I$5:$AP$108)","v":0},{"$f":"$I$5*'[2]21-23 Campus Contract Alloctns'!AP96/SUM('[2]21-23 Campus Contract Alloctns'!$I$5:$AP$108)","v":0}]
[null,"461 - Department of Ecology","461","Department of Ecology",1.7248795510390273E-2,973,1.7248795510390273E-2,0,0,{"$f":"$I$5*'[2]21-23 Campus Contract Alloctns'!I97/SUM('[2]21-23 Campus Contract Alloctns'!$I$5:$AP$108)","v":0},{"$f":"$I$5*'[2]21-23 Campus Contract Alloctns'!J97/SUM('[2]21-23 Campus Contract Alloctns'!$I$5:$AP$108)","v":0},{"$f":"$I$5*'[2]21-23 Campus Contract Alloctns'!K97/SUM('[2]21-23 Campus Contract Alloctns'!$I$5:$AP$108)","v":0},{"$f":"$I$5*'[2]21-23 Campus Contract Alloctns'!L97/SUM('[2]21-23 Campus Contract Alloctns'!$I$5:$AP$108)","v":0},{"$f":"$I$5*'[2]21-23 Campus Contract Alloctns'!M97/SUM('[2]21-23 Campus Contract Alloctns'!$I$5:$AP$108)","v":0},{"$f":"$I$5*'[2]21-23 Campus Contract Alloctns'!N97/SUM('[2]21-23 Campus Contract Alloctns'!$I$5:$AP$108)","v":0},{"$f":"$I$5*'[2]21-23 Campus Contract Alloctns'!O97/SUM('[2]21-23 Campus Contract Alloctns'!$I$5:$AP$108)","v":0},{"$f":"$I$5*'[2]21-23 Campus Contract Alloctns'!P97/SUM('[2]21-23 Campus Contract Alloctns'!$I$5:$AP$108)","v":0},{"$f":"$I$5*'[2]21-23 Campus Contract Alloctns'!Q97/SUM('[2]21-23 Campus Contract Alloctns'!$I$5:$AP$108)","v":0},{"$f":"$I$5*'[2]21-23 Campus Contract Alloctns'!R97/SUM('[2]21-23 Campus Contract Alloctns'!$I$5:$AP$108)","v":0},{"$f":"$I$5*'[2]21-23 Campus Contract Alloctns'!S97/SUM('[2]21-23 Campus Contract Alloctns'!$I$5:$AP$108)","v":0},{"$f":"$I$5*'[2]21-23 Campus Contract Alloctns'!T97/SUM('[2]21-23 Campus Contract Alloctns'!$I$5:$AP$108)","v":0},{"$f":"$I$5*'[2]21-23 Campus Contract Alloctns'!U97/SUM('[2]21-23 Campus Contract Alloctns'!$I$5:$AP$108)","v":0},{"$f":"$I$5*'[2]21-23 Campus Contract Alloctns'!V97/SUM('[2]21-23 Campus Contract Alloctns'!$I$5:$AP$108)","v":0},{"$f":"$I$5*'[2]21-23 Campus Contract Alloctns'!W97/SUM('[2]21-23 Campus Contract Alloctns'!$I$5:$AP$108)","v":0},{"$f":"$I$5*'[2]21-23 Campus Contract Alloctns'!X97/SUM('[2]21-23 Campus Contract Alloctns'!$I$5:$AP$108)","v":0},{"$f":"$I$5*'[2]21-23 Campus Contract Alloctns'!Y97/SUM('[2]21-23 Campus Contract Alloctns'!$I$5:$AP$108)","v":0},{"$f":"$I$5*'[2]21-23 Campus Contract Alloctns'!Z97/SUM('[2]21-23 Campus Contract Alloctns'!$I$5:$AP$108)","v":0},{"$f":"$I$5*'[2]21-23 Campus Contract Alloctns'!AA97/SUM('[2]21-23 Campus Contract Alloctns'!$I$5:$AP$108)","v":0},{"$f":"$I$5*'[2]21-23 Campus Contract Alloctns'!AB97/SUM('[2]21-23 Campus Contract Alloctns'!$I$5:$AP$108)","v":0},{"$f":"$I$5*'[2]21-23 Campus Contract Alloctns'!AC97/SUM('[2]21-23 Campus Contract Alloctns'!$I$5:$AP$108)","v":0},{"$f":"$I$5*'[2]21-23 Campus Contract Alloctns'!AD97/SUM('[2]21-23 Campus Contract Alloctns'!$I$5:$AP$108)","v":0},{"$f":"$I$5*'[2]21-23 Campus Contract Alloctns'!AE97/SUM('[2]21-23 Campus Contract Alloctns'!$I$5:$AP$108)","v":0},{"$f":"$I$5*'[2]21-23 Campus Contract Alloctns'!AF97/SUM('[2]21-23 Campus Contract Alloctns'!$I$5:$AP$108)","v":0},{"$f":"$I$5*'[2]21-23 Campus Contract Alloctns'!AG97/SUM('[2]21-23 Campus Contract Alloctns'!$I$5:$AP$108)","v":0},{"$f":"$I$5*'[2]21-23 Campus Contract Alloctns'!AH97/SUM('[2]21-23 Campus Contract Alloctns'!$I$5:$AP$108)","v":0},{"$f":"$I$5*'[2]21-23 Campus Contract Alloctns'!AI97/SUM('[2]21-23 Campus Contract Alloctns'!$I$5:$AP$108)","v":0},{"$f":"$I$5*'[2]21-23 Campus Contract Alloctns'!AJ97/SUM('[2]21-23 Campus Contract Alloctns'!$I$5:$AP$108)","v":0},{"$f":"$I$5*'[2]21-23 Campus Contract Alloctns'!AK97/SUM('[2]21-23 Campus Contract Alloctns'!$I$5:$AP$108)","v":0},{"$f":"$I$5*'[2]21-23 Campus Contract Alloctns'!AL97/SUM('[2]21-23 Campus Contract Alloctns'!$I$5:$AP$108)","v":0},{"$f":"$I$5*'[2]21-23 Campus Contract Alloctns'!AM97/SUM('[2]21-23 Campus Contract Alloctns'!$I$5:$AP$108)","v":0},{"$f":"$I$5*'[2]21-23 Campus Contract Alloctns'!AN97/SUM('[2]21-23 Campus Contract Alloctns'!$I$5:$AP$108)","v":0},{"$f":"$I$5*'[2]21-23 Campus Contract Alloctns'!AO97/SUM('[2]21-23 Campus Contract Alloctns'!$I$5:$AP$108)","v":0},{"$f":"$I$5*'[2]21-23 Campus Contract Alloctns'!AP97/SUM('[2]21-23 Campus Contract Alloctns'!$I$5:$AP$108)","v":0}]
[null,"462 - Pollution Liability Insurance Program","462","Pollution Liability Insurance Program",3.1909385322407489E-4,18,3.1909385322407489E-4,0,0,{"$f":"$I$5*'[2]21-23 Campus Contract Alloctns'!I98/SUM('[2]21-23 Campus Contract Alloctns'!$I$5:$AP$108)","v":0},{"$f":"$I$5*'[2]21-23 Campus Contract Alloctns'!J98/SUM('[2]21-23 Campus Contract Alloctns'!$I$5:$AP$108)","v":0},{"$f":"$I$5*'[2]21-23 Campus Contract Alloctns'!K98/SUM('[2]21-23 Campus Contract Alloctns'!$I$5:$AP$108)","v":0},{"$f":"$I$5*'[2]21-23 Campus Contract Alloctns'!L98/SUM('[2]21-23 Campus Contract Alloctns'!$I$5:$AP$108)","v":0},{"$f":"$I$5*'[2]21-23 Campus Contract Alloctns'!M98/SUM('[2]21-23 Campus Contract Alloctns'!$I$5:$AP$108)","v":0},{"$f":"$I$5*'[2]21-23 Campus Contract Alloctns'!N98/SUM('[2]21-23 Campus Contract Alloctns'!$I$5:$AP$108)","v":0},{"$f":"$I$5*'[2]21-23 Campus Contract Alloctns'!O98/SUM('[2]21-23 Campus Contract Alloctns'!$I$5:$AP$108)","v":0},{"$f":"$I$5*'[2]21-23 Campus Contract Alloctns'!P98/SUM('[2]21-23 Campus Contract Alloctns'!$I$5:$AP$108)","v":0},{"$f":"$I$5*'[2]21-23 Campus Contract Alloctns'!Q98/SUM('[2]21-23 Campus Contract Alloctns'!$I$5:$AP$108)","v":0},{"$f":"$I$5*'[2]21-23 Campus Contract Alloctns'!R98/SUM('[2]21-23 Campus Contract Alloctns'!$I$5:$AP$108)","v":0},{"$f":"$I$5*'[2]21-23 Campus Contract Alloctns'!S98/SUM('[2]21-23 Campus Contract Alloctns'!$I$5:$AP$108)","v":0},{"$f":"$I$5*'[2]21-23 Campus Contract Alloctns'!T98/SUM('[2]21-23 Campus Contract Alloctns'!$I$5:$AP$108)","v":0},{"$f":"$I$5*'[2]21-23 Campus Contract Alloctns'!U98/SUM('[2]21-23 Campus Contract Alloctns'!$I$5:$AP$108)","v":0},{"$f":"$I$5*'[2]21-23 Campus Contract Alloctns'!V98/SUM('[2]21-23 Campus Contract Alloctns'!$I$5:$AP$108)","v":0},{"$f":"$I$5*'[2]21-23 Campus Contract Alloctns'!W98/SUM('[2]21-23 Campus Contract Alloctns'!$I$5:$AP$108)","v":0},{"$f":"$I$5*'[2]21-23 Campus Contract Alloctns'!X98/SUM('[2]21-23 Campus Contract Alloctns'!$I$5:$AP$108)","v":0},{"$f":"$I$5*'[2]21-23 Campus Contract Alloctns'!Y98/SUM('[2]21-23 Campus Contract Alloctns'!$I$5:$AP$108)","v":0},{"$f":"$I$5*'[2]21-23 Campus Contract Alloctns'!Z98/SUM('[2]21-23 Campus Contract Alloctns'!$I$5:$AP$108)","v":0},{"$f":"$I$5*'[2]21-23 Campus Contract Alloctns'!AA98/SUM('[2]21-23 Campus Contract Alloctns'!$I$5:$AP$108)","v":0},{"$f":"$I$5*'[2]21-23 Campus Contract Alloctns'!AB98/SUM('[2]21-23 Campus Contract Alloctns'!$I$5:$AP$108)","v":0},{"$f":"$I$5*'[2]21-23 Campus Contract Alloctns'!AC98/SUM('[2]21-23 Campus Contract Alloctns'!$I$5:$AP$108)","v":0},{"$f":"$I$5*'[2]21-23 Campus Contract Alloctns'!AD98/SUM('[2]21-23 Campus Contract Alloctns'!$I$5:$AP$108)","v":0},{"$f":"$I$5*'[2]21-23 Campus Contract Alloctns'!AE98/SUM('[2]21-23 Campus Contract Alloctns'!$I$5:$AP$108)","v":0},{"$f":"$I$5*'[2]21-23 Campus Contract Alloctns'!AF98/SUM('[2]21-23 Campus Contract Alloctns'!$I$5:$AP$108)","v":0},{"$f":"$I$5*'[2]21-23 Campus Contract Alloctns'!AG98/SUM('[2]21-23 Campus Contract Alloctns'!$I$5:$AP$108)","v":0},{"$f":"$I$5*'[2]21-23 Campus Contract Alloctns'!AH98/SUM('[2]21-23 Campus Contract Alloctns'!$I$5:$AP$108)","v":0},{"$f":"$I$5*'[2]21-23 Campus Contract Alloctns'!AI98/SUM('[2]21-23 Campus Contract Alloctns'!$I$5:$AP$108)","v":0},{"$f":"$I$5*'[2]21-23 Campus Contract Alloctns'!AJ98/SUM('[2]21-23 Campus Contract Alloctns'!$I$5:$AP$108)","v":0},{"$f":"$I$5*'[2]21-23 Campus Contract Alloctns'!AK98/SUM('[2]21-23 Campus Contract Alloctns'!$I$5:$AP$108)","v":0},{"$f":"$I$5*'[2]21-23 Campus Contract Alloctns'!AL98/SUM('[2]21-23 Campus Contract Alloctns'!$I$5:$AP$108)","v":0},{"$f":"$I$5*'[2]21-23 Campus Contract Alloctns'!AM98/SUM('[2]21-23 Campus Contract Alloctns'!$I$5:$AP$108)","v":0},{"$f":"$I$5*'[2]21-23 Campus Contract Alloctns'!AN98/SUM('[2]21-23 Campus Contract Alloctns'!$I$5:$AP$108)","v":0},{"$f":"$I$5*'[2]21-23 Campus Contract Alloctns'!AO98/SUM('[2]21-23 Campus Contract Alloctns'!$I$5:$AP$108)","v":0},{"$f":"$I$5*'[2]21-23 Campus Contract Alloctns'!AP98/SUM('[2]21-23 Campus Contract Alloctns'!$I$5:$AP$108)","v":0}]
[null,"465 - State Parks and Recreation Commission","465","State Parks and Recreation Commission",3.2973031499821076E-3,186,3.2973031499821076E-3,0,0,{"$f":"$I$5*'[2]21-23 Campus Contract Alloctns'!I99/SUM('[2]21-23 Campus Contract Alloctns'!$I$5:$AP$108)","v":0},{"$f":"$I$5*'[2]21-23 Campus Contract Alloctns'!J99/SUM('[2]21-23 Campus Contract Alloctns'!$I$5:$AP$108)","v":0},{"$f":"$I$5*'[2]21-23 Campus Contract Alloctns'!K99/SUM('[2]21-23 Campus Contract Alloctns'!$I$5:$AP$108)","v":0},{"$f":"$I$5*'[2]21-23 Campus Contract Alloctns'!L99/SUM('[2]21-23 Campus Contract Alloctns'!$I$5:$AP$108)","v":0},{"$f":"$I$5*'[2]21-23 Campus Contract Alloctns'!M99/SUM('[2]21-23 Campus Contract Alloctns'!$I$5:$AP$108)","v":0},{"$f":"$I$5*'[2]21-23 Campus Contract Alloctns'!N99/SUM('[2]21-23 Campus Contract Alloctns'!$I$5:$AP$108)","v":0},{"$f":"$I$5*'[2]21-23 Campus Contract Alloctns'!O99/SUM('[2]21-23 Campus Contract Alloctns'!$I$5:$AP$108)","v":0},{"$f":"$I$5*'[2]21-23 Campus Contract Alloctns'!P99/SUM('[2]21-23 Campus Contract Alloctns'!$I$5:$AP$108)","v":0},{"$f":"$I$5*'[2]21-23 Campus Contract Alloctns'!Q99/SUM('[2]21-23 Campus Contract Alloctns'!$I$5:$AP$108)","v":0},{"$f":"$I$5*'[2]21-23 Campus Contract Alloctns'!R99/SUM('[2]21-23 Campus Contract Alloctns'!$I$5:$AP$108)","v":0},{"$f":"$I$5*'[2]21-23 Campus Contract Alloctns'!S99/SUM('[2]21-23 Campus Contract Alloctns'!$I$5:$AP$108)","v":0},{"$f":"$I$5*'[2]21-23 Campus Contract Alloctns'!T99/SUM('[2]21-23 Campus Contract Alloctns'!$I$5:$AP$108)","v":0},{"$f":"$I$5*'[2]21-23 Campus Contract Alloctns'!U99/SUM('[2]21-23 Campus Contract Alloctns'!$I$5:$AP$108)","v":0},{"$f":"$I$5*'[2]21-23 Campus Contract Alloctns'!V99/SUM('[2]21-23 Campus Contract Alloctns'!$I$5:$AP$108)","v":0},{"$f":"$I$5*'[2]21-23 Campus Contract Alloctns'!W99/SUM('[2]21-23 Campus Contract Alloctns'!$I$5:$AP$108)","v":0},{"$f":"$I$5*'[2]21-23 Campus Contract Alloctns'!X99/SUM('[2]21-23 Campus Contract Alloctns'!$I$5:$AP$108)","v":0},{"$f":"$I$5*'[2]21-23 Campus Contract Alloctns'!Y99/SUM('[2]21-23 Campus Contract Alloctns'!$I$5:$AP$108)","v":0},{"$f":"$I$5*'[2]21-23 Campus Contract Alloctns'!Z99/SUM('[2]21-23 Campus Contract Alloctns'!$I$5:$AP$108)","v":0},{"$f":"$I$5*'[2]21-23 Campus Contract Alloctns'!AA99/SUM('[2]21-23 Campus Contract Alloctns'!$I$5:$AP$108)","v":0},{"$f":"$I$5*'[2]21-23 Campus Contract Alloctns'!AB99/SUM('[2]21-23 Campus Contract Alloctns'!$I$5:$AP$108)","v":0},{"$f":"$I$5*'[2]21-23 Campus Contract Alloctns'!AC99/SUM('[2]21-23 Campus Contract Alloctns'!$I$5:$AP$108)","v":0},{"$f":"$I$5*'[2]21-23 Campus Contract Alloctns'!AD99/SUM('[2]21-23 Campus Contract Alloctns'!$I$5:$AP$108)","v":0},{"$f":"$I$5*'[2]21-23 Campus Contract Alloctns'!AE99/SUM('[2]21-23 Campus Contract Alloctns'!$I$5:$AP$108)","v":0},{"$f":"$I$5*'[2]21-23 Campus Contract Alloctns'!AF99/SUM('[2]21-23 Campus Contract Alloctns'!$I$5:$AP$108)","v":0},{"$f":"$I$5*'[2]21-23 Campus Contract Alloctns'!AG99/SUM('[2]21-23 Campus Contract Alloctns'!$I$5:$AP$108)","v":0},{"$f":"$I$5*'[2]21-23 Campus Contract Alloctns'!AH99/SUM('[2]21-23 Campus Contract Alloctns'!$I$5:$AP$108)","v":0},{"$f":"$I$5*'[2]21-23 Campus Contract Alloctns'!AI99/SUM('[2]21-23 Campus Contract Alloctns'!$I$5:$AP$108)","v":0},{"$f":"$I$5*'[2]21-23 Campus Contract Alloctns'!AJ99/SUM('[2]21-23 Campus Contract Alloctns'!$I$5:$AP$108)","v":0},{"$f":"$I$5*'[2]21-23 Campus Contract Alloctns'!AK99/SUM('[2]21-23 Campus Contract Alloctns'!$I$5:$AP$108)","v":0},{"$f":"$I$5*'[2]21-23 Campus Contract Alloctns'!AL99/SUM('[2]21-23 Campus Contract Alloctns'!$I$5:$AP$108)","v":0},{"$f":"$I$5*'[2]21-23 Campus Contract Alloctns'!AM99/SUM('[2]21-23 Campus Contract Alloctns'!$I$5:$AP$108)","v":0},{"$f":"$I$5*'[2]21-23 Campus Contract Alloctns'!AN99/SUM('[2]21-23 Campus Contract Alloctns'!$I$5:$AP$108)","v":0},{"$f":"$I$5*'[2]21-23 Campus Contract Alloctns'!AO99/SUM('[2]21-23 Campus Contract Alloctns'!$I$5:$AP$108)","v":0},{"$f":"$I$5*'[2]21-23 Campus Contract Alloctns'!AP99/SUM('[2]21-23 Campus Contract Alloctns'!$I$5:$AP$108)","v":0}]
[null,"467 - Recreation and Conservation Funding Board","467","Recreation and Conservation Funding Board",4.4916390747856876E-3,61,1.0813736137038096E-3,4.7195062157510915E-4,2.9383148395067688E-3,{"$f":"$I$5*'[2]21-23 Campus Contract Alloctns'!I100/SUM('[2]21-23 Campus Contract Alloctns'!$I$5:$AP$108)","v":0},{"$f":"$I$5*'[2]21-23 Campus Contract Alloctns'!J100/SUM('[2]21-23 Campus Contract Alloctns'!$I$5:$AP$108)","v":0},{"$f":"$I$5*'[2]21-23 Campus Contract Alloctns'!K100/SUM('[2]21-23 Campus Contract Alloctns'!$I$5:$AP$108)","v":0},{"$f":"$I$5*'[2]21-23 Campus Contract Alloctns'!L100/SUM('[2]21-23 Campus Contract Alloctns'!$I$5:$AP$108)","v":0},{"$f":"$I$5*'[2]21-23 Campus Contract Alloctns'!M100/SUM('[2]21-23 Campus Contract Alloctns'!$I$5:$AP$108)","v":0},{"$f":"$I$5*'[2]21-23 Campus Contract Alloctns'!N100/SUM('[2]21-23 Campus Contract Alloctns'!$I$5:$AP$108)","v":0},{"$f":"$I$5*'[2]21-23 Campus Contract Alloctns'!O100/SUM('[2]21-23 Campus Contract Alloctns'!$I$5:$AP$108)","v":0},{"$f":"$I$5*'[2]21-23 Campus Contract Alloctns'!P100/SUM('[2]21-23 Campus Contract Alloctns'!$I$5:$AP$108)","v":2.9383148395067693E-3},{"$f":"$I$5*'[2]21-23 Campus Contract Alloctns'!Q100/SUM('[2]21-23 Campus Contract Alloctns'!$I$5:$AP$108)","v":0},{"$f":"$I$5*'[2]21-23 Campus Contract Alloctns'!R100/SUM('[2]21-23 Campus Contract Alloctns'!$I$5:$AP$108)","v":0},{"$f":"$I$5*'[2]21-23 Campus Contract Alloctns'!S100/SUM('[2]21-23 Campus Contract Alloctns'!$I$5:$AP$108)","v":0},{"$f":"$I$5*'[2]21-23 Campus Contract Alloctns'!T100/SUM('[2]21-23 Campus Contract Alloctns'!$I$5:$AP$108)","v":0},{"$f":"$I$5*'[2]21-23 Campus Contract Alloctns'!U100/SUM('[2]21-23 Campus Contract Alloctns'!$I$5:$AP$108)","v":0},{"$f":"$I$5*'[2]21-23 Campus Contract Alloctns'!V100/SUM('[2]21-23 Campus Contract Alloctns'!$I$5:$AP$108)","v":0},{"$f":"$I$5*'[2]21-23 Campus Contract Alloctns'!W100/SUM('[2]21-23 Campus Contract Alloctns'!$I$5:$AP$108)","v":0},{"$f":"$I$5*'[2]21-23 Campus Contract Alloctns'!X100/SUM('[2]21-23 Campus Contract Alloctns'!$I$5:$AP$108)","v":0},{"$f":"$I$5*'[2]21-23 Campus Contract Alloctns'!Y100/SUM('[2]21-23 Campus Contract Alloctns'!$I$5:$AP$108)","v":0},{"$f":"$I$5*'[2]21-23 Campus Contract Alloctns'!Z100/SUM('[2]21-23 Campus Contract Alloctns'!$I$5:$AP$108)","v":0},{"$f":"$I$5*'[2]21-23 Campus Contract Alloctns'!AA100/SUM('[2]21-23 Campus Contract Alloctns'!$I$5:$AP$108)","v":0},{"$f":"$I$5*'[2]21-23 Campus Contract Alloctns'!AB100/SUM('[2]21-23 Campus Contract Alloctns'!$I$5:$AP$108)","v":0},{"$f":"$I$5*'[2]21-23 Campus Contract Alloctns'!AC100/SUM('[2]21-23 Campus Contract Alloctns'!$I$5:$AP$108)","v":0},{"$f":"$I$5*'[2]21-23 Campus Contract Alloctns'!AD100/SUM('[2]21-23 Campus Contract Alloctns'!$I$5:$AP$108)","v":0},{"$f":"$I$5*'[2]21-23 Campus Contract Alloctns'!AE100/SUM('[2]21-23 Campus Contract Alloctns'!$I$5:$AP$108)","v":0},{"$f":"$I$5*'[2]21-23 Campus Contract Alloctns'!AF100/SUM('[2]21-23 Campus Contract Alloctns'!$I$5:$AP$108)","v":0},{"$f":"$I$5*'[2]21-23 Campus Contract Alloctns'!AG100/SUM('[2]21-23 Campus Contract Alloctns'!$I$5:$AP$108)","v":0},{"$f":"$I$5*'[2]21-23 Campus Contract Alloctns'!AH100/SUM('[2]21-23 Campus Contract Alloctns'!$I$5:$AP$108)","v":0},{"$f":"$I$5*'[2]21-23 Campus Contract Alloctns'!AI100/SUM('[2]21-23 Campus Contract Alloctns'!$I$5:$AP$108)","v":0},{"$f":"$I$5*'[2]21-23 Campus Contract Alloctns'!AJ100/SUM('[2]21-23 Campus Contract Alloctns'!$I$5:$AP$108)","v":0},{"$f":"$I$5*'[2]21-23 Campus Contract Alloctns'!AK100/SUM('[2]21-23 Campus Contract Alloctns'!$I$5:$AP$108)","v":0},{"$f":"$I$5*'[2]21-23 Campus Contract Alloctns'!AL100/SUM('[2]21-23 Campus Contract Alloctns'!$I$5:$AP$108)","v":0},{"$f":"$I$5*'[2]21-23 Campus Contract Alloctns'!AM100/SUM('[2]21-23 Campus Contract Alloctns'!$I$5:$AP$108)","v":0},{"$f":"$I$5*'[2]21-23 Campus Contract Alloctns'!AN100/SUM('[2]21-23 Campus Contract Alloctns'!$I$5:$AP$108)","v":0},{"$f":"$I$5*'[2]21-23 Campus Contract Alloctns'!AO100/SUM('[2]21-23 Campus Contract Alloctns'!$I$5:$AP$108)","v":0},{"$f":"$I$5*'[2]21-23 Campus Contract Alloctns'!AP100/SUM('[2]21-23 Campus Contract Alloctns'!$I$5:$AP$108)","v":0}]
[null,"468 - Environmental and Land Use Hearings Office","468","Environmental and Land Use Hearings Office",1.7727436290226387E-4,10,1.7727436290226387E-4,0,0,{"$f":"$I$5*'[2]21-23 Campus Contract Alloctns'!I101/SUM('[2]21-23 Campus Contract Alloctns'!$I$5:$AP$108)","v":0},{"$f":"$I$5*'[2]21-23 Campus Contract Alloctns'!J101/SUM('[2]21-23 Campus Contract Alloctns'!$I$5:$AP$108)","v":0},{"$f":"$I$5*'[2]21-23 Campus Contract Alloctns'!K101/SUM('[2]21-23 Campus Contract Alloctns'!$I$5:$AP$108)","v":0},{"$f":"$I$5*'[2]21-23 Campus Contract Alloctns'!L101/SUM('[2]21-23 Campus Contract Alloctns'!$I$5:$AP$108)","v":0},{"$f":"$I$5*'[2]21-23 Campus Contract Alloctns'!M101/SUM('[2]21-23 Campus Contract Alloctns'!$I$5:$AP$108)","v":0},{"$f":"$I$5*'[2]21-23 Campus Contract Alloctns'!N101/SUM('[2]21-23 Campus Contract Alloctns'!$I$5:$AP$108)","v":0},{"$f":"$I$5*'[2]21-23 Campus Contract Alloctns'!O101/SUM('[2]21-23 Campus Contract Alloctns'!$I$5:$AP$108)","v":0},{"$f":"$I$5*'[2]21-23 Campus Contract Alloctns'!P101/SUM('[2]21-23 Campus Contract Alloctns'!$I$5:$AP$108)","v":0},{"$f":"$I$5*'[2]21-23 Campus Contract Alloctns'!Q101/SUM('[2]21-23 Campus Contract Alloctns'!$I$5:$AP$108)","v":0},{"$f":"$I$5*'[2]21-23 Campus Contract Alloctns'!R101/SUM('[2]21-23 Campus Contract Alloctns'!$I$5:$AP$108)","v":0},{"$f":"$I$5*'[2]21-23 Campus Contract Alloctns'!S101/SUM('[2]21-23 Campus Contract Alloctns'!$I$5:$AP$108)","v":0},{"$f":"$I$5*'[2]21-23 Campus Contract Alloctns'!T101/SUM('[2]21-23 Campus Contract Alloctns'!$I$5:$AP$108)","v":0},{"$f":"$I$5*'[2]21-23 Campus Contract Alloctns'!U101/SUM('[2]21-23 Campus Contract Alloctns'!$I$5:$AP$108)","v":0},{"$f":"$I$5*'[2]21-23 Campus Contract Alloctns'!V101/SUM('[2]21-23 Campus Contract Alloctns'!$I$5:$AP$108)","v":0},{"$f":"$I$5*'[2]21-23 Campus Contract Alloctns'!W101/SUM('[2]21-23 Campus Contract Alloctns'!$I$5:$AP$108)","v":0},{"$f":"$I$5*'[2]21-23 Campus Contract Alloctns'!X101/SUM('[2]21-23 Campus Contract Alloctns'!$I$5:$AP$108)","v":0},{"$f":"$I$5*'[2]21-23 Campus Contract Alloctns'!Y101/SUM('[2]21-23 Campus Contract Alloctns'!$I$5:$AP$108)","v":0},{"$f":"$I$5*'[2]21-23 Campus Contract Alloctns'!Z101/SUM('[2]21-23 Campus Contract Alloctns'!$I$5:$AP$108)","v":0},{"$f":"$I$5*'[2]21-23 Campus Contract Alloctns'!AA101/SUM('[2]21-23 Campus Contract Alloctns'!$I$5:$AP$108)","v":0},{"$f":"$I$5*'[2]21-23 Campus Contract Alloctns'!AB101/SUM('[2]21-23 Campus Contract Alloctns'!$I$5:$AP$108)","v":0},{"$f":"$I$5*'[2]21-23 Campus Contract Alloctns'!AC101/SUM('[2]21-23 Campus Contract Alloctns'!$I$5:$AP$108)","v":0},{"$f":"$I$5*'[2]21-23 Campus Contract Alloctns'!AD101/SUM('[2]21-23 Campus Contract Alloctns'!$I$5:$AP$108)","v":0},{"$f":"$I$5*'[2]21-23 Campus Contract Alloctns'!AE101/SUM('[2]21-23 Campus Contract Alloctns'!$I$5:$AP$108)","v":0},{"$f":"$I$5*'[2]21-23 Campus Contract Alloctns'!AF101/SUM('[2]21-23 Campus Contract Alloctns'!$I$5:$AP$108)","v":0},{"$f":"$I$5*'[2]21-23 Campus Contract Alloctns'!AG101/SUM('[2]21-23 Campus Contract Alloctns'!$I$5:$AP$108)","v":0},{"$f":"$I$5*'[2]21-23 Campus Contract Alloctns'!AH101/SUM('[2]21-23 Campus Contract Alloctns'!$I$5:$AP$108)","v":0},{"$f":"$I$5*'[2]21-23 Campus Contract Alloctns'!AI101/SUM('[2]21-23 Campus Contract Alloctns'!$I$5:$AP$108)","v":0},{"$f":"$I$5*'[2]21-23 Campus Contract Alloctns'!AJ101/SUM('[2]21-23 Campus Contract Alloctns'!$I$5:$AP$108)","v":0},{"$f":"$I$5*'[2]21-23 Campus Contract Alloctns'!AK101/SUM('[2]21-23 Campus Contract Alloctns'!$I$5:$AP$108)","v":0},{"$f":"$I$5*'[2]21-23 Campus Contract Alloctns'!AL101/SUM('[2]21-23 Campus Contract Alloctns'!$I$5:$AP$108)","v":0},{"$f":"$I$5*'[2]21-23 Campus Contract Alloctns'!AM101/SUM('[2]21-23 Campus Contract Alloctns'!$I$5:$AP$108)","v":0},{"$f":"$I$5*'[2]21-23 Campus Contract Alloctns'!AN101/SUM('[2]21-23 Campus Contract Alloctns'!$I$5:$AP$108)","v":0},{"$f":"$I$5*'[2]21-23 Campus Contract Alloctns'!AO101/SUM('[2]21-23 Campus Contract Alloctns'!$I$5:$AP$108)","v":0},{"$f":"$I$5*'[2]21-23 Campus Contract Alloctns'!AP101/SUM('[2]21-23 Campus Contract Alloctns'!$I$5:$AP$108)","v":0}]
[null,"471 - State Conservation Commission","471","State Conservation Commission",2.8363898064362214E-4,16,2.8363898064362214E-4,0,0,{"$f":"$I$5*'[2]21-23 Campus Contract Alloctns'!I102/SUM('[2]21-23 Campus Contract Alloctns'!$I$5:$AP$108)","v":0},{"$f":"$I$5*'[2]21-23 Campus Contract Alloctns'!J102/SUM('[2]21-23 Campus Contract Alloctns'!$I$5:$AP$108)","v":0},{"$f":"$I$5*'[2]21-23 Campus Contract Alloctns'!K102/SUM('[2]21-23 Campus Contract Alloctns'!$I$5:$AP$108)","v":0},{"$f":"$I$5*'[2]21-23 Campus Contract Alloctns'!L102/SUM('[2]21-23 Campus Contract Alloctns'!$I$5:$AP$108)","v":0},{"$f":"$I$5*'[2]21-23 Campus Contract Alloctns'!M102/SUM('[2]21-23 Campus Contract Alloctns'!$I$5:$AP$108)","v":0},{"$f":"$I$5*'[2]21-23 Campus Contract Alloctns'!N102/SUM('[2]21-23 Campus Contract Alloctns'!$I$5:$AP$108)","v":0},{"$f":"$I$5*'[2]21-23 Campus Contract Alloctns'!O102/SUM('[2]21-23 Campus Contract Alloctns'!$I$5:$AP$108)","v":0},{"$f":"$I$5*'[2]21-23 Campus Contract Alloctns'!P102/SUM('[2]21-23 Campus Contract Alloctns'!$I$5:$AP$108)","v":0},{"$f":"$I$5*'[2]21-23 Campus Contract Alloctns'!Q102/SUM('[2]21-23 Campus Contract Alloctns'!$I$5:$AP$108)","v":0},{"$f":"$I$5*'[2]21-23 Campus Contract Alloctns'!R102/SUM('[2]21-23 Campus Contract Alloctns'!$I$5:$AP$108)","v":0},{"$f":"$I$5*'[2]21-23 Campus Contract Alloctns'!S102/SUM('[2]21-23 Campus Contract Alloctns'!$I$5:$AP$108)","v":0},{"$f":"$I$5*'[2]21-23 Campus Contract Alloctns'!T102/SUM('[2]21-23 Campus Contract Alloctns'!$I$5:$AP$108)","v":0},{"$f":"$I$5*'[2]21-23 Campus Contract Alloctns'!U102/SUM('[2]21-23 Campus Contract Alloctns'!$I$5:$AP$108)","v":0},{"$f":"$I$5*'[2]21-23 Campus Contract Alloctns'!V102/SUM('[2]21-23 Campus Contract Alloctns'!$I$5:$AP$108)","v":0},{"$f":"$I$5*'[2]21-23 Campus Contract Alloctns'!W102/SUM('[2]21-23 Campus Contract Alloctns'!$I$5:$AP$108)","v":0},{"$f":"$I$5*'[2]21-23 Campus Contract Alloctns'!X102/SUM('[2]21-23 Campus Contract Alloctns'!$I$5:$AP$108)","v":0},{"$f":"$I$5*'[2]21-23 Campus Contract Alloctns'!Y102/SUM('[2]21-23 Campus Contract Alloctns'!$I$5:$AP$108)","v":0},{"$f":"$I$5*'[2]21-23 Campus Contract Alloctns'!Z102/SUM('[2]21-23 Campus Contract Alloctns'!$I$5:$AP$108)","v":0},{"$f":"$I$5*'[2]21-23 Campus Contract Alloctns'!AA102/SUM('[2]21-23 Campus Contract Alloctns'!$I$5:$AP$108)","v":0},{"$f":"$I$5*'[2]21-23 Campus Contract Alloctns'!AB102/SUM('[2]21-23 Campus Contract Alloctns'!$I$5:$AP$108)","v":0},{"$f":"$I$5*'[2]21-23 Campus Contract Alloctns'!AC102/SUM('[2]21-23 Campus Contract Alloctns'!$I$5:$AP$108)","v":0},{"$f":"$I$5*'[2]21-23 Campus Contract Alloctns'!AD102/SUM('[2]21-23 Campus Contract Alloctns'!$I$5:$AP$108)","v":0},{"$f":"$I$5*'[2]21-23 Campus Contract Alloctns'!AE102/SUM('[2]21-23 Campus Contract Alloctns'!$I$5:$AP$108)","v":0},{"$f":"$I$5*'[2]21-23 Campus Contract Alloctns'!AF102/SUM('[2]21-23 Campus Contract Alloctns'!$I$5:$AP$108)","v":0},{"$f":"$I$5*'[2]21-23 Campus Contract Alloctns'!AG102/SUM('[2]21-23 Campus Contract Alloctns'!$I$5:$AP$108)","v":0},{"$f":"$I$5*'[2]21-23 Campus Contract Alloctns'!AH102/SUM('[2]21-23 Campus Contract Alloctns'!$I$5:$AP$108)","v":0},{"$f":"$I$5*'[2]21-23 Campus Contract Alloctns'!AI102/SUM('[2]21-23 Campus Contract Alloctns'!$I$5:$AP$108)","v":0},{"$f":"$I$5*'[2]21-23 Campus Contract Alloctns'!AJ102/SUM('[2]21-23 Campus Contract Alloctns'!$I$5:$AP$108)","v":0},{"$f":"$I$5*'[2]21-23 Campus Contract Alloctns'!AK102/SUM('[2]21-23 Campus Contract Alloctns'!$I$5:$AP$108)","v":0},{"$f":"$I$5*'[2]21-23 Campus Contract Alloctns'!AL102/SUM('[2]21-23 Campus Contract Alloctns'!$I$5:$AP$108)","v":0},{"$f":"$I$5*'[2]21-23 Campus Contract Alloctns'!AM102/SUM('[2]21-23 Campus Contract Alloctns'!$I$5:$AP$108)","v":0},{"$f":"$I$5*'[2]21-23 Campus Contract Alloctns'!AN102/SUM('[2]21-23 Campus Contract Alloctns'!$I$5:$AP$108)","v":0},{"$f":"$I$5*'[2]21-23 Campus Contract Alloctns'!AO102/SUM('[2]21-23 Campus Contract Alloctns'!$I$5:$AP$108)","v":0},{"$f":"$I$5*'[2]21-23 Campus Contract Alloctns'!AP102/SUM('[2]21-23 Campus Contract Alloctns'!$I$5:$AP$108)","v":0}]
[null,"477 - Department of Fish and Wildlife","477","Department of Fish and Wildlife",5.3997086057097632E-2,755,1.3384214399120922E-2,5.6204627591810935E-3,3.4992408898795617E-2,{"$f":"$I$5*'[2]21-23 Campus Contract Alloctns'!I103/SUM('[2]21-23 Campus Contract Alloctns'!$I$5:$AP$108)","v":0},{"$f":"$I$5*'[2]21-23 Campus Contract Alloctns'!J103/SUM('[2]21-23 Campus Contract Alloctns'!$I$5:$AP$108)","v":0},{"$f":"$I$5*'[2]21-23 Campus Contract Alloctns'!K103/SUM('[2]21-23 Campus Contract Alloctns'!$I$5:$AP$108)","v":0},{"$f":"$I$5*'[2]21-23 Campus Contract Alloctns'!L103/SUM('[2]21-23 Campus Contract Alloctns'!$I$5:$AP$108)","v":0},{"$f":"$I$5*'[2]21-23 Campus Contract Alloctns'!M103/SUM('[2]21-23 Campus Contract Alloctns'!$I$5:$AP$108)","v":0},{"$f":"$I$5*'[2]21-23 Campus Contract Alloctns'!N103/SUM('[2]21-23 Campus Contract Alloctns'!$I$5:$AP$108)","v":0},{"$f":"$I$5*'[2]21-23 Campus Contract Alloctns'!O103/SUM('[2]21-23 Campus Contract Alloctns'!$I$5:$AP$108)","v":0},{"$f":"$I$5*'[2]21-23 Campus Contract Alloctns'!P103/SUM('[2]21-23 Campus Contract Alloctns'!$I$5:$AP$108)","v":3.4992408898795624E-2},{"$f":"$I$5*'[2]21-23 Campus Contract Alloctns'!Q103/SUM('[2]21-23 Campus Contract Alloctns'!$I$5:$AP$108)","v":0},{"$f":"$I$5*'[2]21-23 Campus Contract Alloctns'!R103/SUM('[2]21-23 Campus Contract Alloctns'!$I$5:$AP$108)","v":0},{"$f":"$I$5*'[2]21-23 Campus Contract Alloctns'!S103/SUM('[2]21-23 Campus Contract Alloctns'!$I$5:$AP$108)","v":0},{"$f":"$I$5*'[2]21-23 Campus Contract Alloctns'!T103/SUM('[2]21-23 Campus Contract Alloctns'!$I$5:$AP$108)","v":0},{"$f":"$I$5*'[2]21-23 Campus Contract Alloctns'!U103/SUM('[2]21-23 Campus Contract Alloctns'!$I$5:$AP$108)","v":0},{"$f":"$I$5*'[2]21-23 Campus Contract Alloctns'!V103/SUM('[2]21-23 Campus Contract Alloctns'!$I$5:$AP$108)","v":0},{"$f":"$I$5*'[2]21-23 Campus Contract Alloctns'!W103/SUM('[2]21-23 Campus Contract Alloctns'!$I$5:$AP$108)","v":0},{"$f":"$I$5*'[2]21-23 Campus Contract Alloctns'!X103/SUM('[2]21-23 Campus Contract Alloctns'!$I$5:$AP$108)","v":0},{"$f":"$I$5*'[2]21-23 Campus Contract Alloctns'!Y103/SUM('[2]21-23 Campus Contract Alloctns'!$I$5:$AP$108)","v":0},{"$f":"$I$5*'[2]21-23 Campus Contract Alloctns'!Z103/SUM('[2]21-23 Campus Contract Alloctns'!$I$5:$AP$108)","v":0},{"$f":"$I$5*'[2]21-23 Campus Contract Alloctns'!AA103/SUM('[2]21-23 Campus Contract Alloctns'!$I$5:$AP$108)","v":0},{"$f":"$I$5*'[2]21-23 Campus Contract Alloctns'!AB103/SUM('[2]21-23 Campus Contract Alloctns'!$I$5:$AP$108)","v":0},{"$f":"$I$5*'[2]21-23 Campus Contract Alloctns'!AC103/SUM('[2]21-23 Campus Contract Alloctns'!$I$5:$AP$108)","v":0},{"$f":"$I$5*'[2]21-23 Campus Contract Alloctns'!AD103/SUM('[2]21-23 Campus Contract Alloctns'!$I$5:$AP$108)","v":0},{"$f":"$I$5*'[2]21-23 Campus Contract Alloctns'!AE103/SUM('[2]21-23 Campus Contract Alloctns'!$I$5:$AP$108)","v":0},{"$f":"$I$5*'[2]21-23 Campus Contract Alloctns'!AF103/SUM('[2]21-23 Campus Contract Alloctns'!$I$5:$AP$108)","v":0},{"$f":"$I$5*'[2]21-23 Campus Contract Alloctns'!AG103/SUM('[2]21-23 Campus Contract Alloctns'!$I$5:$AP$108)","v":0},{"$f":"$I$5*'[2]21-23 Campus Contract Alloctns'!AH103/SUM('[2]21-23 Campus Contract Alloctns'!$I$5:$AP$108)","v":0},{"$f":"$I$5*'[2]21-23 Campus Contract Alloctns'!AI103/SUM('[2]21-23 Campus Contract Alloctns'!$I$5:$AP$108)","v":0},{"$f":"$I$5*'[2]21-23 Campus Contract Alloctns'!AJ103/SUM('[2]21-23 Campus Contract Alloctns'!$I$5:$AP$108)","v":0},{"$f":"$I$5*'[2]21-23 Campus Contract Alloctns'!AK103/SUM('[2]21-23 Campus Contract Alloctns'!$I$5:$AP$108)","v":0},{"$f":"$I$5*'[2]21-23 Campus Contract Alloctns'!AL103/SUM('[2]21-23 Campus Contract Alloctns'!$I$5:$AP$108)","v":0},{"$f":"$I$5*'[2]21-23 Campus Contract Alloctns'!AM103/SUM('[2]21-23 Campus Contract Alloctns'!$I$5:$AP$108)","v":0},{"$f":"$I$5*'[2]21-23 Campus Contract Alloctns'!AN103/SUM('[2]21-23 Campus Contract Alloctns'!$I$5:$AP$108)","v":0},{"$f":"$I$5*'[2]21-23 Campus Contract Alloctns'!AO103/SUM('[2]21-23 Campus Contract Alloctns'!$I$5:$AP$108)","v":0},{"$f":"$I$5*'[2]21-23 Campus Contract Alloctns'!AP103/SUM('[2]21-23 Campus Contract Alloctns'!$I$5:$AP$108)","v":0}]
[null,"478 - Puget Sound Partnership","478","Puget Sound Partnership",3.2748077604577924E-4,2,3.5454872580452768E-5,0,2.9202590346532649E-4,{"$f":"$I$5*'[2]21-23 Campus Contract Alloctns'!I104/SUM('[2]21-23 Campus Contract Alloctns'!$I$5:$AP$108)","v":0},{"$f":"$I$5*'[2]21-23 Campus Contract Alloctns'!J104/SUM('[2]21-23 Campus Contract Alloctns'!$I$5:$AP$108)","v":0},{"$f":"$I$5*'[2]21-23 Campus Contract Alloctns'!K104/SUM('[2]21-23 Campus Contract Alloctns'!$I$5:$AP$108)","v":0},{"$f":"$I$5*'[2]21-23 Campus Contract Alloctns'!L104/SUM('[2]21-23 Campus Contract Alloctns'!$I$5:$AP$108)","v":0},{"$f":"$I$5*'[2]21-23 Campus Contract Alloctns'!M104/SUM('[2]21-23 Campus Contract Alloctns'!$I$5:$AP$108)","v":0},{"$f":"$I$5*'[2]21-23 Campus Contract Alloctns'!N104/SUM('[2]21-23 Campus Contract Alloctns'!$I$5:$AP$108)","v":0},{"$f":"$I$5*'[2]21-23 Campus Contract Alloctns'!O104/SUM('[2]21-23 Campus Contract Alloctns'!$I$5:$AP$108)","v":0},{"$f":"$I$5*'[2]21-23 Campus Contract Alloctns'!P104/SUM('[2]21-23 Campus Contract Alloctns'!$I$5:$AP$108)","v":0},{"$f":"$I$5*'[2]21-23 Campus Contract Alloctns'!Q104/SUM('[2]21-23 Campus Contract Alloctns'!$I$5:$AP$108)","v":0},{"$f":"$I$5*'[2]21-23 Campus Contract Alloctns'!R104/SUM('[2]21-23 Campus Contract Alloctns'!$I$5:$AP$108)","v":0},{"$f":"$I$5*'[2]21-23 Campus Contract Alloctns'!S104/SUM('[2]21-23 Campus Contract Alloctns'!$I$5:$AP$108)","v":0},{"$f":"$I$5*'[2]21-23 Campus Contract Alloctns'!T104/SUM('[2]21-23 Campus Contract Alloctns'!$I$5:$AP$108)","v":0},{"$f":"$I$5*'[2]21-23 Campus Contract Alloctns'!U104/SUM('[2]21-23 Campus Contract Alloctns'!$I$5:$AP$108)","v":0},{"$f":"$I$5*'[2]21-23 Campus Contract Alloctns'!V104/SUM('[2]21-23 Campus Contract Alloctns'!$I$5:$AP$108)","v":0},{"$f":"$I$5*'[2]21-23 Campus Contract Alloctns'!W104/SUM('[2]21-23 Campus Contract Alloctns'!$I$5:$AP$108)","v":0},{"$f":"$I$5*'[2]21-23 Campus Contract Alloctns'!X104/SUM('[2]21-23 Campus Contract Alloctns'!$I$5:$AP$108)","v":0},{"$f":"$I$5*'[2]21-23 Campus Contract Alloctns'!Y104/SUM('[2]21-23 Campus Contract Alloctns'!$I$5:$AP$108)","v":0},{"$f":"$I$5*'[2]21-23 Campus Contract Alloctns'!Z104/SUM('[2]21-23 Campus Contract Alloctns'!$I$5:$AP$108)","v":0},{"$f":"$I$5*'[2]21-23 Campus Contract Alloctns'!AA104/SUM('[2]21-23 Campus Contract Alloctns'!$I$5:$AP$108)","v":0},{"$f":"$I$5*'[2]21-23 Campus Contract Alloctns'!AB104/SUM('[2]21-23 Campus Contract Alloctns'!$I$5:$AP$108)","v":2.9202590346532654E-4},{"$f":"$I$5*'[2]21-23 Campus Contract Alloctns'!AC104/SUM('[2]21-23 Campus Contract Alloctns'!$I$5:$AP$108)","v":0},{"$f":"$I$5*'[2]21-23 Campus Contract Alloctns'!AD104/SUM('[2]21-23 Campus Contract Alloctns'!$I$5:$AP$108)","v":0},{"$f":"$I$5*'[2]21-23 Campus Contract Alloctns'!AE104/SUM('[2]21-23 Campus Contract Alloctns'!$I$5:$AP$108)","v":0},{"$f":"$I$5*'[2]21-23 Campus Contract Alloctns'!AF104/SUM('[2]21-23 Campus Contract Alloctns'!$I$5:$AP$108)","v":0},{"$f":"$I$5*'[2]21-23 Campus Contract Alloctns'!AG104/SUM('[2]21-23 Campus Contract Alloctns'!$I$5:$AP$108)","v":0},{"$f":"$I$5*'[2]21-23 Campus Contract Alloctns'!AH104/SUM('[2]21-23 Campus Contract Alloctns'!$I$5:$AP$108)","v":0},{"$f":"$I$5*'[2]21-23 Campus Contract Alloctns'!AI104/SUM('[2]21-23 Campus Contract Alloctns'!$I$5:$AP$108)","v":0},{"$f":"$I$5*'[2]21-23 Campus Contract Alloctns'!AJ104/SUM('[2]21-23 Campus Contract Alloctns'!$I$5:$AP$108)","v":0},{"$f":"$I$5*'[2]21-23 Campus Contract Alloctns'!AK104/SUM('[2]21-23 Campus Contract Alloctns'!$I$5:$AP$108)","v":0},{"$f":"$I$5*'[2]21-23 Campus Contract Alloctns'!AL104/SUM('[2]21-23 Campus Contract Alloctns'!$I$5:$AP$108)","v":0},{"$f":"$I$5*'[2]21-23 Campus Contract Alloctns'!AM104/SUM('[2]21-23 Campus Contract Alloctns'!$I$5:$AP$108)","v":0},{"$f":"$I$5*'[2]21-23 Campus Contract Alloctns'!AN104/SUM('[2]21-23 Campus Contract Alloctns'!$I$5:$AP$108)","v":0},{"$f":"$I$5*'[2]21-23 Campus Contract Alloctns'!AO104/SUM('[2]21-23 Campus Contract Alloctns'!$I$5:$AP$108)","v":0},{"$f":"$I$5*'[2]21-23 Campus Contract Alloctns'!AP104/SUM('[2]21-23 Campus Contract Alloctns'!$I$5:$AP$108)","v":0}]
[null,"490 - Department of Natural Resources","490","Department of Natural Resources",5.6551615285779781E-2,709,1.2568752329770507E-2,6.0868397922771086E-3,3.7896023163732168E-2,{"$f":"$I$5*'[2]21-23 Campus Contract Alloctns'!I105/SUM('[2]21-23 Campus Contract Alloctns'!$I$5:$AP$108)","v":0},{"$f":"$I$5*'[2]21-23 Campus Contract Alloctns'!J105/SUM('[2]21-23 Campus Contract Alloctns'!$I$5:$AP$108)","v":0},{"$f":"$I$5*'[2]21-23 Campus Contract Alloctns'!K105/SUM('[2]21-23 Campus Contract Alloctns'!$I$5:$AP$108)","v":0},{"$f":"$I$5*'[2]21-23 Campus Contract Alloctns'!L105/SUM('[2]21-23 Campus Contract Alloctns'!$I$5:$AP$108)","v":0},{"$f":"$I$5*'[2]21-23 Campus Contract Alloctns'!M105/SUM('[2]21-23 Campus Contract Alloctns'!$I$5:$AP$108)","v":0},{"$f":"$I$5*'[2]21-23 Campus Contract Alloctns'!N105/SUM('[2]21-23 Campus Contract Alloctns'!$I$5:$AP$108)","v":0},{"$f":"$I$5*'[2]21-23 Campus Contract Alloctns'!O105/SUM('[2]21-23 Campus Contract Alloctns'!$I$5:$AP$108)","v":0},{"$f":"$I$5*'[2]21-23 Campus Contract Alloctns'!P105/SUM('[2]21-23 Campus Contract Alloctns'!$I$5:$AP$108)","v":3.7896023163732175E-2},{"$f":"$I$5*'[2]21-23 Campus Contract Alloctns'!Q105/SUM('[2]21-23 Campus Contract Alloctns'!$I$5:$AP$108)","v":0},{"$f":"$I$5*'[2]21-23 Campus Contract Alloctns'!R105/SUM('[2]21-23 Campus Contract Alloctns'!$I$5:$AP$108)","v":0},{"$f":"$I$5*'[2]21-23 Campus Contract Alloctns'!S105/SUM('[2]21-23 Campus Contract Alloctns'!$I$5:$AP$108)","v":0},{"$f":"$I$5*'[2]21-23 Campus Contract Alloctns'!T105/SUM('[2]21-23 Campus Contract Alloctns'!$I$5:$AP$108)","v":0},{"$f":"$I$5*'[2]21-23 Campus Contract Alloctns'!U105/SUM('[2]21-23 Campus Contract Alloctns'!$I$5:$AP$108)","v":0},{"$f":"$I$5*'[2]21-23 Campus Contract Alloctns'!V105/SUM('[2]21-23 Campus Contract Alloctns'!$I$5:$AP$108)","v":0},{"$f":"$I$5*'[2]21-23 Campus Contract Alloctns'!W105/SUM('[2]21-23 Campus Contract Alloctns'!$I$5:$AP$108)","v":0},{"$f":"$I$5*'[2]21-23 Campus Contract Alloctns'!X105/SUM('[2]21-23 Campus Contract Alloctns'!$I$5:$AP$108)","v":0},{"$f":"$I$5*'[2]21-23 Campus Contract Alloctns'!Y105/SUM('[2]21-23 Campus Contract Alloctns'!$I$5:$AP$108)","v":0},{"$f":"$I$5*'[2]21-23 Campus Contract Alloctns'!Z105/SUM('[2]21-23 Campus Contract Alloctns'!$I$5:$AP$108)","v":0},{"$f":"$I$5*'[2]21-23 Campus Contract Alloctns'!AA105/SUM('[2]21-23 Campus Contract Alloctns'!$I$5:$AP$108)","v":0},{"$f":"$I$5*'[2]21-23 Campus Contract Alloctns'!AB105/SUM('[2]21-23 Campus Contract Alloctns'!$I$5:$AP$108)","v":0},{"$f":"$I$5*'[2]21-23 Campus Contract Alloctns'!AC105/SUM('[2]21-23 Campus Contract Alloctns'!$I$5:$AP$108)","v":0},{"$f":"$I$5*'[2]21-23 Campus Contract Alloctns'!AD105/SUM('[2]21-23 Campus Contract Alloctns'!$I$5:$AP$108)","v":0},{"$f":"$I$5*'[2]21-23 Campus Contract Alloctns'!AE105/SUM('[2]21-23 Campus Contract Alloctns'!$I$5:$AP$108)","v":0},{"$f":"$I$5*'[2]21-23 Campus Contract Alloctns'!AF105/SUM('[2]21-23 Campus Contract Alloctns'!$I$5:$AP$108)","v":0},{"$f":"$I$5*'[2]21-23 Campus Contract Alloctns'!AG105/SUM('[2]21-23 Campus Contract Alloctns'!$I$5:$AP$108)","v":0},{"$f":"$I$5*'[2]21-23 Campus Contract Alloctns'!AH105/SUM('[2]21-23 Campus Contract Alloctns'!$I$5:$AP$108)","v":0},{"$f":"$I$5*'[2]21-23 Campus Contract Alloctns'!AI105/SUM('[2]21-23 Campus Contract Alloctns'!$I$5:$AP$108)","v":0},{"$f":"$I$5*'[2]21-23 Campus Contract Alloctns'!AJ105/SUM('[2]21-23 Campus Contract Alloctns'!$I$5:$AP$108)","v":0},{"$f":"$I$5*'[2]21-23 Campus Contract Alloctns'!AK105/SUM('[2]21-23 Campus Contract Alloctns'!$I$5:$AP$108)","v":0},{"$f":"$I$5*'[2]21-23 Campus Contract Alloctns'!AL105/SUM('[2]21-23 Campus Contract Alloctns'!$I$5:$AP$108)","v":0},{"$f":"$I$5*'[2]21-23 Campus Contract Alloctns'!AM105/SUM('[2]21-23 Campus Contract Alloctns'!$I$5:$AP$108)","v":0},{"$f":"$I$5*'[2]21-23 Campus Contract Alloctns'!AN105/SUM('[2]21-23 Campus Contract Alloctns'!$I$5:$AP$108)","v":0},{"$f":"$I$5*'[2]21-23 Campus Contract Alloctns'!AO105/SUM('[2]21-23 Campus Contract Alloctns'!$I$5:$AP$108)","v":0},{"$f":"$I$5*'[2]21-23 Campus Contract Alloctns'!AP105/SUM('[2]21-23 Campus Contract Alloctns'!$I$5:$AP$108)","v":0}]
[null,"495 - Department of Agriculture","495","Department of Agriculture",1.8341854823417155E-2,251,4.4495865088468225E-3,1.922567243216802E-3,1.1969701071353532E-2,{"$f":"$I$5*'[2]21-23 Campus Contract Alloctns'!I106/SUM('[2]21-23 Campus Contract Alloctns'!$I$5:$AP$108)","v":0},{"$f":"$I$5*'[2]21-23 Campus Contract Alloctns'!J106/SUM('[2]21-23 Campus Contract Alloctns'!$I$5:$AP$108)","v":0},{"$f":"$I$5*'[2]21-23 Campus Contract Alloctns'!K106/SUM('[2]21-23 Campus Contract Alloctns'!$I$5:$AP$108)","v":0},{"$f":"$I$5*'[2]21-23 Campus Contract Alloctns'!L106/SUM('[2]21-23 Campus Contract Alloctns'!$I$5:$AP$108)","v":0},{"$f":"$I$5*'[2]21-23 Campus Contract Alloctns'!M106/SUM('[2]21-23 Campus Contract Alloctns'!$I$5:$AP$108)","v":0},{"$f":"$I$5*'[2]21-23 Campus Contract Alloctns'!N106/SUM('[2]21-23 Campus Contract Alloctns'!$I$5:$AP$108)","v":0},{"$f":"$I$5*'[2]21-23 Campus Contract Alloctns'!O106/SUM('[2]21-23 Campus Contract Alloctns'!$I$5:$AP$108)","v":0},{"$f":"$I$5*'[2]21-23 Campus Contract Alloctns'!P106/SUM('[2]21-23 Campus Contract Alloctns'!$I$5:$AP$108)","v":1.1969701071353533E-2},{"$f":"$I$5*'[2]21-23 Campus Contract Alloctns'!Q106/SUM('[2]21-23 Campus Contract Alloctns'!$I$5:$AP$108)","v":0},{"$f":"$I$5*'[2]21-23 Campus Contract Alloctns'!R106/SUM('[2]21-23 Campus Contract Alloctns'!$I$5:$AP$108)","v":0},{"$f":"$I$5*'[2]21-23 Campus Contract Alloctns'!S106/SUM('[2]21-23 Campus Contract Alloctns'!$I$5:$AP$108)","v":0},{"$f":"$I$5*'[2]21-23 Campus Contract Alloctns'!T106/SUM('[2]21-23 Campus Contract Alloctns'!$I$5:$AP$108)","v":0},{"$f":"$I$5*'[2]21-23 Campus Contract Alloctns'!U106/SUM('[2]21-23 Campus Contract Alloctns'!$I$5:$AP$108)","v":0},{"$f":"$I$5*'[2]21-23 Campus Contract Alloctns'!V106/SUM('[2]21-23 Campus Contract Alloctns'!$I$5:$AP$108)","v":0},{"$f":"$I$5*'[2]21-23 Campus Contract Alloctns'!W106/SUM('[2]21-23 Campus Contract Alloctns'!$I$5:$AP$108)","v":0},{"$f":"$I$5*'[2]21-23 Campus Contract Alloctns'!X106/SUM('[2]21-23 Campus Contract Alloctns'!$I$5:$AP$108)","v":0},{"$f":"$I$5*'[2]21-23 Campus Contract Alloctns'!Y106/SUM('[2]21-23 Campus Contract Alloctns'!$I$5:$AP$108)","v":0},{"$f":"$I$5*'[2]21-23 Campus Contract Alloctns'!Z106/SUM('[2]21-23 Campus Contract Alloctns'!$I$5:$AP$108)","v":0},{"$f":"$I$5*'[2]21-23 Campus Contract Alloctns'!AA106/SUM('[2]21-23 Campus Contract Alloctns'!$I$5:$AP$108)","v":0},{"$f":"$I$5*'[2]21-23 Campus Contract Alloctns'!AB106/SUM('[2]21-23 Campus Contract Alloctns'!$I$5:$AP$108)","v":0},{"$f":"$I$5*'[2]21-23 Campus Contract Alloctns'!AC106/SUM('[2]21-23 Campus Contract Alloctns'!$I$5:$AP$108)","v":0},{"$f":"$I$5*'[2]21-23 Campus Contract Alloctns'!AD106/SUM('[2]21-23 Campus Contract Alloctns'!$I$5:$AP$108)","v":0},{"$f":"$I$5*'[2]21-23 Campus Contract Alloctns'!AE106/SUM('[2]21-23 Campus Contract Alloctns'!$I$5:$AP$108)","v":0},{"$f":"$I$5*'[2]21-23 Campus Contract Alloctns'!AF106/SUM('[2]21-23 Campus Contract Alloctns'!$I$5:$AP$108)","v":0},{"$f":"$I$5*'[2]21-23 Campus Contract Alloctns'!AG106/SUM('[2]21-23 Campus Contract Alloctns'!$I$5:$AP$108)","v":0},{"$f":"$I$5*'[2]21-23 Campus Contract Alloctns'!AH106/SUM('[2]21-23 Campus Contract Alloctns'!$I$5:$AP$108)","v":0},{"$f":"$I$5*'[2]21-23 Campus Contract Alloctns'!AI106/SUM('[2]21-23 Campus Contract Alloctns'!$I$5:$AP$108)","v":0},{"$f":"$I$5*'[2]21-23 Campus Contract Alloctns'!AJ106/SUM('[2]21-23 Campus Contract Alloctns'!$I$5:$AP$108)","v":0},{"$f":"$I$5*'[2]21-23 Campus Contract Alloctns'!AK106/SUM('[2]21-23 Campus Contract Alloctns'!$I$5:$AP$108)","v":0},{"$f":"$I$5*'[2]21-23 Campus Contract Alloctns'!AL106/SUM('[2]21-23 Campus Contract Alloctns'!$I$5:$AP$108)","v":0},{"$f":"$I$5*'[2]21-23 Campus Contract Alloctns'!AM106/SUM('[2]21-23 Campus Contract Alloctns'!$I$5:$AP$108)","v":0},{"$f":"$I$5*'[2]21-23 Campus Contract Alloctns'!AN106/SUM('[2]21-23 Campus Contract Alloctns'!$I$5:$AP$108)","v":0},{"$f":"$I$5*'[2]21-23 Campus Contract Alloctns'!AO106/SUM('[2]21-23 Campus Contract Alloctns'!$I$5:$AP$108)","v":0},{"$f":"$I$5*'[2]21-23 Campus Contract Alloctns'!AP106/SUM('[2]21-23 Campus Contract Alloctns'!$I$5:$AP$108)","v":0}]
[null,"540 - Employment Security Department","540","Employment Security Department",6.0574372496464024E-2,1617,2.8665264481296065E-2,3.7138143262247267E-3,2.8195293688943232E-2,{"$f":"$I$5*'[2]21-23 Campus Contract Alloctns'!I107/SUM('[2]21-23 Campus Contract Alloctns'!$I$5:$AP$108)","v":0},{"$f":"$I$5*'[2]21-23 Campus Contract Alloctns'!J107/SUM('[2]21-23 Campus Contract Alloctns'!$I$5:$AP$108)","v":0},{"$f":"$I$5*'[2]21-23 Campus Contract Alloctns'!K107/SUM('[2]21-23 Campus Contract Alloctns'!$I$5:$AP$108)","v":0},{"$f":"$I$5*'[2]21-23 Campus Contract Alloctns'!L107/SUM('[2]21-23 Campus Contract Alloctns'!$I$5:$AP$108)","v":0},{"$f":"$I$5*'[2]21-23 Campus Contract Alloctns'!M107/SUM('[2]21-23 Campus Contract Alloctns'!$I$5:$AP$108)","v":0},{"$f":"$I$5*'[2]21-23 Campus Contract Alloctns'!N107/SUM('[2]21-23 Campus Contract Alloctns'!$I$5:$AP$108)","v":0},{"$f":"$I$5*'[2]21-23 Campus Contract Alloctns'!O107/SUM('[2]21-23 Campus Contract Alloctns'!$I$5:$AP$108)","v":0},{"$f":"$I$5*'[2]21-23 Campus Contract Alloctns'!P107/SUM('[2]21-23 Campus Contract Alloctns'!$I$5:$AP$108)","v":0},{"$f":"$I$5*'[2]21-23 Campus Contract Alloctns'!Q107/SUM('[2]21-23 Campus Contract Alloctns'!$I$5:$AP$108)","v":2.8195293688943236E-2},{"$f":"$I$5*'[2]21-23 Campus Contract Alloctns'!R107/SUM('[2]21-23 Campus Contract Alloctns'!$I$5:$AP$108)","v":0},{"$f":"$I$5*'[2]21-23 Campus Contract Alloctns'!S107/SUM('[2]21-23 Campus Contract Alloctns'!$I$5:$AP$108)","v":0},{"$f":"$I$5*'[2]21-23 Campus Contract Alloctns'!T107/SUM('[2]21-23 Campus Contract Alloctns'!$I$5:$AP$108)","v":0},{"$f":"$I$5*'[2]21-23 Campus Contract Alloctns'!U107/SUM('[2]21-23 Campus Contract Alloctns'!$I$5:$AP$108)","v":0},{"$f":"$I$5*'[2]21-23 Campus Contract Alloctns'!V107/SUM('[2]21-23 Campus Contract Alloctns'!$I$5:$AP$108)","v":0},{"$f":"$I$5*'[2]21-23 Campus Contract Alloctns'!W107/SUM('[2]21-23 Campus Contract Alloctns'!$I$5:$AP$108)","v":0},{"$f":"$I$5*'[2]21-23 Campus Contract Alloctns'!X107/SUM('[2]21-23 Campus Contract Alloctns'!$I$5:$AP$108)","v":0},{"$f":"$I$5*'[2]21-23 Campus Contract Alloctns'!Y107/SUM('[2]21-23 Campus Contract Alloctns'!$I$5:$AP$108)","v":0},{"$f":"$I$5*'[2]21-23 Campus Contract Alloctns'!Z107/SUM('[2]21-23 Campus Contract Alloctns'!$I$5:$AP$108)","v":0},{"$f":"$I$5*'[2]21-23 Campus Contract Alloctns'!AA107/SUM('[2]21-23 Campus Contract Alloctns'!$I$5:$AP$108)","v":0},{"$f":"$I$5*'[2]21-23 Campus Contract Alloctns'!AB107/SUM('[2]21-23 Campus Contract Alloctns'!$I$5:$AP$108)","v":0},{"$f":"$I$5*'[2]21-23 Campus Contract Alloctns'!AC107/SUM('[2]21-23 Campus Contract Alloctns'!$I$5:$AP$108)","v":0},{"$f":"$I$5*'[2]21-23 Campus Contract Alloctns'!AD107/SUM('[2]21-23 Campus Contract Alloctns'!$I$5:$AP$108)","v":0},{"$f":"$I$5*'[2]21-23 Campus Contract Alloctns'!AE107/SUM('[2]21-23 Campus Contract Alloctns'!$I$5:$AP$108)","v":0},{"$f":"$I$5*'[2]21-23 Campus Contract Alloctns'!AF107/SUM('[2]21-23 Campus Contract Alloctns'!$I$5:$AP$108)","v":0},{"$f":"$I$5*'[2]21-23 Campus Contract Alloctns'!AG107/SUM('[2]21-23 Campus Contract Alloctns'!$I$5:$AP$108)","v":0},{"$f":"$I$5*'[2]21-23 Campus Contract Alloctns'!AH107/SUM('[2]21-23 Campus Contract Alloctns'!$I$5:$AP$108)","v":0},{"$f":"$I$5*'[2]21-23 Campus Contract Alloctns'!AI107/SUM('[2]21-23 Campus Contract Alloctns'!$I$5:$AP$108)","v":0},{"$f":"$I$5*'[2]21-23 Campus Contract Alloctns'!AJ107/SUM('[2]21-23 Campus Contract Alloctns'!$I$5:$AP$108)","v":0},{"$f":"$I$5*'[2]21-23 Campus Contract Alloctns'!AK107/SUM('[2]21-23 Campus Contract Alloctns'!$I$5:$AP$108)","v":0},{"$f":"$I$5*'[2]21-23 Campus Contract Alloctns'!AL107/SUM('[2]21-23 Campus Contract Alloctns'!$I$5:$AP$108)","v":0},{"$f":"$I$5*'[2]21-23 Campus Contract Alloctns'!AM107/SUM('[2]21-23 Campus Contract Alloctns'!$I$5:$AP$108)","v":0},{"$f":"$I$5*'[2]21-23 Campus Contract Alloctns'!AN107/SUM('[2]21-23 Campus Contract Alloctns'!$I$5:$AP$108)","v":0},{"$f":"$I$5*'[2]21-23 Campus Contract Alloctns'!AO107/SUM('[2]21-23 Campus Contract Alloctns'!$I$5:$AP$108)","v":0},{"$f":"$I$5*'[2]21-23 Campus Contract Alloctns'!AP107/SUM('[2]21-23 Campus Contract Alloctns'!$I$5:$AP$108)","v":0}]
[null,"699 - Community Colleges","699","Community Colleges",9.6082704693027012E-3,542,9.6082704693027012E-3,0,0,{"$f":"$I$5*'[2]21-23 Campus Contract Alloctns'!I108/SUM('[2]21-23 Campus Contract Alloctns'!$I$5:$AP$108)","v":0},{"$f":"$I$5*'[2]21-23 Campus Contract Alloctns'!J108/SUM('[2]21-23 Campus Contract Alloctns'!$I$5:$AP$108)","v":0},{"$f":"$I$5*'[2]21-23 Campus Contract Alloctns'!K108/SUM('[2]21-23 Campus Contract Alloctns'!$I$5:$AP$108)","v":0},{"$f":"$I$5*'[2]21-23 Campus Contract Alloctns'!L108/SUM('[2]21-23 Campus Contract Alloctns'!$I$5:$AP$108)","v":0},{"$f":"$I$5*'[2]21-23 Campus Contract Alloctns'!M108/SUM('[2]21-23 Campus Contract Alloctns'!$I$5:$AP$108)","v":0},{"$f":"$I$5*'[2]21-23 Campus Contract Alloctns'!N108/SUM('[2]21-23 Campus Contract Alloctns'!$I$5:$AP$108)","v":0},{"$f":"$I$5*'[2]21-23 Campus Contract Alloctns'!O108/SUM('[2]21-23 Campus Contract Alloctns'!$I$5:$AP$108)","v":0},{"$f":"$I$5*'[2]21-23 Campus Contract Alloctns'!P108/SUM('[2]21-23 Campus Contract Alloctns'!$I$5:$AP$108)","v":0},{"$f":"$I$5*'[2]21-23 Campus Contract Alloctns'!Q108/SUM('[2]21-23 Campus Contract Alloctns'!$I$5:$AP$108)","v":0},{"$f":"$I$5*'[2]21-23 Campus Contract Alloctns'!R108/SUM('[2]21-23 Campus Contract Alloctns'!$I$5:$AP$108)","v":0},{"$f":"$I$5*'[2]21-23 Campus Contract Alloctns'!S108/SUM('[2]21-23 Campus Contract Alloctns'!$I$5:$AP$108)","v":0},{"$f":"$I$5*'[2]21-23 Campus Contract Alloctns'!T108/SUM('[2]21-23 Campus Contract Alloctns'!$I$5:$AP$108)","v":0},{"$f":"$I$5*'[2]21-23 Campus Contract Alloctns'!U108/SUM('[2]21-23 Campus Contract Alloctns'!$I$5:$AP$108)","v":0},{"$f":"$I$5*'[2]21-23 Campus Contract Alloctns'!V108/SUM('[2]21-23 Campus Contract Alloctns'!$I$5:$AP$108)","v":0},{"$f":"$I$5*'[2]21-23 Campus Contract Alloctns'!W108/SUM('[2]21-23 Campus Contract Alloctns'!$I$5:$AP$108)","v":0},{"$f":"$I$5*'[2]21-23 Campus Contract Alloctns'!X108/SUM('[2]21-23 Campus Contract Alloctns'!$I$5:$AP$108)","v":0},{"$f":"$I$5*'[2]21-23 Campus Contract Alloctns'!Y108/SUM('[2]21-23 Campus Contract Alloctns'!$I$5:$AP$108)","v":0},{"$f":"$I$5*'[2]21-23 Campus Contract Alloctns'!Z108/SUM('[2]21-23 Campus Contract Alloctns'!$I$5:$AP$108)","v":0},{"$f":"$I$5*'[2]21-23 Campus Contract Alloctns'!AA108/SUM('[2]21-23 Campus Contract Alloctns'!$I$5:$AP$108)","v":0},{"$f":"$I$5*'[2]21-23 Campus Contract Alloctns'!AB108/SUM('[2]21-23 Campus Contract Alloctns'!$I$5:$AP$108)","v":0},{"$f":"$I$5*'[2]21-23 Campus Contract Alloctns'!AC108/SUM('[2]21-23 Campus Contract Alloctns'!$I$5:$AP$108)","v":0},{"$f":"$I$5*'[2]21-23 Campus Contract Alloctns'!AD108/SUM('[2]21-23 Campus Contract Alloctns'!$I$5:$AP$108)","v":0},{"$f":"$I$5*'[2]21-23 Campus Contract Alloctns'!AE108/SUM('[2]21-23 Campus Contract Alloctns'!$I$5:$AP$108)","v":0},{"$f":"$I$5*'[2]21-23 Campus Contract Alloctns'!AF108/SUM('[2]21-23 Campus Contract Alloctns'!$I$5:$AP$108)","v":0},{"$f":"$I$5*'[2]21-23 Campus Contract Alloctns'!AG108/SUM('[2]21-23 Campus Contract Alloctns'!$I$5:$AP$108)","v":0},{"$f":"$I$5*'[2]21-23 Campus Contract Alloctns'!AH108/SUM('[2]21-23 Campus Contract Alloctns'!$I$5:$AP$108)","v":0},{"$f":"$I$5*'[2]21-23 Campus Contract Alloctns'!AI108/SUM('[2]21-23 Campus Contract Alloctns'!$I$5:$AP$108)","v":0},{"$f":"$I$5*'[2]21-23 Campus Contract Alloctns'!AJ108/SUM('[2]21-23 Campus Contract Alloctns'!$I$5:$AP$108)","v":0},{"$f":"$I$5*'[2]21-23 Campus Contract Alloctns'!AK108/SUM('[2]21-23 Campus Contract Alloctns'!$I$5:$AP$108)","v":0},{"$f":"$I$5*'[2]21-23 Campus Contract Alloctns'!AL108/SUM('[2]21-23 Campus Contract Alloctns'!$I$5:$AP$108)","v":0},{"$f":"$I$5*'[2]21-23 Campus Contract Alloctns'!AM108/SUM('[2]21-23 Campus Contract Alloctns'!$I$5:$AP$108)","v":0},{"$f":"$I$5*'[2]21-23 Campus Contract Alloctns'!AN108/SUM('[2]21-23 Campus Contract Alloctns'!$I$5:$AP$108)","v":0},{"$f":"$I$5*'[2]21-23 Campus Contract Alloctns'!AO108/SUM('[2]21-23 Campus Contract Alloctns'!$I$5:$AP$108)","v":0},{"$f":"$I$5*'[2]21-23 Campus Contract Alloctns'!AP108/SUM('[2]21-23 Campus Contract Alloctns'!$I$5:$AP$108)","v":0}]
[null,"TOTAL  - All Agencies",null,"Building Total",1,25674,0.45513419931527233,6.6496479256132238E-2,0.47836932142859545,{"$f":"SUM(J7:J110)","v":1.7395406480594136E-2},{"$f":"SUM(K7:K110)","v":1.5330002797399255E-2},4.0806878133948787E-2,6.8926499505707036E-3,4.7248712988477291E-2,7.9898690301551958E-2,1.0707893567548681E-2,8.854787768170716E-2,2.8195293688943236E-2,4.5806971193456537E-2,1.3090858985879876E-2,2.3050703135863028E-2,1.5286740219864176E-2,6.6434140377076905E-3,0,2.3966007721931775E-3,3.8003477257104517E-3,0,0,8.7024564459594871E-3,4.6480837974333328E-3,0,1.4817328953793449E-4,0,0,0,0,0,0,4.793201544386355E-3,2.3966007721931775E-3,1.2581763917669068E-2,0,0]